{"text_format":"2","workbook":"xlsx","n_sheets":6,"sheets":["_Оглавление_","Приложение № 1","Приложение № 2","Приложение № 3","Приложение № 4","Приложение № 5"],"not_rendered":{"charts":0,"images":0,"macros":0,"external_links":9,"defined_names":201,"comments":0,"pivot_tables":0},"unopened":[],"bounds":{"document_bytes":16777216,"sheet_cells":100000,"run_cost":"one","rows_first":2000,"rows_last":500,"rows_between":2000,"halvings":0,"cell_chars":16384,"cell_head_chars":4096},"cells_cut":0,"cells_raw":0,"read":"whole","date_system":"1900"}

{"sheet":"_Оглавление_","index":0,"n_rows":8,"n_cols":3,"rows_kept":8,"cut":false,"hidden":false,"merged":[]}
[null,"Перечень приложений к тарифному соглашению системы обязательного медицинского страхования Томской области\n"]
["Доп.соглашение № 6","Тарифное соглашение "]
["от 05.06.2024","от 05.02.2024"]
["Приложение № 1",{"$f":"'Приложение № 1'!B10","v":"Приложение № 12"},{"$f":"'Приложение № 1'!B16","v":"Тарифы на оплату отдельных лечебных и (или) лечебно-диагностических услуг, оказанных в амбулаторных условиях, за медицинскую услугу, посещение, обращение (законченный случай), в том числе лицам, застрахованным за пределами Томской области"}]
["Приложение № 2",{"$f":"'Приложение № 2'!B10","v":"Приложение № 14"},{"$f":"'Приложение № 2'!B16","v":"Тарифы на оплату отдельных диагностических (лабораторных) исследований (компьютерная томография, магнитно-резонансная томография, ультразвуковое исследование сердечно-сосудистой системы, эндоскопические диагностические исследования, молекулярно-генетические исследования и патолого-анатомические исследования биопсийного (операционного) материала с целью диагностики онкологических заболеваний и подбора противоопухолевой лекарственной терапии, тестирования на выявление новой коронавирусной инфекции (COVID-19)), в том числе  лицам, застрахованным за пределами Томской области, c 01.06.2024"}]
["Приложение № 3",{"$f":"'Приложение № 3'!B10","v":"Приложение № 15"},{"$f":"'Приложение № 3'!B16","v":"Тарифы на оплату медицинской помощи за единицу объема медицинской помощи (в том числе для оплаты медицинских услуг при оказании медицинской помощи в рамках профилактических медицинских осмотров, диспансеризации (включая диспансеризацию для оценки репродуктивного здоровья женщин и мужчин), а также в стационарных условиях и в условиях дневного стационара), применяемые при межучрежденческих и межтерриториальных расчетах, с 01.06.2024"}]
["Приложение № 4",{"$f":"'Приложение № 4'!B10","v":"Приложение № 25"},{"$f":"'Приложение № 4'!C16","v":"Размер финансового обеспечения фельдшерских здравпунктов, фельдшерско-акушерских пунктов с 01.06.2024 года"}]
["Приложение № 5",{"$f":"'Приложение № 5'!B10","v":"Приложение № 38"},{"$f":"'Приложение № 5'!B16","v":"Тарифы на оплату  скорой медицинской помощи , по подушевому нормативу финансирования, оказываемой медицинскими организациями, участвующими в реализации территориальной программы обязательного медицинского страхования Томской области, с 01.06.2024"}]

{"sheet":"Приложение № 1","index":1,"n_rows":254,"n_cols":10,"rows_kept":254,"cut":false,"hidden":false,"merged":[[210,1,210,3],[212,1,213,1],[212,2,213,2],[212,3,213,3],[62,2,66,2],[181,2,182,2],[90,1,90,5],[91,4,98,4],[99,1,99,5],[100,4,107,4],[110,1,110,9],[144,1,144,9],[156,1,156,9],[163,2,164,2],[165,2,166,2],[167,2,168,2],[62,4,66,4],[62,5,66,5],[18,1,18,5],[21,1,34,1],[21,2,34,2],[35,1,36,1],[35,2,36,2],[40,1,40,4],[51,1,51,6],[58,2,61,2],[58,4,61,4],[58,5,61,5],[82,4,89,4],[67,2,68,2],[67,4,68,4],[67,5,68,5],[69,2,71,2],[69,4,71,4],[69,5,71,5],[72,2,75,2],[72,4,75,4],[72,5,75,5],[78,1,78,9],[81,1,81,5],[180,1,180,5],[197,7,200,7],[198,2,199,2],[203,1,203,9],[183,2,184,2],[185,2,186,2],[189,1,189,5],[193,1,196,1],[193,7,194,7],[195,7,196,7]]}
["_Оглавление_"]
[null,{"$f":"MID(CELL(\"filename\",A2),SEARCH(\"]\",CELL(\"filename\",A2))+1,31)","v":"Приложение № 1"}]
[null,"к Дополнительному соглашению № 6"]
[null,{"$f":"_Оглавление_!A3","v":"от 05.06.2024"}]
[null,"к Тарифному соглашению"]
[null,"на оплату медицинской помощи "]
[null,"по ОМС на территории Томской области на 2024 год "]
[null,"от 05.02.2024"]
[]
[null,"Приложение № 12"]
[null,"к  Тарифному соглашению"]
[null,"на оплату медицинской помощи"]
[null,"по ОМС на территории Томской области на 2024 год"]
[null,"от 05.02.2024"]
[]
[null,"Тарифы на оплату отдельных лечебных и (или) лечебно-диагностических услуг, оказанных в амбулаторных условиях, за медицинскую услугу, посещение, обращение (законченный случай), в том числе лицам, застрахованным за пределами Томской области"]
[]
[]
[null,"Тарифы на оплату маммографического обследования, в том числе лицам, застрахованным за пределами Томской области, с 01.04.2024"]
[]
[null,"Наименование услуги","Код услуги","Базовый тариф, руб.","Коэффициенты дифференциации по территории оказания медицинской помощи","Тариф, руб."]
[null,"Маммография","А06.20.004",229.34,1.242,{"$f":"ROUND(D22*E22,2)","v":284.83999999999997}]
[null,null,null,229.34,1.26,{"$f":"ROUND(D23*E23,2)","v":288.97000000000003}]
[null,null,null,229.34,1.27,291.26]
[null,null,null,229.34,1.272,291.72000000000003]
[null,null,null,229.34,1.274,292.18]
[null,null,null,229.34,1.381,316.72000000000003]
[null,null,null,229.34,1.63,373.82]
[null,null,null,229.34,1.637,375.43]
[null,null,null,229.34,1.665,381.85]
[null,null,null,229.34,1.7649999999999999,404.79]
[null,null,null,229.34,1.7769999999999999,407.54]
[null,null,null,229.34,1.7929999999999999,411.21]
[null,null,null,229.34,1.794,411.44]
[null,null,null,229.34,1.831,419.92]
[null,"Маммография (передвижной маммограф) ","А06.20.004.008",465.16,1.274,592.61]
[null,null,null,465.16,1.27,590.75]
[null,"Маммография спектральная с контрастированием ","А06.20.004.010",2522.92,1.274,3214.2]
[]
[]
[null,"Тарифы на оплату медицинской помощи, оказанной травматологическими пунктами, в том числе лицам, застрахованным за пределами Томской области, с 01.01.2024"]
[]
[null,"Наименование медицинской организации","Базовая стоимость посещения","Коэффициенты дифференциации по территории оказания медицинской помощи","Стоимость 1 посещения, руб. "]
[null,"Травматологический пункт ОГАУЗ \"Городская клиническая больница им. Б.И. Альперовича № 3\"",1370.9,1.274,{"$f":"ROUND(C44*D44,2)","v":1746.53}]
[null,"Травматологический пункт ОГБУЗ \"Медико-санитарная часть № 2\"",1370.9,1.274,{"$f":"ROUND(C45*D45,2)","v":1746.53}]
[null,"Травматологический пункт ОГАУЗ \"Больница скорой медицинской помощи № 2\"",1370.9,1.274,1746.53]
[null,"Травматологический пункт ОГАУЗ \"Поликлиника № 10\"",1370.9,1.274,1746.53]
[null,"Травматологический пункт ООО \"ЦКБ\"",1370.9,1.274,1746.53]
[null,"Травматологический пункт ФГБУ СибФНКЦ ФМБА России",1370.9,1.381,1893.21]
[]
[]
[null,"Тарифы на оплату медицинских услуг, оказанных в центрах здоровья, в том числе лицам, застрахованным за пределами Томской области, с 01.01.2024"]
[]
[null,"Наименование медицинской организации","Базовый тариф на первичное обращение","Базовый тариф на повторное обращение","Коэффициенты дифференциации по территории оказания медицинской помощи","Стоимость законченного случая первичного обращения, руб. ","Стоимость законченного случая повторного обращения, руб."]
[null,"ОГБУЗ  \"Медико-санитарная часть № 2\" (Центр здоровья)",894.94,260.63,1.274,{"$f":"ROUND(C55*E55,2)","v":1140.1500000000001},{"$f":"ROUND(D55*E55,2)","v":332.04}]
[null,"ОГАУЗ  \"Межвузовская поликлиника\" (Центр здоровья)",894.94,260.63,1.274,{"$f":"ROUND(C56*E56,2)","v":1140.1500000000001},{"$f":"ROUND(D56*E56,2)","v":332.04}]
[null,"ОГАУЗ \"Томская областная клиническая больница\" (Центр здоровья)",894.94,260.63,1.274,1140.1500000000001,332.04]
[null,"ОГБУЗ \"Областная детская больница\" (детский Центр здоровья)",1358.73,406.26,1.274,1731.02,517.58000000000004]
[null,"ОГАУЗ \"Томская областная клиническая больница\", ОГАУЗ \"Межвузовская поликлиника\" (с использованием мобильного комплекса Центра здоровья) для пациентов, прикрепленных к  ОГАУЗ \"Томская РБ\"",1398.8,null,1.274,{"$f":"ROUND(C59*E59,2)","v":1782.07}]
[null,"ОГАУЗ \"Томская областная клиническая больница\", ОГАУЗ \"Межвузовская поликлиника\" (с использованием мобильного комплекса Центра здоровья) для пациентов, прикрепленных к  ОГАУЗ \"Светленская РБ №1\""]
[null,"ОГАУЗ \"Томская областная клиническая больница\", ОГАУЗ \"Межвузовская поликлиника\" (с использованием мобильного комплекса Центра здоровья) для пациентов, прикрепленных к  ОГБУЗ \"Лоскутовская РП\""]
[null,"ОГАУЗ \"Томская областная клиническая больница\" (с использованием мобильного комплекса Центра здоровья) для пациентов, прикрепленных к  ФГБУ СибФНКЦ ФМБА России"]
[null,"ОГАУЗ \"Томская областная клиническая больница\", ОГАУЗ \"Межвузовская поликлиника\" (с использованием мобильного комплекса Центра здоровья) для пациентов, прикрепленных к  ОГАУЗ \"Асиновская РБ\"",1492.31,null,1.274,{"$f":"ROUND(C63*E63,2)","v":1901.2}]
[null,"ОГАУЗ \"Томская областная клиническая больница\", ОГАУЗ \"Межвузовская поликлиника\" (с использованием  мобильного комплекса Центра здоровья) для пациентов, прикрепленных к  ОГАУЗ \"Кожевниковская РБ\""]
[null,"ОГАУЗ \"Томская областная клиническая больница\", ОГАУЗ \"Межвузовская поликлиника\" (с использованием мобильного комплекса Центра здоровья) для пациентов, прикрепленных к  ОГБУЗ \"Зырянская РБ\""]
[null,"ОГАУЗ \"Томская областная клиническая больница\", ОГАУЗ \"Межвузовская поликлиника\" (с использованием мобильного комплекса Центра здоровья) для пациентов, прикрепленных к  ОГБУЗ \"Первомайская РБ\""]
[null,"ОГАУЗ \"Томская областная клиническая больница\", ОГАУЗ \"Межвузовская поликлиника\" (с использованием мобильного комплекса Центра здоровья) для пациентов, прикрепленных к  ОГАУЗ \"Шегарская РБ\""]
[null,"ОГАУЗ \"Томская областная клиническая больница\", ОГАУЗ \"Межвузовская поликлиника\" (с использованием мобильного комплекса Центра здоровья) для пациентов, прикрепленных к  ОГАУЗ \"Кривошеинская РБ\"",1574.87,null,1.274,{"$f":"ROUND(C68*E68,2)","v":2006.38}]
[null,"ОГАУЗ \"Томская областная клиническая больница\", ОГАУЗ \"Межвузовская поликлиника\"  (с использованием мобильного комплекса Центра здоровья) для пациентов, прикрепленных к  ОГБУЗ \"Молчановская РБ\""]
[null,"ОГАУЗ \"Томская областная клиническая больница\", ОГАУЗ \"Межвузовская поликлиника\" (с использованием мобильного комплекса Центра здоровья) для пациентов, прикрепленных к  ОГБУЗ \"Бакчарская РБ\"",1598.8,null,1.274,{"$f":"ROUND(C70*E70,2)","v":2036.87}]
[null,"ОГАУЗ \"Томская областная клиническая больница\", ОГАУЗ \"Межвузовская поликлиника\" (с использованием мобильного комплекса Центра здоровья) для пациентов, прикрепленных к  ОГБУЗ \"Тегульдетская РБ\" "]
[null,"ОГАУЗ \"Томская областная клиническая больница\", ОГАУЗ \"Межвузовская поликлиника\" (с использованием мобильного комплекса Центра здоровья) для пациентов, прикрепленных к  ОГАУЗ \"Колпашевская РБ\""]
[null,"ОГАУЗ \"Томская областная клиническая больница\", ОГАУЗ \"Межвузовская поликлиника\" (с использованием мобильного комплекса Центра здоровья) для пациентов, прикрепленных к  ОГБУЗ \"Каргасокская РБ\"",1629.38,null,1.274,{"$f":"ROUND(C73*E73,2)","v":2075.83}]
[null,"ОГАУЗ \"Томская областная клиническая больница\", ОГАУЗ \"Межвузовская поликлиника\" (с использованием мобильного комплекса Центра здоровья) для пациентов, прикрепленных к  ОГБУЗ \"Чаинская РБ\""]
[null,"ОГАУЗ \"Томская областная клиническая больница\", ОГАУЗ \"Межвузовская поликлиника\" (с использованием мобильного комплекса Центра здоровья) для пациентов, прикрепленных к  ОГБУЗ \"Верхнекетская РБ\" "]
[null,"ОГАУЗ \"Томская областная клиническая больница\" (с использованием мобильного комплекса Центра здоровья) для пациентов, прикрепленных к  ОГБУЗ \"Парабельская РБ\" "]
[]
[]
[null,"Тарифы на оплату медицинской помощи, оказываемой передвижными мобильными фельдшерско-акушерскими пунктами, в том числе лицам, застрахованным за пределами Томской области, с 01.01.2024"]
[]
[null,"Наименование медицинской организации/код услуги","Наименование услуги","Базовый тариф","Коэффициенты дифференциации по территории оказания медицинской помощи","Стоимость, руб."]
[null,"ОГАУЗ \"Томская РБ\", ОГАУЗ \"Светленская РБ\", ОГАУЗ \"Лоскутовская РП\""]
[null,null,"Посещения с профилактической целью",396.44,1.2709999999999999,{"$f":"ROUND(D83*$E$83,2)","v":503.88}]
[null,"A05.10.006","Регистрация электрокардиограммы",116.72,null,{"$f":"ROUND(D84*$E$83,2)","v":148.35}]
[null,"A05.10.004","Расшифровка, описание и интерпретация электрокардиографических данных",63.02,null,80.099999999999994]
[null,"B03.016.002","Общий (клинический) анализ крови",228.83,null,290.83999999999997]
[null,"A09.05.023","Исследование уровня глюкозы в крови",49.49,null,62.9]
[null,"A09.05.024","Исследование уровня общих липидов в крови",139.1,null,176.8]
[null,"A09.05.026","Исследование уровня холестерина в крови",57.88,null,73.569999999999993]
[null,"B03.016.006","Общий (клинический) анализ мочи",163.68,null,208.04]
[null,"ОГАУЗ \"Кожевниковская РБ\""]
[null,null,"Посещения с профилактической целью",396.44,1.272,{"$f":"ROUND(D92*$E$92,2)","v":504.27}]
[null,"A05.10.006","Регистрация электрокардиограммы",116.72,null,{"$f":"ROUND(D93*$E$92,2)","v":148.47}]
[null,"A05.10.004","Расшифровка, описание и интерпретация электрокардиографических данных",63.02,null,80.16]
[null,"B03.016.002","Общий (клинический) анализ крови",228.83,null,291.07]
[null,"A09.05.023","Исследование уровня глюкозы в крови",49.49,null,62.95]
[null,"A09.05.024","Исследование уровня общих липидов в крови",139.1,null,176.94]
[null,"A09.05.026","Исследование уровня холестерина в крови",57.88,null,73.62]
[null,"B03.016.006","Общий (клинический) анализ мочи",163.68,null,208.2]
[null,"ОГАУЗ \"Шегарская РБ\""]
[null,null,"Посещения с профилактической целью",396.44,1.242,{"$f":"ROUND(D101*$E$101,2)","v":492.38}]
[null,"A05.10.006","Регистрация электрокардиограммы",116.72,null,{"$f":"ROUND(D102*$E$101,2)","v":144.97}]
[null,"A05.10.004","Расшифровка, описание и интерпретация электрокардиографических данных",63.02,null,78.27]
[null,"B03.016.002","Общий (клинический) анализ крови",228.83,null,284.20999999999998]
[null,"A09.05.023","Исследование уровня глюкозы в крови",49.49,null,61.47]
[null,"A09.05.024","Исследование уровня общих липидов в крови",139.1,null,172.76]
[null,"A09.05.026","Исследование уровня холестерина в крови",57.88,null,71.89]
[null,"B03.016.006","Общий (клинический) анализ мочи",163.68,null,203.29]
[]
[]
[null,"Тарифы на оплату медицинской помощи, оказанной поликлиниками (поликлиническими отделениями), не имеющими прикрепленного населения, в том числе  лицам, застрахованным за пределами Томской области, с 01.03.2024"]
[]
[null,"Наименование медицинской организации/ наименование врачебных специальностей","Код услуги посещение","Код услуги обращение","Базовый тариф посещения, руб.","Базовый тариф обращения, руб.","Коэффициенты дифференциации по территории оказания медицинской помощи","Стоимость 1 посещения по врачебной специальности, руб.","Стоимость 1 обращения по врачебной специальности, руб."]
[null,"ОГАУЗ \"Томский областной онкологический диспансер\" "]
[null,"Невролог","B01.023.001","B01.023.001 ОБР",672.68,1345.38,1.274,{"$f":"ROUND(E115*G115,2)","v":856.99},{"$f":"ROUND(F115*G115,2)","v":1714.01}]
[null,"Терапевт ","B01.047.001","B01.047.001 ОБР",740.62,1481.22,1.274,{"$f":"ROUND(E116*G116,2)","v":943.55},{"$f":"ROUND(F116*G116,2)","v":1887.07}]
[null,"Эндокринолог ","B01.058.001","B01.058.001 ОБР",727.18,1454.36,1.274,926.43,1852.85]
[null,"ОГБУЗ \"Томский областной кожно-венерологический диспансер\" "]
[null,"Дерматолог","B01.008.001","B01.008.001 ОБР",279.87,570.1,1.274,356.55,726.31]
[null,"ОГАУЗ \"ОПЦ им. И.Д.Евтушенко\""]
[null,"Взрослая поликлиника"]
[null,"Акушер - гинеколог ","B01.001.001","B01.001.001 ОБР",1021.1,2654.88,1.274,{"$f":"ROUND(E122*G122,2)","v":1300.8800000000001},3382.32]
[null,"Акушер - гинеколог (беременным)","В01.001.004","В01.001.004ОБР",1021.1,2654.88,1.274,{"$f":"ROUND(E123*G123,2)","v":1300.8800000000001},3382.32]
[null,"Кардиолог ","B01.015.001","B01.015.001 ОБР",439.31,900.6,1.274,559.67999999999995,1147.3599999999999]
[null,"Невролог                     ","B01.023.001","B01.023.001 ОБР",672.68,{"$f":"F115","v":1345.38},1.274,856.99,1714.01]
[null,"Терапевт ","B01.047.001","B01.047.001 ОБР",740.62,{"$f":"F116","v":1481.22},1.274,943.55,1887.07]
[null,"Эндокринолог ","B01.058.001","B01.058.001 ОБР",727.18,1454.36,1.274,926.43,1852.85]
[null,"Уролог ","B01.053.001","B01.053.001 ОБР",689.13,1722.85,1.274,877.95,2194.91]
[null,"Офтальмолог","B01.029.001","B01.029.001 ОБР",700.42,1400.88,1.274,892.34,1784.72]
[null,"Детская поликлиника"]
[null,"Педиатр (первичный прием)","B01.031.001","B01.031.001 ОБР",942.19,1884.41,1.274,{"$f":"ROUND(E131*G131,2)","v":1200.3499999999999},{"$f":"ROUND(F131*G131,2)","v":2400.7399999999998}]
[null,"Офтальмолог                  ","B01.029.001 Д","B01.029.001 Д ОБР",1005.97,2414.35,1.274,1281.6099999999999,3075.88]
[null,"Невролог                     ","B01.023.001 Д","B01.023.001 Д ОБР",883.15,1766.29,1.274,1125.1300000000001,2250.25]
[null,"Хирург детский","B01.010.001","B01.010.001 ОБР",699.1,1468.06,1.274,890.65,1870.31]
[]
[null,"Наименование медицинской организации/ наименование врачебных специальностей","Код услуги посещение","Базовый тариф посещение","Коэффициенты дифференциации по территории оказания медицинской помощи","Стоимость 1 посещения по врачебной специальности, руб. ","Код услуги обращение","Базовый тариф обращение","Коэффициенты дифференциации по территории оказания медицинской помощи","Стоимость 1 обращения по врачебной специальности, руб."]
[null,"ОГАУЗ \"Томский областной онкологический диспансер\" "]
[null,"Онколог, онколог-радиолог, торакальный хирург, нейрохирург, радиотерапевт","B01.027.001, B01.027.001.082, B01.027.001.087, B01.027.001 Д, B01.027.001.085, B01.027.001.086, B01.027.001.089, B01.027.001.084, B01.027.001.088, B01.027.001.083, B01.049.001, B01.024.001, B01.038.003",611.70000000000005,1.274,{"$f":"ROUND(D138*E138,2)","v":779.31},"B01.027.001 ОБР, B01.027.001.082 ОБР, B01.027.001.087 ОБР, B01.027.001 Д ОБР, B01.027.001.085 ОБР, B01.027.001.086 ОБР, B01.027.001.089 ОБР, B01.027.001.084 ОБР, B01.027.001.088 ОБР, B01.027.001.083 ОБР, B01.049.001 ОБР, B01.024.001 ОБР, B01.038.003 ОБР",1376.32,1.274,{"$f":"ROUND(H138*I138,2)","v":1753.43}]
[null,"ФГБОУ ВО СибГМУ Минздрава России"]
[null,"Онколог","B01.027.001",611.70000000000005,1.274,{"$f":"ROUND(D140*E140,2)","v":779.31},"B01.027.001 ОБР",1376.32,1.274,{"$f":"ROUND(H140*I140,2)","v":1753.43}]
[null,"ООО \"ЛДЦ-МИБС\""]
[null,"Онколог","B01.027.001",611.70000000000005,1.274,779.31,"B01.027.001 ОБР",1376.32,1.274,1753.43]
[]
[]
[null,"Тарифы на оплату медицинской помощи, оказанной Центрами амбулаторной онкологической помощи (ЦАОП), с 01.03.2024"]
[]
[null,"Наименование медицинской организации/ наименование врачебных специальностей","Код услуги посещение","Базовый тариф посещения, руб.","Коэффициенты дифференциации по территории оказания медицинской помощи","Стоимость 1 посещения по врачебной специальности, руб.","Код услуги обращение","Базовый тариф обращения, руб.","Коэффициенты дифференциации по территории оказания медицинской помощи","Стоимость 1 обращения по врачебной специальности, руб."]
[null,"ОГАУЗ \"Томский областной онкологический диспансер\" "]
[null,"Терапевт ","B01.047.001",740.62,1.274,{"$f":"ROUND(D149*E149,2)","v":943.55},"B01.047.001 ОБР",1481.22,1.274,{"$f":"ROUND(H149*E150,2)","v":1887.07}]
[null,"Невролог","B01.023.001",672.68,1.274,{"$f":"ROUND(D150*E150,2)","v":856.99},"B01.023.001 ОБР",1345.38,1.274,{"$f":"ROUND(H150*E149,2)","v":1714.01}]
[null,"Онколог","B01.027.001",611.70000000000005,1.274,{"$f":"ROUND(D151*E151,2)","v":779.31},"B01.027.001 ОБР",1376.32,1.274,{"$f":"ROUND(H151*E151,2)","v":1753.43}]
[null,"ОГБУЗ \"Асиновская РБ\" "]
[null,"Терапевт ","B01.047.001",740.62,1.27,{"$f":"ROUND(D153*E153,2)","v":940.59},"B01.047.001 ОБР",1481.22,1.27,{"$f":"ROUND(H153*E154,2)","v":1881.15}]
[null,"Невролог","B01.023.001",672.68,1.27,854.3,"B01.023.001 ОБР",1345.38,1.27,{"$f":"ROUND(H154*E153,2)","v":1708.63}]
[null,"Онколог","B01.027.001",611.70000000000005,1.27,{"$f":"ROUND(D155*E155,2)","v":776.86},"B01.027.001 ОБР",1376.32,1.27,{"$f":"ROUND(H155*E155,2)","v":1747.93}]
[]
[null,"Тарифы на оплату медицинской помощи, оказанных в амбулаторных условиях, за медицинскую услугу, посещение, обращение (законченный случай), в том числе лицам, застрахованным за пределами Томской области, с 01.01.2024"]
[]
[null,"Наименование услуги","Код услуги","Базовая стоимость, руб.","Коэффициенты дифференциации по территории оказания медицинской помощи","Стоимость 1 услуги, руб."]
[null,"«Прием (осмотр, консультация) врача детского эндокринолога (непрерывный мониторинг глюкозы)»","В01.058.003.001",1006.48,1.274,{"$f":"ROUND(D160*E160,2)","v":1282.26}]
[]
[null,"Наименование медицинской организации/код услуги","Наименование услуги","Базовый тариф","Коэффициенты дифференциации по территории оказания медицинской помощи","Стоимость, руб."]
[null,"НИИ Кардиологии Томского НИМЦ"]
[null,"В01.015.001 ","Прием (осмотр, консультация) врача-кардиолога ",439.31,1.274,{"$f":"ROUND(D164*E164,2)","v":559.67999999999995}]
[null,"В01.015.001 ОБР",null,900.61,1.274,{"$f":"ROUND(D165*E165,2)","v":1147.3800000000001}]
[null,"B01.015.003","Прием (осмотр, консультация) врача - детского кардиолога ",736.06,1.274,937.74]
[null,"B01.015.003 ОБР",null,1645.72,1.274,2096.65]
[null,"В01.015.001.003","Кардиолог, оказывающий медицинскую помощь беременным женщинам",439.31,1.274,559.67999999999995]
[null,"В01.015.001.003 ОБР",null,883.03,1.274,1124.98]
[null,"A05.10.004","Расшифровка, описание и интерпретация электрокардиографических данных",57.06,1.274,72.69]
[null,"A05.10.006","Регистрация электрокардиограммы",105.68,1.274,134.63999999999999]
[null,"A12.10.005","Велоэргометрия",836.83,1.274,1066.1199999999999]
[null,"A16.10.015.002","Ревизия электрокардиостимулятора",388.03,1.274,494.35]
[null,"A05.10.008","Холтеровское мониторирование сердечного ритма (ХМ-ЭКГ)",882.26,1.274,1124]
[null,"A05.10.008.001","Холтеровское мониторирование артериального давления",589.15,1.274,750.58]
[null,"A17.10.002.001","Электрокардиостимуляция чреспищеводная",2291.4,1.274,2919.24]
[null,"А06.10.006","Коронаровентрикулография",12367.24,1.274,15755.86]
[null,"A09.05.256","Исследования уровня N-терминального фрагмента натрийуретического пропептида мозгового (NT-proBNP) в крови",1740.17,1.274,2216.98]
[]
[null,"Наименование медицинской организации/код услуги","Наименование услуги","Базовый тариф","Коэффициенты дифференциации по территории оказания медицинской помощи","Стоимость,\nруб."]
[null,"ФГБОУ ВО СибГМУ Минздрава России"]
[null,"B01.040.001","Прием (осмотр, консультация) врача-ревматолога ",353.35,1.274,{"$f":"ROUND(D182*E182,2)","v":450.17}]
[null,"B01.040.001 ОБР",null,717.29,1.274,{"$f":"ROUND(D183*E183,2)","v":913.83}]
[null,"B01.040.001 Д","Прием (осмотр, консультация) врача-ревматолога (дети)",441.67,1.274,562.69000000000005]
[null,"B01.040.001 Д ОБР",null,896.61,1.274,1142.28]
[null,"B01.023.001","Прием (осмотр, консультация) врача-невролога (Региональный центр рассеянного склероза и других аутоиммунных заболеваний нервной системы)",332.06,1.274,423.04]
[null,"B01.023.001 ОБР",null,684.04,1.274,871.46999999999991]
[]
[null,"Наименование медицинской организации/код услуги","Наименование услуги","Базовый тариф","Коэффициенты дифференциации по территории оказания медицинской помощи","Стоимость,\nруб."]
[null,"ФГБОУ ВО СибГМУ Минздрава России"]
[null,"A05.26.009.001","Расшифровка, описание и интерпретация данных цифровых ретинальных фотографий врачом - офтальмологом",355.72,1.274,{"$f":"ROUND(D191*E191,2)","v":453.19}]
[]
[null,"МО, оказывающие услуги","Наименование услуги","Код услуги","Базовый тариф, руб.","Коэффициенты дифференциации по территории оказания медицинской помощи","Стоимость 1 услуги, руб.","Примечание"]
[null,"ОГАУЗ \"Томская областная клиническая больница\"\n","Мониторинг такролимуса (програф) \n","A09.06.001.004",1637.43,1.274,{"$f":"ROUND(E194*F194,2)","v":2086.09},"проведение лабораторного исследования в течение 1 дня"]
[null,null,"Мониторинг циклоспорина \n","A09.06.001.002",1681.9,1.274,{"$f":"ROUND(E195*F195,2)","v":2142.7399999999998}]
[null,null,"Мониторинг такролимуса (програф) \n","A09.06.001.005",1055.3399999999999,1.274,1344.5,"проведение лабораторного исследования более 1 дня"]
[null,null,"Мониторинг циклоспорина \n","A09.06.001.003",703.56,1.274,896.34]
[null,"ОГАУЗ \"Томская областная клиническая больница\"","Процедура введения препаратов химиотерапии","A11.12.003.005",1376.69,1.274,1753.9]
[null,"ФГБОУ ВО СибГМУ Минздрава России","Амбулаторное лечение биологическими агентами при ревматологических заболеваниях (введение)","B01.040.004",982.87,1.274,1252.18]
[null,"ОГБУЗ \"ОДБ\"",null,"B01.040.004",982.87,1.274,1252.18]
[null,"ОГАУЗ \"Томская областная клиническая больница\"\n","Амбулаторное лечение биологическими агентами (введение) при гастроэнтерологических заболеваниях","B01.004.004",982.87,1.274,1252.18]
[]
[]
[null,"Тарифы на оплату отдельных лечебных и (или) лечебно-диагностических услуг, оказанных в амбулаторных условиях, за медицинскую услугу, посещение, обращение (законченный случай), в том числе лицам, застрахованным за пределами Томской области с 01.01.2024"]
[]
[null,"Наименование медицинской организации/Наименование услуги","Код услуги посещение","Базовая стоимость, руб.","Коэффициент дифференциации по территории оказания медицинской помощи","Стоимость 1 посещения, руб."]
[null,"ОГБУЗ \"Медико-санитарная часть № 2\""]
[null," «Комплексное посещение кабинета муковисцидоза и интерстициальных заболеваний легких»","B01.037.001.08",1008.84,1.274,{"$f":"ROUND(D208*E208,2)","v":1285.26}]
[]
[]
[null,"Тарифы на оплату медицинских услуг, оказанных мобильной бригадой в выездной форме в отдаленных районах Томской области, \nс 14.05.2024 по 28.06.2024                                                                                                                                                                                                                                     "]
[]
[null,"Код услуги","Наименование услуги","Стоимость услуги для ОГБУЗ \"МСЧ № 2\", руб."]
[]
[null,"B01.001.001 П","Прием (осмотр, консультация) врача-акушера-гинеколога ",588.24]
[null,"B01.023.001 П","Прием (осмотр, консультация) врача-невролога ",893.58]
[null,"B01.027.001 П","Прием (осмотр, консультация) врача-онколога ",1007.27]
[null,"B01.028.001 П","Прием (осмотр, консультация) врача-оториноларинголога ",581.04999999999995]
[null,"B01.031.001 П","Прием (осмотр, консультация) врача-педиатра",1348.31]
[null,"B01.047.001 П","Прием (осмотр, консультация) врача-терапевта",849.51]
[null,"B01.057.001 П","Прием (осмотр, консультация) врача-хирурга ",565.54]
[null,"B03.016.002 П","Общий (клинический) анализ крови",544.13]
[null,"B03.016.006 П","Общий (клинический) анализ мочи",456.56]
[null,"A02.26.003 П","Офтальмоскопия",287.48]
[null,"A02.26.005 П","Периметрия статическая",241.24]
[null,"A02.26.015 П","Офтальмотонометрия",233.72]
[null,"A03.26.008 П","Рефрактометрия",436.89]
[null,"A04.06.001 П","Ультразвуковое исследование селезенки",636.14]
[null,"A04.14.001 П","Ультразвуковое исследование печени ",559.71]
[null,"A04.14.002 П","Ультразвуковое исследование желчного пузыря ",532.28]
[null,"A04.20.001 П","Ультразвуковое исследование матки и придатков трансабдоминальное",909.5]
[null,"A04.21.001.001","Ультразвуковое исследование предстательной железы трансректальное",813.4]
[null,"A04.22.001 П","Ультразвуковое исследование щитовидной железы и паращитовидных желез",946.91]
[null,"A04.28.002.001 П","Ультразвуковое исследование почек",479.59]
[null,"A04.28.002.003 П","Ультразвуковое исследование мочевого пузыря ",515.61]
[null,"A04.28.003 П","Ультразвуковое исследование органов мошонки",799.42]
[null,"A05.10.004 П","Расшифровка, описание и интерпретация электрокардиографических данных",272.64999999999998]
[null,"A05.10.006 П","Регистрация электрокардиограммы",322.58999999999997]
[null,"A08.20.013.003 П","Цитологическое исследование микропрепарата тканей матки (по Папаниколау)",572.61]
[null,"A04.15.001 П","Ультразвуковое исследование поджелудочной железы ",582.5]
[null,"A04.20.002 П","Ультразвуковое исследование молочных желез",590.14]
[null,"A09.05.007 П","Исследование уровня железа сыворотки крови",108.94]
[null,"А09.05.017 П","Исследование уровня мочевины в крови",102.82]
[null,"А09.05.020 П","Исследование уровня креатинина в крови",174.21]
[null,"А09.05.021 П","Исследование уровня общего билирубина в крови",185.58]
[null,"A09.05.023 П","Исследование уровня глюкозы в крови   ",130.85]
[null,"A09.05.026 П","Исследование уровня холестерина в крови ",154.4]
[null,"А09.05.042","Определение активности аланинаминотрансферазы в крови",200]
[null,"А09.05.041","Определение активности аспартатаминотрансферазы в крови",200]
[null,"A09.19.001.002 П","Исследование кала на скрытую кровь",109.51]
[null,"A09.19.009 П","Исследование кала на простейшие и яйца гельминтов",167.21]
[null,"A09.20.003П","Определение Д-димера",284.75]
[null,"A11.12.009 П","Взятие крови из периферической вены",92.18]
[null,"A12.09.001П","Исследование неспровоцированных дыхательных объемов и потоков",924.46]

{"sheet":"Приложение № 2","index":2,"n_rows":716,"n_cols":66,"rows_kept":716,"cut":false,"hidden":false,"merged":[]}
["_Оглавление_"]
[null,{"$f":"MID(CELL(\"filename\",A2),SEARCH(\"]\",CELL(\"filename\",A2))+1,31)","v":"Приложение № 2"}]
[null,{"$f":"'Приложение № 1'!B3","v":"к Дополнительному соглашению № 6"}]
[null,{"$f":"_Оглавление_!A3","v":"от 05.06.2024"}]
[null,"к Тарифному соглашению"]
[null,"на оплату медицинской помощи "]
[null,"по ОМС на территории Томской области на 2024 год "]
[null,"от 05.02.2024"]
[]
[null,"Приложение № 14"]
[null,"к  Тарифному соглашению"]
[null,"на оплату медицинской помощи"]
[null,"по ОМС на территории Томской области на 2024 год"]
[null,"от 05.02.2024"]
[]
[null,"Тарифы на оплату отдельных диагностических (лабораторных) исследований (компьютерная томография, магнитно-резонансная томография, ультразвуковое исследование сердечно-сосудистой системы, эндоскопические диагностические исследования, молекулярно-генетические исследования и патолого-анатомические исследования биопсийного (операционного) материала с целью диагностики онкологических заболеваний и подбора противоопухолевой лекарственной терапии, тестирования на выявление новой коронавирусной инфекции (COVID-19)), в том числе  лицам, застрахованным за пределами Томской области, c 01.06.2024"]
[]
["Код медицинской услуги","Наименование медицинской услуги","Базовый тариф 2024","ОГАУЗ \"Больница № 2\"","ОГАУЗ \"Больница скорой медицинской помощи №2\"","ОГАУЗ \"Больница скорой медицинской помощи\"","ОГАУЗ \"ГКБ №3 им. Б.И. Альперовича\" ","ОГАУЗ \"Детская городская больница №2\" ","ОГАУЗ \"Детская больница №1\"","ОГАУЗ \"Областная детская больница\"","ОГАУЗ \"Поликлиника №4\"","ОГАУЗ \"Поликлиника №10\"","ОГАУЗ \"Межвузовская поликлиника\"","ОГАУЗ \"Поликлиника ТНЦ СО РАН\"","ОГБУЗ \"Медико-санитарная часть №2\"","ОГБУЗ \"Патологоанатомическое бюро\"","ОГАУЗ \"Томская областная клиническая больница\"","ОГАУЗ \"Томский областной онкологический диспансер\" ","ОГАУЗ \"Томский фтизиопульмонологический медицинский центр\" ","ОГАУЗ \"МЦ им.Г.К.Жерлова\"","ОГАУЗ \"Томская РБ\"","ОГАУЗ «Светленская РБ»","ОГАУЗ \"Кожевниковская РБ\"","ОГАУЗ \"Колпашевская РБ\"","ОГАУЗ \"Кривошеинская РБ\"","ОГАУЗ \"Стрежевская ГБ\"","ОГАУЗ \"Шегарская РБ\"","ОГБУЗ \"Асиновская РБ\"","ОГБУЗ \"Бакчарская РБ\"","ОГБУЗ \"Верхнекетская РБ\"","ОГБУЗ \"Зырянская РБ\"","ОГБУЗ \"Каргасокская РБ\"","ОГБУЗ \"Молчановская РБ\"","ОГБУЗ \"Парабельская РБ\"","ОГБУЗ \"Первомайская РБ\"","ОГБУЗ \"Тегульдетская РБ\"","ОГБУЗ \"Чаинская РБ\"","АО \"Гармония здоровья\"","ООО \"Генелли\"","ООО \"Гранд Сервис\"","ООО \"Гранд Сервис\" (г. Стрежевой)","ООО \"Здоровье\"","ООО \"КЛИНИКА ЭКСПЕРТ СИБИРЬ\"","ООО \"ПМО \"Стандарт\"","ООО \"ЛДЦ МИБС\"","ООО \"ЛДЦ\"","ООО \"Инвитро-Сибирь\" ","ООО \"Люмена\" - Северск","ООО \"Макс И К\"","ООО \"Мед-Арт\"","ООО \"МНПЦ\"","ООО \"СибМедЦентр\"","ООО \"СибМедЦентр\" (г. Стрежевой)","ООО \"Центр репродуктивных технологий \"Аист\"","ООО \"ЦЖЗ\"","ООО \"ЦСМ Клиника Больничная\"","ООО \"Центр Семейной Медицины\"","ООО \"ЦСМ\" ","ООО \"МЕДСЕРВИС\"","Томский НИМЦ","НИИ Онкологии Томского НИМЦ","НИИ Кардиологии Томского НИМЦ","ФБУЗ \"Центр гигиены и эпидемиологии в Томской области\"","ФГБОУ ВО СибГМУ Минздрава России","ФГБУ СибФНКЦ ФМБА России","ФКУЗ «МСЧ МВД России поТомской области»"]
[null,"Код медицинской организации",null,29,139,28,33,135,133,146,4,10,35,13,140,381,144,188,367,343,83,231,71,103,73,115,87,59,63,65,67,69,75,203,79,81,85,399,447,320,"320.1",333,459,417,425,365,331,387,415,396,377,294,294,336,395,355,205,342,429,327,465,466,344,173,354,151]
[null,"Коэффициент дифференциации по территории оказания медицинской помощи",null,1.274,1.274,1.274,1.274,1.274,1.274,1.274,1.274,1.274,1.274,1.274,1.274,1.274,1.274,1.274,1.274,1.381,1.2709999999999999,1.2709999999999999,1.272,1.7929999999999999,1.63,1.7649999999999999,1.242,1.27,1.665,1.7949999999999999,1.26,1.831,1.637,1.794,1.272,1.6439999999999999,1.7769999999999999,1.274,1.274,1.274,1.7649999999999999,1.274,1.274,1.274,1.274,1.274,1.274,1.381,1.274,1.274,1.274,1.274,1.7649999999999999,1.274,1.381,1.274,1.274,1.274,1.274,1.274,1.274,1.274,1.274,1.274,1.381,1.274]
["A03.08.001.001","Видеоларингоскопия",3583.18," "," "," ",4564.97," "," ",4564.97," "," "," "," "," "," "," ",4564.97," "," "," "," "," "," "," ",6324.31," ",4550.6400000000003," "," "," "," "," "," "," "," "," ",4564.97," "," "," "," "," "," "," "," "," ",4948.37," "," "," "," "," "," "," ",4564.97," "," "," "," "," "," "," "," ",4948.37," "]
["A03.08.002.002","Эпифарингоскопия видеоэндоскопическая",3583.18," "," "," "," "," "," "," "," "," "," "," "," "," "," ",4564.97," "," "," "," "," "," "," "," "," "," "," "," "," "," "," "," "," "," "," "," "," "," "," "," "," "," "," "," "," ",4948.37," "," "," "," "," "," "," "," "," "," "," "," "," "," "," "," "," "," "]
["A03.08.003","Эзофагоскопия",456.56," "," "," "," "," ",581.66,581.66," "," "," "," "," "," "," "," "," "," "," "," "," ",818.61," ",805.83," ",579.83000000000004," "," "," "," ",747.39," "," "," "," ",581.66,581.66," "," "," "," "," "," "," "," ",630.51," "," "," ",581.66,805.83," "," "," "," "," "," "," "," "," "," "," ",630.51," "]
["A03.08.003 Д","Эзофагоскопия",366.73," "," "," "," "," ",467.21,467.21," "," "," "," "," "," "," "," "," "," "," "," "," ",657.55," ",647.28," "," "," "," "," "," "," "," "," "," "," ",467.21,467.21," "," "," "," "," "," "," "," ",506.45," "," "," ",467.21," "," "," "," "," "," "," "," "," "," "," "," ",506.45," "]
["A03.08.005","Фиброларингоскопия",1800.83," "," "," ",2294.2600000000002," ",2294.2600000000002,2294.2600000000002," "," "," "," "," "," ",2294.2600000000002," "," "," "," "," "," "," "," ",3178.46," ",2287.0500000000002," "," "," "," "," "," "," "," "," ",2294.2600000000002," "," "," "," "," "," "," "," "," ",2486.9499999999998," "," "," "," "," "," "," "," "," "," "," "," "," "," "," "," ",2486.9499999999998," "]
["A03.09.001","Бронхоскопия",930.65," "," "," ",1185.6500000000001," ",1185.6500000000001," "," "," "," "," "," "," ",1185.6500000000001,1185.6500000000001," "," "," "," "," ",1668.66," ",1642.6," ",1181.93," "," "," ",1704.02," "," "," "," "," ",1185.6500000000001," "," "," "," "," "," "," "," "," ",1285.23," "," "," "," "," "," "," "," "," "," "," "," "," "," "," ",1185.6500000000001,1285.23," "]
["A03.09.001 D","Бронхоскопия (диагностическая)",1163.32," "," "," "," "," ",1482.07," "," "," "," "," "," "," "," "," "," "," "," "," "," "," "," ",2053.2600000000002," ",1477.42," "," "," "," "," "," "," "," "," ",1482.07," "," "," "," "," "," "," "," "," ",1606.54," "," "," "," "," "," "," "," "," "," "," "," "," "," "," "," ",1606.54," "]
["A03.09.002","Трахеоскопия",1667.92," "," "," "," "," ",2124.9299999999998," "," "," "," "," "," "," "," "," "," "," "," "," "," "," "," ",2943.88," ",2118.2600000000002," "," "," "," "," "," "," "," "," ",2124.9299999999998," "," "," "," "," "," "," "," "," ",2303.4," "," "," "," "," "," "," "," "," "," "," "," "," "," "," "," ",2303.4," "]
["A03.09.002 Д","Трахеоскопия",410.6," "," "," "," "," ",523.1," "," "," "," "," "," "," "," "," "," "," "," "," "," "," "," ",724.71," "," "," "," "," "," "," "," "," "," "," ",523.1," "," "," "," "," "," "," "," "," ",567.04," "," "," "," "," "," "," "," "," "," "," "," "," "," "," "," ",567.04," "]
["A03.14.002","Холедохоскопия",535.34," "," "," "," "," "," "," "," "," "," "," "," "," "," "," "," "," "," "," "," "," "," "," "," "," "," "," "," "," "," "," "," "," "," ",682.02," "," "," "," "," "," "," "," "," "," "," "," "," "," "," "," "," "," "," "," "," "," "," "," "," "," ",739.3," "]
["A03.14.002 Л","Холедохоскопия (дуоденоскопия + РПХГ+ ЭПСТ) лечебная",682.03," "," "," "," "," "," "," "," "," "," "," "," "," "," "," "," "," "," "," "," "," "," ",1203.78," "," "," "," "," "," "," "," "," "," "," ",868.91," "," "," "," "," "," "," "," "," "," "," "," "," "," "," "," "," "," "," "," "," "," "," "," "," "," ",941.88," "]
["A03.16.001","Эзофагогастродуоденоскопия",911.26," "," "," ",1160.95," ",1160.95,1160.95," "," "," "," ",1160.95," ",1160.95,1160.95," ",1258.45,1158.21,1158.21,1159.1199999999999,1633.89,1485.35,1608.37,1131.78,1157.3," ",1635.71,1148.19,1668.52,1491.73,1634.8,1159.1199999999999," ",1619.31,1160.95,1160.95," "," ",1160.95," ",1160.95," ",1160.95," ",1258.45," "," "," ",1160.95,1608.37," "," ",1160.95," "," "," "," "," ",1160.95," "," ",1258.45,1160.95]
["A03.16.001 D","Эзофагогастродуоденоскопия (диагностическая)",1139.07," "," "," "," "," ",1451.18,1451.18," "," "," "," "," "," "," "," "," "," "," "," "," ",2042.35,1856.68,2010.46," "," ",1896.55,2044.63," "," "," "," "," "," "," ",1451.18,1451.18," "," "," "," "," "," "," "," ",1573.06," "," "," ",1451.18,2010.46," "," "," "," "," "," "," "," "," "," ",1451.18,1573.06," "]
["A03.16.001 О","Эзофагогастродуоденоскопия",911.26," "," "," "," "," "," ",1160.95," "," "," "," "," "," "," "," "," "," "," "," "," "," "," ",1608.37," "," "," "," "," "," "," "," "," "," "," ",1160.95," "," "," "," "," "," "," "," "," ",1258.45," "," "," "," "," "," "," "," "," "," "," "," "," "," "," "," ",1258.45," "]
["A03.17.001","Эзофагогастроинтестиноскопия",512.49," "," "," "," "," "," ",652.91," "," "," "," "," "," "," "," "," "," "," "," "," "," "," "," "," "," "," "," "," "," "," "," "," "," "," ",652.91,652.91," "," "," "," "," "," ",652.91," ",707.75," "," "," "," "," "," "," "," "," "," "," "," "," "," "," "," ",707.75," "]
["A03.17.001 Д","Эзофагогастроинтестиноскопия (тонкокишечная эндоскопия)",643.54," "," "," "," "," "," ",819.87," "," "," "," "," "," "," "," "," "," "," "," "," "," "," "," "," "," "," "," "," "," "," "," "," "," "," ",819.87,819.87," "," "," "," "," "," "," "," ",888.73," "," "," "," "," "," "," "," "," "," "," "," "," "," "," "," ",888.73," "]
["A03.18.001","Колоноскопия",1362.68," "," "," ",1736.05," ",1736.05,1736.05," "," "," "," ",1736.05," ",1736.05,1736.05," ",1881.86," "," ",1733.33,2443.29," ",2405.13,1692.45,1730.6," "," ",1716.98,2495.0700000000002,2230.71,2444.65,1733.33,2240.25,2421.48,1736.05," "," "," ",1736.05," "," "," ",1736.05," ",1881.86," "," "," "," "," "," "," ",1736.05," "," "," "," "," "," "," ",1736.05,1881.86,1736.05]
["A03.18.001 D","Толстокишечная эндоскопия (диагностическая)",1703.34," "," "," "," "," ",2170.06,2170.06," "," "," "," "," "," "," "," "," "," "," "," "," "," "," ",3006.4," "," "," "," "," "," "," "," "," "," "," ",2170.06," "," "," "," "," "," "," "," "," ",2352.31," "," "," "," "," "," "," "," "," "," "," "," "," "," "," "," ",2352.31," "]
["A03.18.001 D Н","Колоноскопия (диагностическая) под наркозом",3256.49," "," "," "," "," ",4148.7700000000004,4148.7700000000004," "," "," "," "," "," "," "," "," ",4497.21," "," "," "," "," "," "," "," "," "," "," "," "," "," "," "," "," "," "," "," "," "," "," "," "," "," "," ",4497.21," "," "," "," "," "," "," "," "," "," "," "," "," "," "," "," ",4497.21," "]
["A03.18.001 D Н О","Колоноскопия (диагностическая) под наркозом",3256.49," "," "," "," "," "," ",4148.7700000000004," "," "," "," "," "," "," "," "," "," "," "," "," "," "," "," "," "," "," "," "," "," "," "," "," "," "," "," "," "," "," "," "," "," "," "," "," ",4497.21," "," "," "," "," "," "," "," "," "," "," "," "," "," "," "," ",4497.21," "]
["A03.18.001 О","Колоноскопия",1362.68," "," "," "," "," "," ",1736.05," "," "," "," "," "," "," "," "," "," "," "," "," "," "," ",2405.13," "," "," "," "," "," "," "," "," "," "," ",1736.05," "," "," "," "," "," "," "," "," ",1881.86," "," "," "," "," "," "," "," "," "," "," "," "," "," "," "," ",1881.86," "]
["A03.18.001.004","Эндосонография толстой кишки",1304.26," "," "," ",1661.63," "," "," "," "," "," "," "," "," "," ",1661.63," ",1801.18," "," "," "," "," "," "," "," "," "," "," "," "," "," "," "," "," "," "," "," "," "," "," "," "," "," "," ",1801.18," "," "," "," "," "," "," "," "," "," "," "," "," "," "," "," ",1801.18," "]
["A03.18.001.007","Колоноскопия с введением лекарственных препаратов",3256.49," "," "," ",4148.7700000000004," "," ",4148.7700000000004," "," "," "," "," "," "," "," "," ",4497.21," "," "," "," "," "," "," "," "," "," "," "," "," "," "," "," "," ",4148.7700000000004," "," "," "," "," "," "," "," "," ",4497.21," "," "," "," "," "," "," "," "," "," "," "," "," "," "," "," ",4497.21," "]
["A03.19.001","Аноскопия",191.61," "," "," "," "," "," "," "," "," "," "," "," "," "," "," "," "," "," "," "," "," "," ",338.19," ",243.34," "," "," "," "," "," "," "," "," ",244.11," "," "," "," "," "," "," "," "," ",264.61," "," "," "," "," "," "," "," "," "," "," "," "," "," "," "," "," "," "]
["A03.19.002","Ректороманоскопия",608.74," "," "," ",775.53," ",775.53,775.53," "," "," "," ",775.53," ",775.53,775.53," "," "," "," "," ",1091.47," ",1074.43," ",773.1," "," "," "," ",996.51,1092.08," "," "," ",775.53," "," "," "," "," "," "," ",775.53," ",840.67," "," "," "," "," "," "," ",775.53," "," "," "," "," "," "," "," ",840.67," "]
["A03.19.002 D","Ректороманоскопия (диагностическая)",1114.28," "," "," "," "," ",1419.59,1419.59," "," "," "," "," "," "," "," "," ",1538.82," "," "," "," "," ",1966.7," "," ",1855.28," "," "," "," "," "," "," "," ",1419.59," "," "," "," "," "," "," "," "," ",1538.82," "," "," "," "," "," "," "," "," "," "," "," "," "," "," "," "," "," "]
["A03.19.003","Сигмоскопия",1116.04," "," "," ",1421.83," ",1421.83,1421.83," "," "," "," ",1421.83," ",1421.83,1421.83," "," "," "," "," "," "," ",1969.81," "," "," "," "," "," "," "," "," "," "," ",1421.83," "," "," "," "," "," "," ",1421.83," ",1541.25," "," "," "," "," "," "," ",1421.83," "," "," "," "," "," "," "," ",1541.25," "]
["A03.19.003 D","Сигмоидоскопия (диагностическая)",787.72," "," "," "," "," ",1003.56,1003.56," "," "," "," "," "," "," "," "," "," "," "," "," "," "," ",1390.33," "," "," "," "," "," "," "," "," "," "," ",1003.56," "," "," "," "," "," "," "," "," ",1087.8399999999999," "," "," "," "," "," "," "," "," "," "," "," "," "," "," "," ",1087.8399999999999," "]
["A03.20.001","Кольпоскопия",620.91999999999996," "," "," "," "," "," "," "," "," "," "," "," "," "," ",791.05," "," ",789.19," "," "," "," ",1095.92,771.18,788.57," "," "," "," "," "," "," "," "," ",791.05," "," "," "," "," "," "," "," "," ",857.49," "," "," ",791.05,1095.92," "," "," "," "," "," "," "," "," "," "," "," "," "]
["A03.28.001","Цистоскопия",1415.95," "," "," "," "," "," "," "," "," "," "," "," "," ",1803.92,1803.92," "," "," "," "," "," "," "," "," ",1798.26," "," "," "," "," "," "," "," "," "," "," "," "," "," "," "," "," ",1803.92," ",1955.43," "," "," "," "," "," "," "," "," "," "," "," "," "," "," "," "," "," "]
["A03.30.006.006","Узкоспектральное NBI-исследование органов желудочно-кишечного тракта",3693.84," "," "," ",4705.95," "," "," "," "," "," "," "," "," "," "," "," ",5101.1899999999996," "," "," "," "," ",6519.63," "," "," "," "," "," "," "," "," "," "," "," "," "," "," "," "," "," "," "," "," ",5101.1899999999996," "," "," "," "," "," "," "," "," "," "," "," "," "," "," "," ",5101.1899999999996," "]
["A03.30.007","Хромоскопия, контрастное исследование органов желудочно-кишечного тракта",3693.84," "," "," ",4705.95," "," ",4705.95," "," "," "," "," "," "," "," "," "," "," "," "," "," "," ",6519.63," "," "," "," "," "," "," "," "," "," "," ",4705.95," "," "," "," "," "," "," "," "," ",5101.1899999999996," "," "," "," "," "," "," ",4705.95," "," "," "," "," "," "," "," ",5101.1899999999996," "]
["04","Регистрация звуковых сигналов, издаваемых или отражающихся органами или тканями с их последующей расшифровкой и описанием",null," "," "," "," "," "," "," "," "," "," "," "," "," "," "," "," "," "," "," "," "," "," "," "," "," "," "," "," "," "," "," "," "," "," "," "," "," "," "," "," "," "," "," "," "," "," "," "," "," "," "," "," "," "," "," "," "," "," "," "," "," "," "," "]
["A04.09.003","Эндосонографическое исследование трахеи и бронхов",648.30999999999995," "," "," ",825.95," "," "," "," "," "," "," "," "," "," ",825.95," "," "," "," "," "," "," "," "," "," "," "," "," "," "," "," "," "," "," "," "," "," "," "," "," "," "," "," "," "," "," "," "," "," "," "," "," "," "," "," "," "," "," "," "," "," "," "," "]
["A04.10.002","Эхокардиография",541.20000000000005,689.49," "," ",689.49,689.49,689.49,689.49," ",689.49,689.49,689.49,689.49," ",689.49,689.49," "," ",687.87,687.87,688.41,970.37,882.16,955.22,672.17,687.32," ",971.45,681.91,990.94,885.94,970.91,688.41," "," ",689.49," "," "," "," "," ",689.49,689.49," "," ",747.4," ",689.49," ",689.49,955.22," ",747.4,689.49,689.49,689.49,689.49," "," ",689.49," "," ",747.4,689.49]
["A04.10.002.001","Эхокардиография чреспищеводная",3667.54," "," "," "," "," "," "," "," "," "," "," "," "," "," "," "," "," "," "," "," "," "," "," "," "," "," "," "," "," "," "," "," "," "," "," "," "," "," "," "," "," "," "," "," "," "," "," "," "," "," "," "," "," "," "," "," "," "," ",4672.45," "," "," "," "]
["A04.10.003","Эхокардиография с контрастным усилением",2812.07," "," "," "," "," "," "," "," "," "," "," "," "," "," "," "," "," "," "," "," "," "," "," "," "," "," "," ",3543.21," "," "," "," "," "," "," "," "," "," "," "," "," ",3582.58," "," "," "," "," "," "," "," "," "," "," "," "," "," "," "," "," "," "," "," "," "]
["A04.12.001","Ультразвуковая допплерография артерий верхних конечностей",189.32," "," "," ",241.19," "," ",241.19,241.19," ",241.19," "," "," ",241.19,241.19," "," "," "," ",240.82,339.45,308.58999999999997,334.15," ",240.44," "," "," "," "," "," "," "," "," ",241.19,241.19," "," "," "," ",241.19,241.19," "," "," "," "," "," ",241.19,334.15," "," ",241.19,241.19,241.19,241.19," "," "," "," "," ",261.45,241.19]
["A04.12.001.001","Ультразвуковая допплерография артерий нижних конечностей",630.17999999999995,802.85," "," ",802.85," "," ",802.85," ",802.85,802.85," ",802.85," ",802.85,802.85," "," "," "," ",801.59,1129.9100000000001,1027.19,1112.27,782.68,800.33," ",1131.17,794.03,1153.8599999999999," "," ",801.59," "," ",802.85,802.85," "," "," "," ",802.85,802.85," ",802.85,870.28,802.85," "," ",802.85,1112.27,802.85,870.28,802.85,802.85,802.85,802.85," "," "," "," "," ",870.28,802.85]
["A04.12.001.002","Дуплексное сканирование артерий почек",759.89," "," "," ",968.1," "," ",968.1,968.1," ",968.1," "," "," ",968.1,968.1," "," "," "," "," "," "," ",1341.21," ",965.06," "," "," "," ",1243.94," "," "," "," ",968.1,968.1," "," "," "," "," ",968.1," ",968.1,1049.4100000000001," ",968.1," ",968.1,1341.21,968.1,1049.4100000000001,968.1,968.1,968.1,968.1," "," "," "," "," ",1049.4100000000001,968.1]
["A04.12.001.009","Ультразвуковое исследование брюшной аорты с контрастным усилением",3181.18," "," "," "," "," "," "," "," "," "," "," "," "," "," "," "," "," "," "," "," "," "," "," "," "," "," "," "," "," "," "," "," "," "," ",4052.82," "," "," "," "," "," ",4052.82," "," "," "," "," "," "," "," ",4052.82," "," "," ",4052.82," "," "," "," "," "," ",4393.21," "]
["A04.12.001.010","Ультразвуковое исследование сосудов шеи с контрастным усилением",3181.18," "," "," "," "," "," "," "," "," "," "," "," "," "," "," "," "," "," "," "," "," "," "," "," "," "," "," "," "," "," "," "," "," "," ",4052.82," "," "," "," "," "," ",4052.82," "," "," "," "," "," "," "," ",4052.82," "," "," ",4052.82," "," "," "," "," "," ",4393.21," "]
["A04.12.001.011","Ультразвуковое исследование сосудов печени с контрастным усилением",3181.18," "," "," "," "," "," "," "," "," "," "," "," "," "," "," "," "," "," "," "," "," "," "," "," "," "," "," "," "," "," "," "," "," "," ",4052.82," "," "," "," "," "," ",4052.82," "," "," "," "," "," "," "," ",4052.82," "," "," ",4052.82," "," "," "," "," "," ",4393.21," "]
["A04.12.001.012","Ультразвуковое исследование сонных артерий",394.41," "," "," ",502.48," "," ",502.48," "," ",502.48," ",502.48," "," ",502.48," "," "," "," "," ",707.18,642.89,696.13,489.86,500.9," "," "," ",722.16," "," "," "," "," ",502.48,502.48," "," "," "," ",502.48,502.48," "," ",544.67999999999995,502.48,502.48," ",502.48,696.13,502.48,544.67999999999995,502.48,502.48,502.48,502.48," "," ",502.48," "," ",544.67999999999995,502.48]
["A04.12.001.013","Ультразвуковое исследование позвоночных артерий",394.41," "," "," ",502.48," "," ",502.48," "," ",502.48," "," "," "," ",502.48," "," "," "," "," ",707.18,642.89,696.13," ",500.9," "," "," "," "," "," "," "," "," ",502.48,502.48," "," "," "," ",502.48,502.48," "," ",544.67999999999995,502.48,502.48," "," "," ",502.48,544.67999999999995,502.48,502.48,502.48,502.48," "," "," "," "," ",544.67999999999995,502.48]
["A04.12.002","Ультразвуковая допплерография сосудов (артерий и вен) верхних конечностей",415.46," "," "," ",529.29999999999995," "," ",529.29999999999995," "," "," "," "," "," ",529.29999999999995,529.29999999999995," "," "," "," "," ",744.92,677.2,733.29,516,527.63," "," "," "," "," "," "," "," "," ",529.29999999999995,529.29999999999995," "," "," "," ",529.29999999999995,529.29999999999995," "," "," "," ",529.29999999999995," ",529.29999999999995,733.29,529.29999999999995," ",529.29999999999995,529.29999999999995,529.29999999999995,529.29999999999995," "," "," "," "," ",573.75," "]
["A04.12.002.001","Ультразвуковая допплерография сосудов (артерий и вен) нижних конечностей",1260.33,1605.66," "," ",1605.66," "," ",1605.66," ",1605.66," "," ",1605.66," ",1605.66,1605.66," "," "," "," "," ",2259.77," ",2224.48,1565.33,1600.62," "," "," ",2307.66," "," "," "," "," ",1605.66,1605.66," "," "," "," ",1605.66,1605.66," ",1605.66,1740.52,1605.66,1605.66," ",1605.66,2224.48,1605.66,1740.52,1605.66,1605.66,1605.66,1605.66," "," "," "," "," ",1740.52," "]
["A04.12.002.002","Ультразвуковая допплерография вен нижних конечностей",630.17999999999995,802.85," "," ",802.85," "," ",802.85,802.85,802.85," "," ",802.85," ",802.85,802.85," "," "," "," ",801.59,1129.9100000000001,1027.19,1112.27,782.68,800.33," ",1131.17,794.03,1153.8599999999999," "," ",801.59," "," ",802.85,802.85," "," "," "," ",802.85,802.85," ",802.85,870.28," "," "," ",802.85,1112.27,802.85,870.28,802.85,802.85,802.85,802.85," "," "," "," "," ",870.28," "]
["A04.12.002.002 Д","Ультразвуковая допплерография вен нижних конечностей",859.69," "," "," "," "," "," "," "," "," "," "," "," "," "," "," "," "," "," "," "," "," "," ",1517.35," "," "," "," "," "," "," "," "," "," "," "," "," "," "," "," "," "," ",1095.25," ",1095.25,1187.23," "," "," "," "," "," "," "," "," "," "," "," "," "," "," "," "," "," "]
["A04.12.002.003","Ультразвуковая допплерография вен верхних конечностей",189.32,241.19," "," ",241.19," "," ",241.19,241.19,241.19," "," "," "," ",241.19,241.19," "," "," "," ",240.82,339.45,308.58999999999997,334.15," ",240.44," "," ",238.54," "," "," ",240.82," "," ",241.19,241.19," "," "," "," "," ",241.19," "," "," "," "," "," ",241.19,334.15,241.19," ",241.19,241.19,241.19,241.19," "," "," "," "," ",261.45," "]
["A04.12.003","Дуплексное сканирование аорты",270.83,345.04," "," ",345.04," "," ",345.04," ",345.04,345.04," "," "," ",345.04,345.04," "," "," "," "," "," "," ",478.01,336.37,343.95," "," "," "," "," "," "," "," ",481.26,345.04,345.04," "," "," "," "," ",345.04," "," "," "," ",345.04," "," "," ",345.04," ",345.04,345.04,345.04,345.04," "," "," "," "," ",374.02," "]
["A04.12.004","Внутрисосудистое ультразвуковое исследование сосудистой стенки",270.37," "," "," "," "," "," ",344.45," "," "," "," "," "," "," "," "," "," "," "," "," "," "," "," "," "," "," "," "," "," "," "," "," "," "," ",344.45,344.45," "," "," "," "," ",344.45," "," "," "," "," "," "," "," ",344.45," "," ",344.45,344.45," "," "," "," "," "," ",373.38," "]
["A04.12.005","Дуплексное сканирование сосудов (артерий и вен) верхних конечностей",270.37,344.45," "," "," "," "," ",344.45," "," "," "," "," "," "," ",344.45," "," "," "," "," ",484.77," ",477.2," ",343.37," "," "," "," "," "," "," "," "," ",344.45,344.45," "," "," "," ",344.45,344.45," "," "," "," "," "," "," "," ",344.45," ",344.45,344.45,344.45,344.45," "," "," "," "," ",373.38," "]
["A04.12.005.001","Дуплексное сканирование артерий нижних конечностей",287.45999999999998,366.22," "," "," "," "," "," "," "," "," "," "," "," "," ",366.22," "," "," "," "," ",515.41999999999996," ",507.37," ",365.07," "," "," "," ",470.57," "," "," "," "," ",366.22," "," "," "," "," ",366.22," "," "," "," "," "," ",366.22,507.37,366.22," ",366.22," "," ",366.22," "," "," "," "," "," "," "]
["A04.12.005.002","Дуплексное сканирование артерий верхних конечностей",281.98,359.24," "," "," "," "," ",359.24,359.24," "," "," "," "," "," ",359.24," "," "," "," "," ",505.59," ",497.69," ",358.11," "," "," "," ",461.6," "," "," "," ",359.24,359.24," "," "," "," "," ",359.24," "," "," "," "," "," ",359.24,497.69,359.24," ",359.24,359.24,359.24,359.24," "," "," "," "," ",389.41," "]
["A04.12.005.003","Дуплексное сканирование брахиоцефальных артерий с цветным допплеровским картированием кровотока",541.20000000000005,689.49," "," ",689.49,689.49," ",689.49,689.49,689.49,689.49," ",689.49," ",689.49,689.49," "," "," ",687.87,688.41,970.37,882.16,955.22,672.17,687.32,901.1," ",681.91," ",885.94," ",688.41," "," ",689.49,689.49," "," "," "," "," ",689.49," "," "," ",689.49," "," "," "," ",689.49," ",689.49,689.49,689.49,689.49," "," "," "," "," ",747.4," "]
["A04.12.005.004","Дуплексное сканирование вен верхних конечностей",1001.69,1276.1500000000001," "," "," "," "," ",1276.1500000000001," "," "," "," "," "," "," ",1276.1500000000001," "," "," "," "," ",1796.03," ",1767.98," ",1272.1500000000001," "," ",1262.1300000000001," "," "," ",1274.1500000000001," "," ",1276.1500000000001,1276.1500000000001," "," "," "," "," ",1276.1500000000001," "," ",1383.33," "," "," "," "," ",1276.1500000000001,1383.33,1276.1500000000001,1276.1500000000001,1276.1500000000001,1276.1500000000001," "," "," "," "," ",1383.33," "]
["A04.12.005.008","Ультразвуковая допплерография брахиоцефальных артерий",1001.69," "," "," "," "," "," "," "," "," "," "," "," "," "," ",1276.1500000000001," "," "," "," "," ",1796.03," ",1767.98," ",1272.1500000000001," "," "," "," "," "," "," "," "," ",1276.1500000000001,1276.1500000000001," "," "," "," ",1276.1500000000001,1276.1500000000001," ",1276.1500000000001,1383.33,1276.1500000000001,1276.1500000000001," "," "," ",1276.1500000000001,1383.33," ",1276.1500000000001," ",1276.1500000000001," "," "," "," "," "," "," "]
["A04.12.006","Дуплексное сканирование сосудов (артерий и вен) нижних конечностей",270.37,344.45," "," "," "," "," ",344.45,344.45," "," "," "," "," "," ",344.45," "," "," "," "," ",484.77," ",477.2," ",343.37,450.17," "," "," "," "," "," "," "," ",344.45,344.45," "," "," "," "," ",344.45," "," "," "," "," "," "," "," "," "," ",344.45,344.45,344.45,344.45," "," "," "," "," ",373.38," "]
["A04.12.007","Ультразвуковая допплерография сосудов глаза",270.37," "," "," "," "," "," "," "," "," "," "," "," "," "," "," "," "," "," "," "," "," "," "," "," "," "," "," "," "," "," "," "," "," "," "," "," "," "," "," "," "," ",344.45," "," "," "," "," "," "," "," "," "," "," "," "," "," "," "," "," "," "," "," "," "]
["A04.12.008","Дуплексное сканирование сосудов мошонки и полового члена",270.37," "," "," "," "," "," ",344.45," "," "," "," "," "," "," "," "," "," "," "," "," "," "," "," "," "," "," "," "," "," "," "," "," "," "," ",344.45,344.45," "," "," "," "," ",344.45," "," "," "," "," "," "," "," "," "," ",344.45," "," ",344.45," "," "," "," "," "," "," "]
["A04.12.008.001","Ультразвуковое исследование полового члена с допплерометрией",1167.43," "," "," "," "," "," "," "," "," "," "," "," "," "," "," "," "," "," "," "," "," "," "," "," "," "," "," "," "," "," "," "," "," "," "," "," "," "," "," "," "," "," "," "," ",1612.22," ",1487.31," "," "," "," "," "," "," "," "," "," "," "," "," "," "," "," "]
["A04.12.008.002","УЗДГ- оценка пенильного кровотока (кавернозодопплерография)",2522.5," "," "," "," "," "," "," "," "," "," "," "," "," "," "," "," "," "," "," "," "," "," "," "," "," "," "," "," "," "," "," "," "," "," "," "," "," "," "," "," "," "," "," "," ",3483.57," ",3213.67," "," "," "," "," "," "," "," "," "," "," "," "," "," "," "," "]
["A04.12.012","Дуплексное сканирование сосудов печени",120.12," "," "," "," "," "," ",153.03," "," ",153.03," "," "," "," "," "," "," "," "," "," "," "," ",212.01," "," "," "," "," "," "," "," "," "," "," "," "," "," "," "," "," "," ",153.03," "," "," "," "," "," "," "," "," "," ",153.03," "," "," "," "," "," "," "," "," "," "]
["A04.12.015","Триплексное сканирование вен",284.72000000000003,362.73," "," "," "," "," "," "," "," "," "," "," "," "," "," "," "," "," "," "," "," "," ",502.53," "," "," "," "," "," ",466.09," "," "," "," ",362.73," "," "," "," "," "," ",362.73," "," "," "," "," "," "," "," "," "," ",362.73,362.73,362.73," "," "," "," "," "," ",393.2," "]
["A04.12.017","Дуплексное сканирование сосудов щитовидной железы",270.37," "," "," "," "," "," "," "," "," "," "," "," "," "," "," "," "," "," "," "," "," "," ",477.2," "," "," "," "," "," "," "," "," "," "," "," ",344.45," "," "," "," "," ",344.45," "," "," "," "," "," "," "," "," "," "," "," "," "," "," "," "," "," "," "," "," "]
["A04.12.021","Дуплексное сканирование сосудов селезенки",120.12," "," "," "," "," "," ",153.03," "," "," "," "," "," "," "," "," "," "," "," "," "," "," ",212.01," "," "," "," "," "," "," "," "," "," "," "," "," "," "," "," "," "," "," "," "," "," "," "," "," "," "," "," "," "," "," "," "," "," "," "," "," "," "," "," "]
["A04.12.024","Ультразвуковая допплерография маточно-плацентарного кровотока",499.45," "," "," "," "," "," "," "," "," "," "," "," "," "," "," "," "," "," "," "," "," "," ",881.53," "," "," "," "," "," "," "," "," "," "," "," "," "," "," "," "," "," ",636.29999999999995," "," "," "," "," "," "," "," "," "," "," "," "," "," ",636.29999999999995," "," "," "," "," "," "]
["A04.16.002","Эндосонография желудка",1144.3699999999999," "," "," ",1457.93," "," "," "," "," "," "," "," "," "," ",1457.93," ",1580.37," "," "," "," "," "," "," "," "," "," "," "," "," "," "," "," "," "," "," "," "," "," "," "," "," "," "," "," "," "," "," "," "," "," "," "," "," "," "," "," "," "," "," "," "," "," "]
["A04.16.003","Эндосонография двенадцатиперстной кишки",1144.3699999999999," "," "," ",1457.93," "," "," "," "," "," "," "," "," "," ",1457.93," ",1580.37," "," "," "," "," "," "," "," "," "," "," "," "," "," "," "," "," "," "," "," "," "," "," "," "," "," "," "," "," "," "," "," "," "," "," "," "," "," "," "," "," "," "," "," "," "," "]
["A04.16.005","Эндосонография пищевода",620.91999999999996," "," "," ",791.05," "," "," "," "," "," "," "," "," "," ",791.05," ",857.49," "," "," "," "," "," "," "," "," "," "," "," "," "," "," "," "," "," "," "," "," "," "," "," "," "," "," "," "," "," "," "," "," "," "," "," "," "," "," "," "," "," "," "," "," "," "]
["A04.21.003","Ультразвуковая допплерография сосудов семенного канатика",334.11," "," "," "," "," "," "," "," "," ",425.66," "," "," "," ",425.66," "," "," "," "," "," "," ",589.70000000000005," "," "," "," "," "," "," "," "," "," "," "," ",425.66," "," "," "," "," ",425.66," "," "," "," ",425.66," "," "," "," "," ",425.66," "," ",425.66," "," "," "," "," "," "," "]
["A04.21.003 О","Ультразвуковая допплерография сосудов семенного канатика",334.11," "," "," "," "," "," "," "," "," "," "," "," "," "," "," "," "," "," "," "," "," "," "," "," "," "," "," "," "," "," "," "," "," "," "," "," "," "," "," "," "," ",425.66," "," "," "," "," "," "," "," "," "," "," "," "," "," "," "," "," "," "," "," "," "]
["A04.26.005","Ультразвуковая допплерография сосудов орбиты и глазного яблока",190.18," "," "," "," "," "," "," "," "," "," "," "," "," "," "," "," "," "," "," "," "," "," "," "," "," "," "," "," "," "," "," "," "," "," "," "," "," "," "," "," "," ",242.29," "," "," "," "," "," "," "," "," "," "," "," "," "," "," "," "," "," "," "," "," "]
["A04.26.006","Дуплексное сканирование сосудов глаза и орбиты",190.18," "," "," "," "," "," "," "," "," "," "," "," "," "," "," "," "," "," "," "," "," "," "," "," "," "," "," "," "," "," "," "," "," "," "," "," "," "," "," "," "," ",242.29," "," "," "," "," "," "," "," "," "," "," "," "," "," "," "," "," "," "," "," "," "]
["05","Регистрация электромагнитных сигналов, испускаемых или потенцированных в органах и тканях с их последующей расшифровкой и описанием",null," "," "," "," "," "," "," "," "," "," "," "," "," "," "," "," "," "," "," "," "," "," "," "," "," "," "," "," "," "," "," "," "," "," "," "," "," "," "," "," "," "," "," "," "," "," "," "," "," "," "," "," "," "," "," "," "," "," "," "," "," "," "," "]
["A05.01.002","Магнитно-резонансная томография мягких тканей",1353.19," "," "," "," "," ",1723.96," "," "," "," "," "," "," ",1723.96,1723.96," "," "," "," "," "," "," "," "," "," "," "," "," "," "," "," "," "," "," "," "," ",1723.96,2388.38," ",1723.96," ",1723.96,1723.96," ",1868.76," "," "," "," "," "," "," "," "," "," "," "," "," "," "," "," "," "," "]
["A05.01.002 Д","Магнитно-резонансная томография мягких тканей",2010.41," "," "," "," "," ",2561.2600000000002," "," "," "," "," "," "," "," ",2561.2600000000002," "," "," "," "," "," "," "," "," "," "," "," "," "," "," "," "," "," "," "," "," ",2561.2600000000002,3548.37," ",2561.2600000000002," ",2561.2600000000002,2561.2600000000002," ",2776.38," "," "," "," "," "," "," "," "," "," "," "," "," "," "," "," "," "," "]
["A05.01.002 ДН","Магнитно-резонансная томография мягких тканей с наркозом",7406.68," "," "," "," "," ",9436.11," "," "," "," "," "," "," "," "," "," "," "," "," "," "," "," "," "," "," "," "," "," "," "," "," "," "," "," "," "," "," "," "," "," "," ",9436.11,9436.11," ",10228.629999999999," "," "," "," "," "," "," "," "," "," "," "," "," "," "," "," "," "," "]
["A05.01.002.001","Магнитно-резонансная томография мягких тканей с контрастированием",3486.74," "," "," "," "," "," "," "," "," "," "," "," "," ",4442.1099999999997,4442.1099999999997," "," "," "," "," "," "," "," "," "," "," "," "," "," "," "," "," "," "," "," "," ",4442.1099999999997,6154.1," ",4442.1099999999997," ",4442.1099999999997,4442.1099999999997," ",4815.1899999999996," "," "," "," "," "," "," "," "," "," "," "," "," "," "," ",4442.1099999999997," "," "]
["A05.01.002.001 Д","Магнитно-резонансная томография мягких тканей с контрастированием",4143.9799999999996," "," "," "," "," "," "," "," "," "," "," "," "," "," ",5279.43," "," "," "," "," "," "," "," "," "," "," "," "," "," "," "," "," "," "," "," "," ",5279.43,7314.12," ",5279.43," ",5279.43,5279.43," ",5722.84," "," "," "," "," "," "," "," "," "," "," "," "," "," "," "," "," "," "]
["A05.01.002.001 ДН","Магнитно-резонансная томография мягких тканей с контрастированием с наркозом",9540.23," "," "," "," "," ",12154.25," "," "," "," "," "," "," "," ",12154.25," "," "," "," "," "," "," "," "," "," "," "," "," "," "," "," "," "," "," "," "," "," "," "," "," "," ",12154.25,12154.25," ",13175.06," "," "," "," "," "," "," "," "," "," "," "," "," "," "," "," "," "," "]
["A05.01.002.002","Магнитно-резонансная томография мягких тканей с внутривенным динамическим болюсным контрастированием",6975.75," "," "," "," "," ",8887.11," "," "," "," "," "," "," "," ",8887.11," "," "," "," "," "," "," "," "," "," "," "," "," "," "," "," "," "," "," "," "," ",8887.11,12312.2," ",8887.11," ",8887.11,8887.11," ",9633.51," "," "," "," "," "," "," "," "," "," "," "," "," "," "," ",8887.11," "," "]
["A05.01.002.002 Д","Магнитно-резонансная томография мягких тканей с внутривенным динамическим болюсным контрастированием",7549.04," "," "," "," "," ",9617.48," "," "," "," "," "," "," "," ",9617.48," "," "," "," "," "," "," "," "," "," "," "," "," "," "," "," "," "," "," "," "," ",9617.48,13324.06," ",9617.48," ",9617.48,9617.48," ",10425.219999999999," "," "," "," "," "," "," "," "," "," "," "," "," "," "," "," "," "," "]
["A05.01.002.003","Магнитно-резонансная перфузия мягких тканей с контрастированием",5246.86," "," "," "," "," "," "," "," "," "," "," "," "," "," ",6684.5," "," "," "," "," "," "," "," "," "," "," "," "," "," "," "," "," "," "," "," "," "," ",9260.7099999999991," ",6684.5," ",6684.5,6684.5," ",7245.91," "," "," "," "," "," "," "," "," "," "," "," "," "," "," "," "," "," "]
["A05.03.002","Магнитно-резонансная томография позвоночника (один отдел)",1363.97," "," "," "," "," ",1737.7," "," "," "," "," "," "," ",1737.7,1737.7," "," "," "," "," "," "," "," "," "," "," "," "," "," "," "," "," "," "," "," "," ",1737.7,2407.41," ",1737.7," ",1737.7,1737.7," ",1883.64," "," "," "," "," "," "," "," "," "," "," "," "," "," "," "," "," "," "]
["A05.03.002 Д","Магнитно-резонансная томография позвоночника (один отдел)",2021.21," "," "," "," "," ",2575.02," "," "," "," "," "," "," ",2575.02,2575.02," "," "," "," "," "," "," "," "," "," "," "," "," "," "," "," "," "," "," "," "," ",2575.02,3567.44," ",2575.02," ",2575.02,2575.02," ",2791.29," "," "," "," "," "," "," "," "," "," "," "," "," "," "," "," "," "," "]
["A05.03.002 ДН","Магнитно-резонансная томография позвоночника (один отдел) с наркозом",7417.46," "," "," "," "," ",9449.84," "," "," "," "," "," "," "," ",9449.84," "," "," "," "," "," "," "," "," "," "," "," "," "," "," "," "," "," "," "," "," "," "," "," "," "," ",9449.84,9449.84," ",10243.51," "," "," "," "," "," "," "," "," "," "," "," "," "," "," "," "," "," "]
["A05.03.002.001","Магнитно-резонансная томография позвоночника с контрастированием (один отдел)",3379.75," "," "," "," "," "," "," "," "," "," "," "," "," ",4305.8,4305.8," "," "," "," "," "," "," "," "," "," "," "," "," "," "," "," "," "," "," "," "," ",4305.8,5965.26," ",4305.8," ",4305.8,4305.8," ",4667.43," "," "," "," "," "," "," "," "," "," "," "," "," "," "," "," "," "," "]
["A05.03.002.001 Д","Магнитно-резонансная томография позвоночника с контрастированием (один отдел)",4036.99," "," "," "," "," "," "," "," "," "," "," "," "," ",5143.13,5143.13," "," "," "," "," "," "," "," "," "," "," "," "," "," "," "," "," "," "," "," "," ",5143.13,7125.29," ",5143.13," ",5143.13,5143.13," ",5575.08," "," "," "," "," "," "," "," "," "," "," "," "," "," "," "," "," "," "]
["A05.03.002.001 ДН","Магнитно-резонансная томография позвоночника с контрастированием (один отдел) с наркозом",9433.25," "," "," "," "," ",12017.96," "," "," "," "," "," "," "," "," "," "," "," "," "," "," "," "," "," "," "," "," "," "," "," "," "," "," "," "," "," "," "," "," "," "," ",12017.96,12017.96," ",13027.32," "," "," "," "," "," "," "," "," "," "," "," "," "," "," "," "," "," "]
["A05.03.002.002","Магнитно-резонансная томография позвоночника с контрастированием (один отдел) с внутривенным динамическим болюсным контрастированием",6975.75," "," "," "," "," ",8887.11," "," "," "," "," "," "," "," ",8887.11," "," "," "," "," "," "," "," "," "," "," "," "," "," "," "," "," "," "," "," "," ",8887.11,12312.2," ",8887.11," ",8887.11,8887.11," ",9633.51," "," "," "," "," "," "," "," "," "," "," "," "," "," "," "," "," "," "]
["A05.03.002.002 Д","Магнитно-резонансная томография позвоночника с контрастированием (один отдел) с внутривенным динамическим болюсным контрастированием",7549.04," "," "," "," "," ",9617.48," "," "," "," "," "," "," "," ",9617.48," "," "," "," "," "," "," "," "," "," "," "," "," "," "," "," "," "," "," "," "," ",9617.48,13324.06," ",9617.48," ",9617.48,9617.48," ",10425.219999999999," "," "," "," "," "," "," "," "," "," "," "," "," "," "," "," "," "," "]
["A05.03.003","Магнитно-резонансная томография основания черепа",1479.21," "," "," "," "," "," "," "," "," "," "," "," "," "," ",1884.51," "," "," "," "," "," "," "," "," "," "," "," "," "," "," "," "," "," "," "," "," ",1884.51,2610.81," ",1884.51," ",1884.51,1884.51," ",2042.79," "," "," "," "," "," "," "," "," "," "," "," "," "," "," "," "," "," "]
["A05.03.003 Д","Магнитно-резонансная томография основания черепа",2049.86," "," "," "," "," "," "," "," "," "," "," "," "," "," ",2611.52," "," "," "," "," "," "," "," "," "," "," "," "," "," "," "," "," "," "," "," "," ",2611.52,3618," ",2611.52," ",2611.52,2611.52," ",2830.86," "," "," "," "," "," "," "," "," "," "," "," "," "," "," "," "," "," "]
["A05.03.003.001 Д","Магнитно-резонансная томография основания черепа с ангиографией",4531.95," "," "," "," "," ",5773.7," "," "," "," "," "," "," "," ",5773.7," "," "," "," "," "," "," "," "," "," "," "," "," "," "," "," "," "," "," "," "," ",5773.7,7998.89," "," "," ",5773.7,5773.7," ",6258.62," "," "," "," "," "," "," "," "," "," "," "," "," "," "," "," "," "," "]
["A05.04.001","Магнитно-резонансная томография суставов (один сустав)",1353.19," "," "," "," "," ",1723.96," "," "," "," "," "," "," ",1723.96,1723.96," "," "," "," "," "," "," "," "," "," "," "," "," "," "," "," "," "," "," "," "," ",1723.96,2388.38," "," "," ",1723.96,1723.96," ",1868.76," "," "," "," "," "," "," "," "," "," "," "," "," "," "," "," "," "," "]
["A05.04.001 Д","Магнитно-резонансная томография суставов (один сустав)",2010.41," "," "," "," "," ",2561.2600000000002," "," "," "," "," "," "," "," ",2561.2600000000002," "," "," "," "," "," "," "," "," "," "," "," "," "," "," "," "," "," "," "," "," ",2561.2600000000002,3548.37," "," "," ",2561.2600000000002,2561.2600000000002," ",2776.38," "," "," "," "," "," "," "," "," "," "," "," "," "," "," "," "," "," "]
["A05.04.001 ДН","Магнитно-резонансная томография суставов (один сустав) с наркозом",7406.68," "," "," "," "," ",9436.11," "," "," "," "," "," "," "," "," "," "," "," "," "," "," "," "," "," "," "," "," "," "," "," "," "," "," "," "," "," "," "," "," "," "," ",9436.11,9436.11," ",10228.629999999999," "," "," "," "," "," "," "," "," "," "," "," "," "," "," "," "," "," "]
["A05.04.001.001","Магнитно-резонансная томография суставов (один сустав) с контрастированием",3486.74," "," "," "," "," "," "," "," "," "," "," "," "," "," ",4442.1099999999997," "," "," "," "," "," "," "," "," "," "," "," "," "," "," "," "," "," "," "," "," ",4442.1099999999997,6154.1," "," "," ",4442.1099999999997,4442.1099999999997," ",4815.1899999999996," "," "," "," "," "," "," "," "," "," "," "," "," "," "," ",4442.1099999999997," "," "]
["A05.04.001.001 Д","Магнитно-резонансная томография суставов (один сустав) с контрастированием",4143.9799999999996," "," "," "," "," "," "," "," "," "," "," "," "," "," ",5279.43," "," "," "," "," "," "," "," "," "," "," "," "," "," "," "," "," "," "," "," "," ",5279.43,7314.12," "," "," ",5279.43,5279.43," ",5722.84," "," "," "," "," "," "," "," "," "," "," "," "," "," "," "," "," "," "]
["A05.04.001.001 ДН","Магнитно-резонансная томография суставов (один сустав) с контрастированием с наркозом",9540.23," "," "," "," "," ",12154.25," "," "," "," "," "," "," "," "," "," "," "," "," "," "," "," "," "," "," "," "," "," "," "," "," "," "," "," "," "," "," "," "," "," "," ",12154.25,12154.25," ",13175.06," "," "," "," "," "," "," "," "," "," "," "," "," "," "," "," "," "," "]
["A05.04.001.002","Магнитно-резонансная томография суставов (один сустав) с внутривенным динамическим болюсным контрастированием",6975.75," "," "," "," "," ",8887.11," "," "," "," "," "," "," "," ",8887.11," "," "," "," "," "," "," "," "," "," "," "," "," "," "," "," "," "," "," "," "," ",8887.11,12312.2," "," "," ",8887.11,8887.11," ",9633.51," "," "," "," "," "," "," "," "," "," "," "," "," "," "," ",8887.11," "," "]
["A05.04.001.002 Д","Магнитно-резонансная томография суставов (один сустав) с внутривенным динамическим болюсным контрастированием",7549.04," "," "," "," "," ",9617.48," "," "," "," "," "," "," "," ",9617.48," "," "," "," "," "," "," "," "," "," "," "," "," "," "," "," "," "," "," "," "," ",9617.48,13324.06," "," "," ",9617.48,9617.48," ",10425.219999999999," "," "," "," "," "," "," "," "," "," "," "," "," "," "," "," "," "," "]
["A05.04.002","Магнитно-резонансная томография кресцово-подвздошного сочленения",2176.29," "," "," "," "," ",2772.59," "," "," "," "," "," "," ",2772.59,2772.59," "," "," "," "," "," "," "," "," "," "," "," "," "," "," "," "," "," "," "," "," ",2772.59,3841.15," ",2772.59," ",2772.59,2772.59," ",3005.46," "," "," "," "," "," "," "," "," "," "," "," "," "," "," "," "," "," "]
["A05.04.002.001","Магнитно-резонансная томография кресцово-подвздошного сочленения с контрастированием",4730.1899999999996," "," "," "," "," ",6026.26," "," "," "," "," "," "," "," ",6026.26," "," "," "," "," "," "," "," "," "," "," "," "," "," "," "," "," "," "," "," "," ",6026.26,8348.7900000000009," ",6026.26," ",6026.26,6026.26," ",6532.39," "," "," "," "," "," "," "," "," "," "," "," "," "," "," ",6026.26," "," "]
["A05.08.001","Магнитно-резонансная томография околоносовых пазух",1238.56," "," "," "," "," ",1577.93," "," "," "," "," "," "," "," ",1577.93," "," "," "," "," "," "," "," "," "," "," "," "," "," "," "," "," "," "," "," "," ",1577.93,2186.06," ",1577.93," ",1577.93,1577.93," ",1710.45," "," "," "," "," "," "," "," "," "," "," "," "," "," "," "," "," "," "]
["A05.08.001 Д","Магнитно-резонансная томография околоносовых пазух",1895.8," "," "," "," "," ",2415.25," "," "," "," "," "," "," "," ",2415.25," "," "," "," "," "," "," "," "," "," "," "," "," "," "," "," "," "," "," "," "," ",2415.25,3346.09," ",2415.25," ",2415.25,2415.25," ",2618.1," "," "," "," "," "," "," "," "," "," "," "," "," "," "," "," "," "," "]
["A05.08.001 ДН","Магнитно-резонансная томография околоносовых пазух с наркозом",7292.05," "," "," "," "," ",9290.07," "," "," "," "," "," "," "," "," "," "," "," "," "," "," "," "," "," "," "," "," "," "," "," "," "," "," "," "," "," "," "," "," "," "," ",9290.07,9290.07," ",10070.32," "," "," "," "," "," "," "," "," "," "," "," "," "," "," "," "," "," "]
["A05.08.001.001","Магнитно-резонансная томография околоносовых пазух с контрастированием",3107.19," "," "," "," "," "," "," "," "," "," "," "," "," "," ",3958.56," "," "," "," "," "," "," "," "," "," "," "," "," "," "," "," "," "," "," "," "," ",3958.56,5484.19," ",3958.56," ",3958.56,3958.56," ",4291.03," "," "," "," "," "," "," "," "," "," "," "," "," "," "," "," "," "," "]
["A05.08.001.001 Д","Магнитно-резонансная томография околоносовых пазух",3764.46," "," "," "," "," "," "," "," "," "," "," "," "," "," ",4795.92," "," "," "," "," "," "," "," "," "," "," "," "," "," "," "," "," "," "," "," "," ",4795.92,6644.27," ",4795.92," ",4795.92,4795.92," ",5198.72," "," "," "," "," "," "," "," "," "," "," "," "," "," "," "," "," "," "]
["A05.08.001.001 ДН","Магнитно-резонансная томография околоносовых пазух с контрастированием с наркозом",9160.7099999999991," "," "," "," "," ",11670.74," "," "," "," "," "," "," "," "," "," "," "," "," "," "," "," "," "," "," "," "," "," "," "," "," "," "," "," "," "," "," "," "," "," "," ",11670.74,11670.74," ",12650.94," "," "," "," "," "," "," "," "," "," "," "," "," "," "," "," "," "," "]
["A05.08.001.002","Магнитно-резонансная томография околоносовых пазух с внутривенным динамическим болюсным контрастированием",6975.75," "," "," "," "," ",8887.11," "," "," "," "," "," "," "," ",8887.11," "," "," "," "," "," "," "," "," "," "," "," "," "," "," "," "," "," "," "," "," ",8887.11,12312.2," ",8887.11," ",8887.11,8887.11," ",9633.51," "," "," "," "," "," "," "," "," "," "," "," "," "," "," ",8887.11," "," "]
["A05.08.001.002 Д","Магнитно-резонансная томография околоносовых пазух с внутривенным динамическим болюсным контрастированием",7549.04," "," "," "," "," ",9617.48," "," "," "," "," "," "," "," ",9617.48," "," "," "," "," "," "," "," "," "," "," "," "," "," "," "," "," "," "," "," "," ",9617.48,13324.06," ",9617.48," ",9617.48,9617.48," ",10425.219999999999," "," "," "," "," "," "," "," "," "," "," "," "," "," "," "," "," "," "]
["A05.10.009","Магнитно-резонансная томография сердца",1693.27," "," "," "," "," "," "," "," "," "," "," "," "," "," ",2157.23," "," "," "," "," "," "," "," "," "," "," "," "," "," "," "," "," "," "," "," "," "," ",2988.62," "," "," "," "," "," ",2338.41," "," "," "," "," "," "," "," "," "," "," "," "," "," "," "," "," "," "]
["A05.10.009 Д","Магнитно-резонансная томография сердца",2106.79," "," "," "," "," "," "," "," "," "," "," "," "," "," ",2684.05," "," "," "," "," "," "," "," "," "," "," "," "," "," "," "," "," "," "," "," "," "," ",3718.48," "," "," "," "," "," ",2909.48," "," "," "," "," "," "," "," "," "," "," "," "," "," "," "," "," "," "]
["A05.10.009.001","Магнитно-резонансная томография сердца с контрастированием",4446.4799999999996," "," "," "," "," "," "," "," "," "," "," "," "," "," ",5664.82," "," "," "," "," "," "," "," "," "," "," "," "," "," "," "," "," "," "," "," "," "," ",7848.04," "," "," "," "," "," ",6140.59," "," "," "," "," "," "," "," "," "," "," "," "," ",5664.82," "," "," "," "]
["A05.10.009.001 Д","Магнитно-резонансная томография сердца с контрастированием",4860.05," "," "," "," "," "," "," "," "," "," "," "," "," "," ",6191.7," "," "," "," "," "," "," "," "," "," "," "," "," "," "," "," "," "," "," "," "," "," ",8577.99," "," "," "," "," "," ",6711.73," "," "," "," "," "," "," "," "," "," "," "," "," "," "," "," "," "," "]
["A05.10.009.002 Д","Магнитно-резонансная томография сердца с внутривенным динамическим болюсным контрастированием",7640.69," "," "," "," "," "," "," "," "," "," "," "," "," "," ",9734.24," "," "," "," "," "," "," "," "," "," "," "," "," "," "," "," "," "," "," "," "," "," ",13485.82," "," "," "," "," "," ",10551.79," "," "," "," "," "," "," "," "," "," "," "," "," "," "," "," "," "," "]
["A05.10.009.002 ","Магнитно-резонансная томография сердца с внутривенным динамическим болюсным контрастированием",7227.12," "," "," "," "," "," "," "," "," "," "," "," "," "," ",9207.35," "," "," "," "," "," "," "," "," "," "," "," "," "," "," "," "," "," "," "," "," "," ",12755.87," "," "," "," "," "," ",9980.65," "," "," "," "," "," "," "," "," "," "," "," "," ",9207.35," "," "," "," "]
["A05.10.009.003","Магнитно-резонансная перфузия сердца в покое",5290.16," "," "," "," "," "," "," "," "," "," "," "," "," "," ",6739.66," "," "," "," "," "," "," "," "," "," "," "," "," "," "," "," "," "," "," "," "," "," ",9337.1299999999992," "," "," "," "," "," ",7305.71," "," "," "," "," "," "," "," "," "," "," "," "," "," "," "," "," "," "]
["A05.10.009.004","Магнитно-резонансная перфузия сердца с функциональной нагрузочной пробой",5340.56," "," "," "," "," "," "," "," "," "," "," "," "," "," ",6803.87," "," "," "," "," "," "," "," "," "," "," "," "," "," "," "," "," "," "," "," "," "," ",9426.09," "," "," "," "," "," ",7375.31," "," "," "," "," "," "," "," "," "," "," "," "," "," "," "," "," "," "]
["A05.10.009.005","Магнитно-резонансная томография сердца с оценкой функции",1977.02," "," "," "," "," "," "," "," "," "," "," "," "," "," ",2518.7199999999998," "," "," "," "," "," "," "," "," "," "," "," "," "," "," "," "," "," "," "," "," "," ",3489.44," "," "," "," "," "," ",2730.26," "," "," "," "," "," "," "," "," "," "," "," "," "," "," "," "," "," "]
["A05.10.009.005 Д","Магнитно-резонансная томография сердца с оценкой функции",2259.67," "," "," "," "," "," "," "," "," "," "," "," "," "," ",2878.82," "," "," "," "," "," "," "," "," "," "," "," "," "," "," "," "," "," "," "," "," "," ",3988.32," "," "," "," "," "," ",3120.6," "," "," "," "," "," "," "," "," "," "," "," "," "," "," "," "," "," "]
["A05.10.009.005 ДН","Магнитно-резонансная томография сердца с оценкой функции",7655.93," "," "," "," "," "," "," "," "," "," "," "," "," "," "," "," "," "," "," "," "," "," "," "," "," "," "," "," "," "," "," "," "," "," "," "," "," "," "," "," "," "," "," "," ",10572.84," "," "," "," "," "," "," "," "," "," "," "," "," "," "," "," "," "," "]
["A05.10.009.006","Магнитно-резонансная томография сердца высокого разрешения",1977.02," "," "," "," "," "," "," "," "," "," "," "," "," "," ",2518.7199999999998," "," "," "," "," "," "," "," "," "," "," "," "," "," "," "," "," "," "," "," "," "," ",3489.44," "," "," "," "," "," ",2730.26," "," "," "," "," "," "," "," "," "," "," "," "," "," "," "," "," "," "]
["A05.10.009.006 Д","Магнитно-резонансная томография сердца высокого разрешения",2259.67," "," "," "," "," "," "," "," "," "," "," "," "," "," ",2878.82," "," "," "," "," "," "," "," "," "," "," "," "," "," "," "," "," "," "," "," "," "," ",3988.32," "," "," "," "," "," ",3120.6," "," "," "," "," "," "," "," "," "," "," "," "," "," "," "," "," "," "]
["A05.10.009.006 ДН","Магнитно-резонансная томография сердца высокого разрешения",7655.93," "," "," "," "," "," "," "," "," "," "," "," "," "," "," "," "," "," "," "," "," "," "," "," "," "," "," "," "," "," "," "," "," "," "," "," "," "," "," "," "," "," ",9753.65," ",10572.84," "," "," "," "," "," "," "," "," "," "," "," "," "," "," "," "," "," "]
["A05.10.009.007","Магнитно-резонансная томография сердца с ангиографией коронарных артерий",1977.02," "," "," "," "," "," "," "," "," "," "," "," "," "," ",2518.7199999999998," "," "," "," "," "," "," "," "," "," "," "," "," "," "," "," "," "," "," "," "," "," ",3489.44," "," "," "," "," "," ",2730.26," "," "," "," "," "," "," "," "," "," "," "," "," "," "," "," "," "," "]
["A05.10.009.008","Магнитно-резонансная томография сердца с ангиографией коронарных артерий и с контрастированием",5859.41," "," "," "," "," "," "," "," "," "," "," "," "," "," ",7464.89," "," "," "," "," "," "," "," "," "," "," "," "," "," "," "," "," "," "," "," "," "," ",10341.86," "," "," "," "," "," ",8091.85," "," "," "," "," "," "," "," "," "," "," "," "," "," "," "," "," "," "]
["A05.12.004","Магнитно-резонансная артериография (одна область)",1363.97," "," "," "," "," ",1737.7," "," "," "," "," "," "," "," ",1737.7," "," "," "," "," "," "," "," "," "," "," "," "," "," "," "," "," "," "," "," "," ",1737.7,2407.41," ",1737.7," ",1737.7,1737.7," ",1883.64," "," "," "," "," "," "," "," "," "," "," "," "," "," "," "," "," "," "]
["A05.12.004.001","Магнитно-резонансная артериография (одна область) с контрастированием",3486.74," "," "," "," "," "," "," "," "," "," "," "," "," "," ",4442.1099999999997," "," "," "," "," "," "," "," "," "," "," "," "," "," "," "," "," "," "," "," "," ",4442.1099999999997,6154.1," ",4442.1099999999997," ",4442.1099999999997,4442.1099999999997," ",4815.1899999999996," "," "," "," "," "," "," "," "," "," "," "," "," "," "," "," "," "," "]
["A05.12.004.002","Магнитно-резонансная артериография (одна область) с внутривенным динамическим болюсным контрастированием",6829.14," "," "," "," "," ",8700.32," "," "," "," "," "," "," "," ",8700.32," "," "," "," "," "," "," "," "," "," "," "," "," "," "," "," "," "," "," "," "," ",8700.32,12053.43," ",8700.32," ",8700.32,8700.32," ",9431.0400000000009," "," "," "," "," "," "," "," "," "," "," "," "," "," "," "," "," "," "]
["A05.12.004.002 Д","Магнитно-резонансная артериография (одна область) с внутривенным динамическим болюсным контрастированием",7193.51," "," "," "," "," ",9164.5300000000007," "," "," "," "," "," "," "," ",9164.5300000000007," "," "," "," "," "," "," "," "," "," "," "," "," "," "," "," "," "," "," "," "," ",9164.5300000000007,12696.55," ",9164.5300000000007," ",9164.5300000000007,9164.5300000000007," ",9934.24," "," "," "," "," "," "," "," "," "," "," "," "," "," "," "," "," "," "]
["A05.12.005","Магнитно-резонансная венография (одна область)",1363.97," "," "," "," "," ",1737.7," "," "," "," "," "," "," "," ",1737.7," "," "," "," "," "," "," "," "," "," "," "," "," "," "," "," "," "," "," "," "," ",1737.7,2407.41," ",1737.7," ",1737.7,1737.7," ",1883.64," "," "," "," "," "," "," "," "," "," "," "," "," "," "," "," "," "," "]
["A05.12.005.001","Магнитно-резонансная венография (одна область) с контрастированием",3486.74," "," "," "," "," "," "," "," "," "," "," "," "," "," ",4442.1099999999997," "," "," "," "," "," "," "," "," "," "," "," "," "," "," "," "," "," "," "," "," ",4442.1099999999997,6154.1," ",4442.1099999999997," ",4442.1099999999997," "," ",4815.1899999999996," "," "," "," "," "," "," "," "," "," "," "," "," "," "," "," "," "," "]
["A05.12.005.002","Магнитно-резонансная венография (одна область) с внутривенным динамическим болюсным контрастированием",6829.14," "," "," "," "," ",8700.32," "," "," "," "," "," "," "," ",8700.32," "," "," "," "," "," "," "," "," "," "," "," "," "," "," "," "," "," "," "," "," ",8700.32,12053.43," ",8700.32," ",8700.32,8700.32," ",9431.0400000000009," "," "," "," "," "," "," "," "," "," "," "," "," "," "," "," "," "," "]
["A05.12.005.002 Д","Магнитно-резонансная венография (одна область) с внутривенным динамическим болюсным контрастированием",7193.51," "," "," "," "," ",9164.5300000000007," "," "," "," "," "," "," "," ",9164.5300000000007," "," "," "," "," "," "," "," "," "," "," "," "," "," "," "," "," "," "," "," "," ",9164.5300000000007,12696.55," ",9164.5300000000007," ",9164.5300000000007,9164.5300000000007," ",9934.24," "," "," "," "," "," "," "," "," "," "," "," "," "," "," "," "," "," "]
["A05.12.006.001","Магнитно-резонансная томография ангиография головного мозга с контрастированием",7412.28," "," "," "," "," "," "," "," "," "," "," "," "," "," ",9443.24," "," "," "," "," "," "," "," "," "," "," "," "," "," "," "," "," "," "," "," "," ",9443.24,13082.67," ",9443.24," ",9443.24,9443.24," ",10236.36," "," "," "," "," "," "," "," "," "," "," "," "," "," "," "," "," "," "]
["A05.12.006.001 Д","Магнитно-резонансная томография ангиография головного мозга с контрастированием",5294.39," "," "," "," "," "," "," "," "," "," "," "," "," "," ",6745.05," "," "," "," "," "," "," "," "," "," "," "," "," "," "," "," "," "," "," "," "," ",6745.05,9344.6," ",6745.05," ",6745.05,6745.05," ",7311.55," "," "," "," "," "," "," "," "," "," "," "," "," "," "," "," "," "," "]
["A05.12.006.002","Магнитно-резонансная томография ангиография головного мозга с внутривенным динамическим болюсным контрастированием",6829.14," "," "," "," "," "," "," "," "," "," "," "," "," "," ",8700.32," "," "," "," "," "," "," "," "," "," "," "," "," "," "," "," "," "," "," "," "," ",8700.32,12053.43," ",8700.32," ",8700.32,8700.32," ",9431.0400000000009," "," "," "," "," "," "," "," "," "," "," "," "," "," "," "," "," "," "]
["A05.12.006.002 Д","Магнитно-резонансная томография ангиография головного мозга с внутривенным динамическим болюсным контрастированием",7193.51," "," "," "," "," "," "," "," "," "," "," "," "," "," ",9164.5300000000007," "," "," "," "," "," "," "," "," "," "," "," "," "," "," "," "," "," "," "," "," ",9164.5300000000007,12696.55," ",9164.5300000000007," ",9164.5300000000007,9164.5300000000007," ",9934.24," "," "," "," "," "," "," "," "," "," "," "," "," "," "," "," "," "," "]
["A05.15.002","Магнитно-резонансная холангиопанкреатография",1363.97," "," "," "," "," ",1737.7," "," "," "," "," "," "," ",1737.7,1737.7," "," "," "," "," "," "," "," "," "," "," "," "," "," "," "," "," "," "," "," "," ",1737.7,2407.41," ",1737.7," ",1737.7,1737.7," ",1883.64," "," "," "," "," "," "," "," "," "," "," "," "," "," "," "," "," "," "]
["A05.15.002.001","Магнитно-резонансная холангиография с контрастированием",3486.74," "," "," "," "," "," "," "," "," "," "," "," "," "," ",4442.1099999999997," "," "," "," "," "," "," "," "," "," "," "," "," "," "," "," "," "," "," "," "," ",4442.1099999999997,6154.1," ",4442.1099999999997," ",4442.1099999999997,4442.1099999999997," ",4815.1899999999996," "," "," "," "," "," "," "," "," "," "," "," "," "," "," ",4442.1099999999997," "," "]
["A05.16.002","Магнитно-резонансная томография пищевода",1363.97," "," "," "," "," "," "," "," "," "," "," "," "," "," ",1737.7," "," "," "," "," "," "," "," "," "," "," "," "," "," "," "," "," "," "," "," "," ",1737.7,2407.41," ",1737.7," "," ",1737.7," ",1883.64," "," "," "," "," "," "," "," "," "," "," "," "," "," "," "," "," "," "]
["A05.16.002.001","Магнитно-резонансная томография пищевода с контрастированием",3486.74," "," "," "," "," "," "," "," "," "," "," "," "," "," ",4442.1099999999997," "," "," "," "," "," "," "," "," "," "," "," "," "," "," "," "," "," "," "," "," ",4442.1099999999997,6154.1," ",4442.1099999999997," "," ",4442.1099999999997," ",4815.1899999999996," "," "," "," "," "," "," "," "," "," "," "," "," "," "," "," "," "," "]
["A05.16.002.002","Магнитно-резонансная томография пищевода с внутривенным динамическим болюсным контрастированием",7685.68," "," "," "," "," "," "," "," "," "," "," "," "," "," ",9791.56," "," "," "," "," "," "," "," "," "," "," "," "," "," "," "," "," "," "," "," "," ",9791.56,13565.23," ",9791.56," "," ",9791.56," ",10613.92," "," "," "," "," "," "," "," "," "," "," "," "," "," "," "," "," "," "]
["A05.16.002.002 Д","Магнитно-резонансная томография пищевода с внутривенным динамическим болюсным контрастированием",7983.3," "," "," "," "," "," "," "," "," "," "," "," "," "," ",10170.719999999999," "," "," "," "," "," "," "," "," "," "," "," "," "," "," "," "," "," "," "," "," ",10170.719999999999,14090.52," ",10170.719999999999," "," ",10170.719999999999," ",11024.94," "," "," "," "," "," "," "," "," "," "," "," "," "," "," "," "," "," "]
["A05.20.003.002","Магнитно-резонансная перфузия молочных желез",5811.38," "," "," "," "," "," "," "," "," "," "," "," "," "," ",7403.7," "," "," "," "," "," "," "," "," "," "," "," "," "," "," "," "," "," "," "," "," ",7403.7,10257.09," ",7403.7," ",7403.7," "," ",8025.52," "," "," "," "," "," "," "," "," "," "," "," "," "," "," "," "," "," "]
["A05.20.004","Магнитно-резонансная томография молочных желез",1680.22," "," "," "," "," "," "," "," "," "," "," "," "," "," ",2140.6," "," "," "," "," "," "," "," "," "," "," "," "," "," "," "," "," "," "," "," "," ",2140.6,2965.59," ",2140.6," ",2140.6," "," ",2320.38," "," "," "," "," "," "," "," "," "," "," "," "," "," "," "," "," "," "]
["A05.20.004.001","Магнитно-резонансная томография молочных желез с динамическим контрастированием",7305.48," "," "," "," "," "," "," "," "," "," "," "," "," "," ",9307.18," "," "," "," "," "," "," "," "," "," "," "," "," "," "," "," "," "," "," "," "," ",9307.18,12894.17," ",9307.18," ",9307.18," "," ",10088.870000000001," "," "," "," "," "," "," "," "," "," "," "," "," "," "," ",9307.18," "," "]
["A05.20.004.002","Магнитно-резонансная томография молочных желез с внутривенным контрастированием",4164.6499999999996," "," "," "," "," "," "," "," "," "," "," "," "," "," ",5305.76," "," "," "," "," "," "," "," "," "," "," "," "," "," "," "," "," "," "," "," "," ",5305.76,7350.61," ",5305.76," ",5305.76," "," ",5751.38," "," "," "," "," "," "," "," "," "," "," "," "," "," "," "," "," "," "]
["A05.21.001","Магнитно-резонансная томография мошонки",2176.29," "," "," "," "," "," "," "," "," "," "," "," "," "," ",2772.59," "," "," "," "," "," "," "," "," "," "," "," "," "," "," "," "," "," "," "," "," ",2772.59,3841.15," ",2772.59," ",2772.59,2772.59," ",3005.46," "," "," "," "," "," "," "," "," "," "," "," "," "," "," "," "," "," "]
["A05.21.001.001","Магнитно-резонансная томография мошонки с контрастированием",4730.1899999999996," "," "," "," "," "," "," "," "," "," "," "," "," "," ",6026.26," "," "," "," "," "," "," "," "," "," "," "," "," "," "," "," "," "," "," "," "," ",6026.26,8348.7900000000009," ",6026.26," ",6026.26,6026.26," ",6532.39," "," "," "," "," "," "," "," "," "," "," "," "," "," "," ",6026.26," "," "]
["A05.22.002.001","Магнитно-резонансная томография гипофиза с контрастированием",4694.42," "," "," "," "," "," "," "," "," "," "," "," "," "," ",5980.69," "," "," "," "," "," "," "," "," "," "," "," "," "," "," "," "," "," "," "," "," ",5980.69,8285.65," ",5980.69," ",5980.69,5980.69," ",6482.99," "," "," "," "," "," "," "," "," "," "," "," "," "," "," ",5980.69," "," "]
["A05.22.002.001 Д","Магнитно-резонансная томография гипофиза с контрастированием",4897.03," "," "," "," "," "," "," "," "," "," "," "," "," "," ",6238.82," "," "," "," "," "," "," "," "," "," "," "," "," "," "," "," "," "," "," "," "," ",6238.82,8643.26," ",6238.82," ",6238.82,6238.82," ",6762.8," "," "," "," "," "," "," "," "," "," "," "," "," "," "," "," "," "," "]
["A05.22.002.002","Магнитно-резонансная томография гипофиза с внутривенным динамическим болюсным контрастированием",7113.58," "," "," "," "," ",9062.7000000000007," "," "," "," "," "," "," ",9062.7000000000007,9062.7000000000007," "," "," "," "," "," "," "," "," "," "," "," "," "," "," "," "," "," "," "," "," ",9062.7000000000007,12555.47," ",9062.7000000000007," ",9062.7000000000007,9062.7000000000007," ",9823.85," "," "," "," "," "," "," "," "," "," "," "," "," "," "," ",9062.7000000000007," "," "]
["A05.22.002.002 Д","Магнитно-резонансная томография гипофиза с внутривенным динамическим болюсным контрастированием",7411.24," "," "," "," "," ",9441.92," "," "," "," "," "," "," "," ",9441.92," "," "," "," "," "," "," "," "," "," "," "," "," "," "," "," "," "," "," "," "," ",9441.92,13080.84," ",9441.92," ",9441.92,9441.92," ",10234.92," "," "," "," "," "," "," "," "," "," "," "," "," "," "," "," "," "," "]
["A05.23.009","Магнитно-резонансная томография головного мозга",1363.97," "," "," "," "," ",1737.7," "," "," "," "," "," "," ",1737.7,1737.7," "," "," "," "," "," "," "," "," "," "," "," "," "," "," "," "," "," "," "," "," ",1737.7,2407.41," ",1737.7," ",1737.7,1737.7," ",1883.64," "," "," "," "," "," "," "," "," "," "," "," "," "," "," "," "," "," "]
["A05.23.009 Д","Магнитно-резонансная томография головного мозга",2021.21," "," "," "," "," ",2575.02," "," "," "," "," "," "," ",2575.02,2575.02," "," "," "," "," "," "," "," "," "," "," "," "," "," "," "," "," "," "," "," "," ",2575.02,3567.44," ",2575.02," ",2575.02,2575.02," ",2791.29," "," "," "," "," "," "," "," "," "," "," "," "," "," "," "," "," "," "]
["A05.23.009 ДН","Магнитно-резонансная томография головного мозга с наркозом",7417.46," "," "," "," "," ",9449.84," "," "," "," "," "," "," "," ",9449.84," "," "," "," "," "," "," "," "," "," "," "," "," "," "," "," "," "," "," "," "," "," "," "," "," "," ",9449.84,9449.84," ",10243.51," "," "," "," "," "," "," "," "," "," "," "," "," "," "," "," "," "," "]
["A05.23.009.001","Магнитно-резонансная томография головного мозга с контрастированием",3379.75," "," "," "," "," ",4305.8," "," "," "," "," "," "," ",4305.8,4305.8," "," "," "," "," "," "," "," "," "," "," "," "," "," "," "," "," "," "," "," "," ",4305.8,5965.26," ",4305.8," ",4305.8,4305.8," ",4667.43," "," "," "," "," "," "," "," "," "," "," "," "," "," "," ",4305.8," "," "]
["A05.23.009.001 Д","Магнитно-резонансная томография головного мозга с контрастированием",4036.99," "," "," "," "," ",5143.13," "," "," "," "," "," "," ",5143.13,5143.13," "," "," "," "," "," "," "," "," "," "," "," "," "," "," "," "," "," "," "," "," ",5143.13,7125.29," ",5143.13," ",5143.13,5143.13," ",5575.08," "," "," "," "," "," "," "," "," "," "," "," "," "," "," "," "," "," "]
["A05.23.009.001 ДН","Магнитно-резонансная томография головного мозга с контрастированием с наркозом",9433.25," "," "," "," "," ",12017.96," "," "," "," "," "," "," "," ",12017.96," "," "," "," "," "," "," "," "," "," "," "," "," "," "," "," "," "," "," "," "," "," "," "," "," "," ",12017.96,12017.96," ",13027.32," "," "," "," "," "," "," "," "," "," "," "," "," "," "," "," "," "," "]
["A05.23.009.001.01","Скрининг-исследование головного мозга на магнитно-резонансном томографе",858.93," "," "," "," "," "," "," "," "," "," "," "," "," "," ",1094.28," "," "," "," "," "," "," "," "," "," "," "," "," "," "," "," "," "," "," "," "," ",1094.28,1516.01," "," "," "," "," "," ",1186.18," "," "," "," "," "," "," "," "," "," "," "," "," "," "," "," "," "," "]
["A05.23.009.003","Магнитно-резонансная перфузия головного мозга",7305.48," "," "," "," "," ",9307.18," "," "," "," "," "," "," "," ",9307.18," "," "," "," "," "," "," "," "," "," "," "," "," "," "," "," "," "," "," "," "," ",9307.18,12894.17," ",9307.18," ",9307.18,9307.18," ",10088.870000000001," "," "," "," "," "," "," "," "," "," "," "," "," "," "," "," "," "," "]
["A05.23.009.009","Протонная магнитно-резонансная спектроскопия",2181.56," "," "," "," "," ",2779.31," "," "," "," "," "," "," "," ",2779.31," "," "," "," "," "," "," "," "," "," "," "," "," "," "," "," "," "," "," "," "," "," ",3850.45," "," "," ",2779.31," "," ",3012.73," "," "," "," "," "," "," "," "," "," "," "," "," "," "," "," "," "," "]
["A05.23.009.010","Магнитно-резонансная томография спинного мозга (один отдел)",1363.97," "," "," "," "," ",1737.7," "," "," "," "," "," "," "," ",1737.7," "," "," "," "," "," "," "," "," "," "," "," "," "," "," "," "," "," "," "," "," ",1737.7,2407.41," ",1737.7," ",1737.7," "," ",1883.64," "," "," "," "," "," "," "," "," "," "," "," "," "," "," "," "," "," "]
["A05.23.009.017","Магнитно-резонансная томография после стереотаксического радиохирургического вмешательства (гамма нож контроль) с двойным контрастом",7300.22," "," "," "," "," "," "," "," "," "," "," "," "," "," ",9300.48," "," "," "," "," "," "," "," "," "," "," "," "," "," "," "," "," "," "," "," "," ",9300.48,12884.89," ",9300.48," ",9300.48," "," ",10081.6," "," "," "," "," "," "," "," "," "," "," "," "," "," "," "," "," "," "]
["A05.23.009.018","Магнитно-резонансная томография головного мозга высокого разрешения при эпилепсии",2936.67," "," "," "," "," ",3741.32," "," "," "," "," "," "," "," ",3741.32," "," "," "," "," "," "," "," "," "," "," "," "," "," "," "," "," "," "," "," "," ",3741.32,5183.22," ",3741.32," ",3741.32,3741.32," ",4055.54," "," "," "," "," "," "," "," "," "," "," "," "," "," "," "," "," "," "]
["A05.23.009.018 ДН","Магнитно-резонансная томография головного мозга высокого разрешения при эпилепсии с наркозом",8332.92," "," "," "," "," "," "," "," "," "," "," "," "," "," "," "," "," "," "," "," "," "," "," "," "," "," "," "," "," "," "," "," "," "," "," "," "," "," "," "," "," ",10616.14," "," "," "," "," "," "," "," "," "," "," "," "," "," "," "," "," "," "," "," "," "]
["A05.24.003","Магнитно-резонансная томография черепно-мозговых нервов",2882.12," "," "," "," "," ",3671.82," "," "," "," "," "," "," "," ",3671.82," "," "," "," "," "," "," "," "," "," "," "," "," "," "," "," "," "," "," "," "," ",3671.82,5086.9399999999996," ",3671.82," ",3671.82,3671.82," ",3980.21," "," "," "," "," "," "," "," "," "," "," "," "," "," "," "," "," "," "]
["A05.24.004","Магнитно-резонансная томография переферического нервного сплетения",2882.12," "," "," "," "," ",3671.82," "," "," "," "," "," "," "," ",3671.82," "," "," "," "," "," "," "," "," "," "," "," "," "," "," "," "," "," "," "," "," ",3671.82,5086.9399999999996," ",3671.82," ",3671.82,3671.82," ",3980.21," "," "," "," "," "," "," "," "," "," "," "," "," "," "," "," "," "," "]
["A05.26.008","Магнитно-резонансная томография глазницы",1238.56," "," "," "," "," ",1577.93," "," "," "," "," "," "," "," ",1577.93," "," "," "," "," "," "," "," "," "," "," "," "," "," "," "," "," "," "," "," "," ",1577.93,2186.06," ",1577.93," ",1577.93,1577.93," ",1710.45," "," "," "," "," "," "," "," "," "," "," "," "," "," "," "," "," "," "]
["A05.26.008 Д","Магнитно-резонансная томография глазницы",1895.8," "," "," "," "," ",2415.25," "," "," "," "," "," "," "," ",2415.25," "," "," "," "," "," "," "," "," "," "," "," "," "," "," "," "," "," "," "," "," ",2415.25,3346.09," ",2415.25," ",2415.25,2415.25," ",2618.1," "," "," "," "," "," "," "," "," "," "," "," "," "," "," "," "," "," "]
["A05.26.008 ДН","Магнитно-резонансная томография глазницы с наркозом",7292.05," "," "," "," "," ",9290.07," "," "," "," "," "," "," "," "," "," "," "," "," "," "," "," "," "," "," "," "," "," "," "," "," "," "," "," "," "," "," "," "," "," "," ",9290.07,9290.07," ",10070.32," "," "," "," "," "," "," "," "," "," "," "," "," "," "," "," "," "," "]
["A05.26.008.001","Магнитно-резонансная томография глазницы с контрастированием",3107.19," "," "," "," "," "," "," "," "," "," "," "," "," "," ",3958.56," "," "," "," "," "," "," "," "," "," "," "," "," "," "," "," "," "," "," "," "," ",3958.56,5484.19," ",3958.56," ",3958.56,3958.56," ",4291.03," "," "," "," "," "," "," "," "," "," "," "," "," "," "," ",3958.56," "," "]
["A05.26.008.001 Д","Магнитно-резонансная томография глазницы",3764.46," "," "," "," "," "," "," "," "," "," "," "," "," "," ",4795.92," "," "," "," "," "," "," "," "," "," "," "," "," "," "," "," "," "," "," "," "," ",4795.92,6644.27," ",4795.92," ",4795.92,4795.92," ",5198.72," "," "," "," "," "," "," "," "," "," "," "," "," "," "," "," "," "," "]
["A05.26.008.001 ДН","Магнитно-резонансная томография глазницы с контрастированием с наркозом",9160.7099999999991," "," "," "," "," ",11670.74," "," "," "," "," "," "," "," "," "," "," "," "," "," "," "," "," "," "," "," "," "," "," "," "," "," "," "," "," "," "," "," "," "," "," ",11670.74,11670.74," ",12650.94," "," "," "," "," "," "," "," "," "," "," "," "," "," "," "," "," "," "]
["A05.26.008.002","Магнитно-резонансная томография глазницы с внутривенным динамическим болюсным контрастированием",6975.75," "," "," "," "," ",8887.11," "," "," "," "," "," "," "," ",8887.11," "," "," "," "," "," "," "," "," "," "," "," "," "," "," "," "," "," "," "," "," ",8887.11,12312.2," ",8887.11," ",8887.11,8887.11," ",9633.51," "," "," "," "," "," "," "," "," "," "," "," "," "," "," ",8887.11," "," "]
["A05.26.008.002 Д","Магнитно-резонансная томография глазницы с внутривенным динамическим болюсным контрастированием",7549.04," "," "," "," "," ",9617.48," "," "," "," "," "," "," "," ",9617.48," "," "," "," "," "," "," "," "," "," "," "," "," "," "," "," "," "," "," "," "," ",9617.48,13324.06," ",9617.48," ",9617.48,9617.48," ",10425.219999999999," "," "," "," "," "," "," "," "," "," "," "," "," "," "," "," "," "," "]
["A05.28.002","Магнитно-резонансная томография почек",1128.05," "," "," "," "," "," "," "," "," "," "," "," "," "," ",1437.14," "," "," "," "," "," "," "," "," "," "," "," "," "," "," "," "," "," "," "," "," ",1437.14,1991.01," "," "," "," ",1437.14," ",1557.84," "," "," "," "," "," "," "," "," "," "," "," "," "," "," "," "," "," "]
["A05.28.003","Магнитно-резонансная урография",2130.2600000000002," "," "," "," "," ",2713.95," "," "," "," "," "," "," "," ",2713.95," "," "," "," "," "," "," "," "," "," "," "," "," "," "," "," "," "," "," "," "," ",2713.95,3759.91," ",2713.95," "," ",2713.95," ",2941.89," "," "," "," "," "," "," "," "," "," "," "," "," "," "," "," "," "," "]
["A05.30.004","Магнитно-резонансная томография органов малого таза",1353.19," "," "," "," "," ",1723.96," "," "," "," "," "," "," ",1723.96,1723.96," "," "," "," "," "," "," "," "," "," "," "," "," "," "," "," "," "," "," "," "," ",1723.96,2388.38," ",1723.96," ",1723.96,1723.96," ",1868.76," "," "," "," "," "," "," "," "," "," "," "," "," "," "," "," "," "," "]
["A05.30.004 Д","Магнитно-резонансная томография органов малого таза",2010.41," "," "," "," "," ",2561.2600000000002," "," "," "," "," "," "," "," ",2561.2600000000002," "," "," "," "," "," "," "," "," "," "," "," "," "," "," "," "," "," "," "," "," ",2561.2600000000002,3548.37," ",2561.2600000000002," ",2561.2600000000002,2561.2600000000002," ",2776.38," "," "," "," "," "," "," "," "," "," "," "," "," "," "," "," "," "," "]
["A05.30.004 ДН","Магнитно-резонансная томография органов малого таза с наркозом",7406.68," "," "," "," "," ",9436.11," "," "," "," "," "," "," "," "," "," "," "," "," "," "," "," "," "," "," "," "," "," "," "," "," "," "," "," "," "," "," "," "," "," "," ",9436.11,9436.11," ",10228.629999999999," "," "," "," "," "," "," "," "," "," "," "," "," "," "," "," "," "," "]
["A05.30.004.001","Магнитно-резонансная томография органов малого таза с внутривенным контрастированием",3486.74," "," "," "," "," "," "," "," "," "," "," "," "," ",4442.1099999999997,4442.1099999999997," "," "," "," "," "," "," "," "," "," "," "," "," "," "," "," "," "," "," "," "," ",4442.1099999999997,6154.1," ",4442.1099999999997," ",4442.1099999999997,4442.1099999999997," ",4815.1899999999996," "," "," "," "," "," "," "," "," "," "," "," "," "," "," ",4442.1099999999997," "," "]
["A05.30.004.001 Д","Магнитно-резонансная томография органов малого таза с внутривенным контрастированием",4144," "," "," "," "," ",5279.46," "," "," "," "," "," "," "," ",5279.46," "," "," "," "," "," "," "," "," "," "," "," "," "," "," "," "," "," "," "," "," ",5279.46,7314.16," ",5279.46," ",5279.46,5279.46," ",5722.86," "," "," "," "," "," "," "," "," "," "," "," "," "," "," "," "," "," "]
["A05.30.004.001 ДН","Магнитно-резонансная томография орагнов малого таза с внутривенным контрастированием с наркозом",9540.25," "," "," "," "," ",12154.28," "," "," "," "," "," "," "," "," "," "," "," "," "," "," "," "," "," "," "," "," "," "," "," "," "," "," "," "," "," "," "," "," "," "," ",12154.28,12154.28," ",13175.09," "," "," "," "," "," "," "," "," "," "," "," "," "," "," "," "," "," "]
["A05.30.004.002","Магнитно-резонансная томография орагнов малого таза с динамическим контрастированием",7305.48," "," "," "," "," ",9307.18," "," "," "," "," "," "," ",9307.18,9307.18," "," "," "," "," "," "," "," "," "," "," "," "," "," "," "," "," "," "," "," "," ",9307.18,12894.17," ",9307.18," ",9307.18,9307.18," ",10088.870000000001," "," "," "," "," "," "," "," "," "," "," "," "," "," "," ",9307.18," "," "]
["A05.30.004.003","Магнитно-резонансная перфузия органов малого таза",5859.41," "," "," "," "," "," "," "," "," "," "," "," "," "," ",7464.89," "," "," "," "," "," "," "," "," "," "," "," "," "," "," "," "," "," "," "," "," ",7464.89,10341.86," ",7464.89," ",7464.89,7464.89," ",8091.85," "," "," "," "," "," "," "," "," "," "," "," "," "," "," "," "," "," "]
["A05.30.005","Магнитно-резонансная томография органов брюшной полости",1353.19," "," "," "," "," ",1723.96," "," "," "," "," "," "," ",1723.96,1723.96," "," "," "," "," "," "," "," "," "," "," "," "," "," "," "," "," "," "," "," "," ",1723.96,2388.38," ",1723.96," ",1723.96,1723.96," ",1868.76," "," "," "," "," "," "," "," "," "," "," "," "," "," "," "," "," "," "]
["A05.30.005 Д","Магнитно-резонансная томография брюшной полости",2010.41," "," "," "," "," ",2561.2600000000002," "," "," "," "," "," "," "," ",2561.2600000000002," "," "," "," "," "," "," "," "," "," "," "," "," "," "," "," "," "," "," "," "," ",2561.2600000000002,3548.37," ",2561.2600000000002," ",2561.2600000000002,2561.2600000000002," ",2776.38," "," "," "," "," "," "," "," "," "," "," "," "," "," "," "," "," "," "]
["A05.30.005 ДН","Магнитно-резонансная томография органов брюшной полости с наркозом",7406.68," "," "," "," "," ",9436.11," "," "," "," "," "," "," "," "," "," "," "," "," "," "," "," "," "," "," "," "," "," "," "," "," "," "," "," "," "," "," "," "," "," "," ",9436.11,9436.11," ",10228.629999999999," "," "," "," "," "," "," "," "," "," "," "," "," "," "," "," "," "," "]
["A05.30.005.001","Магнитно-резонансная томография органов брюшной полости с внутривенным контрастированием",3486.74," "," "," "," "," "," "," "," "," "," "," "," "," ",4442.1099999999997,4442.1099999999997," "," "," "," "," "," "," "," "," "," "," "," "," "," "," "," "," "," "," "," "," ",4442.1099999999997,6154.1," ",4442.1099999999997," ",4442.1099999999997,4442.1099999999997," ",4815.1899999999996," "," "," "," "," "," "," "," "," "," "," "," "," "," "," ",4442.1099999999997," "," "]
["A05.30.005.001 Д","Магнитно-резонансная томография органов брюшной полости с внутривенным контрастированием",4144," "," "," "," "," ",5279.46," "," "," "," "," "," "," "," ",5279.46," "," "," "," "," "," "," "," "," "," "," "," "," "," "," "," "," "," "," "," "," ",5279.46,7314.16," ",5279.46," ",5279.46,5279.46," ",5722.86," "," "," "," "," "," "," "," "," "," "," "," "," "," "," "," "," "," "]
["A05.30.005.001 ДН","Магнитно-резонансная томография органов брюшной полости с внутривенным контрастированием с наркозом",9540.25," "," "," "," "," ",12154.28," "," "," "," "," "," "," "," "," "," "," "," "," "," "," "," "," "," "," "," "," "," "," "," "," "," "," "," "," "," "," "," "," "," "," ",12154.28,12154.28," ",13175.09," "," "," "," "," "," "," "," "," "," "," "," "," "," "," "," "," "," "]
["A05.30.005.002","Магнитно-резонансная томография органов брюшной полости с внутривенным введением гепатотропного контрастного препарата",7893.2," "," "," "," "," "," "," "," "," "," "," "," "," "," ",10055.94," "," "," "," "," "," "," "," "," "," "," "," "," "," "," "," "," "," "," "," "," ",10055.94,13931.5," ",10055.94," ",10055.94,10055.94," ",10900.51," "," "," "," "," "," "," "," "," "," "," "," "," "," "," ",10055.94," "," "]
["A05.30.005.003","Магнитно-резонансная томография органов брюшной полости с динамическим контрастированием",7305.48," "," "," "," "," ",9307.18," "," "," "," "," "," "," ",9307.18,9307.18," "," "," "," "," "," "," "," "," "," "," "," "," "," "," "," "," "," "," "," "," ",9307.18,12894.17," ",9307.18," ",9307.18,9307.18," ",10088.870000000001," "," "," "," "," "," "," "," "," "," "," "," "," "," "," ",9307.18," "," "]
["A05.30.005.004","Магнитно-резонансная перфузия органов брюшной полости",5811.38," "," "," "," "," "," "," "," "," "," "," "," "," "," ",7403.7," "," "," "," "," "," "," "," "," "," "," "," "," "," "," "," "," "," "," "," "," ",7403.7,10257.09," ",7403.7," ",7403.7,7403.7," ",8025.52," "," "," "," "," "," "," "," "," "," "," "," "," "," "," "," "," "," "]
["A05.30.006 Д","Магнитно-резонансная томография органов грудной клетки",2367.35," "," "," "," "," ",3016," "," "," "," "," "," "," "," ",3016," "," "," "," "," "," "," "," "," "," "," "," "," "," "," "," "," "," "," "," "," ",3016,4178.37," ",3016," "," ",3016," ",3269.31," "," "," "," "," "," "," "," "," "," "," "," "," "," "," "," "," "," "]
["A05.30.006 ДН","Магнитно-резонансная томография органов грудной клетки с наркозом",7763.61," "," "," "," "," ",9890.84," "," "," "," "," "," "," "," "," "," "," "," "," "," "," "," "," "," "," "," "," "," "," "," "," "," "," "," "," "," "," "," "," "," "," "," ",9890.84," ",10721.55," "," "," "," "," "," "," "," "," "," "," "," "," "," "," "," "," "," "]
["A05.30.006.001","Магнитно-резонансная томография органов грудной клетки с внутривенным контрастированием",3486.74," "," "," "," "," "," "," "," "," "," "," "," "," "," ",4442.1099999999997," "," "," "," "," "," "," "," "," "," "," "," "," "," "," "," "," "," "," "," "," ",4442.1099999999997,6154.1," ",4442.1099999999997," "," ",4442.1099999999997," ",4815.1899999999996," "," "," "," "," "," "," "," "," "," "," "," "," "," "," "," "," "," "]
["A05.30.006.001 Д","Магнитно-резонансная томография органов грудной клетки с внутривенным контрастированием",4568.7," "," "," "," "," "," "," "," "," "," "," "," "," "," ",5820.52," "," "," "," "," "," "," "," "," "," "," "," "," "," "," "," "," "," "," "," "," ",5820.52,8063.76," ",5820.52," "," ",5820.52," ",6309.37," "," "," "," "," "," "," "," "," "," "," "," "," "," "," "," "," "," "]
["A05.30.006.001 ДН","Магнитно-резонансная томография органов грудной клетки с внутривенным контрастированием с наркозом",9964.9599999999991," "," "," "," "," ",12695.36," "," "," "," "," "," "," "," "," "," "," "," "," "," "," "," "," "," "," "," "," "," "," "," "," "," "," "," "," "," "," "," "," "," "," "," ",12695.36," ",13761.61," "," "," "," "," "," "," "," "," "," "," "," "," "," "," "," "," "," "]
["A05.30.006.002","Магнитно-резонансная томография органов грудной клеткис внутривенным динамическим болюсным контрастированием",6975.75," "," "," "," "," ",8887.11," "," "," "," "," "," "," "," ",8887.11," "," "," "," "," "," "," "," "," "," "," "," "," "," "," "," "," "," "," "," "," ",8887.11,12312.2," ",8887.11," "," ",8887.11," ",9633.51," "," "," "," "," "," "," "," "," "," "," "," "," "," "," "," "," "," "]
["A05.30.006.002 Д","Магнитно-резонансная томография органов грудной клеткис внутривенным динамическим болюсным контрастированием",7549.04," "," "," "," "," ",9617.48," "," "," "," "," "," "," "," ",9617.48," "," "," "," "," "," "," "," "," "," "," "," "," "," "," "," "," "," "," "," "," ",9617.48,13324.06," ",9617.48," "," ",9617.48," ",10425.219999999999," "," "," "," "," "," "," "," "," "," "," "," "," "," "," "," "," "," "]
["A05.30.006.003","Магнитно-резонансная перфузия органов грудной клетки",5811.38," "," "," "," "," "," "," "," "," "," "," "," "," "," ",7403.7," "," "," "," "," "," "," "," "," "," "," "," "," "," "," "," "," "," "," "," "," "," ",10257.09," ",7403.7," "," ",7403.7," ",8025.52," "," "," "," "," "," "," "," "," "," "," "," "," "," "," "," "," "," "]
["A05.30.007","Магнитно-резонансная томография забрюшинного пространства",1353.19," "," "," "," "," ",1723.96," "," "," "," "," "," "," ",1723.96,1723.96," "," "," "," "," "," "," "," "," "," "," "," "," "," "," "," "," "," "," "," "," ",1723.96,2388.38," ",1723.96," ",1723.96,1723.96," ",1868.76," "," "," "," "," "," "," "," "," "," "," "," "," "," "," "," "," "," "]
["A05.30.007 Д","Магнитно-резонансная томография забрюшинного пространства",2010.41," "," "," "," "," ",2561.2600000000002," "," "," "," "," "," "," "," ",2561.2600000000002," "," "," "," "," "," "," "," "," "," "," "," "," "," "," "," "," "," "," "," "," ",2561.2600000000002,3548.37," ",2561.2600000000002," ",2561.2600000000002,2561.2600000000002," ",2776.38," "," "," "," "," "," "," "," "," "," "," "," "," "," "," "," "," "," "]
["A05.30.007 ДН","Магнитно-резонансная томография забрюшинного пространства с наркозом",7406.68," "," "," "," "," ",9436.11," "," "," "," "," "," "," "," "," "," "," "," "," "," "," "," "," "," "," "," "," "," "," "," "," "," "," "," "," "," "," "," "," "," "," ",9436.11,9436.11," ",10228.629999999999," "," "," "," "," "," "," "," "," "," "," "," "," "," "," "," "," "," "]
["A05.30.007.001","Магнитно-резонансная томография забрюшинного пространства с внутривенным контрастированием",3486.74," "," "," "," "," "," "," "," "," "," "," "," "," ",4442.1099999999997,4442.1099999999997," "," "," "," "," "," "," "," "," "," "," "," "," "," "," "," "," "," "," "," "," ",4442.1099999999997,6154.1," ",4442.1099999999997," ",4442.1099999999997,4442.1099999999997," ",4815.1899999999996," "," "," "," "," "," "," "," "," "," "," "," "," "," "," ",4442.1099999999997," "," "]
["A05.30.007.001 Д","Магнитно-резонансная томография забрюшинного пространства с внутривенным контрастированием",4144," "," "," "," "," ",5279.46," "," "," "," "," "," "," "," ",5279.46," "," "," "," "," "," "," "," "," "," "," "," "," "," "," "," "," "," "," "," "," ",5279.46,7314.16," ",5279.46," ",5279.46,5279.46," ",5722.86," "," "," "," "," "," "," "," "," "," "," "," "," "," "," "," "," "," "]
["A05.30.007.001 ДН","Магнитно-резонансная томография забрюшинного пространства с внутривенным контрастированием с наркозом",9540.25," "," "," "," "," ",12154.28," "," "," "," "," "," "," "," "," "," "," "," "," "," "," "," "," "," "," "," "," "," "," "," "," "," "," "," "," "," "," "," "," "," "," ",12154.28,12154.28," ",13175.09," "," "," "," "," "," "," "," "," "," "," "," "," "," "," "," "," "," "]
["A05.30.007.002","Магнитно-резонансная томография забрюшинного пространства с динамическим контрастированием",7305.48," "," "," "," "," ",9307.18," "," "," "," "," "," "," "," ",9307.18," "," "," "," "," "," "," "," "," "," "," "," "," "," "," "," "," "," "," "," "," ",9307.18,12894.17," ",9307.18," ",9307.18,9307.18," ",10088.870000000001," "," "," "," "," "," "," "," "," "," "," "," "," "," "," ",9307.18," "," "]
["A05.30.008.001","Магнитно-резонансная томография шеи с внутривенным контрастированием",3473.4," "," "," "," "," "," "," "," "," "," "," "," "," "," ",4425.1099999999997," "," "," "," "," "," "," "," "," "," "," "," "," "," "," "," "," "," "," "," "," ",4425.1099999999997,6130.55," ",4425.1099999999997," ",4425.1099999999997,4425.1099999999997," ",4796.7700000000004," "," "," "," "," "," "," "," "," "," "," "," "," "," "," ",4425.1099999999997," "," "]
["A05.30.009","Топометрия магнитно-резонансно-томографическая",1932.14," "," "," "," "," "," "," "," "," "," "," "," "," "," ",2461.5500000000002," "," "," "," "," "," "," "," "," "," "," "," "," "," "," "," "," "," "," "," "," "," ",3410.23," ",2461.5500000000002," "," ",2461.5500000000002," ",2668.29," "," "," "," "," "," "," "," "," "," "," "," "," "," "," "," "," "," "]
["A05.30.015.001","Магнитно-резонансная томография всего тела на скрининг объемных и очаговых изменений (голова, грудная клетка, брюшная полость и малый таз)",3747.75," "," "," "," "," "," "," "," "," "," "," "," "," "," ",4774.63," "," "," "," "," "," "," "," "," "," "," "," "," "," "," "," "," "," "," "," "," ",4774.63,6614.78," "," "," "," "," "," ",5175.6400000000003," "," "," "," "," "," "," "," "," "," "," "," "," "," "," "," "," "," "]
["A05.30.015.001 Д","Магнитно-резонансная томография всего тела на скрининг объемных и очаговых изменений (голова, грудная клетка, брюшная полость и малый таз)",4574.76," "," "," "," "," "," "," "," "," "," "," "," "," "," ",5828.24," "," "," "," "," "," "," "," "," "," "," "," "," "," "," "," "," "," "," "," "," ",5828.24,8074.45," "," "," "," "," "," ",6317.74," "," "," "," "," "," "," "," "," "," "," "," "," "," "," "," "," "," "]
["06","Рентгенологические исследования с их последующим описанием и рентгенотерапия",null," "," "," "," "," "," "," "," "," "," "," "," "," "," "," "," "," "," "," "," "," "," "," "," "," "," "," "," "," "," "," "," "," "," "," "," "," "," "," "," "," "," "," "," "," "," "," "," "," "," "," "," "," "," "," "," "," "," "," "," "," "," "," "]
["A06.01.001","Компьютерная томография мягких тканей",501.17," "," ",638.49," "," "," "," "," "," "," "," ",638.49," ",638.49,638.49," "," "," "," "," ",898.6," "," ",622.45000000000005," "," "," "," "," "," "," "," "," "," "," "," "," ",884.57," "," "," ",638.49," "," ",692.12," "," "," "," "," "," "," ",638.49," "," "," "," "," "," "," "," "," "," "]
["A06.01.001 Д","Компьютерная томография мягких тканей",1100.2," "," ",1401.65," "," "," "," "," "," "," "," ",1401.65," "," ",1401.65," "," "," "," "," "," "," "," "," "," "," "," "," "," "," "," "," "," "," "," "," "," ",1941.85," "," "," ",1401.65," "," ",1519.38," "," "," "," "," "," "," ",1401.65," "," "," "," "," "," "," "," "," "," "]
["A06.01.001 ДН","Компьютерная томография мягких тканей с наркозом",6496.46," "," "," "," "," "," "," "," "," "," "," "," "," "," "," "," "," "," "," "," "," "," "," "," "," "," "," "," "," "," "," "," "," "," "," "," "," "," "," "," "," "," ",8276.49," ",8971.61," "," "," "," "," "," "," "," "," "," "," "," "," "," "," "," "," "," "]
["A06.01.001.001","Спиральная компьютерная томография мягких тканей с введением контрастного вещества",3405.74," "," ",4338.91," "," "," "," "," "," "," "," ",4338.91," ",4338.91,4338.91,4338.91," "," "," "," ",6106.49," "," "," ",4325.29," "," "," "," "," "," "," "," "," "," "," "," ",6011.13," "," "," ",4338.91,4338.91," ",4703.33," "," "," "," "," "," "," ",4338.91," "," "," "," "," "," "," "," "," "," "]
["A06.01.001.001 Д","Спиральная компьютерная томография мягких тканей с введением контрастного вещества",3692.43," ",4704.16,4704.16," "," "," "," "," "," "," "," ",4704.16," "," "," ",4704.16," "," "," "," "," "," "," "," "," "," "," "," "," "," "," "," "," "," "," "," "," ",6517.14," "," "," ",4704.16,4704.16," ",5099.25," "," "," "," "," "," "," ",4704.16," "," "," "," "," "," "," "," "," "," "]
["A06.01.001.001 ДН","Спиральная компьютерная томография мягких тканей с введением контрастоного вещества с наркозом",9088.69," ",11578.99," "," "," "," "," "," "," "," "," "," "," "," ",11578.99," "," "," "," "," "," "," "," "," "," "," "," "," "," "," "," "," "," "," "," "," "," "," "," "," "," "," ",11578.99," ",12551.48," "," "," "," "," "," "," "," "," "," "," "," "," "," "," "," "," "," "]
["A06.01.001.002","Спиральная компьютерная томография мягких тканей с введением болюсного контрастного вещества",4412.43," "," ",5621.44," "," "," "," "," "," "," "," ",5621.44," "," ",5621.44," "," "," "," "," "," "," "," "," "," "," "," "," "," "," "," "," "," "," "," "," ",5621.44,7787.94," "," "," ",5621.44,5621.44," ",6093.57," "," "," "," "," "," "," ",5621.44," "," "," "," "," "," "," ",5621.44," "," "]
["A06.01.001.002 Д","Спиральная компьютерная томография мягких тканей с введением болюсного контрастного вещества",4605.57," "," ",5867.5," "," "," "," "," "," "," "," ",5867.5," "," ",5867.5," "," "," "," "," "," "," "," "," "," "," "," "," "," "," "," "," "," "," "," "," ",5867.5,8128.83," "," "," ",5867.5,5867.5," ",6360.29," "," "," "," "," "," "," ",5867.5," "," "," "," "," "," "," "," "," "," "]
["A06.01.001.003","Спиральная компьютерная томография мягких тканей",1257.7," "," ",1602.31,1602.31," "," "," "," "," "," "," ",1602.31," ",1602.31,1602.31," "," "," "," "," ",2255.06,2050.0500000000002," "," "," "," "," "," "," "," "," "," "," "," "," "," ",1602.31,2219.84," "," "," ",1602.31,1602.31," ",1736.88," "," "," "," "," "," "," ",1602.31," "," "," "," "," "," "," "," "," "," "]
["A06.01.001.003 Д","Спиральная компьютерная томография мягких тканей",1428.88," ",1820.39,1820.39," "," "," "," "," "," "," "," ",1820.39," "," ",1820.39," "," "," "," "," "," "," "," "," "," "," "," "," "," "," "," "," "," "," "," "," ",1820.39,2521.9699999999998," "," "," ",1820.39,1820.39," ",1973.28," "," "," "," "," "," "," ",1820.39," "," "," "," "," "," "," "," "," "," "]
["A06.01.001.003 ДН","Спиральная компьютерная томография мягких тканей с наркозом",6825.14," ",8695.23," "," "," "," "," "," "," "," "," "," "," "," "," "," "," "," "," "," "," "," "," "," "," "," "," "," "," "," "," "," "," "," "," "," "," "," "," "," "," "," ",8695.23," "," "," "," "," "," "," "," "," "," "," "," "," "," "," "," "," "," "," "," "]
["A06.03.002","Компьютерная томография лицевого отдела черепа",1028.99," "," ",1310.93," "," "," "," "," "," "," "," "," "," ",1310.93,1310.93," "," "," "," "," ",1844.98," "," "," "," "," "," "," "," "," "," "," "," "," "," "," "," ",1816.17," "," "," ",1310.93," "," ",1421.04," "," "," "," "," "," "," ",1310.93," "," "," "," "," "," "," "," "," "," "]
["A06.03.002.001","Компьютерная томография головы с контрастированием",2796.42," "," ",3562.64," "," "," "," "," "," "," "," ",3562.64," ",3562.64,3562.64," "," "," "," "," ",5013.9799999999996," "," "," "," "," "," "," "," "," "," "," "," "," "," "," "," ",4935.68," "," "," ",3562.64,3562.64," ",3861.86," "," "," "," "," "," "," ",3562.64," "," "," "," "," "," "," "," "," "," "]
["A06.03.002.001 Д","Компьютерная томография головы с контрастированием",3191.76," "," "," "," "," "," "," "," "," "," "," ",4066.3," "," ",4066.3," "," "," "," "," "," "," "," "," "," "," "," "," "," "," "," "," "," "," "," "," "," ",5633.46," "," "," ",4066.3," "," ",4407.82," "," "," "," "," "," "," ",4066.3," "," "," "," "," "," "," "," "," "," "]
["A06.03.002.001 ДН","Компьютерная томография головы с контрастированием с наркозом",8588.01," "," "," "," "," "," "," "," "," "," "," "," "," "," "," "," "," "," "," "," "," "," "," "," "," "," "," "," "," "," "," "," "," "," "," "," "," "," "," "," "," "," ",10941.12," ",11860.04," "," "," "," "," "," "," "," "," "," "," "," "," "," "," "," "," "," "]
["A06.03.002.003","Спиральная компьютерная томография головы",1544.73," "," ",1967.99,1967.99," "," "," "," "," "," "," ",1967.99," ",1967.99,1967.99," "," "," "," "," ",2769.7,2517.91,2726.45,1918.55,1961.81," "," "," "," "," "," "," "," "," "," "," ",1967.99,2726.45," "," "," ",1967.99,1967.99," ",2133.27," "," "," "," "," "," "," ",1967.99," "," "," "," "," "," "," ",1967.99,2133.27," "]
["A06.03.002.003 Д","Спиральная компьютерная томография головы",1200.19," ",1529.04," "," "," "," "," "," "," "," "," ",1529.04," ",1529.04,1529.04," "," "," "," "," "," "," ",2118.34," "," "," "," "," "," "," "," "," "," "," "," "," ",1529.04,2118.34," "," "," ",1529.04,1529.04," ",1657.46," "," "," "," "," "," "," ",1529.04," "," "," "," "," "," "," ",1529.04," "," "]
["A06.03.002.003 ДН","Спиральная компьютерная томография головы с наркозом",6596.44," ",8403.86," "," "," "," "," "," "," "," "," "," "," "," "," "," "," "," "," "," "," "," "," "," "," "," "," "," "," "," "," "," "," "," "," "," "," "," "," "," "," "," ",8403.86," ",9109.68," "," "," "," "," "," "," "," "," "," "," "," "," "," "," "," "," "," "]
["A06.03.002.005","Компьютерная томография лицевого отдела черепа с внутривенным болюсным контрастированием",3385.19," "," ",4312.7299999999996," "," "," "," "," "," "," "," ",4312.7299999999996," "," ",4312.7299999999996," "," "," "," "," "," "," "," ",4204.41," "," "," "," "," "," "," "," "," "," "," "," "," ",5974.86," "," "," ",4312.7299999999996,4312.7299999999996," ",4674.95," "," "," "," "," "," "," ",4312.7299999999996," "," "," "," "," "," "," "," ",4674.95," "]
["A06.03.002.006","Компьютерная томография лицевого отдела черепа с внутривенным болюсным контрастированием, мультипланарной и трехмерной реконструкцией",3385.19," "," ",4312.7299999999996," "," "," "," "," "," "," "," ",4312.7299999999996," "," ",4312.7299999999996," "," "," "," "," "," "," "," "," "," "," "," "," "," "," "," "," "," "," "," "," "," ",5974.86," "," "," ",4312.7299999999996,4312.7299999999996," ",4674.95," "," "," "," "," "," "," ",4312.7299999999996," "," "," "," "," "," "," "," "," "," "]
["A06.03.002.007","Компьютерная томография лицевого отдела черепа с введением контрастного вещества",2883.94," "," ",3674.14," "," "," "," "," "," "," "," ",3674.14," "," ",3674.14," "," "," "," "," "," "," "," ",3581.85," "," "," "," "," "," "," "," "," "," "," "," "," ",5090.1499999999996," "," "," ",3674.14,3674.14," ",3982.72," "," "," "," "," "," "," ",3674.14," "," "," "," "," "," "," "," "," "," "]
["A06.03.002.008","Компьютерная томография лицевого отдела черепа с болюсным введением контрастного вещества",4143.1899999999996," "," ",5278.42," "," "," "," "," "," "," "," ",5278.42," "," ",5278.42," "," "," "," "," "," "," "," "," "," "," "," "," "," "," "," "," "," "," "," "," "," ",7312.73," "," "," ",5278.42,5278.42," ",5721.75," "," "," "," "," "," "," ",5278.42," "," "," "," "," "," "," "," "," "," "]
["A06.03.002.009","Спиральная компьютерная томография головы с введением контрастного вещества",2883.94," "," ",3674.14," "," "," "," "," "," "," "," ",3674.14," ",3674.14,3674.14," "," "," "," "," ",5170.8999999999996," "," "," ",3662.6," "," "," "," "," "," "," "," "," "," "," "," ",5090.1499999999996," "," "," ",3674.14,3674.14," ",3982.72," "," "," "," "," "," "," ",3674.14," "," "," "," "," "," "," "," "," "," "]
["A06.03.002.009 Д","Спиральная компьютерная томография головы с введением контрастного вещества",3293.97," ",4196.5200000000004," "," "," "," "," "," "," "," "," ",4196.5200000000004," "," ",4196.5200000000004," "," "," "," "," "," "," "," "," "," "," "," "," "," "," "," "," "," "," "," "," "," ",5813.86," "," "," ",4196.5200000000004,4196.5200000000004," ",4548.97," "," "," "," "," "," "," "," "," "," "," "," "," "," "," "," "," "," "]
["A06.03.002.009 ДН","Спиральная компьютерная томография головы с введением контрастного вещества с наркозом",8690.2199999999993," ",11071.34," "," "," "," "," "," "," "," "," "," "," "," "," "," "," "," "," "," "," "," "," "," "," "," "," "," "," "," "," "," "," "," "," "," "," "," "," "," "," "," ",11071.34," "," "," "," "," "," "," "," "," "," "," "," "," "," "," "," "," "," "," "," "]
["A06.03.002.010","Спиральная компьютерная томография головы с введением болюсного контрастного вещества",4143.1899999999996," "," ",5278.42," "," "," "," "," "," "," "," ",5278.42," ",5278.42,5278.42," "," "," "," "," ",7428.74," ",7312.73," "," "," "," "," "," "," "," "," "," "," "," "," ",5278.42,7312.73," "," "," ",5278.42,5278.42," ",5721.75," "," "," "," "," "," "," ",5278.42," "," "," "," "," "," "," ",5278.42,5721.75," "]
["A06.03.002.010 Д","Спиральная компьютерная томография головы с введением болюсного контрастного вещества",4275.3599999999997," "," "," "," "," "," "," "," "," "," "," ",5446.81," "," ",5446.81," "," "," "," "," "," "," ",7546.01," "," "," "," "," "," "," "," "," "," "," "," "," ",5446.81,7546.01," "," "," ",5446.81,5446.81," ",5904.27," "," "," "," "," "," "," "," "," "," "," "," "," "," "," "," "," "," "]
["A06.03.002.011","Компьютерная томография головы",437.57," "," ",557.46," "," "," "," "," "," "," "," "," "," "," ",557.46," "," "," "," "," ",784.56," "," "," "," "," "," "," "," "," "," "," "," "," "," "," "," ",772.31," "," "," ",557.46," "," ",604.28," "," "," "," "," "," "," ",557.46," "," "," "," "," "," "," "," "," "," "]
["A06.03.002.011 Д","Компьютерная томография головы",799.15," "," "," "," "," "," "," "," "," "," "," "," "," "," ",1018.12," "," "," "," "," "," "," "," "," "," "," "," "," "," "," "," "," "," "," "," "," "," ",1410.5," "," "," ",1018.12," "," ",1103.6300000000001," "," "," "," "," "," "," ",1018.12," "," "," "," "," "," "," "," "," "," "]
["A06.03.002.011 ДН","Компьютерная томография головы с наркозом",6195.41," "," "," "," "," "," "," "," "," "," "," "," "," "," "," "," "," "," "," "," "," "," "," "," "," "," "," "," "," "," "," "," "," "," "," "," "," "," "," "," "," "," ",7892.95," ",8555.86," "," "," "," "," "," "," "," "," "," "," "," "," "," "," "," "," "," "]
["A06.03.012","Компьютерная томография шеи",434.36," "," ",553.37," "," "," "," "," "," "," "," "," "," "," ",553.37," "," "," "," "," ",778.81," "," "," "," "," "," "," "," "," "," "," "," "," "," "," "," ",766.65," "," "," ",553.37," "," "," "," "," "," "," "," "," "," "," "," "," "," "," "," "," "," "," "," "," "]
["A06.03.012 Д","Компьютерная томография шеи",761.1," "," "," "," "," "," "," "," "," "," "," "," "," "," ",969.64," "," "," "," "," "," "," "," "," "," "," "," "," "," "," "," "," "," "," "," "," "," ",1343.34," "," "," ",969.64," "," ",1051.08," "," "," "," "," "," "," "," "," "," "," "," "," "," "," "," "," "," "]
["A06.03.012 ДН","Компьютерная томография шеи с наркозом",6157.36," "," "," "," "," "," "," "," "," "," "," "," "," "," "," "," "," "," "," "," "," "," "," "," "," "," "," "," "," "," "," "," "," "," "," "," "," "," "," "," "," "," ",7844.48," ",8503.31," "," "," "," "," "," "," "," "," "," "," "," "," "," "," "," "," "," "]
["A06.03.012.001","Спиральная компьютерная томография шеи с введением контрастного вещества",3405.74," "," ",4338.91," "," "," "," "," "," "," "," ",4338.91," "," ",4338.91," "," "," "," "," "," "," "," "," ",4325.29," "," "," "," "," "," "," "," "," "," "," "," ",6011.13," "," "," ",4338.91,4338.91," ",4703.33," "," "," "," "," "," "," ",4338.91," "," "," "," "," "," "," "," "," "," "]
["A06.03.012.001 Д","Спиральная компьютерная томография шеи с введением контрастного вещества",3692.43," "," "," "," "," "," "," "," "," "," "," ",4704.16," "," ",4704.16," "," "," "," "," "," "," "," "," "," "," "," "," "," "," "," "," "," "," "," "," "," ",6517.14," "," "," ",4704.16,4704.16," ",5099.25," "," "," "," "," "," "," "," "," "," "," "," "," "," "," "," "," "," "]
["A06.03.012.001 ДН","Спиральная компьютерная томография шеи с введением контрастного вещества с наркозом",9088.69," "," "," "," "," "," "," "," "," "," "," "," "," "," "," "," "," "," "," "," "," "," "," "," "," "," "," "," "," "," "," "," "," "," "," "," "," "," "," "," "," "," ",11578.99," "," "," "," "," "," "," "," "," "," "," "," "," "," "," "," "," "," "," "," "]
["A06.03.012.002","Спиральная компьютерная томография шеи с введением болюсного контрастного вещества",4412.43," "," ",5621.44," "," "," "," "," "," "," "," ",5621.44," ",5621.44,5621.44,5621.44," "," "," "," ",7911.49," "," "," ",5603.79," "," "," "," "," "," "," "," "," "," "," ",5621.44,7787.94," "," "," ",5621.44,5621.44," ",6093.57," "," "," "," "," "," "," ",5621.44," "," "," "," "," "," "," ",5621.44,6093.57," "]
["A06.03.012.002 Д","Спиральная компьютерная томография шеи с введением болюсного контрастного вещества",4605.57," "," "," "," "," "," "," "," "," "," "," ",5867.5," "," ",5867.5,5867.5," "," "," "," "," "," "," "," "," "," "," "," "," "," "," "," "," "," "," "," ",5867.5,8128.83," "," "," ",5867.5,5867.5," ",6360.29," "," "," "," "," "," "," ",5867.5," "," "," "," "," "," "," "," "," "," "]
["A06.03.012.003","Спиральная компьютерная томография шеи",1236.43," "," ",1575.21,1575.21," "," "," "," "," "," "," ",1575.21," ",1575.21,1575.21,1575.21," "," "," "," ",2216.92,2015.38," "," "," "," "," "," "," "," "," "," "," "," "," "," ",1575.21,2182.3000000000002," "," "," ",1575.21,1575.21," ",1707.51," "," "," "," "," "," "," ",1575.21," "," "," "," "," "," "," "," ",1707.51," "]
["A06.03.012.003 Д","Спиральная компьютерная томография шеи",1428.88," ",1820.39," "," "," "," "," "," "," "," "," "," "," "," ",1820.39,1820.39," "," "," "," "," "," "," "," "," "," "," "," "," "," "," "," "," "," "," "," ",1820.39,2521.9699999999998," "," "," ",1820.39,1820.39," ",1973.28," "," "," "," "," "," "," ",1820.39," "," "," "," "," "," "," "," "," "," "]
["A06.03.021.003","Компьютерная томография верхней конечности с внутривенным болюсным контрастированием, мультипланарной и трехмерной реконструкцией",2796.42," "," ",3562.64," "," "," "," "," "," "," "," ",3562.64," ",3562.64,3562.64," "," "," "," "," "," "," "," "," "," "," "," "," "," "," "," "," "," "," "," "," "," ",4935.68," "," "," ",3562.64,3562.64," ",3861.86," "," "," "," "," "," "," ",3562.64," "," "," "," "," "," "," "," ",3861.86," "]
["A06.03.021.003 Д","Компьютерная томография верхней конечности с внутривенным болюсным контрастированием, мультипланарной и трехмерной реконструкцией",3191.76," "," "," "," "," "," "," "," "," "," "," ",4066.3," "," ",4066.3," "," "," "," "," "," "," "," "," "," "," "," "," "," "," "," "," "," "," "," "," "," ",5633.46," "," "," ",4066.3,4066.3," ",4407.82," "," "," "," "," "," "," ",4066.3," "," "," "," "," "," "," "," "," "," "]
["A06.03.021.003 ДН","Компьютерная томография верхней конечности с внутривенным болюсным контрастированием, мультипланарной и трехмерной реконструкцией с наркозом",8588.01," "," "," "," "," "," "," "," "," "," "," "," "," "," "," "," "," "," "," "," "," "," "," "," "," "," "," "," "," "," "," "," "," "," "," "," "," "," "," "," "," "," ",10941.12," ",11860.04," "," "," "," "," "," "," "," "," "," "," "," "," "," "," "," "," "," "]
["A06.03.036.002","Компьютерная томография нижней конечности с внутривенным болюсным контрастированием",2796.42," "," ",3562.64," "," "," "," "," "," "," "," ",3562.64," ",3562.64,3562.64," "," "," "," "," ",5013.9799999999996," ",4935.68,3473.15," "," "," "," "," "," "," "," "," "," "," "," "," ",4935.68," "," "," ",3562.64,3562.64," ",3861.86," "," "," "," "," "," "," ",3562.64," "," "," "," "," "," "," "," "," "," "]
["A06.03.036.002 Д","Компьютерная томография нижней конечности с внутривенным болюсным контрастированием",3191.76," "," "," "," "," "," "," "," "," "," "," ",4066.3," "," ",4066.3," "," "," "," "," "," "," "," "," "," "," "," "," "," "," "," "," "," "," "," "," "," ",5633.46," "," "," ",4066.3,4066.3," ",4407.82," "," "," "," "," "," "," ",4066.3," "," "," "," "," "," "," "," "," "," "]
["A06.03.036.002 ДН","Компьютерная томография нижней конечности с внутривенным болюсным контрастированием с наркозом",8588.01," "," "," "," "," "," "," "," "," "," "," "," "," "," "," "," "," "," "," "," "," "," "," "," "," "," "," "," "," "," "," "," "," "," "," "," "," "," "," "," "," "," ",10941.12," ",11860.04," "," "," "," "," "," "," "," "," "," "," "," "," "," "," "," "," "," "]
["A06.03.058","Компьютерная томография позвоночника (один отдел)",637.03," "," ",811.58," "," "," "," "," "," "," "," ",811.58," "," ",811.58," "," "," "," "," ",1142.19," "," ",791.19," "," "," "," "," "," "," "," "," "," "," "," "," ",1124.3599999999999," "," "," ",811.58," "," "," "," "," "," "," "," "," "," "," "," "," "," "," "," "," "," "," "," "," "]
["A06.03.058 Д","Компьютерная томография позвоночника (один отдел)",829.47," "," "," "," "," "," "," "," "," "," "," ",1056.74," "," ",1056.74," "," "," "," "," "," "," "," "," "," "," "," "," "," "," "," "," "," "," "," "," "," ",1464.01," "," "," ",1056.74," "," "," "," "," "," "," "," "," "," "," "," "," "," "," "," "," "," "," "," "," "]
["A06.03.058.001","Компьютерная томография позвоночника с мультипланарной и трехмерной реконструкцией",1286.83," "," ",1639.42," "," "," "," "," "," "," "," ",1639.42," "," ",1639.42," "," "," "," "," "," "," "," "," ",1634.27," "," "," "," "," "," "," "," "," "," "," "," ",2271.25," "," "," ",1639.42," "," ",1777.11," "," "," "," "," "," "," ",1639.42," "," "," "," "," "," "," "," "," "," "]
["A06.03.058.002","Спиральная компьютерная томография позвоночника",1286.83," "," ",1639.42,1639.42," "," "," "," "," "," "," ",1639.42," ",1639.42,1639.42," "," "," "," "," ",2307.29,2097.5300000000002,2271.25," "," "," "," "," "," "," "," "," "," "," "," "," ",1639.42,2271.25," "," "," ",1639.42,1639.42," ",1777.11," "," "," "," "," "," "," ",1639.42," "," "," "," "," "," "," ",1639.42," "," "]
["A06.03.058.003","Компьютерная томография позвоночника с внутривенным контрастированием (один отдел)",3405.74," "," ",4338.91," "," "," "," "," "," "," "," ",4338.91," "," ",4338.91," "," "," "," "," "," "," "," "," ",4325.29," "," "," "," "," "," "," "," "," "," "," "," ",6011.13," "," "," ",4338.91,4338.91," ",4703.33," "," "," "," "," "," "," ",4338.91," "," "," "," "," "," "," "," "," "," "]
["A06.03.058.003 Д","Компьютерная томография позвоночника с внутривенным контрастированием (один отдел)",3692.43," "," "," "," "," "," "," "," "," "," "," ",4704.16," "," ",4704.16," "," "," "," "," "," "," "," "," "," "," "," "," "," "," "," "," "," "," "," "," "," ",6517.14," "," "," ",4704.16,4704.16," ",5099.25," "," "," "," "," "," "," ",4704.16," "," "," "," "," "," "," "," "," "," "]
["A06.03.058.004","Компьютерная томография позвоночника (один отдел) с болюсным введением контрастного вещества",4412.43," "," ",5621.44," "," "," "," "," "," "," "," ",5621.44," "," ",5621.44," "," "," "," "," "," "," "," ",5480.24,5603.79," "," "," "," "," "," "," "," "," "," "," "," ",7787.94," "," "," ",5621.44,5621.44," ",6093.57," "," "," "," "," "," "," ",5621.44," "," "," "," "," "," "," "," ",6093.57," "]
["A06.03.058.004 Д","Компьютерная томография позвоночника (один отдел) с болюсным введением контрастного вещества",4605.57," "," "," "," "," "," "," "," "," "," "," ",5867.5," "," ",5867.5," "," "," "," "," "," "," "," "," "," "," "," "," "," "," "," "," "," "," "," "," "," ",8128.83," "," "," ",5867.5,5867.5," ",6360.29," "," "," "," "," "," "," ",5867.5," "," "," "," "," "," "," "," "," "," "]
["A06.03.058.005","Спиральная компьютерная томография позвоночника (один отдел)",1236.43," "," ",1575.21,1575.21," "," "," "," "," "," "," ",1575.21," ",1575.21,1575.21,1575.21," "," "," "," ",2216.92,2015.38,2182.3000000000002," ",1570.27," "," "," "," "," "," "," "," "," "," "," ",1575.21,2182.3000000000002," "," "," ",1575.21,1575.21," ",1707.51," "," "," "," "," "," "," ",1575.21," "," "," "," "," "," "," "," ",1707.51," "]
["A06.03.058.005 Д","Спиральная компьютерная томография позвоночника (один отдел)",1428.88," ",1820.39," "," "," "," "," "," "," "," "," ",1820.39," "," ",1820.39,1820.39," "," "," "," "," "," ",2521.9699999999998," "," "," "," "," "," "," "," "," "," "," "," "," ",1820.39,2521.9699999999998," "," "," ",1820.39,1820.39," ",1973.28," "," "," "," "," "," "," ",1820.39," "," "," "," "," "," "," "," "," "," "]
["A06.03.058.005 ДН","Спиральная компьютерная томография позвоночника (один отдел) с наркозом",6825.14," ",8695.23," "," "," "," "," "," "," "," "," "," "," "," "," "," "," "," "," "," "," "," "," "," "," "," "," "," "," "," "," "," "," "," "," "," "," "," "," "," "," "," ",8695.23," ",9425.52," "," "," "," "," "," "," "," "," "," "," "," "," "," "," "," "," "," "]
["A06.03.058.006 ","Спиральная компьютерная томография позвоночника (один отдел) с введением контрастного вещества",2288.08," "," "," "," "," "," "," "," "," "," "," "," "," "," "," "," "," "," "," "," "," "," "," "," "," "," "," "," "," "," "," "," "," "," "," "," "," "," "," "," "," ",2915.01," "," "," "," "," "," "," "," "," "," "," "," "," "," "," "," "," "," "," "," "," "]
["A06.03.058.006 Д","Спиральная компьютерная томография позвоночника (один отдел) с введением контрастного вещества",2631.3," ",3352.28," "," "," "," "," "," "," "," "," ",3352.28," "," ",3352.28," "," "," "," "," "," "," "," "," "," "," "," "," "," "," "," "," "," "," "," "," ",3352.28,4644.24," "," "," ",3352.28," "," ",3633.83," "," "," "," "," "," "," ",3352.28," "," "," "," "," "," "," "," "," "," "]
["A06.03.058.006 ДН","Спиральная компьютерная томография позвоночника (один отдел) с введением контрастного вещества",8027.56," ",10227.11," "," "," "," "," "," "," "," "," "," "," "," "," "," "," "," "," "," "," "," "," "," "," "," "," "," "," "," "," "," "," "," "," "," "," "," "," "," "," "," ",10227.11," ",11086.06," "," "," "," "," "," "," "," "," "," "," "," "," "," "," "," "," "," "]
["A06.03.062","Компьютерная томография кости",1286.83," "," ",1639.42," "," "," "," "," "," "," "," "," "," ",1639.42,1639.42," "," "," "," "," ",2307.29," "," "," "," "," "," "," "," "," "," "," "," "," "," "," "," ",2271.25," "," "," ",1639.42,1639.42," ",1777.11," "," "," "," "," "," "," ",1639.42," "," "," "," "," "," "," "," "," "," "]
["A06.04.017.001","Спиральная компьютерная томография сустава",1544.73," "," ",1967.99,1967.99," "," "," "," "," "," "," ",1967.99," ",1967.99,1967.99,1967.99," "," "," "," ",2769.7,2517.91,2726.45,1918.55,1961.81," "," "," "," "," "," "," "," "," "," "," ",1967.99,2726.45," "," "," ",1967.99,1967.99," ",2133.27," "," "," "," "," "," "," ",1967.99," "," "," "," "," "," "," ",1967.99," "," "]
["A06.04.017.001 Д","Спиральная компьютерная томография сустава",2164.23," ",2757.23," "," "," "," "," "," "," "," "," "," "," "," ",2757.23,2757.23," "," "," "," "," "," ",3819.87," "," "," "," "," "," "," "," "," "," "," "," "," ",2757.23,3819.87," "," "," ",2757.23,2757.23," ",2988.8," "," "," "," "," "," "," ",2757.23," "," "," "," "," "," "," ",2757.23," "," "]
["A06.04.017.001 ДН","Спиральная компьютерная томография сустава с наркозом",7560.48," ",9632.0499999999993," "," "," "," "," "," "," "," "," "," "," "," "," "," "," "," "," "," "," "," "," "," "," "," "," "," "," "," "," "," "," "," "," "," "," "," "," "," "," "," ",9632.0499999999993," "," "," "," "," "," "," "," "," "," "," "," "," "," "," "," "," "," "," "," "]
["A06.04.017.002 Д","Спиральная компьютерная томография сустава с введением контрастного вещества",2631.3," ",3352.28," "," "," "," "," "," "," "," "," ",3352.28," "," ",3352.28," "," "," "," "," "," "," "," "," "," "," "," "," "," "," "," "," "," "," "," "," ",3352.28,4644.24," "," "," ",3352.28,3352.28," ",3633.83," "," "," "," "," "," "," ",3352.28," "," "," "," "," "," "," "," "," "," "]
["A06.04.017.002 ДН","Спиральная компьютерная томография сустава с введением контрастного вещества с наркозом",8027.56," ",10227.11," "," "," "," "," "," "," "," "," "," "," "," "," "," "," "," "," "," "," "," "," "," "," "," "," "," "," "," "," "," "," "," "," "," "," "," "," "," "," "," ",10227.11," "," "," "," "," "," "," "," "," "," "," "," "," "," "," "," "," "," "," "," "]
["A06.04.017.003","Артрография на спиральном  копьютерном томографе",3290.56," "," "," "," "," "," "," "," "," "," "," ",4192.17," ",4192.17," "," "," "," "," "," "," "," "," "," "," "," "," "," "," "," "," "," "," "," "," "," "," "," "," "," "," ",4192.17," "," ",4544.26," "," "," "," "," "," "," "," "," "," "," "," "," "," "," "," "," "," "]
["A06.04.017.003 Д","Артрография на спиральном  копьютерном томографе",3675.34," "," "," "," "," "," "," "," "," "," "," ",4682.38," "," "," "," "," "," "," "," "," "," "," "," "," "," "," "," "," "," "," "," "," "," "," "," "," "," "," "," "," ",4682.38," "," ",5075.6400000000003," "," "," "," "," "," "," "," "," "," "," "," "," "," "," "," "," "," "]
["A06.04.017.004","Спиральная компьютерная томография опорно-двигательного аппарата с введением контрастного вещества",3405.74," "," "," "," "," "," "," "," "," "," "," ",4338.91," "," ",4338.91,4338.91," "," "," "," "," "," "," "," "," "," "," "," "," "," "," "," "," "," "," "," ",4338.91," "," "," "," ",4338.91,4338.91," ",4703.33," "," "," "," "," "," "," ",4338.91," "," "," "," "," "," "," "," ",4703.33," "]
["A06.04.017.004 Д","Спиральная компьютерная томография опорно-двигательного аппарата с введением контрастного вещества",3692.43," ",4704.16," "," "," "," "," "," "," "," "," ",4704.16," "," ",4704.16," "," "," "," "," "," "," "," "," "," "," "," "," "," "," "," "," "," "," "," "," ",4704.16," "," "," "," ",4704.16,4704.16," ",5099.25," "," "," "," "," "," "," ",4704.16," "," "," "," "," "," "," "," "," "," "]
["A06.04.017.004 ДН","Спиральная  компьютерная томография опорно-двигательно аппарата (костей, суставов, ребер) с введением контрастного вещества с наркозом",9088.69," ",11578.99," "," "," "," "," "," "," "," "," "," "," "," "," "," "," "," "," "," "," "," "," "," "," "," "," "," "," "," "," "," "," "," "," "," "," "," "," "," "," "," ",11578.99," ",12551.48," "," "," "," "," "," "," "," "," "," "," "," "," "," "," "," "," "," "]
["A06.04.017.005","Спиральная компьютерная томография опорно-двигательного аппарата с болюсным введением контрастного вещества",4412.43," "," "," "," "," "," "," "," "," "," "," ",5621.44," "," ",5621.44," "," "," "," "," "," "," "," "," "," "," "," "," "," "," "," "," "," "," "," "," ",5621.44," "," "," "," ",5621.44,5621.44," ",6093.57," "," "," "," "," "," "," "," "," "," "," "," "," "," "," ",5621.44," "," "]
["A06.04.017.005 Д","Спиральная компьютерная томография опорно-двигательного аппарата с болюсным введением контрастного вещества",4605.57," "," "," "," "," "," "," "," "," "," "," ",5867.5," "," ",5867.5," "," "," "," "," "," "," "," "," "," "," "," "," "," "," "," "," "," "," "," "," ",5867.5," "," "," "," ",5867.5,5867.5," ",6360.29," "," "," "," "," "," "," "," "," "," "," "," "," "," "," "," "," "," "]
["A06.04.017.006","Спиральная компьютерная томография опорно-двигательного аппарата (костей, суставов, ребер) без контраста",1257.7," "," "," "," "," "," "," "," "," "," "," ",1602.31," "," ",1602.31," "," "," "," "," "," "," ",2219.84," "," "," "," "," "," "," "," "," "," "," "," "," ",1602.31," "," "," "," ",1602.31,1602.31," ",1736.88," "," "," "," "," "," "," ",1602.31," "," "," "," "," "," "," "," ",1736.88," "]
["A06.04.017.006 Д","Спиральная компьютерная томография опорно-двигательно аппарата (костей, суставов, ребер) без контраста",1428.88," ",1820.39," "," "," "," "," "," "," "," "," ",1820.39," "," ",1820.39," "," "," "," "," "," "," ",2521.9699999999998," "," "," "," "," "," "," "," "," "," "," "," "," ",1820.39," "," "," "," ",1820.39,1820.39," ",1973.28," "," "," "," "," "," "," ",1820.39," "," "," "," "," "," "," "," "," "," "]
["A06.04.017.006 ДН","Спиральная  компьютерная томография опорно-двигательно аппарата (костей, суставов, ребер) без контраста",6825.14," ",8695.23," "," "," "," "," "," "," "," "," "," "," "," "," "," "," "," "," "," "," "," ",12046.37," "," "," "," "," "," "," "," "," "," "," "," "," "," "," "," "," "," "," ",8695.23," ",9425.52," "," "," "," "," "," "," "," "," "," "," "," "," "," "," "," "," "," "]
["A06.04.017.007","Спиральная компьютерная томография опорно-двигательного аппарата(костей, суставов, ребер) с болюсным введением контрастного вещества",4412.43," "," "," "," "," "," "," "," "," "," "," ",5621.44," "," ",5621.44," "," "," "," "," "," "," "," ",5480.24," "," "," "," "," "," "," "," "," "," "," "," ",5621.44," "," "," "," ",5621.44,5621.44," ",6093.57," "," "," "," "," "," "," "," "," "," "," "," "," "," "," "," "," "," "]
["A06.04.017.007 Д","Спиральная компьютерная томография опорно-двигательного аппарата(костей, суставов, ребер) с болюсным введением контрастного вещества",4570.1499999999996," "," "," "," "," "," "," "," "," "," "," ",5822.37," "," ",5822.37," "," "," "," "," "," "," "," "," "," "," "," "," "," "," "," "," "," "," "," "," ",5822.37," "," "," "," ",5822.37,5822.37," "," "," "," "," "," "," "," "," "," "," "," "," "," "," "," "," "," "," "," "]
["A06.04.017.008","Спиральная компьютерная томография опорно-двигательного аппарта без контраста",1257.7," "," "," "," "," "," "," "," "," "," "," ",1602.31," "," ",1602.31," "," "," "," "," "," "," ",2219.84," "," "," "," "," "," "," "," "," "," "," "," "," ",1602.31," "," "," "," ",1602.31,1602.31," "," "," "," "," "," "," "," "," ",1602.31," "," "," "," "," "," "," "," "," "," "]
["A06.04.017.008 Д","Спиральная компьютерная томография опорно-двигательного аппарата без контраста",1428.88," ",1820.39," "," "," "," "," "," "," "," "," ",1820.39," "," ",1820.39," "," "," "," "," "," "," ",2521.9699999999998," "," "," "," "," "," "," "," "," "," "," "," "," ",1820.39," "," "," "," ",1820.39,1820.39," "," "," "," "," "," "," "," "," ",1820.39," "," "," "," "," "," "," "," "," "," "]
["A06.04.020.001","Спиральная компьютерная томография височно-нижнечелюстного сустава без контраста",1257.7," "," "," "," "," "," "," "," "," "," "," ",1602.31," "," "," "," "," "," "," "," "," "," "," "," "," "," "," "," "," "," "," "," "," "," "," "," ",1602.31," "," "," "," ",1602.31," "," ",1736.88," "," "," "," "," "," "," ",1602.31," "," "," "," "," "," "," "," "," "," "]
["A06.04.020.001 Д","Спиральная компьютерная томография височно-нижнечелюстного сустава без контраста",1428.88," "," "," "," "," "," "," "," "," "," "," ",1820.39," "," "," "," "," "," "," "," "," "," ",2521.9699999999998," "," "," "," "," "," "," "," "," "," "," "," "," ",1820.39," "," "," "," ",1820.39,1820.39," ",1973.28," "," "," "," "," "," "," ",1820.39," "," "," "," "," "," "," "," "," "," "]
["A06.04.020.001 ДН","Спиральная компьютерная томография височно-нижнечелюстного сустава с наркозом",6825.14," "," "," "," "," "," "," "," "," "," "," "," "," "," "," "," "," "," "," "," "," "," "," "," "," "," "," "," "," "," "," "," "," "," "," "," "," "," "," "," "," "," ",8695.23," ",9425.52," "," "," "," "," "," "," "," "," "," "," "," "," "," "," "," "," "," "]
["A06.04.020.002","Спиральная компьютерная томография височно-нижнечелюстного сустава с введением  контрастного вещества",3405.74," "," "," "," "," "," "," "," "," "," "," ",4338.91," "," "," "," "," "," "," "," "," "," "," "," "," "," "," "," "," "," "," "," "," "," "," "," ",4338.91," "," "," "," ",4338.91," "," ",4703.33," "," "," "," "," "," "," "," "," "," "," "," "," "," "," "," "," "," "]
["A06.04.020.002 Д","Спиральная компьютерная томография височно-нижнечелюстного сустава с введением  контрастного вещества",3692.43," "," "," "," "," "," "," "," "," "," "," ",4704.16," "," "," "," "," "," "," "," "," "," "," "," "," "," "," "," "," "," "," "," "," "," "," "," ",4704.16," "," "," "," ",4704.16," "," ",5099.25," "," "," "," "," "," "," "," "," "," "," "," "," "," "," "," "," "," "]
["A06.04.020.002 ДН","Спиральная компьютерная томография височно-нижнечелюстного сустава с введением  контрастного вещества",9088.69," "," "," "," "," "," "," "," "," "," "," "," "," "," "," "," "," "," "," "," "," "," "," "," "," "," "," "," "," "," "," "," "," "," "," "," "," "," "," "," "," "," ",11578.99," ",12551.48," "," "," "," "," "," "," "," "," "," "," "," "," "," "," "," "," "," "]
["A06.04.020.003","Спиральная компьютерная томография височно-нижнечелюстного сустава с введением болюсного контрастного вещества",4412.43," "," "," "," "," "," "," "," "," "," "," ",5621.44," "," "," "," "," "," "," "," "," "," "," "," "," "," "," "," "," "," "," "," "," "," "," "," ",5621.44," "," "," "," ",5621.44,5621.44," ",6093.57," "," "," "," "," "," "," "," "," "," "," "," "," "," "," ",5621.44," "," "]
["A06.04.020.003 Д","Спиральная компьютерная томография височно-нижнечелюстного сустава с введением болюсного контрастного вещества",4605.57," "," "," "," "," "," "," "," "," "," "," ",5867.5," "," "," "," "," "," "," "," "," "," "," "," "," "," "," "," "," "," "," "," "," "," "," "," ",5867.5," "," "," "," ",5867.5,5867.5," ",6360.29," "," "," "," "," "," "," "," "," "," "," "," "," "," "," "," "," "," "]
["A06.08.007","Компьютерная томография придаточных пазух носа, гортани",434.36," "," ",553.37," "," "," "," "," "," "," "," ",553.37," ",553.37,553.37," "," "," "," "," ",778.81," "," ",539.48," "," "," "," "," "," "," "," "," "," "," "," "," ",766.65," "," "," ",553.37," "," "," "," "," "," "," "," "," "," "," "," "," "," "," "," "," "," "," "," "," "]
["A06.08.007 Д","Компьютерная томография придаточных пазух носа, гортани",799.15," "," "," "," "," "," "," "," "," "," "," ",1018.12," "," ",1018.12," "," "," "," "," "," "," "," "," "," "," "," "," "," "," "," "," "," "," "," "," "," ",1410.5," "," "," ",1018.12," "," "," "," "," "," "," "," "," "," "," "," "," "," "," "," "," "," "," "," "," "]
["A06.08.007 ДН","Компьютерная томография придаточных пазух носа, гортани с наркозом",6195.41," "," "," "," "," "," "," "," "," "," "," "," "," "," "," "," "," "," "," "," "," "," "," "," "," "," "," "," "," "," "," "," "," "," "," "," "," "," "," "," "," "," ",7892.95," ",8555.86," "," "," "," "," "," "," "," "," "," "," "," "," "," "," "," "," "," "]
["A06.08.007.001","Спиральная компьютерная томография гортани",1544.73," "," ",1967.99,1967.99," "," "," "," "," "," "," ",1967.99," ",1967.99,1967.99," "," "," "," "," "," ",2517.91," "," ",1961.81," "," "," "," "," "," "," "," "," "," "," ",1967.99,2726.45," "," "," ",1967.99,1967.99," ",2133.27," "," "," "," "," "," "," ",1967.99," "," "," "," "," "," "," ",1967.99,2133.27," "]
["A06.08.007.001 Д","Спиральная компьютерная томография гортани",2164.23," ",2757.23," "," "," "," "," "," "," "," "," ",2757.23," "," ",2757.23," "," "," "," "," "," "," "," "," "," "," "," "," "," "," "," "," "," "," "," "," ",2757.23,3819.87," "," "," ",2757.23,2757.23," ",2988.8," "," "," "," "," "," "," ",2757.23," "," "," "," "," "," "," "," "," "," "]
["A06.08.007.001 ДН","Спиральная компьютерная томография гортани с наркозом",7560.48," ",9632.0499999999993," "," "," "," "," "," "," "," "," "," "," "," "," "," "," "," "," "," "," "," "," "," "," "," "," "," "," "," "," "," "," "," "," "," "," "," "," "," "," "," ",9632.0499999999993," ",10441.02," "," "," "," "," "," "," "," "," "," "," "," "," "," "," "," "," "," "]
["A06.08.007.002","Компьютерная томография гортани с внутривенным болюсным контрастированием",2707.9," "," ",3449.86," "," "," "," "," "," "," "," ",3449.86," ",3449.86,3449.86," "," "," "," "," ",4855.26," "," ",3363.21," "," "," "," "," "," "," "," "," "," "," "," "," ",4779.4399999999996," "," "," ",3449.86,3449.86," ",3739.61," "," "," "," "," "," "," ",3449.86," "," "," "," "," "," "," "," "," "," "]
["A06.08.007.002 Д","Компьютерная томография гортани с внутривенным болюсным контрастированием",3039.76," "," "," "," "," "," "," "," "," "," "," ",3872.65," "," ",3872.65," "," "," "," "," "," "," "," "," "," "," "," "," "," "," "," "," "," "," "," "," "," ",5365.18," "," "," ",3872.65,3872.65," ",4197.91," "," "," "," "," "," "," ",3872.65," "," "," "," "," "," "," "," "," "," "]
["A06.08.007.002 ДН","Компьютерная томография гортани с внутривенным болюсным контрастированием с наркозом",8436.02," "," "," "," "," "," "," "," "," "," "," "," "," "," "," "," "," "," "," "," "," "," "," "," "," "," "," "," "," "," "," "," "," "," "," "," "," "," "," "," "," "," ",10747.49," "," "," "," "," "," "," "," "," "," "," "," "," "," "," "," "," "," "," "," "]
["A06.08.007.003","Спиральная компьютерная томография придаточных пазух носа",1544.73," "," ",1967.99,1967.99," "," "," "," "," "," "," ",1967.99," ",1967.99,1967.99,1967.99," "," "," "," ",2769.7,2517.91,2726.45,1918.55,1961.81," "," "," "," "," "," "," "," "," "," "," ",1967.99,2726.45," "," "," ",1967.99,1967.99," ",2133.27," "," "," "," "," "," "," ",1967.99," "," "," "," "," ",1967.99," ",1967.99,2133.27," "]
["A06.08.007.003 Д","Спиральная компьютерная томография придаточных пазух носа",2164.23," ",2757.23," "," "," "," "," "," "," "," "," ",2757.23," "," ",2757.23,2757.23," "," "," "," "," "," ",3819.87," "," "," "," "," "," "," "," "," "," "," "," "," ",2757.23,3819.87," "," "," ",2757.23,2757.23," ",2988.8," "," "," "," "," "," "," ",2757.23," "," "," "," "," "," "," "," "," "," "]
["A06.08.007.003 ДН","Спиральная компьютерная томография придаточных пазух носа с наркозом",7560.48," ",9632.0499999999993," "," "," "," "," "," "," "," "," "," "," "," "," "," "," "," "," "," "," "," "," "," "," "," "," "," "," "," "," "," "," "," "," "," "," "," "," "," "," "," ",9632.0499999999993," ",10441.02," "," "," "," "," "," "," "," "," "," "," "," "," "," "," "," "," "," "]
["A06.08.007.004","Компьютерная томография придаточных пазух носа с внутривенным болюсным контрастированием",2638.86," "," "," "," "," "," "," "," "," "," "," ",3361.91," ",3361.91,3361.91," "," "," "," "," "," "," "," "," "," "," "," "," "," "," "," "," "," "," "," "," "," "," "," "," "," ",3361.91," "," ",3644.27," "," "," "," "," "," "," ",3361.91," "," "," "," "," "," "," "," ",3644.27," "]
["A06.08.007.005","Спиральная компьютерная томография придаточных пазух носа с введением контрастного вещества",2883.94," "," ",3674.14," "," "," "," "," "," "," "," ",3674.14," "," ",3674.14,3674.14," "," "," "," "," "," "," "," "," "," "," "," "," "," "," "," "," "," "," "," "," ",5090.1499999999996," "," "," ",3674.14,3674.14," ",3982.72," "," "," "," "," "," "," ",3674.14," "," "," "," "," "," "," "," "," "," "]
["A06.08.007.005 Д","Спиральная компьютерная томография придаточных пазух носа с введением контрастного вещества",3293.97," "," "," "," "," "," "," "," "," "," "," ",4196.5200000000004," "," ",4196.5200000000004," "," "," "," "," "," "," "," "," "," "," "," "," "," "," "," "," "," "," "," "," "," ",5813.86," "," "," ",4196.5200000000004,4196.5200000000004," ",4548.97," "," "," "," "," "," "," ",4196.5200000000004," "," "," "," "," "," "," "," "," "," "]
["A06.08.007.005 ДН","Спиральная компьютерная томография придаточных пазух носа с введением контрастного вещества с наркозом",8690.2199999999993," "," "," "," "," "," "," "," "," "," "," "," "," "," "," "," "," "," "," "," "," "," "," "," "," "," "," "," "," "," "," "," "," "," "," "," "," "," "," "," "," "," ",11071.34," ",12001.19," "," "," "," "," "," "," "," "," "," "," "," "," "," "," "," "," "," "]
["A06.08.007.006","Спиральная компьютерная томография придаточных пазух носа с болюсным введением контрастного вещества",4143.1899999999996," "," ",5278.42," "," "," "," "," "," "," "," ",5278.42," "," ",5278.42,5278.42," "," "," "," "," "," "," "," "," "," "," "," "," "," "," "," "," "," "," "," ",5278.42,7312.73," "," "," ",5278.42,5278.42," ",5721.75," "," "," "," "," "," "," ",5278.42," "," "," "," "," "," "," ",5278.42," "," "]
["A06.08.007.006 Д","Спиральная компьютерная томография придаточных пазух носа с болюсным введением контрастного вещества",4275.3599999999997," "," "," "," "," "," "," "," "," "," "," ",5446.81," "," ",5446.81,5446.81," "," "," "," "," "," "," "," "," "," "," "," "," "," "," "," "," "," "," "," ",5446.81,7546.01," "," "," ",5446.81,5446.81," ",5904.27," "," "," "," "," "," "," ",5446.81," "," "," "," "," "," "," "," "," "," "]
["A06.08.007.007","Спиральная компьютерная томография гортани с введением контрастного вещества",3649.11," "," ",4648.97," "," "," "," "," "," "," "," ",4648.97," "," ",4648.97," "," "," "," "," "," "," "," "," "," "," "," "," "," "," "," "," "," "," "," "," ",4648.97,6440.68," "," "," ",4648.97,4648.97," ",5039.42," "," "," "," "," "," "," ",4648.97," "," "," "," "," "," "," ",4648.97,5039.42," "]
["A06.08.007.007 Д","Спиральная компьютерная томография гортани с введением контрастного вещества",2631.3," ",3352.28," "," "," "," "," "," "," "," "," ",3352.28," "," ",3352.28," "," "," "," "," "," "," "," "," "," "," "," "," "," "," "," "," "," "," "," "," ",3352.28,4644.24," "," "," ",3352.28,3352.28," ",3633.83," "," "," "," "," "," "," ",3352.28," "," "," "," "," "," "," "," "," "," "]
["A06.08.007.007 ДН","Спиральная компьютерная томография гортани с введением контрастного вещества с наркозом",8027.56," ",10227.11," "," "," "," "," "," "," "," "," "," "," "," "," "," "," "," "," "," "," "," "," "," "," "," "," "," "," "," "," "," "," "," "," "," "," "," "," "," "," "," ",10227.11," ",11086.06," "," "," "," "," "," "," "," "," "," "," "," "," "," "," "," "," "," "]
["A06.08.009","Компьютерная томография верхних дыхательных путей и шеи",1051.58," "," ",1339.71," "," "," "," "," "," "," "," ",1339.71," "," ",1339.71," "," "," "," "," ",1885.48," "," "," "," "," "," "," "," "," "," "," "," "," "," "," "," ",1856.04," "," "," ",1339.71," "," ",1452.23," "," "," "," "," "," "," ",1339.71," "," "," "," "," "," "," "," "," "," "]
["A06.08.009.001","Спиральная компьютерная томография шеи",1544.73," "," ",1967.99,1967.99," "," "," "," "," "," "," ",1967.99," ",1967.99,1967.99,1967.99," "," "," "," "," "," "," ",1918.55,1961.81," "," "," "," "," "," "," "," "," "," "," ",1967.99,2726.45," "," "," ",1967.99,1967.99," ",2133.27," "," "," "," "," "," "," ",1967.99," "," "," "," "," "," "," "," ",2133.27," "]
["A06.08.009.001 Д","Спиральная компьютерная томография шеи",2164.23," ",2757.23," "," "," "," "," "," "," "," "," ",2757.23," "," ",2757.23,2757.23," "," "," "," "," "," "," "," "," "," "," "," "," "," "," "," "," "," "," "," ",2757.23,3819.87," "," "," ",2757.23,2757.23," ",2988.8," "," "," "," "," "," "," ",2757.23," "," "," "," "," "," "," "," "," "," "]
["A06.08.009.002","Компьютерная томография шеи с внутривенным болюсным контрастированием",2638.86," "," ",3361.91," "," "," "," "," "," "," "," ",3361.91," "," ",3361.91," "," "," "," "," ",4731.4799999999996," "," ",3277.46," "," "," "," "," "," "," "," "," "," "," "," "," ",4657.59," "," "," ",3361.91,3361.91," ",3644.27," "," "," "," "," "," "," ",3361.91," "," "," "," "," "," "," "," "," "," "]
["A06.08.009.002 Д","Компьютерная томография шеи с внутривенным болюсным контрастированием",3158.24," "," "," "," "," "," "," "," "," "," "," ",4023.6," "," ",4023.6," "," "," "," "," "," "," "," "," "," "," "," "," "," "," "," "," "," "," "," "," "," ",5574.29," "," "," ",4023.6,4023.6," ",4361.53," "," "," "," "," "," "," ",4023.6," "," "," "," "," "," "," "," "," "," "]
["A06.08.009.003","Компьютерная томография шеи с внутривенным болюсным контрастированием, мультипланарной и трехмерной реконструкцией",3385.19," "," ",4312.7299999999996," "," "," "," "," "," "," "," ",4312.7299999999996," ",4312.7299999999996,4312.7299999999996," "," "," "," "," "," "," "," "," ",4299.1899999999996," "," "," "," "," "," "," "," "," "," "," "," ",5974.86," "," "," ",4312.7299999999996,4312.7299999999996," ",4674.95," "," "," "," "," "," "," ",4312.7299999999996," "," "," "," "," "," "," "," ",4674.95," "]
["A06.09.005","Компьютерная томография органов грудной полости",434.36," "," ",553.37," "," "," "," "," "," "," "," ",553.37," ",553.37,553.37," "," "," "," "," ",778.81," ",766.65," ",551.64," "," "," "," "," "," "," "," "," "," "," "," ",766.65," "," "," ",553.37," "," "," "," "," "," "," "," "," "," "," "," "," "," "," "," "," "," "," "," "," "]
["A06.09.005 Д","Компьютерная томография органов грудной полости",799.15," "," "," "," "," "," "," "," "," "," "," ",1018.12," "," ",1018.12," "," "," "," "," "," "," "," "," "," "," "," "," "," "," "," "," "," "," "," "," "," ",1410.5," "," "," ",1018.12," "," "," "," "," "," "," "," "," "," "," "," "," "," "," "," "," "," "," "," "," "]
["A06.09.005 ДН","Компьютерная томография органов грудной полости с наркозом",6195.41," "," "," "," "," "," "," "," "," "," "," "," "," "," "," "," "," "," "," "," "," "," "," "," "," "," "," "," "," "," "," "," "," "," "," "," "," "," "," "," "," "," ",7892.95," "," "," "," "," "," "," "," "," "," "," "," "," "," "," "," "," "," "," "," "]
["A06.09.005.001","Спиральная компьютерная томография грудной полости",1544.73," "," ",1967.99,1967.99," "," "," "," "," "," "," ",1967.99," ",1967.99,1967.99,1967.99," "," "," "," ",2769.7,2517.91,2726.45,1918.55,1961.81," "," "," "," "," "," "," "," "," "," "," ",1967.99,2726.45," "," "," ",1967.99,1967.99," ",2133.27," "," "," "," "," "," "," ",1967.99," "," "," "," "," ",1967.99," ",1967.99,2133.27," "]
["A06.09.005.001 Д","Спиральная компьютерная томография грудной полости",2164.23," ",2757.23," "," "," "," "," "," "," "," "," ",2757.23," "," ",2757.23,2757.23," "," "," "," "," "," ",3819.87," "," "," "," "," "," "," "," "," "," "," "," "," ",2757.23,3819.87," "," "," ",2757.23,2757.23," ",2988.8," "," "," "," "," "," "," ",2757.23," "," "," "," "," "," "," ",2757.23," "," "]
["A06.09.005.001 ДН","Спиральная компьютерная томография грудной полости с наркозом",7560.48," ",9632.0499999999993," "," "," "," "," "," "," "," "," "," "," "," "," "," "," "," "," "," "," "," "," "," "," "," "," "," "," "," "," "," "," "," "," "," "," "," "," "," "," "," ",9632.0499999999993," ",10441.02," "," "," "," "," "," "," "," "," "," "," "," "," "," "," "," "," "," "]
["A06.09.005.001.001","Скрининг-исследование органов грудной клетки на спиральном компьютерном томографе",799.68," "," "," "," "," "," "," "," "," "," "," ",1018.79," "," ",1018.79," "," "," "," "," "," "," "," "," "," "," "," "," "," "," "," "," "," "," "," "," "," "," "," "," "," "," "," "," "," "," "," "," "," "," "," "," "," "," "," "," "," "," "," "," "," "," "," "]
["A06.09.005.002","Компьютерная томография органов грудной полости с внутривенным болюсным контрастированием",2796.42," "," ",3562.64," "," "," "," "," "," "," "," ",3562.64," ",3562.64,3562.64," "," "," "," "," ",5013.9799999999996," ",4935.68," "," "," "," "," "," "," "," "," "," "," "," "," "," ",4935.68," "," "," "," ",3562.64," ",3861.86," "," "," "," "," "," "," ",3562.64," "," "," "," "," "," "," "," "," "," "]
["A06.09.005.002 Д","Компьютерная томография органов грудной полости с внутривенным болюсным контрастированием",3106.15," "," "," "," "," "," "," "," "," "," "," ",3957.24," "," ",3957.24," "," "," "," "," "," "," "," "," "," "," "," "," "," "," "," "," "," "," "," "," "," ",5482.35," "," "," "," ",3957.24," ",4289.59," "," "," "," "," "," "," ",3957.24," "," "," "," "," "," "," "," "," "," "]
["A06.09.005.002 ДН","Компьютерная томография органов грудной полости с внутривенным болюсным контрастированием с наркозом",8502.41," "," "," "," "," "," "," "," "," "," "," "," "," "," "," "," "," "," "," "," "," "," "," "," "," "," "," "," "," "," "," "," "," "," "," "," "," "," "," "," "," "," ",10832.07," ",11741.83," "," "," "," "," "," "," "," "," "," "," "," "," "," "," "," "," "," "]
["A06.09.005.003","Компьютерная томография грудной полости с внутривенным болюсным контрастированием, мультипланарной и трехмерной реконструкцией",4406.78," "," ",5614.24," "," "," "," "," "," "," "," ",5614.24," ",5614.24,5614.24," "," "," "," "," "," "," ",7777.97," "," "," "," "," "," "," "," "," "," "," "," "," "," ",7777.97," "," "," "," ",5614.24," ",6085.76," "," "," "," "," "," "," ",5614.24," "," "," "," "," ",5614.24," "," "," "," "]
["A06.09.005.003 Д","Компьютерная томография органов грудной полости с внутривенным болюсным контрастированием,мультипланарной и трехмерной реконструкцией",4554.63," "," "," "," "," "," "," "," "," "," "," ",5802.6," "," ",5802.6," "," "," "," "," "," "," "," "," "," "," "," "," "," "," "," "," "," "," "," "," "," ",8038.92," "," "," "," ",5802.6," ",6289.94," "," "," "," "," "," "," ",5802.6," "," "," "," "," "," "," "," "," "," "]
["A06.09.005.004","Спиральная компьютерная томография грудной полости c введением контрастного вещества",3968.21," "," ",5055.5," "," "," "," "," "," "," "," ",5055.5," ",5055.5,5055.5,5055.5," "," "," "," "," "," "," ",4928.5200000000004,5039.63," "," "," "," "," "," "," "," "," "," "," ",5055.5,7003.89," "," "," ",5055.5,5055.5," ",5480.1," "," "," "," "," "," "," ",5055.5," "," "," "," "," "," "," "," ",5480.1," "]
["A06.09.005.004 Д","Спиральная компьютерная томография грудной полости c введением контрастного вещества",2631.3," ",3352.28," "," "," "," "," "," "," "," "," ",3352.28," "," ",3352.28,3352.28," "," "," "," "," "," "," "," "," "," "," "," "," "," "," "," "," "," "," "," ",3352.28,4644.24," "," "," ",3352.28,3352.28," ",3633.83," "," "," "," "," "," "," ",3352.28," "," "," "," "," "," "," "," "," "," "]
["A06.09.005.004 ДН","Спиральная компьютерная томография грудной полости c введением контрастного вещества с наркозом",8027.56," ",10227.11," "," "," "," "," "," "," "," "," "," "," "," "," ",10227.11," "," "," "," "," "," "," "," "," "," "," "," "," "," "," "," "," "," "," "," "," "," "," "," "," "," ",10227.11," ",11086.06," "," "," "," "," "," "," "," "," "," "," "," "," "," "," "," "," "," "]
["A06.10.006.001","Компьютерно-томографическая коронарография ",2574.9899999999998," "," "," "," "," "," "," "," "," "," "," "," "," "," ",3280.54," "," "," "," "," ",4616.96," "," "," "," "," "," "," "," "," "," "," "," "," "," "," "," "," "," "," "," "," "," "," "," "," "," "," "," "," "," "," "," "," "," "," "," "," "," "," "," "," "," "]
["A06.10.009.001","Компьютерная томография сердца с контрастированием",1544.73," "," ",1967.99," "," "," "," "," "," "," "," "," "," "," ",1967.99," "," "," "," "," "," ",2517.91," "," "," "," "," "," "," "," "," "," "," "," "," "," "," ",2726.45," "," "," ",1967.99,1967.99," "," "," "," "," "," "," "," "," "," "," "," "," "," "," "," "," "," "," "," "]
["A06.10.009.001 Д","Спиральная компьютерная томография сердца",2164.23," "," "," "," "," "," "," "," "," "," "," "," "," "," ",2757.23," "," "," "," "," "," "," "," "," "," "," "," "," "," "," "," "," "," "," "," "," "," ",3819.87," "," "," ",2757.23," "," "," "," "," "," "," "," "," "," "," "," "," "," "," "," "," "," "," "," "," "]
["A06.10.009.005","Определение коронарного кальция на спиральном компьютерном томографе",1064.1500000000001," "," "," "," "," "," "," "," "," "," "," "," "," "," ",1355.73," "," "," "," "," ",1908.02," "," "," "," "," "," "," "," "," "," "," "," "," "," "," "," "," "," "," "," ",1355.73,1355.73," "," "," "," "," "," "," "," "," "," "," "," "," "," "," ",1355.73," "," "," "," "]
["A06.12.001.001","Компьютерно-томографическая ангиография грудной аорты",4024.51," "," "," "," "," "," "," "," "," "," "," "," "," ",5127.2299999999996,5127.2299999999996," "," "," "," "," "," "," "," "," "," "," "," "," "," "," "," "," "," "," "," "," "," "," "," "," "," ",5127.2299999999996,5127.2299999999996," ",5557.85," "," "," "," "," "," "," ",5127.2299999999996," "," "," "," "," "," "," "," "," "," "]
["A06.12.001.002","Компьютерно-томографическая ангиография брюшной аорты",4024.51," "," "," "," "," "," "," "," "," "," "," "," "," ",5127.2299999999996," "," "," "," "," "," "," "," "," "," "," "," "," "," "," "," "," "," "," "," "," "," "," "," "," "," "," ",5127.2299999999996,5127.2299999999996," ",5557.85," "," "," "," "," "," "," ",5127.2299999999996," "," "," "," "," "," "," "," "," "," "]
["A06.12.050","Компьютерно-томографическая ангиография одной анатомической области",3337.38," "," "," "," "," "," "," "," "," "," "," ",4251.82," ",4251.82,4251.82," "," "," "," "," "," "," "," "," "," "," "," "," "," "," "," "," "," "," "," "," "," "," "," "," "," ",4251.82,4251.82," ",4608.92," "," "," "," "," "," "," ",4251.82," "," "," "," "," "," "," "," ",4608.92," "]
["A06.12.050.001","Ангиография почечных артерий на спиральном компьютерном томографе",4438.6400000000003," "," ",5654.83," "," "," "," "," "," "," "," ",5654.83," ",5654.83,5654.83," "," "," "," "," "," "," "," "," "," "," "," "," "," "," "," "," "," "," "," "," ",5654.83," "," "," "," ",5654.83,5654.83," ",6129.76," "," "," "," "," "," "," "," "," "," "," "," "," "," "," "," "," "," "]
["A06.12.050.001 Д","Ангиография почечных артерий на спиральном компьютерном томографе",4516.3100000000004," "," "," "," "," "," "," "," "," "," "," ",5753.78," "," ",5753.78," "," "," "," "," "," "," "," "," "," "," "," "," "," "," "," "," "," "," "," "," ",5753.78," "," "," "," ",5753.78,5753.78," ",6237.02," "," "," "," "," "," "," "," "," "," "," "," "," "," "," "," "," "," "]
["A06.12.050.002","Спиральная компьютерная томография КТ сосудов нижних конечностей",4438.6400000000003," "," ",5654.83," "," "," "," "," "," "," "," ",5654.83," ",5654.83,5654.83," "," "," "," "," ",7958.48," "," "," "," "," "," "," "," "," "," "," "," "," "," "," ",5654.83,7834.2," "," "," ",5654.83,5654.83," ",6129.76," "," "," "," "," "," "," ",5654.83," "," "," "," "," ","5654,83 *"," "," ",6129.76," "]
["A06.12.050.002 Д","Спиральная компьютерная томография КТ сосудов нижних конечностей",4516.3100000000004," "," "," "," "," "," "," "," "," "," "," ",5753.78," "," ",5753.78," "," "," "," "," "," "," "," "," "," "," "," "," "," "," "," "," "," "," "," "," ",5753.78,7971.29," "," "," ",5753.78,5753.78," ",6237.02," "," "," "," "," "," "," ",5753.78," "," "," "," "," "," "," "," "," "," "]
["A06.12.050.003","Спиральная компьютерная томография КТ брюшной аорты и сосудов нижних конечностей",4438.6400000000003," "," ",5654.83," "," "," "," "," "," "," "," ",5654.83," ",5654.83,5654.83," "," "," "," "," ",7958.48," "," ",5512.79,5637.07," "," "," "," "," "," "," "," "," "," "," ",5654.83,7834.2," "," "," ",5654.83,5654.83," ",6129.76," "," "," "," "," "," "," ",5654.83," "," "," "," "," ",5654.83," "," ",6129.76," "]
["A06.12.050.003 Д","Спиральная компьютерная томография КТ брюшной аорты и сосудов нижних конечностей",4516.3100000000004," "," "," "," "," "," "," "," "," "," "," ",5753.78," "," ",5753.78," "," "," "," "," "," "," "," "," "," "," "," "," "," "," "," "," "," "," "," "," ",5753.78,7971.29," "," "," ",5753.78,5753.78," ",6237.02," "," "," "," "," "," "," ",5753.78," "," "," "," "," "," "," "," "," "," "]
["A06.12.050.004","Ангиография сосудов головного мозга на спиральном компьютерном томографе",4143.32," "," ",5278.59," "," "," "," "," "," "," "," ",5278.59," ",5278.59,5278.59," "," "," "," "," "," "," "," "," "," "," "," "," "," "," "," "," "," "," "," "," ",5278.59," "," "," "," ",5278.59,5278.59," ",5721.92," "," "," "," "," "," "," "," "," "," "," "," "," ",5278.59," "," "," "," "]
["A06.12.050.004 Д","Ангиография сосудов головного мозга на спиральном компьютерном томографе",4297.6400000000003," "," "," "," "," "," "," "," "," "," "," ",5475.19," "," ",5475.19," "," "," "," "," "," "," "," "," "," "," "," "," "," "," "," "," "," "," "," "," ",5475.19," "," "," "," ",5475.19,5475.19," ",5935.04," "," "," "," "," "," "," "," "," "," "," "," "," "," "," "," "," "," "]
["A06.12.050.005","Ангиография сосудов лица (при гемангиомах) на спиральном компьютерном томографе",4542.7299999999996," "," "," "," "," "," "," "," "," "," "," "," "," "," ",5787.44," "," "," "," "," "," "," "," "," "," "," "," "," "," "," "," "," "," "," "," "," ",5787.44," "," "," "," ",5787.44,5787.44," ",6273.51," "," "," "," "," "," "," "," "," "," "," "," "," "," "," "," "," "," "]
["A06.12.050.005 Д","Ангиография сосудов лица (при гемангиомах) на спиральном компьютерном томографе",4735.8900000000003," "," "," "," "," "," "," "," "," "," "," "," "," "," ",6033.52," "," "," "," "," "," "," "," "," "," "," "," "," "," "," "," "," "," "," "," "," ",6033.52," "," "," "," ",6033.52,6033.52," ",6540.26," "," "," "," "," "," "," "," "," "," "," "," "," "," "," "," "," "," "]
["A06.12.050.006","Ангиография сосудов шеи на спиральном компьютерном томографе",4316.72," "," ",5499.5," "," "," "," "," "," "," "," "," "," ",5499.5,5499.5," "," "," "," "," "," "," "," "," "," "," "," "," "," "," "," "," "," "," "," "," ",5499.5," "," "," "," ",5499.5,5499.5," ",5961.39," "," "," "," "," "," "," "," "," "," "," "," "," "," "," "," ",5961.39," "]
["A06.12.050.006 Д","Ангиография сосудов шеи на спиральном компьютерном томографе",4471.04," "," "," "," "," "," "," "," "," "," "," "," "," "," ",5696.1," "," "," "," "," "," "," "," "," "," "," "," "," "," "," "," "," "," "," "," "," ",5696.1," "," "," "," ",5696.1,5696.1," ",6174.51," "," "," "," "," "," "," "," "," "," "," "," "," "," "," "," "," "," "]
["A06.12.050.007","Ангиография сосудов шеи и головного мозга на спиральном компьютерном томографе",4697.59," "," "," "," "," "," "," "," "," "," "," "," "," "," ",5984.73," "," "," "," "," "," "," "," "," "," "," "," "," "," "," "," "," "," "," "," "," ",5984.73," "," "," "," ",5984.73,5984.73," ",6487.37," "," "," "," "," "," "," "," "," "," "," "," "," "," "," "," "," "," "]
["A06.12.050.007 Д","Ангиография сосудов шеи и головного мозга на спиральном компьютерном томографе",4918," "," "," "," "," "," "," "," "," "," "," "," "," "," ",6265.53," "," "," "," "," "," "," "," "," "," "," "," "," "," "," "," "," "," "," "," "," ",6265.53," "," "," "," ",6265.53,6265.53," ",6791.76," "," "," "," "," "," "," "," "," "," "," "," "," "," "," "," "," "," "]
["A06.12.050.008","Ангиография АО и сосудов шеи на спиральном компьютерном томографе",4697.59," "," "," "," "," "," "," "," "," "," "," "," "," "," ",5984.73," "," "," "," "," "," "," "," "," "," "," "," "," "," "," "," "," "," "," "," "," ",5984.73," "," "," "," ",5984.73,5984.73," ",6487.37," "," "," "," "," "," "," "," "," "," "," "," "," "," "," "," "," "," "]
["A06.12.050.008 Д","Ангиография АО и сосудов шеи на спиральном компьютерном томографе",4890.75," "," "," "," "," "," "," "," "," "," "," "," "," "," ",6230.82," "," "," "," "," "," "," "," "," "," "," "," "," "," "," "," "," "," "," "," "," ",6230.82," "," "," "," ",6230.82,6230.82," ",6754.13," "," "," "," "," "," "," "," "," "," "," "," "," "," "," "," "," "," "]
["A06.12.050.009","Ангиография грудного отдела аорты на спиральном компьютерном томографе",4475.21," "," ",5701.42," "," "," "," "," "," "," "," "," "," ",5701.42,5701.42," "," "," "," "," "," "," "," "," "," "," "," "," "," "," "," "," "," "," "," "," ",5701.42," "," "," "," ",5701.42,5701.42," ",6180.27," "," "," "," "," "," "," "," "," "," "," "," "," "," "," "," ",6180.27," "]
["A06.12.050.009 Д","Ангиография грудного отдела аорты на спиральном компьютерном томографе",4668.3599999999997," "," "," "," "," "," "," "," "," "," "," "," "," "," ",5947.49," "," "," "," "," "," "," "," "," "," "," "," "," "," "," "," "," "," "," "," "," ",5947.49," "," "," "," ",5947.49,5947.49," ",6447.01," "," "," "," "," "," "," "," "," "," "," "," "," "," "," "," "," "," "]
["A06.12.050.011","Ангиопульмонография на спиральном компьютерном томографе",4438.6400000000003," "," "," "," "," "," "," "," "," "," "," "," "," "," ",5654.83," "," "," "," "," "," "," "," "," "," "," "," "," "," "," "," "," "," "," "," "," ",5654.83," "," "," "," ",5654.83,5654.83," ",6129.76," "," "," "," "," "," "," "," "," "," "," "," "," "," "," "," "," "," "]
["A06.12.050.011 Д","Ангиопульмонография на спиральном компьютерном томографе",4571.01," "," "," "," "," "," "," "," "," "," "," "," "," "," ",5823.47," "," "," "," "," "," "," "," "," "," "," "," "," "," "," "," "," "," "," "," "," ",5823.47," "," "," "," ",5823.47,5823.47," ",6312.56," "," "," "," "," "," "," "," "," "," "," "," "," "," "," "," "," "," "]
["A06.12.050.012","Портография на спиральном компьютерном томографе",3825.46," "," "," "," "," "," "," "," "," "," "," "," "," "," "," "," "," "," "," "," "," "," "," "," "," "," "," "," "," "," "," "," "," "," "," "," "," "," "," "," "," ",4873.6400000000003," "," ",5282.96," "," "," "," "," "," "," "," "," "," "," "," "," "," "," "," "," "," "]
["A06.12.050.013","Панаортография на спиральном компьютерном томографе",4438.6400000000003," "," "," "," "," "," "," "," "," "," "," "," "," "," ",5654.83," "," "," "," "," "," "," "," "," "," "," "," "," "," "," "," "," "," "," "," "," "," "," "," "," "," ",5654.83," "," ",6129.76," "," "," "," "," "," "," "," "," "," "," "," "," ","5654,83 *"," "," "," "," "]
["A06.12.050.013 Д","Панаортография на спиральном компьютерном томографе",4571.01," "," "," "," "," "," "," "," "," "," "," "," "," "," ",5823.47," "," "," "," "," "," "," "," "," "," "," "," "," "," "," "," "," "," "," "," "," "," "," "," "," "," ",5823.47," "," ",6312.56," "," "," "," "," "," "," "," "," "," "," "," "," "," "," "," "," "," "]
["A06.12.050.014","СКТ шунтография на спиральном компьютерном томографе",4524.75," "," "," "," "," "," "," "," "," "," "," "," "," "," ",5764.53," "," "," "," "," "," "," "," "," "," "," "," "," "," "," "," "," "," "," "," "," "," "," "," "," "," ",5764.53,5764.53," ",6248.68," "," "," "," "," "," "," "," "," "," "," "," "," ","5764,53 *"," "," "," "," "]
["A06.12.050.015","СКТ левого предсердия на спиральном компьютерном томографе",4524.75," "," "," "," "," "," "," "," "," "," "," "," "," "," ",5764.53," "," "," "," "," "," "," "," "," "," "," "," "," "," "," "," "," "," "," "," "," "," "," "," "," "," ",5764.53,5764.53," "," "," "," "," "," "," "," "," "," "," "," "," "," "," ","5764,53 *"," "," "," "," "]
["A06.14.010","Компьютерная томография печени с внутривенным болюсным контрастированием",4690.47," "," ",5975.66," "," "," "," "," "," "," "," ",5975.66," "," ",5975.66," "," "," "," "," "," "," "," ",5825.56," "," "," "," "," "," "," "," "," "," "," "," "," ",8278.68," "," "," ",5975.66,5975.66," ",6477.54," "," "," "," "," "," "," ",5975.66," "," "," "," "," "," "," "," "," "," "]
["A06.14.010 Д","Компьютерная томография печени с внутривенным болюсным контрастированием",4822.83," "," "," "," "," "," "," "," "," "," "," ",6144.29," "," ",6144.29," "," "," "," "," "," "," "," "," "," "," "," "," "," "," "," "," "," "," "," "," "," ",8512.2900000000009," "," "," ",6144.29,6144.29," ",6660.33," "," "," "," "," "," "," ",6144.29," "," "," "," "," "," "," "," "," "," "]
["A06.20.002","Компьютерная томография органов малого таза у женщин",438.6," "," ",558.78," "," "," "," "," "," "," "," ",558.78," "," ",558.78," "," "," "," "," ",786.41," ",774.13," "," "," "," "," "," "," "," "," "," "," "," "," "," ",774.13," "," "," ",558.78," "," "," "," "," "," "," "," "," "," "," "," "," "," "," "," "," "," "," "," "," "]
["A06.20.002 Д","Компьютерная томография органов малого таза у женщин",799.15," "," "," "," "," "," "," "," "," "," "," ",1018.12," "," ",1018.12," "," "," "," "," "," "," "," "," "," "," "," "," "," "," "," "," "," "," "," "," "," ",1410.5," "," "," ",1018.12," "," "," "," "," "," "," "," "," "," "," "," "," "," "," "," "," "," "," "," "," "]
["A06.20.002 ДН","Компьютерная томография органов малого таза у женщин с наркозом",6195.41," "," "," "," "," "," "," "," "," "," "," "," "," "," "," "," "," "," "," "," "," "," "," "," "," "," "," "," "," "," "," "," "," "," "," "," "," "," "," "," "," "," ",7892.95," "," "," "," "," "," "," "," "," "," "," "," "," "," "," "," "," "," "," "," "]
["A06.20.002.001","Спиральная компьютерная томография органов малого таза у женщин",1544.73," "," ",1967.99,1967.99," "," "," "," "," "," "," ",1967.99," ",1967.99,1967.99,1967.99," "," "," "," "," ",2517.91," "," ",1961.81," "," "," "," "," "," "," "," "," "," "," ",1967.99,2726.45," "," "," ",1967.99,1967.99," ",2133.27," "," "," "," "," "," "," ",1967.99," "," "," "," "," "," "," ",1967.99,2133.27," "]
["A06.20.002.001 Д","Спиральная компьютерная томография органов малого таза у женщин",2164.23," ",2757.23," "," "," "," "," "," "," "," "," ",2757.23," "," ",2757.23,2757.23," "," "," "," "," "," "," "," "," "," "," "," "," "," "," "," "," "," "," "," ",2757.23,3819.87," "," "," ",2757.23,2757.23," ",2988.8," "," "," "," "," "," "," ",2757.23," "," "," "," "," "," "," "," "," "," "]
["A06.20.002.001 ДН","Спиральная компьютерная томография органов малого таза у женщин с наркозом",7560.48," ",9632.0499999999993," "," "," "," "," "," "," "," "," "," "," "," "," "," "," "," "," "," "," "," "," "," "," "," "," "," "," "," "," "," "," "," "," "," "," "," "," "," "," "," ",9632.0499999999993," ",10441.02," "," "," "," "," "," "," "," "," "," "," "," "," "," "," "," "," "," "]
["A06.20.002.002","Спиральная компьютерная томография органов малого таза у женщин с внутривенным болюсным контрастированием",3862.19," "," ",4920.43," "," "," "," "," "," "," "," ",4920.43," "," ",4920.43,4920.43," "," "," "," ",6924.91," "," ",4796.84,4904.9799999999996," "," "," "," "," "," "," "," "," "," "," ",4920.43,6816.77," "," "," ",4920.43,4920.43," ",5333.68," "," "," "," "," "," "," ",4920.43," "," "," "," "," "," "," ",4920.43,5333.68," "]
["A06.20.002.002 Д","Спиральная компьютерная томография органов малого таза  у женщин с внутривенным болюсным контрастированием",4397.6499999999996," "," "," "," "," "," "," "," "," "," "," ",5602.61," "," ",5602.61,5602.61," "," "," "," "," "," "," "," "," "," "," "," "," "," "," "," "," "," "," "," ",5602.61,7761.85," "," "," ",5602.61,5602.61," ",6073.15," "," "," "," "," "," "," ",5602.61," "," "," "," "," "," "," "," "," "," "]
["A06.20.002.002 ДН","Спиральная компьютерная томография органов малого таза у женщин с внутривенным болюсным контрастированием с наркозом",9793.91," "," "," "," "," "," "," "," "," "," "," "," "," "," "," "," "," "," "," "," "," "," "," "," "," "," "," "," "," "," "," "," "," "," "," "," "," "," "," "," "," "," ",12477.44," ",13525.39," "," "," "," "," "," "," "," "," "," "," "," "," "," "," "," "," "," "]
["A06.20.002.003","Компьютерная томография органов малого таза у женщин с контрастированием",2843.29," "," ",3622.35," "," "," "," "," "," "," "," ",3622.35," "," ",3622.35," "," "," "," "," "," "," "," "," ",3610.98," "," "," "," "," "," "," "," "," "," "," "," ",5018.41," "," "," ",3622.35,3622.35," ",3926.58," "," "," "," "," "," "," ",3622.35," "," "," "," "," "," "," "," "," "," "]
["A06.20.002.003 Д","Компьютерная томография органов малого таза у женщин с контрастированием",3191.76," "," "," "," "," "," "," "," "," "," "," ",4066.3," "," ",4066.3," "," "," "," "," "," "," "," "," "," "," "," "," "," "," "," "," "," "," "," "," "," ",5633.46," "," "," ",4066.3,4066.3," ",4407.82," "," "," "," "," "," "," ",4066.3," "," "," "," "," "," "," "," "," "," "]
["A06.20.002.003 ДН","Компьютерная томография органов малого таза у женщин с контрастированием с наркозом",8588.01," "," "," "," "," "," "," "," "," "," "," "," "," "," "," "," "," "," "," "," "," "," "," "," "," "," "," "," "," "," "," "," "," "," "," "," "," "," "," "," "," "," ",10941.12," ",11860.04," "," "," "," "," "," "," "," "," "," "," "," "," "," "," "," "," "," "]
["A06.20.002.004","Компьютерная томография органов малого таза у женщин с внутривенным болюсным контрастированием, мультипланарной и трехмерной реконструкцией",749.73," "," ",955.16," "," "," "," "," "," "," "," ",955.16," "," ",955.16," "," "," "," "," "," "," "," "," "," "," "," "," "," "," "," "," "," "," "," "," "," ",1323.27," "," "," ",955.16," "," ",1035.3800000000001," "," "," "," "," "," "," ",955.16," "," "," "," "," "," "," "," "," "," "]
["A06.20.002.004 Д","Компьютерная томография органов малого таза у женщин с внутривенным болюсным контрастированием, мультипланарной и трехмерной реконструкцией",2669.14," "," "," "," "," "," "," "," "," "," "," ",3400.48," "," "," "," "," "," "," "," "," "," "," "," "," "," "," "," "," "," "," "," "," "," "," "," "," ",4711.03," "," "," ",3400.48," "," ",3686.08," "," "," "," "," "," "," ",3400.48," "," "," "," "," "," "," "," "," "," "]
["A06.20.002.004 ДН","Компьютерная томография органов малого таза у женщин с внутривенным болюсным контрастированием, мультипланарной и трехмерной реконструкцией с наркозом",8065.39," "," "," "," "," "," "," "," "," "," "," "," "," "," "," "," "," "," "," "," "," "," "," "," "," "," "," "," "," "," "," "," "," "," "," "," "," "," "," "," "," "," ",10275.31," ",11138.3," "," "," "," "," "," "," "," "," "," "," "," "," "," "," "," "," "," "]
["A06.21.003","Компьютерная томография органов таза у мужчин",438.6," "," ",558.78," "," "," "," "," "," "," "," ",558.78," "," ",558.78," "," "," "," "," ",786.41," "," ",544.74," "," "," "," "," "," "," "," "," "," "," "," "," ",774.13," "," "," ",558.78," "," "," "," "," "," "," "," "," "," "," "," "," "," "," "," "," "," "," "," "," "]
["A06.21.003 Д","Компьютерная томография органов таза у мужчин",799.15," "," "," "," "," "," "," "," "," "," "," ",1018.12," "," ",1018.12," "," "," "," "," "," "," "," "," "," "," "," "," "," "," "," "," "," "," "," "," "," ",1410.5," "," "," ",1018.12," "," "," "," "," "," "," "," "," "," "," "," "," "," "," "," "," "," "," "," "," "]
["A06.21.003 ДН","Компьютерная томография органов таза у мужчин с наркозом",6195.41," "," "," "," "," "," "," "," "," "," "," "," "," "," "," "," "," "," "," "," "," "," "," "," "," "," "," "," "," "," "," "," "," "," "," "," "," "," "," "," "," "," ",7892.95," "," "," "," "," "," "," "," "," "," "," "," "," "," "," "," "," "," "," "," "]
["A06.21.003.001","Спиральная компьютерная томография органов таза у мужчин",1544.73," "," ",1967.99,1967.99," "," "," "," "," "," "," ",1967.99," ",1967.99,1967.99,1967.99," "," "," "," "," ",2517.91," "," ",1961.81," "," "," "," "," "," "," "," "," "," "," ",1967.99,2726.45," "," "," ",1967.99,1967.99," ",2133.27," "," "," "," "," "," "," ",1967.99," "," "," "," "," "," "," ",1967.99,2133.27," "]
["A06.21.003.001 Д","Спиральная компьютерная томография органов таза у мужчин",2164.23," ",2757.23," "," "," "," "," "," "," "," "," ",2757.23," "," ",2757.23,2757.23," "," "," "," "," "," "," "," "," "," "," "," "," "," "," "," "," "," "," "," ",2757.23,3819.87," "," "," ",2757.23,2757.23," ",2988.8," "," "," "," "," "," "," ",2757.23," "," "," "," "," "," "," "," "," "," "]
["A06.21.003.001 ДН","Спиральная компьютерная томография органов таза у мужчин с наркозом",7560.48," ",9632.0499999999993," "," "," "," "," "," "," "," "," "," "," "," "," "," "," "," "," "," "," "," "," "," "," "," "," "," "," "," "," "," "," "," "," "," "," "," "," "," "," "," ",9632.0499999999993," ",10441.02," "," "," "," "," "," "," "," "," "," "," "," "," "," "," "," "," "," "]
["A06.21.003.002","Спиральная компьютерная томография органов таза у мужчин с внутривенным болюсным контрастированием",3862.19," "," ",4920.43," "," "," "," "," "," "," "," ",4920.43," "," ",4920.43,4920.43," "," "," "," "," "," "," "," ",4904.9799999999996," "," "," "," "," "," "," "," "," "," "," ",4920.43,6816.77," "," "," ",4920.43,4920.43," ",5333.68," "," "," "," "," "," "," ",4920.43," "," "," "," "," "," "," ",4920.43,5333.68," "]
["A06.21.003.002 Д","Спиральная компьютерная томография органов таза у мужчин с внутривенным болюсным контрастированием",4397.6499999999996," "," "," "," "," "," "," "," "," "," "," ",5602.61," "," ",5602.61,5602.61," "," "," "," "," "," "," "," "," "," "," "," "," "," "," "," "," "," "," "," ",5602.61,7761.85," "," "," ",5602.61,5602.61," ",6073.15," "," "," "," "," "," "," ",5602.61," "," "," "," "," "," "," "," "," "," "]
["A06.21.003.002 ДН","Спиральная компьютерная томография органов таза у мужчин с внутривенным болюсным контрастированием с наркозом",9793.91," "," "," "," "," "," "," "," "," "," "," "," "," "," "," "," "," "," "," "," "," "," "," "," "," "," "," "," "," "," "," "," "," "," "," "," "," "," "," "," "," "," ",12477.44," ",13525.39," "," "," "," "," "," "," "," "," "," "," "," "," "," "," "," "," "," "]
["A06.21.003.003","Компьютерная томография органов таза у мужчин с контрастированием",2843.29," "," ",3622.35," "," "," "," "," "," "," "," ",3622.35," "," ",3622.35," "," "," "," "," ",5098.0200000000004," "," "," ",3610.98," "," "," "," "," "," "," "," "," "," "," "," ",5018.41," "," "," ",3622.35,3622.35," ",3926.58," "," "," "," "," "," "," ",3622.35," "," "," "," "," "," "," "," "," "," "]
["A06.21.003.003 Д","Компьютерная томография органов таза у мужчин с контрастированием",3191.76," "," "," "," "," "," "," "," "," "," "," ",4066.3," "," ",4066.3," "," "," "," "," "," "," "," "," "," "," "," "," "," "," "," "," "," "," "," "," "," ",5633.46," "," "," ",4066.3,4066.3," ",4407.82," "," "," "," "," "," "," ",4066.3," "," "," "," "," "," "," "," "," "," "]
["A06.21.003.003 ДН","Компьютерная томография органов таза у мужчин с контрастированием с наркозом",8588.01," "," "," "," "," "," "," "," "," "," "," "," "," "," "," "," "," "," "," "," "," "," "," "," "," "," "," "," "," "," "," "," "," "," "," "," "," "," "," "," "," "," ",10941.12," ",11860.04," "," "," "," "," "," "," "," "," "," "," "," "," "," "," "," "," "," "]
["A06.22.002.002","Спиральная компьютерная томография турецкого седла без контраста",1028.99," "," ",1310.93," "," "," "," "," "," "," "," ",1310.93," "," ",1310.93," "," "," "," "," "," ",1677.25," "," "," "," "," "," "," "," "," "," "," "," "," "," ",1310.93,1816.17," "," "," "," ",1310.93," ",1421.04," "," "," "," "," "," "," ",1310.93," "," "," "," "," "," "," "," "," "," "]
["A06.22.002.003","Спиральная компьютерная томография турецкого седла с введением болюсного контрастного вещества",2883.94," "," ",3674.14," "," "," "," "," "," "," "," ",3674.14," "," ",3674.14," "," "," "," "," "," "," "," ",3581.85," "," "," "," "," "," "," "," "," "," "," "," ",3674.14,5090.1499999999996," "," "," "," ",3674.14," ",3982.72," "," "," "," "," "," "," ",3674.14," "," "," "," "," "," "," ",3674.14," "," "]
["A06.22.002.004","Спиральная компьютерная томография турецкого седла с введением контрастного вещества",4143.1899999999996," "," ",5278.42," "," "," "," "," "," "," "," ",5278.42," "," ",5278.42," "," "," "," "," "," "," "," "," "," "," "," "," "," "," "," "," "," "," "," "," ",5278.42,7312.73," "," "," "," ",5278.42," ",5721.75," "," "," "," "," "," "," ",5278.42," "," "," "," "," "," "," "," "," "," "]
["A06.22.003","Спиральная компьютерная томография надпочечников без введения контраста",1457.58," "," ",1856.96,1856.96," "," "," "," "," "," "," ",1856.96," "," ",1856.96,1856.96," "," "," "," "," ",2375.86," "," "," "," "," "," "," "," "," "," "," "," "," "," ",1856.96,2572.63," "," "," ",1856.96,1856.96," ",2012.92," "," "," "," "," "," "," ",1856.96," "," "," "," "," "," "," ",1856.96,2012.92," "]
["A06.22.003 Д","Спиральная компьютерная томография надпочечников без введения контраста",1706.42," ",2173.98," "," "," "," "," "," "," "," "," ",2173.98," "," ",2173.98,2173.98," "," "," "," "," "," "," "," "," "," "," "," "," "," "," "," "," "," "," "," ",2173.98,3011.83," "," "," ",2173.98,2173.98," ",2356.5700000000002," "," "," "," "," "," "," ",2173.98," "," "," "," "," "," "," ",2173.98," "," "]
["A06.22.003.001","Спиральная компьютерная томография надпочечников с введения контрастного вещества",3460.28," "," ",4408.3999999999996," "," "," "," "," "," "," "," ",4408.3999999999996," "," ",4408.3999999999996," "," "," "," "," "," "," "," "," "," "," "," "," "," "," "," "," "," "," "," "," "," ",6107.39," "," "," ",4408.3999999999996,4408.3999999999996," ",4778.6499999999996," "," "," "," "," "," "," ",4408.3999999999996," "," "," "," "," "," "," "," "," "," "]
["A06.22.003.001 Д","Спиральная компьютерная томография надпочечников с введения контрастного вещества",3731.09," ",4753.41," "," "," "," "," "," "," "," "," ",4753.41," "," ",4753.41," "," "," "," "," "," "," "," "," "," "," "," "," "," "," "," "," "," "," "," "," "," ",6585.37," "," "," ",4753.41,4753.41," ",5152.6400000000003," "," "," "," "," "," "," ",4753.41," "," "," "," "," "," "," "," "," "," "]
["A06.22.003.002","Спиральная компьютерная томография надпочечников с введения болюсного контрастного вещества",4668.5," "," ",5947.67," "," "," "," "," "," "," "," ",5947.67," "," ",5947.67,5947.67," "," "," "," "," "," ",8239.9,5798.28," "," "," "," "," "," "," "," "," "," "," "," ",5947.67,8239.9," "," "," ",5947.67,5947.67," ",6447.2," "," "," "," "," "," "," ",5947.67," "," "," "," "," "," "," ",5947.67,6447.2," "]
["A06.22.003.002 Д","Спиральная компьютерная томография надпочечников с введения болюсного контрастного вещества",4955.2," "," "," "," "," "," "," "," "," "," "," ",6312.92," "," ",6312.92,6312.92," "," "," "," "," "," ",8745.93," "," "," "," "," "," "," "," "," "," "," "," "," ",6312.92,8745.93," "," "," ",6312.92,6312.92," ",6843.13," "," "," "," "," "," "," ",6312.92," "," "," "," "," "," "," ",6312.92," "," "]
["A06.23.004.001","Компьютерно-томографическая перфузия головного мозга",3385.19," "," "," "," "," "," "," "," "," "," "," ",4312.7299999999996," "," ",4312.7299999999996," "," "," "," "," "," "," "," "," "," "," "," "," "," "," "," "," "," "," "," "," "," "," "," "," "," ",4312.7299999999996," "," ",4674.95," "," "," "," "," "," "," "," "," "," "," "," "," "," "," "," "," "," "]
["A06.23.004.003","Компьютерная томография головы с контрастированием структур головного мозга",2461.16," "," ",3135.52," "," "," "," "," "," "," "," ",3135.52," "," ",3135.52," "," "," "," "," "," "," "," "," "," "," "," "," "," "," "," "," "," "," "," "," "," ",4343.95," "," "," ",3135.52,3135.52," ",3398.86," "," "," "," "," "," "," ",3135.52," "," "," "," "," "," "," "," "," "," "]
["A06.23.004.003 Д","Компьютерная томография структур головного мозга с контрастированием",2796.98," "," "," "," "," "," "," "," "," "," "," ",3563.35," "," ",3563.35," "," "," "," "," "," "," "," "," "," "," "," "," "," "," "," "," "," "," "," "," "," ",4936.67," "," "," ",3563.35,3563.35," ",3862.63," "," "," "," "," "," "," ",3563.35," "," "," "," "," "," "," "," "," "," "]
["A06.23.004.003 ДН","Компьютерная томография структур головного мозга с контрастированием с наркозом",8193.25," "," "," "," "," "," "," "," "," "," "," "," "," "," "," "," "," "," "," "," "," "," "," "," "," "," "," "," "," "," "," "," "," "," "," "," "," "," "," "," "," "," ",10438.200000000001," ",11314.88," "," "," "," "," "," "," "," "," "," "," "," "," "," "," "," "," "," "]
["A06.23.004.004","Компьютерная томография головы спиральная с контрастированием",1926.47," "," ",2454.3200000000002," "," "," "," "," "," "," "," ",2454.3200000000002," "," ",2454.3200000000002," "," "," "," "," "," "," "," "," "," "," "," "," "," "," "," "," "," "," "," "," "," ",3400.22," "," "," ",2454.3200000000002,2454.3200000000002," ",2660.46," "," "," "," "," "," "," ",2454.3200000000002," "," "," "," "," "," "," "," "," "," "]
["A06.23.004.004 Д","Компьютерная томография головы с контрастированием структур головного мозга",3742.74," "," "," "," "," "," "," "," "," "," "," ",4768.25," "," ",4768.25," "," "," "," "," "," "," "," "," "," "," "," "," "," "," "," "," "," "," "," "," "," ",6605.94," "," "," ",4768.25,4768.25," ",5168.72," "," "," "," "," "," "," ",4768.25," "," "," "," "," "," "," "," "," "," "]
["A06.23.004.005","Компьютерно-томографическое спиральное перфузионное исследование лицевого отдела черепа",3172.53," "," "," "," "," "," "," "," "," "," "," ",4041.8," "," ",4041.8," "," "," "," "," "," "," "," "," "," "," "," "," "," "," "," "," "," "," "," "," "," "," "," "," "," ",4041.8," "," ",4381.26," "," "," "," "," "," "," "," "," "," "," "," "," "," "," "," "," "," "]
["A06.23.004.009","Спиральная компьютерная перфузия головного мозга",3040.72," "," ",3873.88," "," "," "," "," "," "," "," ",3873.88," "," ",3873.88," "," "," "," "," "," "," "," "," "," "," "," "," "," "," "," "," "," "," "," "," "," ",5366.87," "," "," ",3873.88," "," ",4199.2299999999996," "," "," "," "," "," "," ",3873.88," "," "," "," "," "," "," "," "," "," "]
["A06.23.007","Компьютерно-томографическая вентрикулография",2154.56," "," "," "," "," "," "," "," "," "," "," "," "," "," "," "," "," "," "," "," "," "," "," "," "," "," "," "," "," "," "," "," "," "," "," "," "," "," "," "," "," ",2744.91," "," "," "," "," "," "," "," "," "," "," "," "," "," "," "," "," "," "," "," "," "]
["A06.23.008","Компьютерно-томографическая цистернография",2144.7199999999998," "," "," "," "," "," "," "," "," "," "," "," "," "," "," "," "," "," "," "," "," "," "," "," "," "," "," "," "," "," "," "," "," "," "," "," "," "," "," "," "," ",2732.37," "," "," "," "," "," "," "," "," "," "," "," "," "," "," "," "," "," "," "," "," "]
["A06.23.010.001","Спиральная компьютерная томография головного мозга с болюсным введением контрастного вещества",4143.1899999999996," "," ",5278.42," "," "," "," "," "," "," "," ",5278.42," ",5278.42,5278.42,5278.42," "," "," "," "," "," ",7312.73,5145.84,5261.85," "," "," "," "," "," "," "," "," "," "," ",5278.42,7312.73," "," "," ",5278.42,5278.42," ",5721.75," "," "," "," "," "," "," ",5278.42," "," "," "," "," "," "," ",5278.42," "," "]
["A06.23.010.001 Д","Спиральная компьютерная томография головного мозга с болюсным введением контрастного вещества",4275.3599999999997," "," "," "," "," "," "," "," "," "," "," ",5446.81," "," ",5446.81,5446.81," "," "," "," "," "," ",7546.01," "," "," "," "," "," "," "," "," "," "," "," "," ",5446.81,7546.01," "," "," ",5446.81,5446.81," ",5904.27," "," "," "," "," "," "," ",5446.81," "," "," "," "," "," "," "," "," "," "]
["A06.25.003.001","Спиральная компьютерная томография височной кости",1544.73," "," ",1967.99,1967.99," "," "," "," "," "," "," ",1967.99," ",1967.99,1967.99," "," "," "," "," ",2769.7,2517.91,2726.45," ",1961.81," "," "," "," "," "," "," "," "," "," "," ",1967.99,2726.45," "," "," ",1967.99,1967.99," ",2133.27," "," "," "," "," "," "," ",1967.99," "," "," "," "," ",1967.99," ",1967.99,2133.27," "]
["A06.25.003.001 Д","Спиральная компьютерная томография височной кости",2164.23," ",2757.23," "," "," "," "," "," "," "," "," ",2757.23," "," ",2757.23," "," "," "," "," "," "," ",3819.87," "," "," "," "," "," "," "," "," "," "," "," "," ",2757.23,3819.87," "," "," ",2757.23,2757.23," ",2988.8," "," "," "," "," "," "," ",2757.23," "," "," "," "," "," "," ",2757.23," "," "]
["A06.25.003.001 ДН","Спиральная компьютерная томография височной кости с наркозом",7560.48," ",9632.0499999999993," "," "," "," "," "," "," "," "," "," "," "," "," "," "," "," "," "," "," "," "," "," "," "," "," "," "," "," "," "," "," "," "," "," "," "," "," "," "," "," ",9632.0499999999993," ",10441.02," "," "," "," "," "," "," "," "," "," "," "," "," "," "," "," "," "," "]
["A06.25.003.002","Спиральная компьютерная томография височной кости с введением контрастного вещества",2883.94," "," ",3674.14," "," "," "," "," "," "," "," ",3674.14," "," ",3674.14," "," "," "," "," "," "," "," "," ",3662.6," "," "," "," "," "," "," "," "," "," "," "," ",5090.1499999999996," "," "," ",3674.14,3674.14," ",3982.72," "," "," "," "," "," "," ",3674.14," "," "," "," "," "," "," "," "," "," "]
["A06.25.003.002 Д","Спиральная компьютерная томография височной кости с введением контрастного вещества",3293.97," ",4196.5200000000004," "," "," "," "," "," "," "," "," ",4196.5200000000004," "," ",4196.5200000000004," "," "," "," "," "," "," "," "," "," "," "," "," "," "," "," "," "," "," "," "," "," ",5813.86," "," "," ",4196.5200000000004,4196.5200000000004," ",4548.97," "," "," "," "," "," "," ",4196.5200000000004," "," "," "," "," "," "," "," "," "," "]
["A06.25.003.002 ДН","Спиральная компьютерная томография височной кости с введением контрастного вещества с наркозом",8690.2199999999993," ",11071.34," "," "," "," "," "," "," "," "," "," "," "," "," "," "," "," "," "," "," "," "," "," "," "," "," "," "," "," "," "," "," "," "," "," "," "," "," "," "," "," ",11071.34," ",12001.19," "," "," "," "," "," "," "," "," "," "," "," "," "," "," "," "," "," "]
["A06.25.003.003","Спиральная компьютерная томография височной кости с болюсным введением контрастного вещества",4143.1899999999996," "," ",5278.42," "," "," "," "," "," "," "," ",5278.42," "," ",5278.42," "," "," "," "," "," "," "," "," "," "," "," "," "," "," "," "," "," "," "," "," ",5278.42,7312.73," "," "," ",5278.42,5278.42," ",5721.75," "," "," "," "," "," "," ",5278.42," "," "," "," "," "," "," ",5278.42," "," "]
["A06.25.003.003 Д","Спиральная компьютерная томография височной кости с болюсным введением контрастного вещества",4275.3599999999997," "," "," "," "," "," "," "," "," "," "," ",5446.81," "," ",5446.81," "," "," "," "," "," "," "," "," "," "," "," "," "," "," "," "," "," "," "," "," ",5446.81,7546.01," "," "," ",5446.81,5446.81," ",5904.27," "," "," "," "," "," "," ",5446.81," "," "," "," "," "," "," ",5446.81," "," "]
["A06.26.006","Компьютерная томография глазницы",438.6," "," ",558.78," "," "," "," "," "," "," "," ",558.78," "," ",558.78," "," "," "," "," ",786.41," "," "," "," "," "," "," "," "," "," "," "," "," "," "," "," ",774.13," "," "," ",558.78," "," "," "," "," "," "," "," "," "," "," "," "," "," "," "," "," "," "," "," "," "]
["A06.26.006 ДН","Компьютерная томография глазницы с наркозом",6166.44," "," "," "," "," "," "," "," "," "," "," "," "," "," "," "," "," "," "," "," "," "," "," "," "," "," "," "," "," "," "," "," "," "," "," "," "," "," "," "," "," "," ",7856.04," ",8515.85," "," "," "," "," "," "," "," "," "," "," "," "," "," "," "," "," "," "]
["A06.26.006.002","Спиральная компьютерная томография глазницы без контраста",429.24," "," ",546.85,546.85," "," "," "," "," "," "," ",546.85," ",546.85,546.85," "," "," "," "," "," ",699.66," "," "," "," "," "," "," "," "," "," "," "," "," "," ",546.85,757.61," "," "," ",546.85," "," "," "," "," "," "," "," "," "," "," "," "," "," "," "," "," "," ",546.85," "," "]
["A06.26.006.002 Д","Спиральная компьютерная томография орбит без контраста",472.16," ",601.53," "," "," "," "," "," "," "," "," ",601.53," "," ",601.53," "," "," "," "," "," "," "," "," "," "," "," "," "," "," "," "," "," "," "," "," ",601.53,833.36," "," "," ",601.53," "," "," "," "," "," "," "," "," "," "," "," "," "," "," "," "," "," ",601.53," "," "]
["A06.26.006.002 ДН","Спиральная компьютерная томография орбит с наркозом",5868.42," ",7476.37," "," "," "," "," "," "," "," "," "," "," "," "," "," "," "," "," "," "," "," "," "," "," "," "," "," "," "," "," "," "," "," "," "," "," "," "," "," "," "," ",7476.37," "," "," "," "," "," "," "," "," "," "," "," "," "," "," "," "," "," "," "," "]
["A06.26.006.003","Спиральная компьютерная томография глазницы с введением контрастного вещества",2284.1799999999998," "," ",2910.05," "," "," "," "," "," "," "," ",2910.05," "," ",2910.05," "," "," "," "," "," "," "," "," "," "," "," "," "," "," "," "," "," "," "," "," "," ",4031.58," "," "," ",2910.05,2910.05," ",3154.45," "," "," "," "," "," "," ",2910.05," "," "," "," "," "," "," "," "," "," "]
["A06.26.006.003 Д","Спиральная компьютерная томография орбит с введением контрастного вещества",2512.6," ",3201.05," "," "," "," "," "," "," "," "," ",3201.05," "," ",3201.05," "," "," "," "," "," "," "," "," "," "," "," "," "," "," "," "," "," "," "," "," "," ",4434.74," "," "," ",3201.05,3201.05," ",3469.9," "," "," "," "," "," "," ",3201.05," "," "," "," "," "," "," "," "," "," "]
["A06.26.006.004","Спиральная компьютерная томография глазницы с введением болюсного контрастного вещества",3543.43," "," ",4514.33," "," "," "," "," "," "," "," ",4514.33," "," ",4514.33," "," "," "," "," "," "," "," "," "," "," "," "," "," "," "," "," "," "," "," "," ",4514.33,6254.15," "," "," ",4514.33,4514.33," ",4893.4799999999996," "," "," "," "," "," "," ",4514.33," "," "," "," "," "," "," ",4514.33," "," "]
["A06.26.006.004 Д","Спиральная компьютерная томография глазницы с введением болюсного контрастного вещества",3897.78," "," "," "," "," "," "," "," "," "," "," ",4965.7700000000004," "," ",4965.7700000000004," "," "," "," "," "," "," "," "," "," "," "," "," "," "," "," "," "," "," "," "," ",4965.7700000000004,6879.58," "," "," ",4965.7700000000004,4965.7700000000004," ",5382.83," "," "," "," "," "," "," ",4965.7700000000004," "," "," "," "," "," "," "," "," "," "]
["A06.26.006Д","Компьютерная томография глазницы",770.19," "," "," "," "," "," "," "," "," "," "," ",981.22," "," "," "," "," "," "," "," "," "," "," "," "," "," "," "," "," "," "," "," "," "," "," "," "," "," "," "," "," ",981.22," "," "," "," "," "," "," "," "," "," "," "," "," "," "," "," "," "," "," "," "," "]
["A06.28.009","Компьютерная томография почек и надпочечников",454.25," "," ",578.71," "," "," "," "," "," "," "," ",578.71," "," ",578.71," "," "," "," "," ",814.47," "," "," "," "," "," "," "," "," "," "," "," "," "," "," "," ",801.75," "," "," ",578.71," "," "," "," "," "," "," "," "," "," "," "," "," "," "," "," "," "," "," "," "," "]
["A06.28.009 Д","Компьютерная томография почек и надпочечников",819.8," "," "," "," "," "," "," "," "," "," "," ",1044.43," "," ",1044.43," "," "," "," "," "," "," "," "," "," "," "," "," "," "," "," "," "," "," "," "," "," ",1446.95," "," "," ",1044.43," "," "," "," "," "," "," "," "," "," "," "," "," "," "," "," "," "," "," "," "," "]
["A06.28.009.001","Компьютерная томография почек и верхних мочевыводящих путей с болюсным контрастированием",4668.5," "," ",5947.67," "," "," "," "," "," "," "," ",5947.67," ",5947.67,5947.67," "," "," "," "," "," "," "," ",5798.28," "," "," "," "," "," "," "," "," "," "," "," "," ",8239.9," "," "," ",5947.67,5947.67," ",6447.2," "," "," "," "," "," "," ",5947.67," "," "," "," "," ",5947.67," "," "," "," "]
["A06.28.009.001 Д","Компьютерная томография почек  и верхних мочевыводящих путей с болюсным контрастированием",4955.2," "," "," "," "," "," "," "," "," "," "," ",6312.92," "," ",6312.92," "," "," "," "," "," "," "," "," "," "," "," "," "," "," "," "," "," "," "," "," "," ",8745.93," "," "," ",6312.92,6312.92," ",6843.13," "," "," "," "," "," "," ",6312.92," "," "," "," "," "," "," "," "," "," "]
["A06.28.009.002","Спиральная компьютерная томография почек и надпочечников",1544.73," "," ",1967.99,1967.99," "," "," "," "," "," "," ",1967.99," ",1967.99,1967.99,1967.99," "," "," "," "," ",2517.91," "," ",1961.81," "," "," "," "," "," "," "," "," "," "," ",1967.99,2726.45," "," "," ",1967.99,1967.99," ",2133.27," "," "," "," "," "," "," ",1967.99," "," "," "," "," ",1967.99," ",1967.99,2133.27," "]
["A06.28.009.002 Д","Спиральная компьютерная томография почек и надпочечников",2164.23," ",2757.23," "," "," "," "," "," "," "," "," ",2757.23," "," ",2757.23,2757.23," "," "," "," "," "," "," "," "," "," "," "," "," "," "," "," "," "," "," "," ",2757.23,3819.87," "," "," ",2757.23,2757.23," ",2988.8," "," "," "," "," "," "," ",2757.23," "," "," "," "," "," "," ",2757.23," "," "]
["A06.28.009.002 ДН","Спиральная компьютерная томография почек и надпочечников с наркозом",7560.48," ",9632.0499999999993," "," "," "," "," "," "," "," "," "," "," "," "," "," "," "," "," "," "," "," "," "," "," "," "," "," "," "," "," "," "," "," "," "," "," "," "," "," "," "," ",9632.0499999999993," ",10441.02," "," "," "," "," "," "," "," "," "," "," "," "," "," "," "," "," "," "]
["A06.28.009.003","Спиральная компьютерная томография почек и надпочечников с введением контрастного вещества",2883.94," "," ",3674.14," "," "," "," "," "," "," "," ",3674.14," ",3674.14,3674.14,3674.14," "," "," "," "," "," "," "," ",3662.6," "," "," "," "," "," "," "," "," "," "," "," ",5090.1499999999996," "," "," ",3674.14,3674.14," ",3982.72," "," "," "," "," "," "," ",3674.14," "," "," "," "," "," "," "," "," "," "]
["A06.28.009.003 Д","Спиральная компьютерная томография почек и надпочечников с введением контрастного вещества",3293.97," ",4196.5200000000004," "," "," "," "," "," "," "," "," ",4196.5200000000004," "," ",4196.5200000000004," "," "," "," "," "," "," "," "," "," "," "," "," "," "," "," "," "," "," "," "," "," ",5813.86," "," "," ",4196.5200000000004,4196.5200000000004," ",4548.97," "," "," "," "," "," "," ",4196.5200000000004," "," "," "," "," "," "," "," "," "," "]
["A06.28.009.003 ДН","Спиральная компьютерная томография почек и надпочечников с введением контрастного вещества с наркозом",8690.2199999999993," ",11071.34," "," "," "," "," "," "," "," "," "," "," "," "," "," "," "," "," "," "," "," "," "," "," "," "," "," "," "," "," "," "," "," "," "," "," "," "," "," "," "," ",11071.34," ",12001.19," "," "," "," "," "," "," "," "," "," "," "," "," "," "," "," "," "," "]
["A06.28.009.004","Компьютерная томография почек и верхних мочевыводящих путей с контрастированием",3460.28," "," ",4408.3999999999996," "," "," "," "," "," "," "," ",4408.3999999999996," ",4408.3999999999996,4408.3999999999996," "," "," "," "," "," "," "," "," "," "," "," "," "," "," "," "," "," "," "," "," "," ",6107.39," "," "," ",4408.3999999999996,4408.3999999999996," ",4778.6499999999996," "," "," "," "," "," "," ",4408.3999999999996," "," "," "," "," "," "," "," "," "," "]
["A06.28.009.004 Д","Компьютерная томография почек и верхних мочевыводящих путей с контрастированием",3731.09," "," "," "," "," "," "," "," "," "," "," ",4753.41," "," ",4753.41," "," "," "," "," "," "," "," "," "," "," "," "," "," "," "," "," "," "," "," "," "," ",6585.37," "," "," ",4753.41,4753.41," ",5152.6400000000003," "," "," "," "," "," "," ",4753.41," "," "," "," "," "," "," "," "," "," "]
["A06.28.009.005","Спиральная компьютерная томография почек и надпочечников с болюсным введением  контрастного вещества",4143.1899999999996," "," ",5278.42," "," "," "," "," "," "," "," ",5278.42," ",5278.42,5278.42,5278.42," "," "," "," ",7428.74," ",7312.73," ",5261.85," "," "," "," "," "," "," "," "," "," "," ",5278.42,7312.73," "," "," ",5278.42,5278.42," ",5721.75," "," "," "," "," "," "," ",5278.42," "," "," "," "," "," "," ",5278.42,5721.75," "]
["A06.28.009.005 Д","Спиральная компьютерная томография почек и надпочечников с болюсным введением  контрастного вещества",4275.3599999999997," "," "," "," "," "," "," "," "," "," "," ",5446.81," "," ",5446.81,5446.81," "," "," "," "," "," ",7546.01," "," "," "," "," "," "," "," "," "," "," "," "," ",5446.81,7546.01," "," "," ",5446.81,5446.81," ",5904.27," "," "," "," "," "," "," ",5446.81," "," "," "," "," "," "," "," "," "," "]
["A06.30.002.001","Описание и интерпретация компьютерных томограмм",160.91," ",205," "," "," "," "," "," "," "," "," "," "," ",205,205,205," "," "," "," "," "," "," "," ",204.36," "," "," "," "," "," "," "," "," "," "," "," ",284.01," "," "," "," ",205," ",222.22," "," "," "," "," "," "," ",205," "," "," "," "," "," "," "," ",222.22," "]
["A06.30.002.001.019","Описание и интерпретация компьютерных (с применением контрастного вещества)",226.28," ",288.27999999999997," "," "," "," "," "," "," "," "," "," "," "," ",288.27999999999997,288.27999999999997," "," "," "," "," "," "," "," ",287.38," "," "," "," "," "," "," "," "," "," "," "," ",399.38," "," "," "," ",288.27999999999997," ",312.49," "," "," "," "," "," "," ",288.27999999999997," "," "," "," "," "," "," "," ",312.49," "]
["A06.30.002.002","Описание и интерпретация магнитно-резонансных томограмм",160.91," "," "," "," "," "," "," "," "," "," "," "," "," ",205,205," "," "," "," "," "," "," "," "," "," "," "," "," "," "," "," "," "," "," "," "," "," ",284.01," ",205," "," ",205," ",222.22," "," "," "," "," "," "," "," "," "," "," "," "," "," "," "," "," "," "]
["A06.30.002.002.019","Описание и интерпретация магнитно-резонансных томограмм  (с применением контрастного",226.28," "," "," "," "," "," "," "," "," "," "," "," "," "," ",288.27999999999997," "," "," "," "," "," "," "," "," "," "," "," "," "," "," "," "," "," "," "," "," "," ",399.38," ",288.27999999999997," "," ",288.27999999999997," ",312.49," "," "," "," "," "," "," "," "," "," "," "," "," "," "," "," "," "," "]
["A06.30.005","Компьютерная томография органов брюшной полости",454.25," "," ",578.71," "," "," "," "," "," "," "," ",578.71," ",578.71,578.71," "," "," "," "," ",814.47," ",801.75," ",576.9," "," "," "," "," "," "," "," "," "," "," "," ",801.75," "," "," ",578.71," "," "," "," "," "," "," "," "," "," "," "," "," "," "," "," "," "," "," "," "," "]
["A06.30.005 Д","Компьютерная томография органов брюшной полости",770.19," "," "," "," "," "," "," "," "," "," "," ",981.22," "," ",981.22," "," "," "," "," "," "," "," "," "," "," "," "," "," "," "," "," "," "," "," "," "," ",1359.39," "," "," ",981.22," "," "," "," "," "," "," "," "," "," "," "," "," "," "," "," "," "," "," "," "," "]
["A06.30.005 ДН","Компьютерная томография органов брюшной полости с наркозом",6166.44," "," "," "," "," "," "," "," "," "," "," "," "," "," "," "," "," "," "," "," "," "," "," "," "," "," "," "," "," "," "," "," "," "," "," "," "," "," "," "," "," "," ",7856.04," "," "," "," "," "," "," "," "," "," "," "," "," "," "," "," "," "," "," "," "]
["A06.30.005.002","Компьютерная томография органов брюшной полости и забрюшинного пространства с внутривенным болюсным контрастированием",2796.42," "," ",3562.64," "," "," "," "," "," "," "," ",3562.64," ",3562.64,3562.64," "," "," "," "," ",5013.9799999999996," ",4935.68,3473.15," "," "," "," "," "," "," "," "," "," "," "," "," ",4935.68," "," "," ",3562.64,3562.64," ",3861.86," "," "," "," "," "," "," ",3562.64," "," "," "," "," "," "," "," "," "," "]
["A06.30.005.002 Д","Компьютерная томография органов брюшной полости и забрюшинного пространства с внутривенным болюсным контрастированием",3171.43," "," "," "," "," "," "," "," "," "," "," ",4040.4," "," ",4040.4," "," "," "," "," "," "," "," "," "," "," "," "," "," "," "," "," "," "," "," "," "," ",5597.57," "," "," ",4040.4,4040.4," ",4379.74," "," "," "," "," "," "," ",4040.4," "," "," "," "," "," "," "," "," "," "]
["A06.30.005.002 ДН","Компьютерная томография органов брюшной полости и забрюшинного пространства с внутривенным болюсным контрастированием с наркозом",8567.68," "," "," "," "," "," "," "," "," "," "," "," "," "," "," "," "," "," "," "," "," "," "," "," "," "," "," "," "," "," "," "," "," "," "," "," "," "," "," "," "," "," ",10915.22," ",11831.97," "," "," "," "," "," "," "," "," "," "," "," "," "," "," "," "," "," "]
["A06.30.005.003","Компьютерная томография органов брюшной полости с внутривенным болюсным контрастированием",3460.28," "," ",4408.3999999999996," "," "," "," "," "," "," "," ",4408.3999999999996," ",4408.3999999999996,4408.3999999999996," "," "," "," "," ",6204.28," ",6107.39," "," "," "," "," "," "," "," "," "," "," "," "," "," ",6107.39," "," "," ",4408.3999999999996,4408.3999999999996," ",4778.6499999999996," "," "," "," "," "," "," ",4408.3999999999996," "," "," "," "," "," "," "," "," "," "]
["A06.30.005.003 Д","Компьютерная томография органов брюшной полости с внутривенным болюсным контрастированием",3731.09," "," "," "," "," "," "," "," "," "," "," ",4753.41," "," ",4753.41," "," "," "," "," "," "," "," "," "," "," "," "," "," "," "," "," "," "," "," "," "," ",6585.37," "," "," ",4753.41,4753.41," ",5152.6400000000003," "," "," "," "," "," "," ",4753.41," "," "," "," "," "," "," "," "," "," "]
["A06.30.005.004","Спиральная компьютерная томография органов брюшной полости с внутривенным болюсным контрастированием, мультипланарной и трехмерной реконструкцией",3862.19," "," ",4920.43," "," "," "," "," "," "," "," ",4920.43," ",4920.43,4920.43,4920.43," "," "," "," ",6924.91," ",6816.77," ",4904.9799999999996," "," "," "," "," "," "," "," "," "," "," ",4920.43,6816.77," "," "," ",4920.43,4920.43," ",5333.68," "," "," "," "," "," "," ",4920.43," "," "," "," "," ",4920.43," ",4920.43,5333.68," "]
["A06.30.005.004 Д","Спиральная компьютерная томография органов брюшной полости с внутривенным болюсным контрастированием, мультипланарной и трехмерной реконструкцией",4397.6499999999996," "," "," "," "," "," "," "," "," "," "," ",5602.61," "," ",5602.61,5602.61," "," "," "," "," "," ",7761.85," "," "," "," "," "," "," "," "," "," "," "," "," ",5602.61,7761.85," "," "," ",5602.61,5602.61," ",6073.15," "," "," "," "," "," "," ",5602.61," "," "," "," "," "," "," "," "," "," "]
["A06.30.005.004 ДН","Спиральная компьютерная томография органов брюшной полости с внутривенным болюсным контрастированием, мультипланарной и трехмерной реконструкции с наркозом",9793.91," "," "," "," "," "," "," "," "," "," "," "," "," "," "," "," "," "," "," "," "," "," "," "," "," "," "," "," "," "," "," "," "," "," "," "," "," "," "," "," "," "," ",12477.44," ",13525.39," "," "," "," "," "," "," "," "," "," "," "," "," "," "," "," "," "," "]
["A06.30.005.005","Компьютерная томография органов брюшной полости с двойным контрастированием",3972.23," "," ",5060.62," "," "," "," "," "," "," "," ",5060.62," ",5060.62,5060.62," "," "," "," "," "," "," "," "," "," "," "," "," "," "," "," "," "," "," "," "," "," ",7010.99," "," "," ",5060.62,5060.62," ",5485.65," "," "," "," "," "," "," ",5060.62," "," "," "," "," "," "," "," ",5485.65," "]
["A06.30.005.006 Д","Спиральная компьютерная томография органов брюшной полости с введением контрастного вещества",2631.3," ",3352.28," "," "," "," "," "," "," "," "," ",3352.28," "," ",3352.28," "," "," "," "," "," "," "," "," "," "," "," "," "," "," "," "," "," "," "," "," "," ",4644.24," "," "," ",3352.28,3352.28," ",3633.83," "," "," "," "," "," "," ",3352.28," "," "," "," "," "," "," "," "," "," "]
["A06.30.005.006 ДН","Спиральная компьютерная томография органов брюшной полости с введением контрастного вещества с наркозом",8027.56," ",10227.11," "," "," "," "," "," "," "," "," "," "," "," "," "," "," "," "," "," "," "," "," "," "," "," "," "," "," "," "," "," "," "," "," "," "," "," "," "," "," "," ",10227.11," ",11086.06," "," "," "," "," "," "," "," "," "," "," "," "," "," "," "," "," "," "]
["A06.30.005.007","Спиральная компьютерная томография органов брюшной полости",1457.58," "," ",1856.96,1856.96," "," "," "," "," "," "," ",1856.96," ",1856.96,1856.96,1856.96," "," "," "," ",2613.44,2375.86," "," ",1851.13," "," "," "," "," "," "," "," "," "," "," ",1856.96,2572.63," "," "," ",1856.96,1856.96," ",2012.92," "," "," "," "," "," "," "," "," "," "," "," "," "," "," ",1856.96,2012.92," "]
["A06.30.005.007 Д","Спиральная компьютерная томография органов брюшной полости",1706.42," ",2173.98," "," "," "," "," "," "," "," "," ",2173.98," "," ",2173.98,2173.98," "," "," "," "," "," "," "," "," "," "," "," "," "," "," "," "," "," "," "," ",2173.98,3011.83," "," "," ",2173.98,2173.98," ",2356.5700000000002," "," "," "," "," "," "," "," "," "," "," "," "," "," "," "," "," "," "]
["A06.30.007","Компьютерная томография забрюшинного пространства",1051.58," "," ",1339.71," "," "," "," "," "," "," "," ",1339.71," ",1339.71,1339.71," "," "," "," "," ",1885.48," "," "," "," "," "," "," "," "," "," "," "," "," "," "," "," ",1856.04," "," "," ",1339.71," "," "," "," "," "," "," "," "," "," "," "," "," "," "," "," "," "," "," "," "," "]
["A06.30.007 Д","Компьютерная томография забрюшинного пространства",770.19," "," "," "," "," "," "," "," "," "," "," ",981.22," "," ",981.22," "," "," "," "," "," "," "," "," "," "," "," "," "," "," "," "," "," "," "," "," "," ",1359.39," "," "," ",981.22," "," "," "," "," "," "," "," "," "," "," "," "," "," "," "," "," "," "," "," "," "]
["A06.30.007.001","Спиральная компьютерная томография забрюшинного пространства",3862.19," "," ",4920.43,4920.43," "," "," "," "," "," "," ",4920.43," ",4920.43,4920.43,4920.43," "," "," "," ",6924.91,6295.37," ",4796.84,4904.9799999999996," "," "," "," "," "," "," "," "," "," "," ",4920.43,6816.77," "," "," ",4920.43,4920.43," ",5333.68," "," "," "," "," "," "," ",4920.43," "," "," "," "," "," "," ",4920.43,5333.68," "]
["A06.30.007.001 Д","Спиральная компьютерная томография забрюшинного пространства",2631.3," ",3352.28," "," "," "," "," "," "," "," "," ",3352.28," "," ",3352.28,3352.28," "," "," "," "," "," "," "," "," "," "," "," "," "," "," "," "," "," "," "," ",3352.28,4644.24," "," "," ",3352.28,3352.28," ",3633.83," "," "," "," "," "," "," ",3352.28," "," "," "," "," "," "," "," "," "," "]
["A06.30.007.001 ДН","Спиральная компьютерная томография забрюшинного пространства с наркозом",8027.56," ",10227.11," "," "," "," "," "," "," "," "," "," "," "," "," "," "," "," "," "," "," "," "," "," "," "," "," "," "," "," "," "," "," "," "," "," "," "," "," "," "," "," ",10227.11," ",11086.06," "," "," "," "," "," "," "," "," "," "," "," "," "," "," "," "," "," "]
["A06.30.007.003 Д","Спиральная компьютерная томография забрюшинного пространства с введением контрастного вещества",4270.1099999999997," ",5440.12," "," "," "," "," "," "," "," "," ",5440.12," "," ",5440.12," "," "," "," "," "," "," ",7536.74," "," "," "," "," "," "," "," "," "," "," "," "," "," ",7536.74," "," "," ",5440.12," "," ",5897.02," "," "," "," "," "," "," ",5440.12," "," "," "," "," "," "," "," "," "," "]
["A06.30.007.003 ДН","Спиральная компьютерная томография забрюшинного пространства с введением контрастного вещества с наркозом",9666.36," ",12314.94," "," "," "," "," "," "," "," "," "," "," "," "," "," "," "," "," "," "," "," "," "," "," "," "," "," "," "," "," "," "," "," "," "," "," "," "," "," "," "," ",12314.94," ",13349.24," "," "," "," "," "," "," "," "," "," "," "," "," "," "," "," "," "," "]
["07","Исследования с помощью радионуклидов и методы радиационной терапии",0," "," "," "," "," "," "," "," "," "," "," "," "," "," "," "," "," "," "," "," "," "," "," "," "," "," "," "," "," "," "," "," "," "," "," "," "," "," "," "," "," "," "," "," "," "," "," "," "," "," "," "," "," "," "," "," "," "," "," "," "," "," "," "]
["A07.03.003.002","Однофотонно-эмиссионная компьютерная томография одной области скелета",1681.12," "," "," "," "," "," "," "," "," "," "," "," "," "," ",2141.75," "," "," "," "," "," "," "," "," "," "," "," "," "," "," "," "," "," "," "," "," "," ",2967.18," "," "," "," "," "," ",2321.63," "," "," "," "," "," "," "," "," "," "," "," "," "," "," ",2141.75," "," "]
["A07.03.003.002 Д","Однофотонно-эмиссионная компьютерная томография одной области скелета",1851.11," "," "," "," "," "," "," "," "," "," "," "," "," "," ",2358.31," "," "," "," "," "," "," "," "," "," "," "," "," "," "," "," "," "," "," "," "," "," ",3267.21," "," "," "," "," "," ",2556.38," "," "," "," "," "," "," "," "," "," "," "," "," "," "," "," "," "," "]
["A07.03.004.001","Однофотонно-эмиссионная компьютерная томография и спиральная компьютерная томография одной области скелета",2204.15," "," "," "," "," "," "," "," "," "," "," "," "," "," ",2808.09," "," "," "," "," "," "," "," "," "," "," "," "," "," "," "," "," "," "," "," "," "," ",3890.32," "," "," "," "," "," ",3043.93," "," "," "," "," "," "," "," "," "," "," "," "," "," "," ",2808.09," "," "]
["A07.03.004.001 Д","Однофотонно-эмиссионная компьютерная томография и спиральная компьютерная томография одной области скелета",2491.8200000000002," "," "," "," "," "," "," "," "," "," "," "," "," "," ",3174.58," "," "," "," "," "," "," "," "," "," "," "," "," "," "," "," "," "," "," "," "," "," ",4398.0600000000004," "," "," "," "," "," ",3441.2," "," "," "," "," "," "," "," "," "," "," "," "," "," "," "," "," "," "]
["A07.03.004.002","Однофатонная эмиссионная компьютерная томография, совмещенная с компьютерной томографией одной областис 99 mTc - PSMA - HYNIC",24542.82," "," "," "," "," "," "," "," "," "," "," "," "," "," ",31267.55," "," "," "," "," "," "," "," "," "," "," "," "," "," "," "," "," "," "," "," "," "," "," "," "," "," "," "," "," "," "," "," "," "," "," "," "," "," "," "," "," "," "," "," "," "," "," "," "]
["A07.10.003.003","Однофотонная эмиссионная компьютерная томография миокарда перфузионная с 99мТС-технетрилом (МИБИ) в покое",2935.67," "," "," "," "," "," "," "," "," "," "," "," "," "," ",3740.04," "," "," "," "," "," "," "," "," "," "," "," "," "," "," "," "," "," "," "," "," "," ",5181.46," "," "," "," "," "," ",4054.16," "," "," "," "," "," "," "," "," "," "," "," "," ",3740.04," "," "," "," "]
["A07.10.003.004","Однофотонная эмиссионная компьютерная томография миокарда перфузионная с 99мТС-технетрилом (МИБИ) с нагрузочной пробой",3300.47," "," "," "," "," "," "," "," "," "," "," "," "," "," ",4204.8," "," "," "," "," "," "," "," "," "," "," "," "," "," "," "," "," "," "," "," "," "," ",5825.33," "," "," "," "," "," ",4557.95," "," "," "," "," "," "," "," "," "," "," "," "," ",4204.8," "," "," "," "]
["A07.10.005.002","Однофотонная эмиссионная компьютерная томография миокарда 99мТс-пирофосфатом совмещенная с ОЭКТ с 99мТс-технетрилом (МИБИ) в покое",5604.3," "," "," "," "," "," "," "," "," "," "," "," "," "," ",7139.88," "," "," "," "," "," "," "," "," "," "," "," "," "," "," "," "," "," "," "," "," "," ",9891.59," "," "," "," "," "," ",7739.54," "," "," "," "," "," "," "," "," "," "," "," "," ",7139.88," "," "," "," "]
["A07.22.002.002 Д","Совмещенная однофотонно-эмиссионная компьютерная  томография и сцинтиграфия  щитовидной железы",1632.94," "," "," "," "," "," "," "," "," "," "," "," "," "," "," "," "," "," "," "," "," "," "," "," "," "," "," "," "," "," "," "," "," "," "," "," "," ",2882.14," "," "," "," "," "," ",2255.09," "," "," "," "," "," "," "," "," "," "," "," "," "," "," "," "," "," "]
["A07.22.002.003","Совмещенная однофотонно-эмиссионная компьютерная томография-спиральная компьютерная томография одной области и сцинтиграфия щитовидной железы",2391.3200000000002," "," "," "," "," "," "," "," "," "," "," "," "," "," "," "," "," "," "," "," "," "," "," "," "," "," "," "," "," "," "," "," "," "," "," "," "," ",4220.68," "," "," "," "," "," ",3302.41," "," "," "," "," "," "," "," "," "," "," "," "," "," "," ",3046.55," "," "]
["A07.22.002.003 Д","Совмещенная однофотонно-эмиссионная компьютерная томография-спиральная компьютерная томография одной области и сцинтиграфия  щитовидной железы",2391.3200000000002," "," "," "," "," "," "," "," "," "," "," "," "," "," "," "," "," "," "," "," "," "," "," "," "," "," "," "," "," "," "," "," "," "," "," "," "," ",4220.68," "," "," "," "," "," ",3302.41," "," "," "," "," "," "," "," "," "," "," "," "," "," "," "," "," "," "]
["A07.28.004.002","Однофотонная эмиссионная компьютерная томография почек",1961.83," "," "," "," "," "," "," "," "," "," "," "," "," "," "," "," "," "," "," "," "," "," "," "," "," "," "," "," "," "," "," "," "," "," "," "," "," ",3462.63," "," "," "," "," "," ",2709.29," "," "," "," "," "," "," "," "," "," "," "," "," "," "," "," "," "," "]
["A07.30.017.001","Однофотонно-эмиссионная компьютерная томография одной области с введением контрастного вещества",2809.59," "," "," "," "," "," "," "," "," "," "," "," "," "," ",3579.42," "," "," "," "," "," "," "," "," "," "," "," "," "," "," "," "," "," "," "," "," "," ",4958.93," "," "," "," "," "," ",3880.04," "," "," "," "," "," "," "," "," "," "," "," "," "," "," "," "," "," "]
["A07.30.017.002","Однофотонно-эмиссионная компьютерная томография всего тела с введением контрастного вещества",3649.48," "," "," "," "," "," "," "," "," "," "," "," "," "," ",4649.4399999999996," "," "," "," "," "," "," "," "," "," "," "," "," "," "," "," "," "," "," "," "," "," ",6441.33," "," "," "," "," "," ",5039.93," "," "," "," "," "," "," "," "," "," "," "," "," "," "," "," "," "," "]
["A07.30.029.002","Совмещенная однофотонно-эмиссионная компьютерная томография одной области и двухфазная сцинтиграфия мягких тканей и костей",2531.06," "," "," "," "," "," "," "," "," "," "," "," "," "," ",3224.57," "," "," "," "," "," "," "," "," "," "," "," "," "," "," "," "," "," "," "," "," "," ",4467.32," "," "," "," "," "," ",3495.39," "," "," "," "," "," "," "," "," "," "," "," "," "," "," ",3224.57," "," "]
["A07.30.029.003","Совмещенная однофотонно-эмиссионная компьютерная томография - спиральная компьютерная томография одной области и двухфазная сцинтиграфия костей",3354.83," "," "," "," "," "," "," "," "," "," "," "," "," "," ",4274.05," "," "," "," "," "," "," "," "," "," "," "," "," "," "," "," "," "," "," "," "," "," ",5921.27," "," "," "," "," "," ",4633.0200000000004," "," "," "," "," "," "," "," "," "," "," "," "," "," "," ",4274.05," "," "]
["A07.30.029.004","Совмещенная однофотонно-эмиссионная компьютерная томография - спиральная компьютерная томография одной области и трехфазная сцинтиграфия костей",3930.16," "," "," "," "," "," "," "," "," "," "," "," "," "," ",5007.03," "," "," "," "," "," "," "," "," "," "," "," "," "," "," "," "," "," "," "," "," "," ",6936.73," "," "," "," "," "," ",5427.55," "," "," "," "," "," "," "," "," "," "," "," "," "," "," "," "," "," "]
["08","Морфологические  исследования тканей",null," "," "," "," "," "," "," "," "," "," "," "," "," "," "," "," "," "," "," "," "," "," "," "," "," "," "," "," "," "," "," "," "," "," "," "," "," "," "," "," "," "," "," "," "," "," "," "," "," "," "," "," "," "," "," "," "," "," "," "," "," "," "," "]
["A08.01.001","Патолого-анатомическое исследование биопсийного (операционного) материала кожи",655.64," "," "," "," "," "," "," "," "," "," "," "," ",835.29," ",835.29," "," "," "," "," "," "," "," "," "," "," "," "," "," "," "," "," "," "," "," "," "," "," "," "," "," "," "," "," "," "," "," "," "," "," "," "," "," "," "," "," "," "," "," "," "," ",905.44," "]
["A08.01.001.002","Патолого-анатомическое исследование биопсийного (операционного) материала кожи с применением иммуногистохимических методов",1477.56," "," "," "," "," "," "," "," "," "," "," "," ",1882.41," ",1882.41," "," "," "," "," "," "," "," "," "," "," "," "," "," "," "," "," "," "," "," "," "," "," "," "," "," "," "," "," "," "," "," "," "," "," "," "," "," "," "," "," "," "," "," "," "," "," "," "]
["A08.02.001","Патолого-анатомическое исследование биопсийного (операционного) материала мышечной ткани",655.64," "," "," "," "," "," "," "," "," "," "," "," ",835.29," ",835.29," "," "," "," "," "," "," "," "," "," "," "," "," "," "," "," "," "," "," "," "," "," "," "," "," "," "," "," "," "," "," "," "," "," "," "," "," "," "," "," "," "," "," "," "," "," ",905.44," "]
["A08.02.001.003 ","Патолого-анатомическое исследование биопсийного (операционного) материала мышечной ткани с применением гистохимических методов",1477.56," "," "," "," "," "," "," "," "," "," "," "," ",1882.41," ",1882.41," "," "," "," "," "," "," "," "," "," "," "," "," "," "," "," "," "," "," "," "," "," "," "," "," "," "," "," "," "," "," "," ",1882.41," "," "," "," "," "," "," "," "," "," "," "," "," "," "," "]
["A08.03.002","Патолого-анатомическое исследование биопсийного (операционного) материала костной ткани",655.64," "," "," "," "," "," "," "," "," "," "," "," ",835.29," ",835.29," "," "," "," "," "," "," "," "," "," "," "," "," "," "," "," "," "," "," "," "," "," "," "," "," "," "," "," "," "," "," "," "," "," "," "," "," "," "," "," "," "," "," "," "," "," ",905.44," "]
["A08.03.002.001","Патолого-анатомическое исследование биопсийного (операционного) материала костной ткани с применением гистохимических методов",1477.56," "," "," "," "," "," "," "," "," "," "," "," ",1882.41," "," "," "," "," "," "," "," "," "," "," "," "," "," "," "," "," "," "," "," "," "," "," "," "," "," "," "," "," "," "," "," "," "," "," "," "," "," "," "," "," "," "," "," "," "," "," "," "," "," "]
["A08.03.003","Патолого-анатомическое исследование биопсийного (операционного) материала межпозвонкового диска",1379.84," "," "," "," "," "," "," "," "," "," "," "," ",1757.92," "," "," "," "," "," "," "," "," "," "," "," "," "," "," "," "," "," "," "," "," "," "," "," "," "," "," "," "," "," "," "," "," "," ",1757.92," "," "," "," "," "," "," "," "," "," "," "," "," "," "," "]
["A08.04.001","Патолого-анатомическое исследование биопсийного (операционного) материала синовиальной оболочки",655.64," "," "," "," "," "," "," "," "," "," "," "," ",835.29," ",835.29," "," "," "," "," "," "," "," "," "," "," "," "," "," "," "," "," "," "," "," "," "," "," "," "," "," "," "," "," "," "," "," "," "," "," "," "," "," "," "," "," "," "," "," "," "," ",905.44," "]
["A08.04.002","Патолого-анатомическое исследование биопсийного (операционного) материала суставной сумки или капсулы сустава",655.64," "," "," "," "," "," "," "," "," "," "," "," ",835.29," "," "," "," "," "," "," "," "," "," "," "," "," "," "," "," "," "," "," "," "," "," "," "," "," "," "," "," "," "," "," "," "," "," "," "," "," "," "," "," "," "," "," "," "," "," "," "," "," "," "]
["A08.04.002.001","Патолого-анатомическое исследование биопсийного (операционного) материала тканей сустава с применением гистобактериоскопических методов",1477.56," "," "," "," "," "," "," "," "," "," "," "," ",1882.41," ",1882.41," "," "," "," "," "," "," "," "," "," "," "," "," "," "," "," "," "," "," "," "," "," "," "," "," "," "," "," "," "," "," "," ",1882.41," "," "," "," "," "," "," "," "," "," "," "," "," ",2040.51," "]
["A08.05.002.001 ","Патолого-анатомическое исследование биопсийного (операционного) материала костного мозга с применением иммуногистохимических методов",1477.56," "," "," "," "," "," "," "," "," "," "," "," ",1882.41," "," "," "," "," "," "," "," "," "," "," "," "," "," "," "," "," "," "," "," "," "," "," "," "," "," "," "," "," "," "," "," "," "," "," "," "," "," "," "," "," "," "," "," "," "," "," "," "," "," "]
["A08.06.002.003","Гистологическое исследование препарата тканей лимфоузла при лимфопролиферативных заболеваниях",1477.56," "," "," "," "," "," "," "," "," "," "," "," ",1882.41," ",1882.41," "," "," "," "," "," "," "," "," "," "," "," "," "," "," "," "," "," "," "," "," "," "," "," "," "," "," "," "," "," "," "," "," "," "," "," "," "," "," "," "," "," "," "," "," "," ",2040.51," "]
["A08.06.003.001","Патолого-анатомическое исследование биопсийного (операционного) материала лимфоузла с применением гистобактериоскопических методов",1477.56," "," "," "," "," "," "," "," "," "," "," "," ",1882.41," ",1882.41," "," "," "," "," "," "," "," "," "," "," "," "," "," "," "," "," "," "," "," "," "," "," "," "," "," "," "," "," "," "," "," "," "," "," "," "," "," "," "," "," "," "," "," "," "," ",2040.51," "]
["A08.06.004","Патолого-анатомическое исследование биопсийного (операционного) материала селезенки",655.64," "," "," "," "," "," "," "," "," "," "," "," ",835.29," ",835.29," "," "," "," "," "," "," "," "," "," "," "," "," "," "," "," "," "," "," "," "," "," "," "," "," "," "," "," "," "," "," "," "," "," "," "," "," "," "," "," "," "," "," "," "," "," ",905.44," "]
["A08.06.004.0021","Патолого-анатомическое исследование биопсийного (операционного) материала селезенки (сложная)",1477.56," "," "," "," "," "," "," "," "," "," "," "," ",1882.41," ",1882.41," "," "," "," "," "," "," "," "," "," "," "," "," "," "," "," "," "," "," "," "," "," "," "," "," "," "," "," "," "," "," "," ",1882.41," "," "," "," "," "," "," "," "," "," "," "," "," "," "," "]
["A08.07.002","Патолого-анатомическое исследование биопсийного (операционного) материала тканей полости рта",655.64," "," "," "," "," "," "," "," "," "," "," "," ",835.29," ",835.29," "," "," "," "," "," "," "," "," "," "," "," "," "," "," "," "," "," "," "," "," "," "," "," "," "," "," "," "," "," "," "," "," "," "," "," "," "," "," "," "," "," "," "," "," "," ",905.44," "]
["A08.07.002.001","Патолого-анатомическое исследование биопсийного (операционного) материала тканей полости рта с применением гистобактериоскопических методов",1477.56," "," "," "," "," "," "," "," "," "," "," "," ",1882.41," ",1882.41," "," "," "," "," "," "," "," "," "," "," "," "," "," "," "," "," "," "," "," "," "," "," "," "," "," "," "," "," "," "," "," ",1882.41," "," "," "," "," "," "," "," "," "," "," "," "," ",2040.51," "]
["A08.07.004","Патолого-анатомическое исследование биопсийного (операционного) материала тканей языка",1379.84," "," "," "," "," "," "," "," "," "," "," "," ",1757.92," ",1757.92," "," "," "," "," "," "," "," "," "," "," "," "," "," "," "," "," "," "," "," "," "," "," "," "," "," "," "," "," "," "," "," ",1757.92," "," "," "," "," "," "," "," "," "," "," "," "," ",1905.56," "]
["A08.07.004.001","Патолого-анатомическое исследование биопсийного (операционного) материала тканей языка с применением гистобактериоскопических методов",1477.56," "," "," "," "," "," "," "," "," "," "," "," ",1882.41," "," "," "," "," "," "," "," "," "," "," "," "," "," "," "," "," "," "," "," "," "," "," "," "," "," "," "," "," "," "," "," "," "," "," "," "," "," "," "," "," "," "," "," "," "," "," "," "," "," "]
["A08.07.005","Патолого-анатомическое исследование биопсийного (операционного) материала тканей губы",1379.84," "," "," "," "," "," "," "," "," "," "," "," ",1757.92," ",1757.92," "," "," "," "," "," "," "," "," "," "," "," "," "," "," "," "," "," "," "," "," "," "," "," "," "," "," "," "," "," "," "," ",1757.92," "," "," "," "," "," "," "," "," "," "," "," "," ",1905.56," "]
["A08.07.005.001","Патолого-анатомическое исследование биопсийного (операционного) материала тканей губы с применением гистобактериоскопических методов",1477.56," "," "," "," "," "," "," "," "," "," "," "," ",1882.41," ",1882.41," "," "," "," "," "," "," "," "," "," "," "," "," "," "," "," "," "," "," "," "," "," "," "," "," "," "," "," "," "," "," "," "," "," "," "," "," "," "," "," "," "," "," "," "," "," ",2040.51," "]
["A08.07.007","Патолого-анатомическое исследование биопсийного (операционного) материала тканей преддверия полости рта",655.64," "," "," "," "," "," "," "," "," "," "," "," ",835.29," ",835.29," "," "," "," "," "," "," "," "," "," "," "," "," "," "," "," "," "," "," "," "," "," "," "," "," "," "," "," "," "," "," "," "," "," "," "," "," "," "," "," "," "," "," "," "," "," ",905.44," "]
["A08.07.007.002 ","Патолого-анатомическое исследование биопсийного (операционного) материала тканей преддверия полости рта с применением гистобактериоскопических методов",1477.56," "," "," "," "," "," "," "," "," "," "," "," ",1882.41," "," "," "," "," "," "," "," "," "," "," "," "," "," "," "," "," "," "," "," "," "," "," "," "," "," "," "," "," "," "," "," "," "," ",1882.41," "," "," "," "," "," "," "," "," "," "," "," "," "," "," "]
["A08.07.009","Патолого-анатомическое исследование биопсийного (операционного) материала тканей слюнной железы",655.64," "," "," "," "," "," "," "," "," "," "," "," ",835.29," ",835.29," "," "," "," "," "," "," "," "," "," "," "," "," "," "," "," "," "," "," "," "," "," "," "," "," "," "," "," "," "," "," "," "," "," "," "," "," "," "," "," "," "," "," "," "," "," ",905.44," "]
["A08.07.009.001","Патолого-анатомическое исследование биопсийного (операционного) материала тканей слюнной железы с применением гистобактериоскопических методов",1477.56," "," "," "," "," "," "," "," "," "," "," "," ",1882.41," ",1882.41," "," "," "," "," "," "," "," "," "," "," "," "," "," "," "," "," "," "," "," "," "," "," "," "," "," "," "," "," "," "," "," ",1882.41," "," "," "," "," "," "," "," "," "," "," "," "," "," "," "]
["A08.08.001","Патолого-анатомическое исследование биопсийного (операционного) материала тканей верхних дыхательных путей",655.64," "," "," "," "," "," "," "," "," "," "," "," ",835.29," ",835.29," "," "," "," "," "," "," "," "," "," "," "," "," "," "," "," "," "," "," "," "," "," "," "," "," "," "," "," "," "," "," "," "," "," "," "," "," "," "," "," "," "," "," "," "," "," ",905.44," "]
["A08.08.001.001","Патолого-анатомическое исследование биопсийного (операционного) материала тканей верхних дыхательных путей с применением гистобактериоскопических методов",1477.56," "," "," "," "," "," "," "," "," "," "," "," ",1882.41," ",1882.41," "," "," "," "," "," "," "," "," "," "," "," "," "," "," "," "," "," "," "," "," "," "," "," "," "," "," "," "," "," "," "," ",1882.41," "," "," "," "," "," "," "," "," "," "," "," "," ",2040.51," "]
["A08.09.001","Патолого-анатомическое исследование биопсийного (операционного) материала тканей трахеи и бронхов",655.64," "," "," "," "," "," "," "," "," "," "," "," ",835.29," ",835.29," "," "," "," "," "," "," "," "," "," "," "," "," "," "," "," "," "," "," "," "," "," "," "," "," "," "," "," "," "," "," "," "," "," "," "," "," "," "," "," "," "," "," "," "," "," ",905.44," "]
["A08.09.001.001","Патолого-анатомическое исследование биопсийного (операционного) материала тканей трахеи и бронхов с применением гистобактериоскопических методов",1477.56," "," "," "," "," "," "," "," "," "," "," "," ",1882.41," ",1882.41," "," "," "," "," "," "," "," "," "," "," "," "," "," "," "," "," "," "," "," "," "," "," "," "," "," "," "," "," "," "," "," "," "," "," "," "," "," "," "," "," "," "," "," "," "," ",2040.51," "]
["A08.09.002","Патолого-анатомическое исследование биопсийного (операционного) материала тканей легкого",655.64," "," "," "," "," "," "," "," "," "," "," "," ",835.29," ",835.29," "," "," "," "," "," "," "," "," "," "," "," "," "," "," "," "," "," "," "," "," "," "," "," "," "," "," "," "," "," "," "," "," "," "," "," "," "," "," "," "," "," "," "," "," "," ",905.44," "]
["A08.09.002.001","Патолого-анатомическое исследование биопсийного (операционного) материала тканей легкого с применением гистобактериоскопических методов",1477.56," "," "," "," "," "," "," "," "," "," "," "," ",1882.41," ",1882.41," "," "," "," "," "," "," "," "," "," "," "," "," "," "," "," "," "," "," "," "," "," "," "," "," "," "," "," "," "," "," "," ",1882.41," "," "," "," "," "," "," "," "," "," "," "," "," ",2040.51," "]
["A08.09.005","Патолого-анатомическое исследование биопсийного (операционного) материала тканей плевры",655.64," "," "," "," "," "," "," "," "," "," "," "," ",835.29," ",835.29," "," "," "," "," "," "," "," "," "," "," "," "," "," "," "," "," "," "," "," "," "," "," "," "," "," "," "," "," "," "," "," "," "," "," "," "," "," "," "," "," "," "," "," "," "," "," "," "]
["A08.09.005.001","Патолого-анатомическое исследование биопсийного (операционного) материала тканей плевры с применением гистобактериоскопических методов",1477.56," "," "," "," "," "," "," "," "," "," "," "," ",1882.41," ",1882.41," "," "," "," "," "," "," "," "," "," "," "," "," "," "," "," "," "," "," "," "," "," "," "," "," "," "," "," "," "," "," "," ",1882.41," "," "," "," "," "," "," "," "," "," "," "," "," "," "," "]
["A08.10.001","Патолого-анатомическое исследование биопсийного (операционного) материала тканей миокарда",655.64," "," "," "," "," "," "," "," "," "," "," "," ",835.29," "," "," "," "," "," "," "," "," "," "," "," "," "," "," "," "," "," "," "," "," "," "," "," "," "," "," "," "," "," "," "," "," "," "," "," "," "," "," "," "," "," "," "," "," "," "," "," "," "," "]
["A08.11.001.002","Патолого-анатомическое исследование биопсийного (операционного) материала опухоли средостения (сложная)",1477.56," "," "," "," "," "," "," "," "," "," "," "," ",1882.41," ",1882.41," "," "," "," "," "," "," "," "," "," "," "," "," "," "," "," "," "," "," "," "," "," "," "," "," "," "," "," "," "," "," "," "," "," "," "," "," "," "," "," "," "," "," "," "," "," "," "," "]
["A08.11.003.002","Патолого-анатомическое исследование биопсийного (операционного) материала тканей опухоли средостения (сложная)",1477.56," "," "," "," "," "," "," "," "," "," "," "," ",1882.41," ",1882.41," "," "," "," "," "," "," "," "," "," "," "," "," "," "," "," "," "," "," "," "," "," "," "," "," "," "," "," "," "," "," "," "," "," "," "," "," "," "," "," "," "," "," "," "," "," "," "," "]
["A08.12.001","Патолого-анатомическое исследование биопсийного (операционного) материала сосудистой стенки",655.64," "," "," "," "," "," "," "," "," "," "," "," ",835.29," ",835.29," "," "," "," "," "," "," "," "," "," "," "," "," "," "," "," "," "," "," "," "," "," "," "," "," "," "," "," "," "," "," "," "," "," "," "," "," "," "," "," "," "," "," "," "," "," ",905.44," "]
["A08.12.001.001","Патолого-анатомическое исследование биопсийного (операционного) материала сосудистой стенки (сложная)",1477.56," "," "," "," "," "," "," "," "," "," "," "," ",1882.41," ",1882.41," "," "," "," "," "," "," "," "," "," "," "," "," "," "," "," "," "," "," "," "," "," "," "," "," "," "," "," "," "," "," "," ",1882.41," "," "," "," "," "," "," "," "," "," "," "," "," "," "," "]
["A08.14.001","Патолого-анатомическое исследование биопсийного (операционного) материала печени",655.64," "," "," "," "," "," "," "," "," "," "," "," ",835.29," ",835.29," "," "," "," "," "," "," "," "," "," "," "," "," "," "," "," "," "," "," "," "," "," "," "," "," "," "," "," "," "," "," "," "," "," "," "," "," "," "," "," "," "," "," "," "," "," ",905.44," "]
["A08.14.001.001","Патолого-анатомическое исследование биопсийного (операционного) материала печени с применением гистобактериоскопических методов",1477.56," "," "," "," "," "," "," "," "," "," "," "," ",1882.41," ",1882.41," "," "," "," "," "," "," "," "," "," "," "," "," "," "," "," "," "," "," "," "," "," "," "," "," "," "," "," "," "," "," "," "," "," "," "," "," "," "," "," "," "," "," "," "," "," ",2040.51," "]
["A08.14.003.004 ","Гистологическое исследование микропрепарата тканей желчного пузыря (простая)",655.64," "," "," "," "," "," "," "," "," "," "," "," ",835.29," ",835.29," "," "," "," "," "," "," "," "," "," "," "," "," "," "," "," "," "," "," "," "," "," "," "," "," "," "," "," "," "," "," "," "," "," "," "," "," "," "," "," "," "," "," "," "," "," "," "," "]
["A08.14.003.005 ","Гистологическое исследование микропрепарата тканей желчного пузыря (сложная)",1477.56," "," "," "," "," "," "," "," "," "," "," "," ",1882.41," ",1882.41," "," "," "," "," "," "," "," "," "," "," "," "," "," "," "," "," "," "," "," "," "," "," "," "," "," "," "," "," "," "," "," "," "," "," "," "," "," "," "," "," "," "," "," "," "," "," "," "]
["A08.14.004.002","Патолого-анатомическое исследование биопсийного (операционного) материала пункционной биопсии печени (сложная)",1477.56," "," "," "," "," "," "," "," "," "," "," "," ",1882.41," ",1882.41," "," "," "," "," "," "," "," "," "," "," "," "," "," "," "," "," "," "," "," "," "," "," "," "," "," "," "," "," "," "," "," ",1882.41," "," "," "," "," "," "," "," "," "," "," "," "," "," "," "]
["A08.15.001","Патолого-анатомическое исследование биопсийного (операционного) материала поджелудочной железы",655.64," "," "," "," "," "," "," "," "," "," "," "," ",835.29," ",835.29," "," "," "," "," "," "," "," "," "," "," "," "," "," "," "," "," "," "," "," "," "," "," "," "," "," "," "," "," "," "," "," "," "," "," "," "," "," "," "," "," "," "," "," "," "," ",905.44," "]
["A08.15.001.002","Патолого-анатомическое исследование биопсийного (операционного) материала поджелудочной железы (сложная)",1477.56," "," "," "," "," "," "," "," "," "," "," "," ",1882.41," ",1882.41," "," "," "," "," "," "," "," "," "," "," "," "," "," "," "," "," "," "," "," "," "," "," "," "," "," "," "," "," "," "," "," ",1882.41," "," "," "," "," "," "," "," "," "," "," "," "," "," "," "]
["A08.16.001","Патолого-анатомическое исследование биопсийного (операционного) материала пищевода",655.64," "," "," "," "," "," "," "," "," "," "," "," ",835.29," ",835.29," "," "," "," "," "," "," "," "," "," "," "," "," "," "," "," "," "," "," "," "," "," "," "," "," "," "," "," "," "," "," "," "," "," "," "," "," "," "," "," "," "," "," "," "," "," ",905.44," "]
["A08.16.001.001","Патолого-анатомическое исследование биопсийного (операционного) материала пищевода с применением гистохимических методов",1477.56," "," "," "," "," "," "," "," "," "," "," "," ",1882.41," ",1882.41," "," "," "," "," "," "," "," "," "," "," "," "," "," "," "," "," "," "," "," "," "," "," "," "," "," "," "," "," "," "," "," ",1882.41," "," "," "," "," "," "," "," "," "," "," "," "," "," "," "]
["A08.16.002","Патолого-анатомическое исследование биопсийного (операционного) материала желудка",655.64," "," "," "," "," "," "," "," "," "," "," "," ",835.29," ",835.29," "," "," "," "," "," "," "," "," "," "," "," "," "," "," "," "," "," "," "," "," "," "," "," "," "," "," "," "," "," "," "," "," "," "," "," "," "," "," "," "," "," "," "," "," "," ",905.44," "]
["A08.16.002.001","Патолого-анатомическое исследование биопсийного (операционного) материала желудка с применением гистохимических методов",1477.56," "," "," "," "," "," "," "," "," "," "," "," ",1882.41," ",1882.41," "," "," "," "," "," "," "," "," "," "," "," "," "," "," "," "," "," "," "," "," "," "," "," "," "," "," "," "," "," "," "," ",1882.41," "," "," "," "," "," "," "," "," "," "," "," "," "," "," "]
["A08.16.003","Патолого-анатомическое исследование биопсийного (операционного) материала двенадцатиперстной кишки",655.64," "," "," "," "," "," "," "," "," "," "," "," ",835.29," ",835.29," "," "," "," "," "," "," "," "," "," "," "," "," "," "," "," "," "," "," "," "," "," "," "," "," "," "," "," "," "," "," "," "," "," "," "," "," "," "," "," "," "," "," "," "," "," ",905.44," "]
["A08.16.003.001","Патолого-анатомическое исследование биопсийного (операционного) материала двенадцатиперстной кишки с применением гистохимических методов",1477.56," "," "," "," "," "," "," "," "," "," "," "," ",1882.41," ",1882.41," "," "," "," "," "," "," "," "," "," "," "," "," "," "," "," "," "," "," "," "," "," "," "," "," "," "," "," "," "," "," "," ",1882.41," "," "," "," "," "," "," "," "," "," "," "," "," "," "," "]
["A08.17.001","Патолого-анатомическое исследование биопсийного (операционного) материала тонкой кишки",655.64," "," "," "," "," "," "," "," "," "," "," "," ",835.29," ",835.29," "," "," "," "," "," "," "," "," "," "," "," "," "," "," "," "," "," "," "," "," "," "," "," "," "," "," "," "," "," "," "," "," "," "," "," "," "," "," "," "," "," "," "," "," "," ",905.44," "]
["A08.17.001.001","Патолого-анатомическое исследование биопсийного (операционного) материала тонкой кишки с применением гистобактериоскопических методов",1477.56," "," "," "," "," "," "," "," "," "," "," "," ",1882.41," ",1882.41," "," "," "," "," "," "," "," "," "," "," "," "," "," "," "," "," "," "," "," "," "," "," "," "," "," "," "," "," "," "," "," ",1882.41," "," "," "," "," "," "," "," "," "," "," "," "," ",2040.51," "]
["A08.18.001","Патолого-анатомическое исследование биопсийного (операционного) материала толстой кишки",747.43," "," "," "," "," "," "," "," "," "," "," "," ",952.23," "," "," "," "," "," "," "," "," "," "," "," "," "," "," "," "," "," "," "," "," "," "," "," "," "," "," "," "," "," "," "," "," "," "," "," "," "," "," "," "," "," "," "," "," "," "," "," ",1032.2," "]
["A08.18.001.004","Патолого-анатомическое исследование препарата тканей аппендикса (простая)",655.64," "," "," "," "," "," "," "," "," "," "," "," ",835.29," ",835.29," "," "," "," "," "," "," "," "," "," "," "," "," "," "," "," "," "," "," "," "," "," "," "," "," "," "," "," "," "," "," "," "," "," "," "," "," "," "," "," "," "," "," "," "," "," "," "," "]
["A08.18.001.005","Патолого-анатомическое исследование препарата тканей аппендикса (сложная)",1477.56," "," "," "," "," "," "," "," "," "," "," "," ",1882.41," ",1882.41," "," "," "," "," "," "," "," "," "," "," "," "," "," "," "," "," "," "," "," "," "," "," "," "," "," "," "," "," "," "," "," ",1882.41," "," "," "," "," "," "," "," "," "," "," "," "," ",2040.51," "]
["A08.18.003.002","Гистологическое исследование препарата слизистой различных отделов толстой кишки (сложная)",1477.56," "," "," "," "," "," "," "," "," "," "," "," ",1882.41," ",1882.41," "," "," "," "," "," "," "," "," "," "," "," "," "," "," "," "," "," "," "," "," "," "," "," "," "," "," "," "," "," "," "," ",1882.41," "," "," "," "," "," "," "," "," "," "," "," "," "," "," "]
["A08.18.003.003","Гистологическое исследование препарата слизистой различных отделов толстой кишки (простая)",655.64," "," "," "," "," "," "," "," "," "," "," "," ",835.29," ",835.29," "," "," "," "," "," "," "," "," "," "," "," "," "," "," "," "," "," "," "," "," "," "," "," "," "," "," "," "," "," "," "," "," "," "," "," "," "," "," "," "," "," "," "," "," "," "," "," "]
["A08.19.001","Патолого-анатомическое исследование биопсийного (операционного) материала прямой кишки",1477.56," "," "," "," "," "," "," "," "," "," "," "," ",1882.41," ",1882.41," "," "," "," "," "," "," "," "," "," "," "," "," "," "," "," "," "," "," "," "," "," "," "," "," "," "," "," "," "," "," "," ",1882.41," "," "," "," "," "," "," "," "," "," "," "," "," ",2040.51," "]
["A08.20.001","Патолого-анатомическое исследование биопсийного (операционного) материала влагалища",655.64," "," "," "," "," "," "," "," "," "," "," "," ",835.29," ",835.29," "," "," "," "," "," "," "," "," "," "," "," "," "," "," "," "," "," "," "," "," "," "," "," "," "," "," "," "," "," "," "," "," "," "," "," "," "," "," "," "," "," "," "," "," "," ",905.44," "]
["A08.20.001.001","Патолого-анатомическое исследование биопсийного (операционного) материала влагалища с применением гистохимических методов",1477.56," "," "," "," "," "," "," "," "," "," "," "," ",1882.41," ",1882.41," "," "," "," "," "," "," "," "," "," "," "," "," "," "," "," "," "," "," "," "," "," "," "," "," "," "," "," "," "," "," "," ",1882.41," "," "," "," "," "," "," "," "," "," "," "," "," "," "," "]
["A08.20.002","Патолого-анатомическое исследование биопсийного (операционного) материала матки, придатков, стенки кишки",655.64," "," "," "," "," "," "," "," "," "," "," "," ",835.29," ",835.29," "," "," "," "," "," "," "," "," "," "," "," "," "," "," "," "," "," "," "," "," "," "," "," "," "," "," "," "," "," "," "," "," "," "," "," "," "," "," "," "," "," "," "," "," "," ",905.44," "]
["A08.20.002.002 ","Патолого-анатомическое исследование биопсийного (операционного) материала матки, придатков, стенки кишки с применением гистохимических методов",1477.56," "," "," "," "," "," "," "," "," "," "," "," ",1882.41," ",1882.41," "," "," "," "," "," "," "," "," "," "," "," "," "," "," "," "," "," "," "," "," "," "," "," "," "," "," "," "," "," "," "," "," "," "," "," "," "," "," "," "," "," "," "," "," "," "," "," "]
["A08.20.003","Патолого-анатомическое исследование биопсийного (операционного) материала матки",655.64," "," "," "," "," "," "," "," "," "," "," "," ",835.29," ",835.29," "," "," "," "," "," "," "," "," "," "," "," "," "," "," "," "," "," "," "," "," "," "," "," "," "," "," "," "," "," "," "," "," "," "," "," "," "," "," "," "," "," "," "," "," "," ",905.44," "]
["A08.20.003.001","Патолого-анатомическое исследование биопсийного (операционного) материала матки с применением гистохимических методов",1477.56," "," "," "," "," "," "," "," "," "," "," "," ",1882.41," ",1882.41," "," "," "," "," "," "," "," "," "," "," "," "," "," "," "," "," "," "," "," "," "," "," "," "," "," "," "," "," "," "," "," ",1882.41," "," "," "," "," "," "," "," "," "," "," "," "," "," "," "]
["A08.20.005","Патолого-анатомическое исследование биопсийного (операционного) материала яичника",655.64," "," "," "," "," "," "," "," "," "," "," "," ",835.29," ",835.29," "," "," "," "," "," "," "," "," "," "," "," "," "," "," "," "," "," "," "," "," "," "," "," "," "," "," "," "," "," "," "," "," "," "," "," "," "," "," "," "," "," "," "," "," "," ",905.44," "]
["A08.20.005.001","Патолого-анатомическое исследование биопсийного (операционного) материала яичника с применением гистохимических методов",1477.56," "," "," "," "," "," "," "," "," "," "," "," ",1882.41," ",1882.41," "," "," "," "," "," "," "," "," "," "," "," "," "," "," "," "," "," "," "," "," "," "," "," "," "," "," "," "," "," "," "," ",1882.41," "," "," "," "," "," "," "," "," "," "," "," "," "," "," "]
["A08.20.006","Патолого-анатомическое исследование биопсийного (операционного) материала маточной трубы",655.16," "," "," "," "," "," "," "," "," "," "," "," ",834.67," ",834.67," "," "," "," "," "," "," "," "," "," "," "," "," "," "," "," "," "," "," "," "," "," "," "," "," "," "," "," "," "," "," "," "," "," "," "," "," "," "," "," "," "," "," "," "," "," ",904.78," "]
["A08.20.006.001 ","Патолого-анатомическое исследование биопсийного (операционного) материала маточной трубы с применением гистохимических методов",1477.56," "," "," "," "," "," "," "," "," "," "," "," ",1882.41," ",1882.41," "," "," "," "," "," "," "," "," "," "," "," "," "," "," "," "," "," "," "," "," "," "," "," "," "," "," "," "," "," "," "," ",1882.41," "," "," "," "," "," "," "," "," "," "," "," "," "," "," "]
["A08.20.007","Патолого-анатомическое исследование биопсийного (операционного) материала тканей удаленной матки с придатками и связок",655.64," "," "," "," "," "," "," "," "," "," "," "," ",835.29," ",835.29," "," "," "," "," "," "," "," "," "," "," "," "," "," "," "," "," "," "," "," "," "," "," "," "," "," "," "," "," "," "," "," "," "," "," "," "," "," "," "," "," "," "," "," "," "," ",905.44," "]
["A08.20.007.001","Патолого-анатомическое исследование биопсийного (операционного) материала тканей удаленной матки с придатками и новообразований связок с применением гистохимических методов",1477.56," "," "," "," "," "," "," "," "," "," "," "," ",1882.41," ",1882.41," "," "," "," "," "," "," "," "," "," "," "," "," "," "," "," "," "," "," "," "," "," "," "," "," "," "," "," "," "," "," "," ",1882.41," "," "," "," "," "," "," "," "," "," "," "," "," "," "," "]
["A08.20.008","Патолого-анатомическое исследование биопсийного (операционного) материала удаленного новообразования женских половых органов",655.64," "," "," "," "," "," "," "," "," "," "," "," ",835.29," ",835.29," "," "," "," "," "," "," "," "," "," "," "," "," "," "," "," "," "," "," "," "," "," "," "," "," "," "," "," "," "," "," "," "," "," "," "," "," "," "," "," "," "," "," "," "," "," ",905.44," "]
["A08.20.008.001 ","Патолого-анатомическое исследование биопсийного (операционного) материала удаленного новообразования женских половых органов с применением гистохимических методов",1477.56," "," "," "," "," "," "," "," "," "," "," "," ",1882.41," ",1882.41," "," "," "," "," "," "," "," "," "," "," "," "," "," "," "," "," "," "," "," "," "," "," "," "," "," "," "," "," "," "," "," ",1882.41," "," "," "," "," "," "," "," "," "," "," "," "," "," "," "]
["A08.20.009","Патолого-анатомическое исследование биопсийного (операционного) материала молочной железы",655.64," "," "," "," "," "," "," "," "," "," "," "," ",835.29," ",835.29," "," "," "," "," "," "," "," "," "," "," "," "," "," "," "," "," "," "," "," "," "," "," "," "," "," "," "," "," "," "," "," "," "," "," "," "," "," "," "," "," "," "," "," "," "," ",905.44," "]
["A08.20.009.001","Патолого-анатомическое исследование биопсийного (операционного) материала молочной железы с применением гистохимических методов",1477.56," "," "," "," "," "," "," "," "," "," "," "," ",1882.41," ",1882.41," "," "," "," "," "," "," "," "," "," "," "," "," "," "," "," "," "," "," "," "," "," "," "," "," "," "," "," "," "," "," "," ",1882.41," "," "," "," "," "," "," "," "," "," "," "," "," "," "," "]
["A08.20.011","Патолого-анатомическое исследование биопсийного (операционного) материала шейки матки",655.64," "," "," "," "," "," "," "," "," "," "," "," ",835.29," ",835.29," "," "," "," "," "," "," "," "," "," "," "," "," "," "," "," "," "," "," "," "," "," "," "," "," "," "," "," "," "," "," "," "," "," "," "," "," "," "," "," "," "," "," "," "," "," ",905.44," "]
["A08.20.011.001","Патолого-анатомическое исследование биопсийного (операционного) материала шейки матки (сложная)",1477.56," "," "," "," "," "," "," "," "," "," "," "," ",1882.41," ",1882.41," "," "," "," "," "," "," "," "," "," "," "," "," "," "," "," "," "," "," "," "," "," "," "," "," "," "," "," "," "," "," "," ",1882.41," "," "," "," "," "," "," "," "," "," "," "," "," "," "," "]
["A08.20.017.002","Морфологическое исследование препарата тканей вульвы (простая)",655.64," "," "," "," "," "," "," "," "," "," "," "," ",835.29," ",835.29," "," "," "," "," "," "," "," "," "," "," "," "," "," "," "," "," "," "," "," "," "," "," "," "," "," "," "," "," "," "," "," "," "," "," "," "," "," "," "," "," "," "," "," "," "," "," "," "]
["A08.20.017.003","Морфологическое исследование препарата тканей вульвы (сложная)",1477.56," "," "," "," "," "," "," "," "," "," "," "," ",1882.41," ",1882.41," "," "," "," "," "," "," "," "," "," "," "," "," "," "," "," "," "," "," "," "," "," "," "," "," "," "," "," "," "," "," "," ",1882.41," "," "," "," "," "," "," "," "," "," "," "," "," "," "," "]
["A08.21.001","Патолого-анатомическое исследование биопсийного (операционного) материала предстательной железы",655.64," "," "," "," "," "," "," "," "," "," "," "," ",835.29," ",835.29," "," "," "," "," "," "," "," "," "," "," "," "," "," "," "," "," "," "," "," "," "," "," "," "," "," "," "," "," "," "," "," "," "," "," "," "," "," "," "," "," "," "," "," "," "," ",905.44," "]
["A08.21.001.003","Патолого-анатомическое исследование биопсийного (операционного) материала предстательной железы с применением гистохимических методов",1477.56," "," "," "," "," "," "," "," "," "," "," "," ",1882.41," ",1882.41," "," "," "," "," "," "," "," "," "," "," "," "," "," "," "," "," "," "," "," "," "," "," "," "," "," "," "," "," "," "," "," ",1882.41," "," "," "," "," "," "," "," "," "," "," "," "," "," "," "]
["A08.21.002","Патолого-анатомическое исследование биопсийного (операционного) материала яичка, семенного канатика и придатков",655.64," "," "," "," "," "," "," "," "," "," "," "," ",835.29," ",835.29," "," "," "," "," "," "," "," "," "," "," "," "," "," "," "," "," "," "," "," "," "," "," "," "," "," "," "," "," "," "," "," "," "," "," "," "," "," "," "," "," "," "," "," "," "," ",905.44," "]
["A08.21.002.001","Патолого-анатомическое исследование биопсийного (операционного) материала яичка, семенного канатика и придатков с применением гистобактериоскопических методов",1477.56," "," "," "," "," "," "," "," "," "," "," "," ",1882.41," ",1882.41," "," "," "," "," "," "," "," "," "," "," "," "," "," "," "," "," "," "," "," "," "," "," "," "," "," "," "," "," "," "," "," ",1882.41," "," "," "," "," "," "," "," "," "," "," "," "," ",2040.51," "]
["A08.21.003.001 ","Патолого-анатомическое исследование биопсийного (операционного) материала крайней плоти с применением гистохимических методов",1477.56," "," "," "," "," "," "," "," "," "," "," "," ",1882.41," "," "," "," "," "," "," "," "," "," "," "," "," "," "," "," "," "," "," "," "," "," "," "," "," "," "," "," "," "," "," "," "," "," ",1882.41," "," "," "," "," "," "," "," "," "," "," "," "," "," "," "]
["A08.21.003.002","Патолого-анатомическое исследование биопсийного (операционного) материала крайней плоти с применением иммуногистохимических методов",655.64," "," "," "," "," "," "," "," "," "," "," "," ",835.29," ",835.29," "," "," "," "," "," "," "," "," "," "," "," "," "," "," "," "," "," "," "," "," "," "," "," "," "," "," "," "," "," "," "," "," "," "," "," "," "," "," "," "," "," "," "," "," "," "," "," "]
["A08.21.004","Патолого-анатомическое исследование биопсийного (операционного) материала удаленного новообразования мужских половых органов",655.64," "," "," "," "," "," "," "," "," "," "," "," ",835.29," ",835.29," "," "," "," "," "," "," "," "," "," "," "," "," "," "," "," "," "," "," "," "," "," "," "," "," "," "," "," "," "," "," "," "," "," "," "," "," "," "," "," "," "," "," "," "," "," ",905.44," "]
["A08.21.004.001 ","Патолого-анатомическое исследование биопсийного (операционного) материала удаленного новообразования мужских половых органов с применением гистохимических методов",1477.56," "," "," "," "," "," "," "," "," "," "," "," ",1882.41," ",1882.41," "," "," "," "," "," "," "," "," "," "," "," "," "," "," "," "," "," "," "," "," "," "," "," "," "," "," "," "," "," "," "," ",1882.41," "," "," "," "," "," "," "," "," "," "," "," "," "," "," "]
["A08.22.002","Патолого-анатомическое исследование биопсийного (операционного) материала тканей удаленного новообразования желез внутренней секреции",655.64," "," "," "," "," "," "," "," "," "," "," "," ",835.29," ",835.29," "," "," "," "," "," "," "," "," "," "," "," "," "," "," "," "," "," "," "," "," "," "," "," "," "," "," "," "," "," "," "," "," "," "," "," "," "," "," "," "," "," "," "," "," "," ",905.44," "]
["A08.22.003","Патолого-анатомическое исследование биопсийного (операционного) материала тканей щитовидной железы",655.64," "," "," "," "," "," "," "," "," "," "," "," ",835.29," ",835.29," "," "," "," "," "," "," "," "," "," "," "," "," "," "," "," "," "," "," "," "," "," "," "," "," "," "," "," "," "," "," "," "," "," "," "," "," "," "," "," "," "," "," "," "," "," ",905.44," "]
["A08.22.003.003","Гистологическое исследование препарата щитовидной железы (сложная)",1477.56," "," "," "," "," "," "," "," "," "," "," "," ",1882.41," ",1882.41," "," "," "," "," "," "," "," "," "," "," "," "," "," "," "," "," "," "," "," "," "," "," "," "," "," "," "," "," "," "," "," ",1882.41," "," "," "," "," "," "," "," "," "," "," "," "," ",2040.51," "]
["A08.22.006","Патолого-анатомическое исследование биопсийного (операционного) материала паращитовидной железы",655.64," "," "," "," "," "," "," "," "," "," "," "," ",835.29," "," "," "," "," "," "," "," "," "," "," "," "," "," "," "," "," "," "," "," "," "," "," "," "," "," "," "," "," "," "," "," "," "," "," "," "," "," "," "," "," "," "," "," "," "," "," "," "," "," "]
["A08.22.006.003","Патолого-анатомическое исследование биопсийного (операционного) материала паращитовидной железы (сложная)",1477.56," "," "," "," "," "," "," "," "," "," "," "," ",1882.41," ",1882.41," "," "," "," "," "," "," "," "," "," "," "," "," "," "," "," "," "," "," "," "," "," "," "," "," "," "," "," "," "," "," "," ",1882.41," "," "," "," "," "," "," "," "," "," "," "," "," ",2040.51," "]
["A08.22.007","Патолого-анатомическое исследование биопсийного (операционного) материала надпочечника",655.64," "," "," "," "," "," "," "," "," "," "," "," ",835.29," "," "," "," "," "," "," "," "," "," "," "," "," "," "," "," "," "," "," "," "," "," "," "," "," "," "," "," "," "," "," "," "," "," "," "," "," "," "," "," "," "," "," "," "," "," "," "," "," "," "]
["A08.22.007.003","Гистологическое исследование препарата тканей надпочечника (сложная)",1477.56," "," "," "," "," "," "," "," "," "," "," "," ",1882.41," ",1882.41," "," "," "," "," "," "," "," "," "," "," "," "," "," "," "," "," "," "," "," "," "," "," "," "," "," "," "," "," "," "," "," ",1882.41," "," "," "," "," "," "," "," "," "," "," "," "," "," "," "]
["A08.24.001","Патолого-анатомическое исследование биопсийного (операционного) материала тканей периферической нервной системы",655.64," "," "," "," "," "," "," "," "," "," "," "," ",835.29," ",835.29," "," "," "," "," "," "," "," "," "," "," "," "," "," "," "," "," "," "," "," "," "," "," "," "," "," "," "," "," "," "," "," "," "," "," "," "," "," "," "," "," "," "," "," "," "," ",905.44," "]
["A08.24.001.001","Патолого-анатомическое исследование биопсийного (операционного) материала тканей периферической нервной системы с применением гистохимических методов",1477.56," "," "," "," "," "," "," "," "," "," "," "," ",1882.41," "," "," "," "," "," "," "," "," "," "," "," "," "," "," "," "," "," "," "," "," "," "," "," "," "," "," "," "," "," "," "," "," "," ",1882.41," "," "," "," "," "," "," "," "," "," "," "," "," "," "," "]
["A08.26.004","Патолого-анатомическое исследование биопсийного (операционного) материала глазного яблока, его придаточного аппарата, глазницы, экссудата при операции",655.64," "," "," "," "," "," "," "," "," "," "," "," ",835.29," ",835.29," "," "," "," "," "," "," "," "," "," "," "," "," "," "," "," "," "," "," "," "," "," "," "," "," "," "," "," "," "," "," "," "," "," "," "," "," "," "," "," "," "," "," "," "," "," ",905.44," "]
["A08.28.004","Патолого-анатомическое исследование биопсийного (операционного) материала мочевого пузыря",655.64," "," "," "," "," "," "," "," "," "," "," "," ",835.29," ",835.29," "," "," "," "," "," "," "," "," "," "," "," "," "," "," "," "," "," "," "," "," "," "," "," "," "," "," "," "," "," "," "," "," "," "," "," "," "," "," "," "," "," "," "," "," "," ",905.44," "]
["A08.28.004.001","Патолого-анатомическое исследование биопсийного (операционного) материала мочевого пузыря с применением гистохимических методов",1477.56," "," "," "," "," "," "," "," "," "," "," "," ",1882.41," ",1882.41," "," "," "," "," "," "," "," "," "," "," "," "," "," "," "," "," "," "," "," "," "," "," "," "," "," "," "," "," "," "," "," ",1882.41," "," "," "," "," "," "," "," "," "," "," "," "," "," "," "]
["A08.28.005","Патолого-анатомическое исследование биопсийного (операционного) материала почек",655.64," "," "," "," "," "," "," "," "," "," "," "," ",835.29," ",835.29," "," "," "," "," "," "," "," "," "," "," "," "," "," "," "," "," "," "," "," "," "," "," "," "," "," "," "," "," "," "," "," "," "," "," "," "," "," "," "," "," "," "," "," "," "," ",905.44," "]
["A08.28.005.001","Патолого-анатомическое исследование биопсийного (операционного) материала почки с применением гистобактериоскопических методов",1477.56," "," "," "," "," "," "," "," "," "," "," "," ",1882.41," ",1882.41," "," "," "," "," "," "," "," "," "," "," "," "," "," "," "," "," "," "," "," "," "," "," "," "," "," "," "," "," "," "," "," ",1882.41," "," "," "," "," "," "," "," "," "," "," "," "," "," "," "]
["A08.28.008.005","Гистологическое исследование препарата тканей почечной лоханки и мочеточника (сложная)",1477.56," "," "," "," "," "," "," "," "," "," "," "," ",1882.41," ",1882.41," "," "," "," "," "," "," "," "," "," "," "," "," "," "," "," "," "," "," "," "," "," "," "," "," "," "," "," "," "," "," "," ",1882.41," "," "," "," "," "," "," "," "," "," "," "," "," ",2040.51," "]
["A08.28.009","Патолого-анатомическое исследование биопсийного (операционного) материала почечной лоханки и мочеточника",655.64," "," "," "," "," "," "," "," "," "," "," "," ",835.29," ",835.29," "," "," "," "," "," "," "," "," "," "," "," "," "," "," "," "," "," "," "," "," "," "," "," "," "," "," "," "," "," "," "," "," "," "," "," "," "," "," "," "," "," "," "," "," "," ",905.44," "]
["A08.28.013","Патолого-анатомическое исследование биопсийного (операционного) материала уретры",655.64," "," "," "," "," "," "," "," "," "," "," "," ",835.29," ",835.29," "," "," "," "," "," "," "," "," "," "," "," "," "," "," "," "," "," "," "," "," "," "," "," "," "," "," "," "," "," "," "," "," "," "," "," "," "," "," "," "," "," "," "," "," "," ",905.44," "]
["A08.28.013.001","Патолого-анатомическое исследование биопсийного (операционного) материала уретры (сложная)",1477.56," "," "," "," "," "," "," "," "," "," "," "," ",1882.41," ",1882.41," "," "," "," "," "," "," "," "," "," "," "," "," "," "," "," "," "," "," "," "," "," "," "," "," "," "," "," "," "," "," "," ",1882.41," "," "," "," "," "," "," "," "," "," "," "," "," "," "," "]
["A08.30.001.001","Патолого-анатомическое исследование биопсийного (операционного) материала плаценты (сложная)",1477.56," "," "," "," "," "," "," "," "," "," "," "," ",1882.41," ",1882.41," "," "," "," "," "," "," "," "," "," "," "," "," "," "," "," "," "," "," "," "," "," "," "," "," "," "," "," "," "," "," "," ",1882.41," "," "," "," "," "," "," "," "," "," "," "," "," "," "," "]
["A08.30.012.003","Гистологическое исследование микропрепарата тканей брюшины (сложная)",1477.56," "," "," "," "," "," "," "," "," "," "," "," ",1882.41," ",1882.41," "," "," "," "," "," "," "," "," "," "," "," "," "," "," "," "," "," "," "," "," "," "," "," "," "," "," "," "," "," "," "," ",1882.41," "," "," "," "," "," "," "," "," "," "," "," "," ",2040.51," "]
["A08.30.012.004","Гистологическое исследование препарата тканей брюшины (простая)",655.64," "," "," "," "," "," "," "," "," "," "," "," ",835.29," ",835.29," "," "," "," "," "," "," "," "," "," "," "," "," "," "," "," "," "," "," "," "," "," "," "," "," "," "," "," "," "," "," "," "," "," "," "," "," "," "," "," "," "," "," "," "," "," ",905.44," "]
["A08.30.013.002","Иммуногистохимическое исследование материала (1 маркер)",893," "," "," "," "," "," "," "," "," "," "," "," ",1137.68," ",1137.68," "," "," "," "," "," "," "," "," "," "," "," "," "," "," "," "," "," "," "," "," "," "," "," "," "," "," "," "," "," "," "," "," "," "," "," "," "," "," "," "," "," ",1137.68," "," "," "," "," "]
["A08.30.013.003","Иммуногистохимическое исследование материала (2 маркер)",1786.03," "," "," "," "," "," "," "," "," "," "," "," ",2275.4," ",2275.4," "," "," "," "," "," "," "," "," "," "," "," "," "," "," "," "," "," "," "," "," "," "," "," "," "," "," "," "," "," "," "," "," "," "," "," "," "," "," "," "," "," ",2275.4," "," "," "," "," "]
["A08.30.013.004","Иммуногистохимическое исследование материала (3-5 маркер)",3572.06," "," "," "," "," "," "," "," "," "," "," "," ",4550.8," ",4550.8," "," "," "," "," "," "," "," "," "," "," "," "," "," "," "," "," "," "," "," "," "," "," "," "," "," "," "," "," "," "," "," "," "," "," "," "," "," "," "," "," "," ",4550.8," "," "," "," "," "]
["A08.30.013.005","Иммуногистохимическое исследование материала (6 маркер)",5358.09," "," "," "," "," "," "," "," "," "," "," "," ",6826.21," ",6826.21," "," "," "," "," "," "," "," "," "," "," "," "," "," "," "," "," "," "," "," "," "," "," "," "," "," "," "," "," "," "," "," "," "," "," "," "," "," "," "," "," "," ",6826.21," "," "," "," "," "]
["A08.30.013.006","Иммуногистохимическое исследование материала (7 маркер)",6251.09," "," "," "," "," "," "," "," "," "," "," "," ",7963.89," ",7963.89," "," "," "," "," "," "," "," "," "," "," "," "," "," "," "," "," "," "," "," "," "," "," "," "," "," "," "," "," "," "," "," "," "," "," "," "," "," "," "," "," "," ",7963.89," "," "," "," "," "]
["A08.30.013.007","Иммуногистохимическое исследование материала (8 маркер)",7144.09," "," "," "," "," "," "," "," "," "," "," "," ",9101.57," ",9101.57," "," "," "," "," "," "," "," "," "," "," "," "," "," "," "," "," "," "," "," "," "," "," "," "," "," "," "," "," "," "," "," "," "," "," "," "," "," "," "," "," "," ",9101.57," "," "," "," "," "]
["A08.30.013.008","Иммуногистохимическое исследование материала (9 маркер)",8037.12," "," "," "," "," "," "," "," "," "," "," "," ",10239.290000000001," ",10239.290000000001," "," "," "," "," "," "," "," "," "," "," "," "," "," "," "," "," "," "," "," "," "," "," "," "," "," "," "," "," "," "," "," "," "," "," "," "," "," "," "," "," "," ",10239.290000000001," "," "," "," "," "]
["A08.30.013.009","Иммуногистохимическое исследование материала (10 маркер)",8930.1299999999992," "," "," "," "," "," "," "," "," "," "," "," ",11376.99," ",11376.99," "," "," "," "," "," "," "," "," "," "," "," "," "," "," "," "," "," "," "," "," "," "," "," "," "," "," "," "," "," "," "," "," "," "," "," "," "," "," "," "," "," ",11376.99," "," "," "," "," "]
["A08.30.013.010","Иммуногистохимическое исследование материала (11 маркер)",9823.15," "," "," "," "," "," "," "," "," "," "," "," ",12514.69," ",12514.69," "," "," "," "," "," "," "," "," "," "," "," "," "," "," "," "," "," "," "," "," "," "," "," "," "," "," "," "," "," "," "," "," "," "," "," "," "," "," "," "," "," ",12514.69," "," "," "," "," "]
["A08.30.013.011","Иммуногистохимическое исследование материала (12 маркер)",10716.15," "," "," "," "," "," "," "," "," "," "," "," ",13652.38," ",13652.38," "," "," "," "," "," "," "," "," "," "," "," "," "," "," "," "," "," "," "," "," "," "," "," "," "," "," "," "," "," "," "," "," "," "," "," "," "," "," "," "," "," ",13652.38," "," "," "," "," "]
["A08.30.013.012","Иммуногистохимическое исследование материала (13 маркер)",11609.16," "," "," "," "," "," "," "," "," "," "," "," ",14790.07," ",14790.07," "," "," "," "," "," "," "," "," "," "," "," "," "," "," "," "," "," "," "," "," "," "," "," "," "," "," "," "," "," "," "," "," "," "," "," "," "," "," "," "," "," ",14790.07," "," "," "," "," "]
["A08.30.013.013","Иммуногистохимическое исследование материала (14 маркер)",12502.18," "," "," "," "," "," "," "," "," "," "," "," ",15927.78," ",15927.78," "," "," "," "," "," "," "," "," "," "," "," "," "," "," "," "," "," "," "," "," "," "," "," "," "," "," "," "," "," "," "," "," "," "," "," "," "," "," "," "," "," ",15927.78," "," "," "," "," "]
["A08.30.013.014","Иммуногистохимическое исследование материала (15 маркер)",13395.19," "," "," "," "," "," "," "," "," "," "," "," ",17065.47," ",17065.47," "," "," "," "," "," "," "," "," "," "," "," "," "," "," "," "," "," "," "," "," "," "," "," "," "," "," "," "," "," "," "," "," "," "," "," "," "," "," "," "," "," ",17065.47," "," "," "," "," "]
["A08.30.013.015","Иммуногистохимическое исследование материала (16 маркеров и более)",15181.22," "," "," "," "," "," "," "," "," "," "," "," ",19340.87," ",19340.87," "," "," "," "," "," "," "," "," "," "," "," "," "," "," "," "," "," "," "," "," "," "," "," "," "," "," "," "," "," "," "," "," "," "," "," "," "," "," "," "," "," ",19340.87," "," "," "," "," "]
["A08.30.013.016","Иммуногистохимическое исследование материала ЗНО на Her2-статус",2441.34," "," "," "," "," "," "," "," "," "," "," "," ",3110.27," ",3110.27," "," "," "," "," "," "," "," "," "," "," "," "," "," "," "," "," "," "," "," "," "," "," "," "," "," "," "," "," "," "," "," "," "," "," "," "," "," "," "," "," "," ",3110.27," "," "," "," "," "]
["A08.30.013.017","Иммуногистохимическое исследование материала ЗНО Ki67-антитела",893," "," "," "," "," "," "," "," "," "," "," "," ",1137.68," ",1137.68," "," "," "," "," "," "," "," "," "," "," "," "," "," "," "," "," "," "," "," "," "," "," "," "," "," "," "," "," "," "," "," "," "," "," "," "," "," "," "," "," "," ",1137.68," "," "," "," "," "]
["A08.30.013.018","Иммуногистохимическое исследование материала ЗНО на антитела прогестерон",893," "," "," "," "," "," "," "," "," "," "," "," ",1137.68," ",1137.68," "," "," "," "," "," "," "," "," "," "," "," "," "," "," "," "," "," "," "," "," "," "," "," "," "," "," "," "," "," "," "," "," "," "," "," "," "," "," "," "," "," ",1137.68," "," "," "," "," "]
["A08.30.013.019","Иммуногистохимическое исследование материала ЗНО на антитела эстроген",893," "," "," "," "," "," "," "," "," "," "," "," ",1137.68," ",1137.68," "," "," "," "," "," "," "," "," "," "," "," "," "," "," "," "," "," "," "," "," "," "," "," "," "," "," "," "," "," "," "," "," "," "," "," "," "," "," "," "," "," ",1137.68," "," "," "," "," "]
["A08.30.013.020","Иммуногистохимическое исследование патологии почек иммунофлюоресцентным методом с набором антител к IgA, IgG, IgM, Lambda light chains, Kappa light chains, Fibrinogen, C1q complement,C3c complement.",4638.2," "," "," "," "," "," "," "," "," "," "," "," ",5909.07," "," "," "," "," "," "," "," "," "," "," "," "," "," "," "," "," "," "," "," "," "," "," "," "," "," "," "," "," "," "," "," "," "," "," "," "," "," "," "," "," "," "," "," "," "," "," "," "," "," "]
["A08.30.013.021","Иммуногистохимическое исследование по определению амплификации гена HER2 методом in situ гибридизации (FISH) при опухолях молочной железы",15582.76," "," "," "," "," "," "," "," "," "," "," "," "," "," "," "," "," "," "," "," "," "," "," "," "," "," "," "," "," "," "," "," "," "," "," "," "," "," "," "," "," "," "," "," "," "," "," "," "," "," "," "," "," "," "," "," "," ",19852.439999999999," "," "," "," "," "]
["A08.30.013.022","Иммуногистохимическое исследование ALK в опухоли (операционный, биопсийный материал)",8953.7999999999993," "," "," "," "," "," "," "," "," "," "," "," ",11407.14," "," "," "," "," "," "," "," "," "," "," "," "," "," "," "," "," "," "," "," "," "," "," "," "," "," "," "," "," "," "," "," "," "," "," "," "," "," "," "," "," "," "," "," ",11407.14," "," "," "," "," "]
["A08.30.013.023","Иммуногистохимическое исследование экспрессии белка PD-L1 в опухоли (операционный, биопсийный материал)",7105.07," "," "," "," "," "," "," "," "," "," "," "," "," "," "," "," "," "," "," "," "," "," "," "," "," "," "," "," "," "," "," "," "," "," "," "," "," "," "," "," "," "," "," "," "," "," "," "," "," "," "," "," "," "," "," "," "," ",9051.86," "," "," "," "," "]
["A08.30.014","Патолого-анатомическое исследование биопсийного (операционного) материала опухолей, опухолеподобных образований мягких тканей",655.64," "," "," "," "," "," "," "," "," "," "," "," ",835.29," ",835.29," "," "," "," "," "," "," "," "," "," "," "," "," "," "," "," "," "," "," "," "," "," "," "," "," "," "," "," "," "," "," "," "," "," "," "," "," "," "," "," "," "," "," "," "," "," ",905.44," "]
["A08.30.014.001","Патолого-анатомическое исследование биопсийного (операционного) материала опухолей, опухолеподобных образований мягких тканей (сложное)",1477.56," "," "," "," "," "," "," "," "," "," "," "," ",1882.41," ",1882.41," "," "," "," "," "," "," "," "," "," "," "," "," "," "," "," "," "," "," "," "," "," "," "," "," "," "," "," "," "," "," "," ",1882.41," "," "," "," "," "," "," "," "," "," "," "," "," "," "," "]
["A08.30.015","Патолого-анатомическое исследование биопсийного (операционного) материала сальника",655.64," "," "," "," "," "," "," "," "," "," "," "," ",835.29," ",835.29," "," "," "," "," "," "," "," "," "," "," "," "," "," "," "," "," "," "," "," "," "," "," "," "," "," "," "," "," "," "," "," "," "," "," "," "," "," "," "," "," "," "," "," "," "," ",905.44," "]
["A08.30.016.001 ","Патолого-анатомическое исследование биопсийного (операционного) материала сальника (сложная)",314.19," "," "," "," "," "," "," "," "," "," "," "," ",400.28," ",400.28," "," "," "," "," "," "," "," "," "," "," "," "," "," "," "," "," "," "," "," "," "," "," "," "," "," "," "," "," "," "," "," "," "," "," "," "," "," "," "," "," "," "," "," "," "," "," "," "]
["A08.30.021","Патолого-анатомическое исследование последа",655.64," "," "," "," "," "," "," "," "," "," "," "," ",835.29," ",835.29," "," "," "," "," "," "," "," "," "," "," "," "," "," "," "," "," "," "," "," "," "," "," "," "," "," "," "," "," "," "," "," "," "," "," "," "," "," "," "," "," "," "," "," "," "," ",905.44," "]
["A08.30.023","Патолого-анатомическое исследование биоптата плацентарного ложа матки",655.64," "," "," "," "," "," "," "," "," "," "," "," ",835.29," "," "," "," "," "," "," "," "," "," "," "," "," "," "," "," "," "," "," "," "," "," "," "," "," "," "," "," "," "," "," "," "," "," "," "," "," "," "," "," "," "," "," "," "," "," "," "," "," "," "]
["A08.30.023.001 ","Патолого-анатомическое исследование биоптата плацентарного ложа матки (сложная)",1477.56," "," "," "," "," "," "," "," "," "," "," "," ",1882.41," "," "," "," "," "," "," "," "," "," "," "," "," "," "," "," "," "," "," "," "," "," "," "," "," "," "," "," "," "," "," "," "," "," ",1882.41," "," "," "," "," "," "," "," "," "," "," "," "," "," "," "]
["A08.30.024.001 ","Патолого-анатомическое исследование материала ранних и поздних выкидышей (сложная)",1477.56," "," "," "," "," "," "," "," "," "," "," "," ",1882.41," ",1882.41," "," "," "," "," "," "," "," "," "," "," "," "," "," "," "," "," "," "," "," "," "," "," "," "," "," "," "," "," "," "," "," "," "," "," "," "," "," "," "," "," "," "," "," "," "," "," "," "]
["A08.30.024.002","Патолого-анатомическое исследование материала ранних и поздних выкидышей (простая)",655.64," "," "," "," "," "," "," "," "," "," "," "," ",835.29," ",835.29," "," "," "," "," "," "," "," "," "," "," "," "," "," "," "," "," "," "," "," "," "," "," "," "," "," "," "," "," "," "," "," "," "," "," "," "," "," "," "," "," "," "," "," "," "," "," "," "]
["A08.30.025","Патолого-анатомическое исследование материала неразвивающихся беременностей",1477.56," "," "," "," "," "," "," "," "," "," "," "," ",1882.41," "," "," "," "," "," "," "," "," "," "," "," "," "," "," "," "," "," "," "," "," "," "," "," "," "," "," "," "," "," "," "," "," "," "," "," "," "," "," "," "," "," "," "," "," "," "," "," ",2040.51," "]
["A08.30.025.001","Патолого-анатомическое исследование материала неразвивающихся беременностей (сложная)",2299.73," "," "," "," "," "," "," "," "," "," "," "," "," "," ",2929.86," "," "," "," "," "," "," "," "," "," "," "," "," "," "," "," "," "," "," "," "," "," "," "," "," "," "," "," "," "," "," "," "," "," "," "," "," "," "," "," "," "," "," "," "," "," "," "," "]
["A08.30.030","Патолого-анатомическое исследование биопсийного (операционного) материала тканей забрюшинного пространства",655.64," "," "," "," "," "," "," "," "," "," "," "," ",835.29," ",835.29," "," "," "," "," "," "," "," "," "," "," "," "," "," "," "," "," "," "," "," "," "," "," "," "," "," "," "," "," "," "," "," "," "," "," "," "," "," "," "," "," "," "," "," "," "," "," "," "]
["A08.30.030.001","Патолого-анатомическое исследование биопсийного (операционного) материала тканей забрюшинного пространства (сложная)",1477.56," "," "," "," "," "," "," "," "," "," "," "," ",1882.41," ",1882.41," "," "," "," "," "," "," "," "," "," "," "," "," "," "," "," "," "," "," "," "," "," "," "," "," "," "," "," "," "," "," "," ",1882.41," "," "," "," "," "," "," "," "," "," "," "," "," "," "," "]
["24","Рентгенологические исследования с их последующим описанием и рентгенотерапия",null," "," "," "," "," "," "," "," "," "," "," "," "," "," "," "," "," "," "," "," "," "," "," "," "," "," "," "," "," "," "," "," "," "," "," "," "," "," "," "," "," "," "," "," "," "," "," "," "," "," "," "," "," "," "," "," "," "," "," "," "," "," "," "]
["A24.31.006","Совмещенная однофотонно-эмиссионная компьютерная томография - спиральная компьютерная томография одной области и сцинтиграфия костей с введением контрастного вещества",3994.47," "," "," "," "," "," "," "," "," "," "," "," "," "," ",5088.96," "," "," "," "," "," "," "," "," "," "," "," "," "," "," "," "," "," "," "," "," "," ",7050.24," "," "," "," "," "," ",5516.36," "," "," "," "," "," "," "," "," "," "," "," ",5088.96," "," "," "," "," "]
["A24.31.006Д","Совмещенная однофотонно-эмиссионная компьютерная томография - спиральная компьютерная томография одной области и сцинтиграфия костей с введением контрастного вещества",2779.49," "," "," "," "," "," "," "," "," "," "," "," "," "," ",3541.07," "," "," "," "," "," "," "," "," "," "," "," "," "," "," "," "," "," "," "," "," "," ",4905.8," "," "," "," "," "," ",3838.48," "," "," "," "," "," "," "," "," "," "," "," "," "," "," "," "," "," "]
["A24.31.007","Совмещенная однофотонно-эмиссионная компьютерная томография одной области и сцинтиграфия костей с введением контрастного вещества",3518.13," "," "," "," "," "," "," "," "," "," "," "," "," "," ",4482.1000000000004," "," "," "," "," "," "," "," "," "," "," "," "," "," "," "," "," "," "," "," "," "," ",6209.5," "," "," "," "," "," ",4858.54," "," "," "," "," "," "," "," "," "," "," "," ",4482.1000000000004," "," "," "," "," "]
["A24.31.007Д","Совмещенная однофотонно-эмиссионная компьютерная томография одной области и сцинтиграфия костей",2021.1," "," "," "," "," "," "," "," "," "," "," "," "," "," ",2574.88," "," "," "," "," "," "," "," "," "," "," "," "," "," "," "," "," "," "," "," "," "," ",3567.24," "," "," "," "," "," ",2791.14," "," "," "," "," "," "," "," "," "," "," "," "," "," "," "," "," "," "]
["A24.31.008","Совмещенная однофотонно-эмиссионная компьютерная томография щитовидной железы и двухфазное исследование паращитовидных желез с введением контрастного вещества",2769.13," "," "," "," "," "," "," "," "," "," "," "," "," "," ",3527.87," "," "," "," "," "," "," "," "," "," "," "," "," "," "," "," "," "," "," "," "," "," ",4887.51," "," "," "," "," "," ",3824.17," "," "," "," "," "," "," "," "," "," "," "," ",3527.87," "," "," "," "," "]
[26,"Микробиологические исследования основных возбудителей инфекционных заболеваний",null," "," "," "," "," "," "," "," "," "," "," "," "," "," "," "," "," "," "," "," "," "," "," "," "," "," "," "," "," "," "," "," "," "," "," "," "," "," "," "," "," "," "," "," "," "," "," "," "," "," "," "," "," "," "," "," "," "," "," "," "," "," "," "]
["A26.08.008.003","Определение РНК коронавирусов COVID-19 (Human Coronavirus) в мазках со слизистых оболочек методом ПЦР (с реактивами и набором для ПЦР - диагностики)",430.35," "," "," "," "," "," "," "," "," "," "," "," "," ",548.29999999999995,548.29999999999995,548.29999999999995," "," "," "," "," "," "," "," "," "," "," "," "," "," "," "," "," "," "," "," "," "," "," "," "," "," "," "," "," "," "," "," "," "," "," "," "," "," "," "," "," "," "," ",548.29999999999995," ",594.29999999999995," "]
[27,"Молекулярно-генетические иследования",null," "," "," "," "," "," "," "," "," "," "," "," "," ",null,null,null," "," "," "," "," "," "," "," "," "," "," "," "," "," "," "," "," "," "," "," "," "," "," "," "," "," "," "," "," "," "," "," "," "," "," "," "," "," "," "," "," "," "," "," "," "," "," "]
["A27.05.012","Молекулярно-генетическое исследование мутаций в гене V617F (замена 617-ой амино-кислоты с валина на фенилаланин) JAK2 (янус тирозтн-киназа второго типа) в крови",1893.72," "," "," "," "," "," "," "," "," "," "," "," "," "," "," "," "," "," "," "," "," "," "," "," "," "," "," "," "," "," "," "," "," "," "," "," "," "," "," "," "," "," "," "," "," "," "," "," "," "," "," "," "," "," "," "," ",2412.6," "," "," "," "," "," "]
["A27.05.017.001","Молекулярно-генетическая диагностика ХМЛ (хронический миелоидный лейкоз). Определение экспрессии гена bcr-abl",6046.88," "," "," "," "," "," "," "," "," "," "," "," "," "," "," "," "," "," "," "," "," "," "," "," "," "," "," "," "," "," "," "," "," "," "," "," "," "," "," "," "," "," "," "," "," "," "," "," "," "," "," "," "," "," "," "," ",7703.73," "," "," "," "," "," "]
["A27.05.040","Молекулярно-генетическое исследование мутаций в генах BRCA1 и BRCA2 в крови",6232.92," "," "," "," "," "," "," "," "," "," "," "," "," "," ",7940.74," "," "," "," "," "," "," "," "," "," "," "," "," "," "," "," "," "," "," "," "," "," "," "," "," "," "," "," "," "," "," "," "," "," "," "," "," "," "," "," "," "," ",7940.74," "," "," "," "," "]
["A27.05.040.009","Молекулярно-генетическое исследование мутаций в генах BRCA1 и BRCA2 в крови, выполненное с применением метода секвенирования нового поколения  NGS BRCA1/BRCA2",19239.02," "," "," "," "," "," "," "," "," "," "," "," "," "," "," "," "," "," "," "," "," "," "," "," "," "," "," "," "," "," "," "," "," "," "," "," "," "," "," "," "," "," "," "," "," "," "," "," "," "," "," "," "," "," "," "," "," ",24510.51," "," "," "," "," "]
["A27.30.001","Определение микросателлитной нестабильности в биопсийном (операционном) материале методом ПЦР",4546.8500000000004," "," "," "," "," "," "," "," "," "," "," "," "," "," "," "," "," "," "," "," "," "," "," "," "," "," "," "," "," "," "," "," "," "," "," "," "," "," "," "," "," "," "," "," "," "," "," "," "," "," "," "," "," "," "," "," "," ",5792.69," "," "," "," "," "]
["A27.30.006","Молекулярно-генетическое исследование мутаций в гене KRAS в биопсийном (операционном) материале",8625.83," "," "," "," "," "," "," "," "," "," "," "," "," "," ",10989.31," "," "," "," "," "," "," "," "," "," "," "," "," "," "," "," "," "," "," "," "," "," "," "," "," "," "," "," "," "," "," "," "," "," "," "," "," "," "," "," "," "," ",10989.31," "," "," "," "," "]
["A27.30.007","Молекулярно-генетическое исследование мутаций в гене NRAS в биопсийном (операционном) материале",12189.83," "," "," "," "," "," "," "," "," "," "," "," "," "," ",15529.84," "," "," "," "," "," "," "," "," "," "," "," "," "," "," "," "," "," "," "," "," "," "," "," "," "," "," "," "," "," "," "," "," "," "," "," "," "," "," "," "," "," ",15529.84," "," "," "," "," "]
["A27.30.008","Молекулярно-генетическое исследование мутаций в гене BRAF в биопсийном (операционном) материале",10852.24," "," "," "," "," "," "," "," "," "," "," "," "," "," ",13825.75," "," "," "," "," "," "," "," "," "," "," "," "," "," "," "," "," "," "," "," "," "," "," "," "," "," "," "," "," "," "," "," "," "," "," "," "," "," "," "," "," "," ",13825.75," "," "," "," "," "]
["A27.30.010","Молекулярно-генетическое исследование мутаций в гене BRCA1 в биопсийном (операционном) материале",4060.13," "," "," "," "," "," "," "," "," "," "," "," "," "," ",5172.6099999999997," "," "," "," "," "," "," "," "," "," "," "," "," "," "," "," "," "," "," "," "," "," "," "," "," "," "," "," "," "," "," "," "," "," "," "," "," "," "," "," "," "," ",5172.6099999999997," "," "," "," "," "]
["A27.30.010.001","Молекулярно-генетическое исследование мутаций в гене BRCA1 в биопсийном (операционном) материале методом секвенирования нового поколения NGS",19416.38," "," "," "," "," "," "," "," "," "," "," "," "," "," "," "," "," "," "," "," "," "," "," "," "," "," "," "," "," "," "," "," "," "," "," "," "," "," "," "," "," "," "," "," "," "," "," "," "," "," "," "," "," "," "," "," "," ",24736.47," "," "," "," "," "]
["A27.30.011","Молекулярно-генетическое исследование мутаций в гене BRCA2 в биопсийном (операционном) материале",4060.13," "," "," "," "," "," "," "," "," "," "," "," "," "," ",5172.6099999999997," "," "," "," "," "," "," "," "," "," "," "," "," "," "," "," "," "," "," "," "," "," "," "," "," "," "," "," "," "," "," "," "," "," "," "," "," "," "," "," "," "," ",5172.6099999999997," "," "," "," "," "]
["A27.30.011.001","Молекулярно-генетическое исследование мутаций в гене BRCA2 в биопсийном (операционном) материале методом секвенирования нового поколения NGS",19416.38," "," "," "," "," "," "," "," "," "," "," "," "," "," "," "," "," "," "," "," "," "," "," "," "," "," "," "," "," "," "," "," "," "," "," "," "," "," "," "," "," "," "," "," "," "," "," "," "," "," "," "," "," "," "," "," "," ",24736.47," "," "," "," "," "]
["A27.30.016","Молекулярно-генетическое исследование мутаций в гене EGFR в биопсийном (операционном) материале",6416.06," "," "," "," "," "," "," "," "," "," "," "," "," "," ",8174.06," "," "," "," "," "," "," "," "," "," "," "," "," "," "," "," "," "," "," "," "," "," "," "," "," "," "," "," "," "," "," "," "," "," "," "," "," "," "," "," "," "," ",8174.06," "," "," "," "," "]
["A27.30.017.001","Исследование перестройки гена ALK методом флуоресцентной гибридизации  in situ (FISH)",10827.01," "," "," "," "," "," "," "," "," "," "," "," "," "," "," "," "," "," "," "," "," "," "," "," "," "," "," "," "," "," "," "," "," "," "," "," "," "," "," "," "," "," "," "," "," "," "," "," "," "," "," "," "," "," "," "," "," ",13793.61," "," "," "," "," "]
["A27.30.032","Молекулярно-генетическое исследование транслокации t(9;22) в биопсийном (операционном) материале",7630.38," "," "," "," "," "," "," "," "," "," "," "," "," "," "," "," "," "," "," "," "," "," "," "," "," "," "," "," "," "," "," "," "," "," "," "," "," "," "," "," "," "," "," "," "," "," "," "," "," "," "," "," "," "," "," "," ",9721.1," "," "," "," "," "," "]
["A27.30.051.001","Молекулярно-генетическое исследование мутаций в гене IDH1 в биопсийном (операционном) материале методом секвенирования по Сэнгеру",5232.9399999999996," "," "," "," "," "," "," "," "," "," "," "," "," "," "," "," "," "," "," "," "," "," "," "," "," "," "," "," "," "," "," "," "," "," "," "," "," "," "," "," "," "," "," "," "," "," "," "," "," "," "," "," "," "," "," "," "," ",6666.77," "," "," "," "," "]
["A27.30.052.001","Молекулярно-генетическое исследование мутаций в гене IDH2 в биопсийном (операционном) материале методом секвенирования по Сэнгеру",5232.9399999999996," "," "," "," "," "," "," "," "," "," "," "," "," "," "," "," "," "," "," "," "," "," "," "," "," "," "," "," "," "," "," "," "," "," "," "," "," "," "," "," "," "," "," "," "," "," "," "," "," "," "," "," "," "," "," "," "," ",6666.77," "," "," "," "," "]
["A27.30.097","Молекулярно-генетическое исследование транслокации t(15;17) в биопсийном (операционном) материале методом флюоресцентной гибридизации in situ (FISH)",7630.38," "," "," "," "," "," "," "," "," "," "," "," "," "," "," "," "," "," "," "," "," "," "," "," "," "," "," "," "," "," "," "," "," "," "," "," "," "," "," "," "," "," "," "," "," "," "," "," "," "," "," "," "," "," "," "," ",9721.1," "," "," "," "," "," "]
["A27.30.098","Молекулярно-генетическое исследование транслокации t(8;21) в биопсийном (операционном) материале методом флюоресцентной гибридизации in situ (FISH)",7630.38," "," "," "," "," "," "," "," "," "," "," "," "," "," "," "," "," "," "," "," "," "," "," "," "," "," "," "," "," "," "," "," "," "," "," "," "," "," "," "," "," "," "," "," "," "," "," "," "," "," "," "," "," "," "," "," ",9721.1," "," "," "," "," "," "]
["A27.30.099","Определение инверсии inv(16) в биопсийном (операционном) материале методом флюоресцентной гибридизации in situ (FISH)",7630.38," "," "," "," "," "," "," "," "," "," "," "," "," "," "," "," "," "," "," "," "," "," "," "," "," "," "," "," "," "," "," "," "," "," "," "," "," "," "," "," "," "," "," "," "," "," "," "," "," "," "," "," "," "," "," "," ",9721.1," "," "," "," "," "," "]
["A27.30.100","Молекулярно-генетическое исследование транслокации t(4;11) в биопсийном (операционном) материале методом флюоресцентной гибридизации in situ (FISH)",7630.38," "," "," "," "," "," "," "," "," "," "," "," "," "," "," "," "," "," "," "," "," "," "," "," "," "," "," "," "," "," "," "," "," "," "," "," "," "," "," "," "," "," "," "," "," "," "," "," "," "," "," "," "," "," "," "," ",9721.1," "," "," "," "," "," "]
["A27.30.101","Молекулярно-генетическое исследование транслокации t(12;21) в биопсийном (операционном) материале методом флюоресцентной гибридизации in situ (FISH)",7630.38," "," "," "," "," "," "," "," "," "," "," "," "," "," "," "," "," "," "," "," "," "," "," "," "," "," "," "," "," "," "," "," "," "," "," "," "," "," "," "," "," "," "," "," "," "," "," "," "," "," "," "," "," "," "," "," ",9721.1," "," "," "," "," "," "]
["A27.30.102","Молекулярно-генетическое исследование транслокации t(8;14) в биопсийном (операционном) материале методом флюоресцентной гибридизации in situ (FISH)",7630.38," "," "," "," "," "," "," "," "," "," "," "," "," "," "," "," "," "," "," "," "," "," "," "," "," "," "," "," "," "," "," "," "," "," "," "," "," "," "," "," "," "," "," "," "," "," "," "," "," "," "," "," "," "," "," "," ",9721.1," "," "," "," "," "," "]
["A27.30.113","Молекулярно-генетическое исследование мутаций в гене PIK3CA в биопсийном (операционном) материале",12466.17," "," "," "," "," "," "," "," "," "," "," "," "," "," "," "," "," "," "," "," "," "," "," "," "," "," "," "," "," "," "," "," "," "," "," "," "," "," "," "," "," "," "," "," "," "," "," "," "," "," "," "," "," "," "," "," "," ",15881.9," "," "," "," "," "]
["A27.30.205","Молекулярно-генетическая диагностика хронических миелопролиферативных заболеваний. Определение мутаций G1849T (М617F) в гене JAK2",1840.5," "," "," "," "," "," "," "," "," "," "," "," "," "," "," "," "," "," "," "," "," "," "," "," "," "," "," "," "," "," "," "," "," "," "," "," "," "," "," "," "," "," "," "," "," "," "," "," "," "," "," "," "," "," "," "," ",2344.8000000000002," "," "," "," "," "," "]
["A27.30.206","Молекулярно-генетическое выявление и идентификация хромосомных транслокаций при острых и хронических лейкозах методом FISH с ДНК-зондами на область транслокации (панель зондов)",20937.36," "," "," "," "," "," "," "," "," "," "," "," "," "," "," "," "," "," "," "," "," "," "," "," "," "," "," "," "," "," "," "," "," "," "," "," "," "," "," "," "," "," "," "," "," "," "," "," "," "," "," "," "," "," "," "," ",26674.2," "," "," "," "," "," "]
["A27.30.210","Молекулярно-генетическое исследование на хромосомные перестройки при онкогематологических заболеваниях (t(9;22) и др.) методом FISH",7630.38," "," "," "," "," "," "," "," "," "," "," "," "," "," "," "," "," "," "," "," "," "," "," "," "," "," "," "," "," "," "," "," "," "," "," "," "," "," "," "," "," "," "," "," "," "," "," "," "," "," "," "," "," "," "," "," ",9721.1," "," "," "," "," "," "]
[]
["* - тариф действует с 01.01.2024"]
["О - онкология"]
["Д - дети"]
["ДН - дети под наркозом"]
["НО - онкология (наркоз)"]
["D - диагностическая"]

{"sheet":"Приложение № 3","index":3,"n_rows":2861,"n_cols":115,"rows_kept":562,"cut":true,"hidden":false,"merged":[[17,0,18,0]],"bounds":{"rows_first":250,"rows_last":62,"rows_between":250,"halvings":3}}
["_Оглавление_"]
[null,{"$f":"MID(CELL(\"filename\",A2),SEARCH(\"]\",CELL(\"filename\",A2))+1,31)","v":"Приложение № 3"}]
[null,{"$f":"'Приложение № 2'!B3","v":"к Дополнительному соглашению № 6"}]
[null,{"$f":"_Оглавление_!A3","v":"от 05.06.2024"}]
[null,"к Тарифному соглашению"]
[null,"на оплату медицинской помощи "]
[null,"по ОМС на территории Томской области на 2024 год "]
[null,"от 05.02.2024"]
[]
[null,"Приложение № 15"]
[null,"к  Тарифному соглашению"]
[null,"на оплату медицинской помощи"]
[null,"по ОМС на территории Томской области на 2024 год"]
[null,"от 05.02.2024"]
[]
[null,"Тарифы на оплату медицинской помощи за единицу объема медицинской помощи (в том числе для оплаты медицинских услуг при оказании медицинской помощи в рамках профилактических медицинских осмотров, диспансеризации (включая диспансеризацию для оценки репродуктивного здоровья женщин и мужчин), а также в стационарных условиях и в условиях дневного стационара), применяемые при межучрежденческих и межтерриториальных расчетах, с 01.06.2024"]
[]
["Код медицинской услуги","Наименование медицинской услуги","Базовый тариф на 2024","ОГАУЗ \"Больница № 2\"","ОГАУЗ \"ГКБ №3 им. Б.И. Альперовича\"","ОГАУЗ \"Больница скорой медицинской помощи №2\"","ОГАУЗ \"Больница скорой медицинской помощи\"","ОГАУЗ \"Детская стоматологическая поликлиника №2\"","ОГАУЗ \"Стоматологическая поликлиника №1\"","ОГАУЗ \"Детская больница №1\"","ОГАУЗ \"Детская городская больница № 2\"","ОГАУЗ \"Областная детская больница\"","ОГАУЗ \"Томская областная клиническая больница\"","ОГАУЗ \"Томский областной онкологический диспансер\" ","ОГБУЗ \"Томский областной-кожно-венерологический диспансер\"","ОГАУЗ \"ОПЦ им. И.Д.Евтушенко\"","ОГАУЗ \"Родильный дом № 1\"","ОГАУЗ \"Роддом № 4\"","ОГАУЗ \"Родильный дом им. Н.А. Семашко\"","ОГАУЗ \"Томский фтизиопульмонологический центр\" ","ОГАУЗ \"МЦ имени Г.К. Жерлова\"","ОГБУЗ \"ДИБ им. Г.Е. Сибирцева\"","ОГБУЗ \"Патологоанатомическое бюро\"","ОГАУЗ \"Поликлиника № 4\"","ОГАУЗ \"Поликлиника № 10\"","ОГАУЗ \"Межвузовская поликлиника\"","ОГАУЗ \"Поликлиника ТНЦ СО РАН\"","ОГБУЗ \"Медико-санитарная часть №2\"","ОГАУЗ \"Медико-санитарная часть \"Строитель\"","ОГБУЗ \"Томский региональный центр крови\"","ООО \"Нефролайн-Томск\"","ООО \"ФРЕЗЕНИУС МЕДИКАЛ КЕА СИБИРЬ\"","МЧУ \"Нефросовет\"","ОГAУЗ \"Лоскутовская РП\"","ОГАУЗ \"Томская РБ\"","ОГАУЗ \"Светленская РБ\"","ОГАУЗ \"Александровская РБ\"","ОГБУЗ \"Асиновская РБ\"","ОГБУЗ \"Бакчарская РБ\"","ОГБУЗ \"Верхнекетская РБ\"","ОГБУЗ \"Каргасокская РБ\"","ОГАУЗ \"Кожевниковская РБ\"","ОГАУЗ \"Колпашевская РБ\"","ОГАУЗ \"Кривошеинская РБ\"","ОГБУЗ \"Чаинская РБ\"","ОГАУЗ \"Шегарская РБ\"","ОГБУЗ \"Зырянская РБ\"","ОГАУЗ \"Стрежевская ГБ\"","ОГБУЗ \"Молчановская РБ\"","ОГБУЗ \"Парабельская РБ\"","ОГБУЗ \"Первомайская РБ\"","ОГБУЗ \"Тегульдетская РБ\"","ООО \"Айси-Мед\"","ООО \"Генелли\"","ООО \"Медицинский центр Генелли\"","ООО \"Геном-Томск\"","ООО \"Гранд Сервис\"","ООО \"Гранд Сервис\" (г. Стрежевой)","ООО \"Де визио-Томск\"","ООО \"Здоровье\"","ООО \"МНПЦ\"","ООО \"ИНВИТРО-Сибирь\"","ООО \"Институт мужского здоровья\"","ООО \"Клиника \"Сибирская\"","ООО \"Клиника \"Эксперт - Сибирь\"","ООО \"ЛДЦ МИБС\"","ООО \"ЛДЦ\"","ООО \"ЛОР КЛИНИКА\"","ООО \"ЛСД\"","ООО \"Люмена\"","ООО \"Люмена\" (г. Северск)","АНО \"НИИ микрохирургии\"","АО \"Гармония здоровья\"","ИП Рудченко С.А.","ООО \"Доктор Рудченко\"","ООО \"МАГИСТРАЛЬ\"","ООО \"МЕДИЦИНА\"","ООО \"МАДЕЗ\"","ООО \"Макс и К\"","ООО \"Мед-Арт\"","ООО \"МЕДСЕРВИС\"","ООО \"Медхэлп\"","ООО \"МК \"Аллергоцентр\"","ООО \"Многопрофильный Медицинский Центр\"","ООО \"МЦ \"Сибирский Доктор\"","ООО \"Научно-методический центр клинической лабораторной диагностики Ситилаб\"","ООО \"НПФ \"ХЕЛИКС\"","ООО \"Открытая лаборатория\"","ООО \"Санэпидемстанция\"","ООО \"СибМедЦентр\"","ООО \"СибМедЦентр\" (г. Стрежевой)","ООО \"Ситилаб-Сибирь\"","ООО \"ТомОко\"","ООО \"Томский сурдологический центр\"","ООО \"Центр репродуктивных технологий \"Аист\"","ООО \"Центр семейной медицины\" ","ООО \"ЦСМ\"","ООО \"ЦКБ\"","ООО \"ЦЖЗ\"","ООО \"ЦММО\"","ООО \"ЮНИМ-Сибирь\"","ООО ДРЦ \"Шаг вперед. Томск\"","ООО \"ПМО\"Стандарт\"","Томский НИМЦ","НИИ Онкологии Томского НИМЦ","НИИ Кардиологии Томского НИМЦ","ФБУЗ \"Центр гигиены и эпидемиологии в Томской области\"","ФБУЗ \"Центр гигиены и эпидемиологии в Томской области\" (Асиновский район)","ФБУЗ \"Центр гигиены и эпидемиологии в Томской области\"  (Шегарский район)","ФБУЗ \"Центр гигиены и эпидемиологии в Томской области\" (Колпашевский  район)","ФБУЗ \"Центр гигиены и эпидемиологии в Томской области\"  (г. Стрежевой)","ФБУЗ \"Центр гигиены и эпидемиологии в Томской области\" (Чаинский район)","ФБУЗ \"Центр гигиены и эпидемиологии в Томской области\" (Каргасокский район)","ФГБОУ ВО СибГМУ Минздрава России","ФГБУ СибФНКЦ ФМБА России"]
[null,"Код медицинской организации",null,29,33,139,28,20,27,133,135,146,144,188,26,292,52,142,129,367,343,175,381,4,10,35,13,140,49,422,385,452,432,232,83,231,61,59,63,65,69,71,103,73,85,87,67,115,75,203,79,81,430,447,353,419,320,320,420,333,377,331,405,431,459,425,365,406,341,387,387,204,399,338,21,460,32,251,415,396,429,373,414,444,450,449,442,329,412,294,"294.1",382,330,390,336,205,342,355,395,394,458,437,417,327,465,466,344,344,344,344,344,344,344,173,354]
[null,"Коэффициенты дифференциации по территории оказания медицинской помощи",null,1.274,1.274,1.274,1.274,1.274,1.274,1.274,1.274,1.274,1.274,1.274,1.274,1.274,1.274,1.274,1.274,1.274,1.381,1.274,1.274,1.274,1.274,1.274,1.274,1.274,1.274,1.274,1.274,1.274,1.274,1.2709999999999999,1.2709999999999999,1.2709999999999999,1.8220000000000001,1.27,1.665,1.7949999999999999,1.831,1.272,1.7929999999999999,1.63,1.7769999999999999,1.242,1.26,1.7649999999999999,1.637,1.794,1.272,1.6439999999999999,1.274,1.274,1.274,1.274,1.274,1.7649999999999999,1.274,1.274,1.274,1.274,1.274,1.274,1.274,1.274,1.274,1.274,1.274,1.274,1.381,1.274,1.274,1.274,1.274,1.274,1.274,1.274,1.274,1.274,1.274,1.274,1.274,1.274,1.274,1.274,1.274,1.274,1.274,1.274,1.772,1.274,1.274,1.274,1.274,1.274,1.274,1.274,1.381,1.274,1.274,1.274,1.274,1.274,1.274,1.274,1.274,1.27,1.242,1.7929999999999999,1.7649999999999999,1.7769999999999999,1.831,1.274,1.381]
["09.19.010","Исследование на  стафилококк (зев, нос, кал)",122.5," "," "," "," "," "," ",156.07," "," "," "," "," "," "," "," "," "," "," "," "," "," "," "," "," "," "," "," "," "," "," "," "," "," "," "," "," "," ",224.3," "," "," "," "," "," "," "," "," "," "," "," "," "," "," "," "," "," "," "," "," "," "," "," "," "," "," "," "," "," "," "," "," "," "," "," "," "," "," "," "," "," "," "," "," "," "," "," "," "," ",156.07," "," "," "," "," "," "," "," "," "," "," "," "," "," "," "," "," ",219.64," ",217.68," "," ",169.17]
["11.08.009","Вливание лекарственных веществ в гортань",104.25," ",132.81," "," "," "," "," "," "," ",132.81," "," "," "," "," "," "," "," "," "," "," ",132.81,132.81,132.81," "," "," "," "," "," "," ",132.5," "," ",132.4,173.58,187.13,190.88,132.61000000000001,186.92,169.93,185.25," ",131.36000000000001,184,170.66,187.02,132.61000000000001," "," ",132.81,132.81," "," "," "," "," "," "," "," "," "," "," "," "," "," "," ",143.97," "," "," "," "," "," "," "," "," ",132.81," "," "," "," "," "," "," "," "," "," "," "," "," "," "," "," "," "," "," "," "," "," "," "," "," "," "," "," "," "," "," "," "," ",143.97]
["12.09.005","Расшифровка, описание и интерпретация данных исследования дыхательных объемов и потоков",155.85," ",198.55," "," "," "," "," "," "," ",198.55,198.55," "," "," "," "," "," "," "," "," "," "," ",198.55," ",198.55," "," "," "," "," "," "," "," "," ",197.93," ",279.75," "," ",279.44,254.04,276.95,193.57,196.37,275.08," "," ",198.24," "," "," "," "," "," "," "," "," "," "," "," "," "," "," "," "," "," "," "," "," "," "," "," "," "," "," "," "," "," "," "," "," "," "," "," "," "," "," "," "," "," "," "," ",198.55,198.55," "," "," "," "," "," "," "," "," "," "," "," "," "," "," "," "," "," "]
["17.07.002","Физиотерапевтическое воздействие на  челюстно-лицевую область",90.04," ",114.71," "," "," "," "," "," "," "," "," "," "," "," "," "," "," "," "," "," ",114.71,114.71,114.71,114.71," "," "," "," "," "," ",114.44,114.44," ",164.05,114.35,149.91999999999999,161.62,164.86," ",161.44,146.77000000000001,160,111.83,113.45,158.91999999999999,147.4,161.53,114.53," "," "," "," "," "," "," "," "," "," "," "," "," "," "," "," "," "," "," "," "," ",114.71," "," "," "," "," "," "," "," ",114.71," "," "," "," "," "," "," "," "," "," "," "," "," ",114.71," "," "," "," "," "," "," "," "," "," "," "," "," "," "," "," "," "," "," "]
["17.08.001","Физиотерапевтическое воздействие на область носа",90.04,114.71,114.71," "," "," "," ",114.71,114.71," "," "," "," "," "," "," "," "," "," "," "," ",114.71,114.71,114.71,114.71," "," "," "," "," "," ",114.44,114.44," ",164.05,114.35,149.91999999999999,161.62,164.86," ",161.44,146.77000000000001,160,111.83,113.45,158.91999999999999,147.4,161.53,114.53," "," "," "," "," "," "," "," "," "," "," "," "," "," "," "," "," "," "," "," "," ",114.71," "," "," "," "," "," "," "," ",114.71," "," "," "," "," "," "," "," "," "," "," "," "," ",114.71," "," "," "," "," "," "," "," "," "," "," "," "," "," "," "," "," "," ",124.35]
["17.08.002","Физиотерапевтическое воздействие на область глотки",90.04,114.71,114.71," "," "," "," ",114.71,114.71," "," "," "," "," "," "," "," "," "," "," "," ",114.71,114.71,114.71,114.71," "," "," "," "," "," ",114.44,114.44," ",164.05,114.35,149.91999999999999,161.62,164.86," ",161.44,146.77000000000001,160,111.83,113.45,158.91999999999999,147.4,161.53,114.53," "," "," "," "," "," "," "," "," "," "," "," "," "," "," "," "," "," "," "," "," "," "," "," "," "," "," "," "," "," ",114.71," "," "," "," "," "," "," "," "," "," "," "," "," ",114.71," "," "," "," "," "," "," "," "," "," "," "," "," "," "," "," "," "," ",124.35]
["17.08.003","Физиотерапевтическое воздействие на гортань",90.04,114.71,114.71," "," "," "," ",114.71,114.71," "," "," "," "," "," "," "," "," "," "," "," ",114.71,114.71,114.71,114.71," "," "," "," "," "," ",114.44,114.44," ",164.05,114.35,149.91999999999999,161.62,164.86," ",161.44,146.77000000000001,160,111.83,113.45,158.91999999999999,147.4,161.53,114.53," "," "," "," "," "," "," "," "," "," "," "," "," "," "," "," "," "," "," "," "," ",114.71," "," "," "," "," "," "," "," ",114.71," "," "," "," "," "," "," "," "," "," "," "," "," ",114.71," "," "," "," "," "," "," "," "," "," "," "," "," "," "," "," "," "," ",124.35]
["17.08.003.001","Физиотерапевтическое воздействие на гортань (электростимуляция)",413.92," ",527.33000000000004," "," "," "," "," "," "," "," "," "," "," "," "," "," "," "," "," "," "," "," "," "," "," "," "," "," "," "," "," ",526.09," "," "," "," "," "," "," "," "," ",735.54," "," "," ",677.59," "," "," "," "," "," "," "," "," "," "," "," "," "," "," "," "," "," "," "," "," "," "," ",527.33000000000004," "," "," "," "," "," "," "," "," "," "," "," "," "," "," "," "," "," "," "," "," "," "," "," "," "," "," "," "," "," "," "," "," "," "," "," "," "," "," "," "," "," "]
["17.08.003.002","Физиотерапевтическое воздействие на гортань (электрофонопедия)",275," "," "," "," "," "," "," "," "," "," "," "," "," "," "," "," "," "," "," "," "," "," "," "," "," "," "," "," "," "," "," ",349.53," "," "," "," "," "," "," "," "," ",488.68," "," "," ",450.18," "," "," "," "," "," "," "," "," "," "," "," "," "," "," "," "," "," "," "," "," "," "," ",350.35," "," "," "," "," "," "," "," "," "," "," "," "," "," "," "," "," "," "," "," "," "," "," "," "," "," "," "," "," "," "," "," "," "," "," "," "," "," "," "," "," "," "]
["17.08.004","Физиотерапевтическое воздействие на ухо",90.04," ",114.71," "," "," "," ",114.71,114.71," "," "," "," "," "," "," "," "," "," "," "," ",114.71,114.71,114.71,114.71," "," "," "," "," "," ",114.44,114.44," ",164.05,114.35,149.91999999999999,161.62,164.86," ",161.44,146.77000000000001,160," "," ",158.91999999999999,147.4,161.53,114.53," "," "," "," "," "," "," "," "," "," "," "," "," "," "," "," "," "," "," "," "," ",114.71," "," "," "," "," "," "," "," ",114.71," "," "," "," "," "," "," "," "," "," "," "," "," ",114.71," "," "," "," "," "," "," "," "," "," "," "," "," "," "," "," "," "," ",124.35]
["19.09.003","Дыхательная гимнастика",91.22," "," "," "," "," "," "," "," "," "," "," "," "," "," "," "," "," "," "," "," "," ",116.21,116.21," "," "," "," "," "," "," ",115.94,115.94," "," ",115.85," ",163.74," "," ",163.56," "," "," "," ",161,149.33000000000001," ",116.03," "," "," "," "," "," "," "," "," "," "," "," "," "," "," "," "," "," "," "," "," "," "," "," "," "," "," "," "," "," "," "," "," "," "," "," "," "," "," "," "," "," "," "," "," "," "," "," "," "," "," "," "," "," "," "," "," "," "," "," "," "," "," "," "]
["19.09.004","Упражнения лечения голоса",91.22," "," "," "," "," "," "," "," "," "," "," "," "," "," "," "," "," "," "," "," "," "," "," "," "," "," "," "," "," "," "," ",115.94," "," "," "," ",163.74," "," ",163.56," "," "," "," ",161," "," "," "," "," "," "," "," "," "," "," "," "," "," "," "," "," "," "," "," "," "," "," "," "," "," "," "," "," "," "," "," "," "," "," "," "," "," "," "," "," "," "," "," "," "," "," "," "," "," "," "," "," "," "," "," "," "," "," "," "," "," "," "," "," "," "," "]
["20.25.001","Гидровакуумтерапия гортани",128.44," "," "," "," "," "," "," "," "," "," "," "," "," "," "," "," "," "," "," "," "," "," "," "," "," "," "," "," "," "," "," ",163.25," "," "," "," ",230.55," "," "," "," "," "," ",161.83000000000001,226.7," "," "," "," "," "," "," "," "," "," "," "," "," "," "," "," "," "," "," "," "," "," "," "," "," "," "," "," "," "," "," "," "," "," "," "," "," "," "," "," "," "," "," "," "," "," "," ",163.63," "," "," "," "," "," "," "," "," "," "," "," "," "," "," "," "," "," "," "]
["A01.30.024.001","Составление заключения о результатах медицинского освидетельствования граждан",91.3," ",116.32," "," "," "," "," "," "," ",116.32," "," "," "," "," "," "," "," "," "," ",116.32," "," "," "," "," "," "," "," "," "," "," "," "," "," "," "," "," "," "," "," "," "," "," "," ",149.46," ",116.13," "," "," "," "," "," "," "," "," "," "," "," "," "," "," "," "," "," "," "," "," "," "," "," "," "," "," "," "," "," "," "," "," "," "," "," "," "," "," "," "," "," "," "," "," "," "," "," "," "," "," "," "," "," "," "," "," "," "," "," "," "," "," "," "]
["02","Методы функционального обследования с использованием простых приспособлений ,приборов,не требующих специальных навыков и помощи ассистента",null," "," "," "," "," "," "," "," "," "," "," "," "," "," "," "," "," "," "," "," "," "," "," "," "," "," "," "," "," "," "," "," "," "," "," "," "," "," "," "," "," "," "," "," "," "," "," "," "," "," "," "," "," "," "," "," "," "," "," "," "," "," "," "," "," "," "," "," "," "," "," "," "," "," "," "," "," "," "," "," "," "," "," "," "," "," "," "," "," "," "," "," "," "," "," "," "," "," "," "," "," "," "," "," "," "," "," "," "," "," "," "," "]
["A02.12.002.001","Суточное мониторирование артериального давления",550.75," "," "," "," "," "," ",701.66,701.66," ",701.66," "," "," "," "," "," "," "," "," "," "," "," "," ",701.66,701.66," "," "," "," "," "," "," "," "," ",699.45," ",988.6," ",700.55,987.49,897.72,978.68,684.03,693.95,972.07,901.58," ",700.55," "," "," "," "," "," "," "," "," "," "," ",701.66," "," "," "," "," "," "," ",760.59," ",701.66,701.66,701.66," "," "," "," "," ",701.66," "," "," "," "," "," "," "," ",701.66,975.93," "," "," "," ",701.66,701.66," "," "," "," "," ",701.66," "," "," "," "," "," "," "," "," "," "," ",760.59]
["A02.25.001.001 ","Видеоотоскопия",114.39," "," "," "," "," "," "," "," "," "," "," "," "," "," "," "," "," "," "," "," "," "," "," "," "," "," "," "," "," "," "," "," "," "," "," "," "," "," "," "," "," "," "," "," "," ",187.26," "," "," "," "," "," "," "," "," "," "," "," "," "," "," "," "," "," ",145.72999999999999," "," ",157.97," ",145.72999999999999," "," "," "," "," "," "," ",145.72999999999999," "," "," "," "," "," "," "," "," "," "," "," ",145.72999999999999," ",145.72999999999999,145.72999999999999," "," "," "," "," "," "," "," "," "," "," "," "," "," "," "," "," "," "]
["A02.26.003","Офтальмоскопия",102.47," "," "," "," "," "," "," "," ",130.55000000000001," "," "," "," "," "," "," "," "," "," "," "," "," ",130.55000000000001," "," "," "," "," "," "," "," "," "," ",186.7,130.13999999999999,170.61," ",187.62," ",183.73," ",182.09,127.27,129.11000000000001,180.86,167.74," ",130.34," "," "," "," "," "," "," ",130.55000000000001," "," "," "," "," "," "," "," "," "," ",130.55000000000001,141.51," ",130.55000000000001," "," "," ",130.55000000000001," "," "," "," "," "," "," "," "," "," "," "," "," "," "," ",130.55000000000001," "," ",130.55000000000001,130.55000000000001," "," "," "," "," ",130.55000000000001," "," "," "," "," "," "," "," "," "," ",130.55000000000001,141.51]
["A02.26.004","Визометрия",21.49," "," "," "," "," "," "," "," ",27.38,27.38," "," "," "," "," "," "," "," "," "," "," "," ",27.38," "," "," "," "," "," "," "," "," "," ",39.15,27.29,35.78," ",39.35," ",38.53," ",38.19,26.69,27.08,37.93,35.18," ",27.34," "," "," "," "," "," "," ",27.38," "," "," "," "," "," "," "," "," "," ",27.38,29.68," ",27.38," "," "," ",27.38," "," "," "," "," "," "," "," "," "," "," "," "," "," "," "," "," "," "," "," "," "," "," "," "," "," "," "," "," "," "," "," "," "," "," "," ",27.38," "]
["A02.26.005","Периметрия статическая",84.53," "," "," "," "," "," "," "," ",107.69,107.69," "," "," "," "," "," "," "," "," "," ",107.69," ",107.69," "," "," "," "," "," "," "," "," "," ",154.01,107.35,140.74," ",154.77000000000001," ",151.56," ",150.21,104.99,106.51,149.19999999999999,138.38," ",107.52," "," "," "," "," "," "," "," "," "," "," "," "," "," "," "," "," "," ",107.69,116.74," ",107.69," "," "," ",107.69," "," "," "," "," "," "," "," "," "," "," "," "," "," "," ",107.69," "," ",107.69,107.69," "," "," "," "," ",107.69," "," "," "," "," "," "," "," "," "," ",107.69,116.74]
["A02.26.009","Исследование цветоощущения",33.21," "," "," "," "," "," "," "," ",42.31,42.31," "," "," "," "," "," "," "," "," "," "," "," ",42.31," "," "," "," "," "," "," "," "," "," ",60.51,42.18,55.29," ",60.81," ",59.55," ",59.01,41.25,41.84,58.62,54.36," ",42.24," "," "," "," "," "," "," "," "," "," "," "," "," "," "," "," "," "," ",42.31,45.86," ",42.31," "," "," ",42.31," "," "," "," "," "," "," "," "," "," "," "," "," "," "," "," "," "," ",42.31," "," "," "," "," "," ",42.31," "," "," "," "," "," "," "," "," "," "," "," "]
["A02.26.010","Измерение угла косоглазия",71.38," "," "," "," "," "," "," "," ",90.94," "," "," "," "," "," "," "," "," "," "," "," "," ",90.94," "," "," "," "," "," "," "," "," "," ",130.05000000000001," ",118.85," ",130.69999999999999," ",127.98," ",126.84," ",89.94,125.99,116.85," ",90.8," "," "," "," "," "," "," "," "," "," "," "," "," "," "," "," "," "," ",90.94,98.58," "," "," "," "," ",90.94," "," "," "," "," "," "," "," "," "," "," "," "," "," "," "," "," "," "," "," "," "," "," "," "," "," "," "," "," "," "," "," "," "," "," "," "," "," "]
["A02.26.014","Скиаскопия",42.95," "," "," "," "," "," "," "," ",54.72,54.72," "," "," "," "," "," "," "," "," "," "," "," ",54.72," "," "," "," "," "," "," "," "," ",54.59,78.25,54.55,71.510000000000005," ",78.64," ",77.010000000000005," ",76.319999999999993,53.34,54.12,75.81,70.31," "," "," "," "," "," "," "," "," "," "," "," "," "," "," "," "," "," "," "," ",54.72,59.31," ",54.72," "," "," ",54.72," "," "," "," "," "," "," "," "," "," "," "," "," "," "," "," "," "," ",54.72,54.72," "," "," "," "," ",54.72," "," "," "," "," "," "," "," "," "," "," "," "]
["A02.26.015","Офтальмотонометрия",83.31,106.14,106.14," "," "," "," "," "," ",106.14,106.14," "," "," "," "," "," "," "," "," "," ",106.14,106.14,106.14," ",106.14," "," "," "," "," ",105.89,105.89," ",151.79,105.8,138.71,149.54,152.54,105.97,149.37,135.80000000000001,148.04,103.47,104.97,147.04,136.38,149.46,105.97," "," "," "," "," "," "," ",106.14," "," "," "," "," "," "," "," "," "," ",106.14,115.05," ",106.14," "," "," ",106.14," "," "," "," "," "," "," "," "," "," "," "," "," "," "," ",106.14," "," ",106.14,106.14," "," "," "," "," ",106.14," "," "," "," "," "," "," "," "," "," ",106.14,115.05]
["A02.26.017","Определение дефектов поверхности роговицы",141.94," "," "," "," "," "," "," "," ",180.83,180.83," "," "," "," "," "," "," "," "," "," "," "," "," "," "," "," "," "," "," "," "," "," "," ",258.61,180.26,236.33," ",259.89," ",254.5," ",252.23," ",178.84,250.52,232.36," ",180.55," "," "," "," "," "," "," "," "," "," "," "," "," "," "," "," "," "," ",180.83,196.02," ",180.83," "," "," ",180.83," "," "," "," "," "," "," "," "," "," "," "," "," "," "," "," "," "," ",180.83,180.83," "," "," "," "," "," "," "," "," "," "," "," "," "," "," "," "," "," "]
["A02.26.020","Тест Ширмера",12.9," "," "," "," "," "," "," "," ",16.43,16.43," "," "," "," "," "," "," "," "," "," "," "," "," "," ",16.43," "," "," "," "," "," "," "," ",23.5," "," "," ",23.62," ",23.13," "," "," "," "," ",21.12," "," "," "," "," "," "," "," "," "," "," "," "," "," "," "," "," "," "," "," ",16.43,17.809999999999999," ",16.43," "," "," ",16.43," "," "," "," "," "," "," "," "," "," "," "," "," "," "," "," "," "," "," "," "," "," "," "," "," "," "," "," "," "," "," "," "," "," "," "," "," "," "]
["A02.26.022","Экзофтальмометрия",140.13," "," "," "," "," "," "," "," ",178.53,178.53," "," "," "," "," "," "," "," "," "," "," "," "," "," "," "," "," "," "," "," "," "," "," ",255.32,177.97," "," "," "," ",251.25," "," "," ",176.56," ",229.39," "," "," "," "," "," "," "," "," "," "," "," "," "," "," "," "," "," "," "," ",178.53,193.52," ",178.53," "," "," ",178.53," "," "," "," "," "," "," "," "," "," "," "," "," "," "," "," "," "," ",178.53,178.53," "," "," "," "," "," "," "," "," "," "," "," "," "," "," "," "," "," "]
["A02.26.023","Исследование аккомодации",12.9," "," "," "," "," "," "," "," ",16.43," "," "," "," "," "," "," "," "," "," "," "," "," ",16.43," "," "," "," "," "," "," "," "," "," ",23.5,16.38,21.48," ",23.62," ",23.13," ",22.92," ",16.25,22.77,21.12," ",16.41," "," "," "," "," "," "," "," "," "," "," "," "," "," "," "," "," "," ",16.43,17.809999999999999," ",16.43," "," "," ",16.43," "," "," "," "," "," "," "," "," "," "," "," "," "," "," "," "," "," "," "," "," "," "," "," "," ",16.43," "," "," "," "," "," "," "," "," "," "," "," "]
["A02.26.024","Определение характера зрения, гетерофории",78.400000000000006," "," "," "," "," "," "," "," ",99.88,99.88," "," "," "," "," "," "," "," "," "," "," "," "," "," ",99.88," "," "," "," "," "," "," "," ",142.84," ",130.54," ",143.55000000000001," ",140.57," ",139.32," ",98.78,138.38,128.34," ",99.72," "," "," "," "," "," "," "," "," "," "," "," "," "," "," "," "," "," ",99.88,108.27," ",99.88," "," "," ",99.88," "," "," "," "," "," "," "," "," "," "," "," "," "," "," "," "," "," ",99.88,99.88," "," "," "," "," "," "," "," "," "," "," "," "," "," "," "," "," "," "]
["A02.26.025","Измерение диаметра роговицы",67.36," "," "," "," "," "," "," "," ",85.82," "," "," "," "," "," "," "," "," "," "," "," "," "," "," "," "," "," "," "," "," "," "," "," "," "," ",112.15," ",123.34," ",120.78," ",119.7," ",84.87,118.89,110.27," ",85.68," "," "," "," "," "," "," "," "," "," "," "," "," "," "," "," "," "," "," ",93.02," ",85.82," "," "," "," "," "," "," "," "," "," "," "," "," "," "," "," "," "," "," "," "," "," ",85.82,85.82," "," "," "," "," "," "," "," "," "," "," "," "," "," "," "," "," "," "]
["A02.26.026","Исследование конвергенции",78.59," "," "," "," "," "," "," "," ",100.12,100.12," "," "," "," "," "," "," "," "," "," "," "," "," "," "," "," "," "," "," "," "," "," "," ",143.19," ",130.85," ",143.9," ",140.91," ",139.65," "," ",138.71,128.65," ",99.97," "," "," "," "," "," "," "," "," "," "," "," "," "," "," "," "," "," ",100.12,108.53," ",100.12," "," "," ",100.12," "," "," "," "," "," "," "," "," "," "," "," "," "," "," "," "," "," ",100.12,100.12," "," "," "," "," "," "," "," "," "," "," "," "," "," "," "," "," "," "]
["A02.26.027","Исследование критической частоты слияния световых мельканий (КЧСМ)",85," "," "," "," "," "," "," "," ",108.29," "," "," "," "," "," "," "," "," "," "," "," "," "," "," "," "," "," "," "," "," "," "," "," "," "," "," "," ",155.63999999999999," ",152.41," "," "," "," "," ",139.15," "," "," "," "," "," "," "," "," "," "," "," "," "," "," "," "," "," "," "," ",108.29,117.39," "," "," "," "," "," "," "," "," "," "," "," "," "," "," "," "," "," "," "," "," "," "," "," "," ",108.29," "," "," "," "," "," "," "," "," "," "," "," "," "," "," "," "," "," "]
["03","Методы визуального обследования,требующие специальных приборов,навыков ,помощи ассистента",null," "," "," "," "," "," "," "," "," "," "," "," "," "," "," "," "," "," "," "," "," "," "," "," "," "," "," "," "," "," "," "," "," "," "," "," "," "," "," "," "," "," "," "," "," "," "," "," "," "," "," "," "," "," "," "," "," "," "," "," "," "," "," "," "," "," "," "," "," "," "," "," "," "," "," "," "," "," "," "," "," "," "," "," "," "," "," "," "," "," "," "," "," "," "," "," "," "," "," "," "," "," "," "," "," "," "," "," "," "," "," "," "]
["A03.08.001.001 Ст","Видеоларингоскопия",3583.18," ",4564.97," "," "," "," "," "," "," "," ",4564.97," "," "," "," "," "," "," "," "," "," "," "," "," "," "," "," "," "," "," "," "," "," "," ",4550.6400000000003," "," "," ",4557.8," "," "," "," "," "," ",5865.67," ",4557.8," "," "," "," "," "," "," "," "," "," "," "," "," "," "," "," "," "," "," ",4948.37," ",4564.97," "," "," "," "," "," "," ",4564.97," "," "," "," "," "," "," "," "," "," "," "," "," "," "," "," ",4564.97," "," "," "," "," "," "," "," "," "," "," "," "," "," "," "," "," "]
["A03.08.003 Д Ст","Эзофагоскопия ",366.73," "," "," "," "," "," "," "," ",467.21," "," "," "," "," "," "," "," "," "," "," "," "," "," "," "," "," "," "," "," "," "," ",466.11," ",668.18,465.75," ",658.28,671.48,466.48,657.55," ",651.67999999999995," ",462.08,647.28,600.34,657.91,466.48," "," ",467.21,467.21," "," "," "," "," "," "," "," "," "," "," "," "," "," "," ",506.45," "," "," "," "," "," "," "," "," "," "," "," "," "," "," "," "," "," "," "," "," "," "," "," "," "," "," "," "," "," "," "," "," "," "," "," "," "," "," "," "," "," "," "," "]
["A03.08.003 Ст","Эзофагоскопия",456.56," "," "," "," "," "," "," "," ",581.66,581.66,581.66," "," "," "," "," "," ",630.51," "," "," "," "," "," "," "," "," "," "," "," "," ",580.29," ",831.85,579.83000000000004,760.17,819.53,835.96,580.74,818.61,744.19,811.31,567.04999999999995,575.27,805.83,747.39,819.07,580.74,750.58," ",581.66,581.66," "," "," "," "," "," "," "," "," "," "," "," "," "," "," ",630.51," "," "," "," "," "," "," "," "," "," "," "," "," "," "," "," "," "," "," "," "," "," "," "," "," "," "," "," "," "," "," "," "," "," "," "," "," "," "," "," "," "," "," "," "]
["A03.08.004.003 ","Видеориноскопия ",298.82," "," "," "," "," "," "," "," "," "," ",380.7," "," "," "," "," "," "," "," "," "," "," "," "," "," "," "," "," "," "," "," "," "," "," "," "," "," "," "," "," "," "," "," "," "," ",489.17," "," "," "," "," "," "," "," "," "," "," "," "," "," "," "," "," "," ",380.7," "," ",412.67," ",380.7," "," "," "," "," "," "," ",380.7," "," "," "," "," "," "," "," "," "," "," "," "," "," "," "," ",380.7," "," "," "," "," "," "," "," "," "," "," "," "," "," "," "," "," "]
["A03.08.005 Ст","Фиброларингоскопия",1800.83," ",2294.2600000000002," "," "," "," "," "," "," ",2294.2600000000002,2294.2600000000002," "," "," "," "," "," "," "," "," "," "," "," "," "," "," "," "," "," "," "," "," "," "," ",2287.0500000000002," "," "," ",2290.66," "," "," "," ",2269.0500000000002," ",2947.96," ",2290.66," "," "," "," "," "," "," "," "," "," "," "," "," "," "," "," "," "," "," ",2486.9499999999998," ",2294.2600000000002," "," "," "," "," "," "," "," "," "," "," "," "," "," "," "," "," "," "," "," "," "," "," "," "," "," "," "," "," "," "," "," "," "," "," "," "," "," "," "," "," ",2486.9499999999998]
["A03.09.001 D Ст","Бронхоскопия (диагностическая)",1163.32," "," "," "," "," "," "," "," "," "," "," "," "," "," "," "," "," "," "," "," "," "," "," "," "," "," "," "," "," "," "," "," "," "," ",1477.42," "," "," ",1479.74," "," "," "," ",1465.78,2053.2600000000002,1904.35," ",1479.74," "," "," "," "," "," "," "," "," "," "," "," "," "," "," "," "," "," "," ",1606.54," ",1482.07," "," "," "," "," "," "," "," "," "," "," "," "," "," "," "," "," "," "," "," "," "," "," "," "," "," "," "," "," "," "," "," "," "," "," "," "," "," "," "," "," "," "]
["A03.09.001 Ст","Бронхоскопия",930.65," ",1185.6500000000001," "," "," "," "," "," "," ",1185.6500000000001,1185.6500000000001," "," "," "," "," "," "," "," "," "," "," "," "," "," "," "," "," "," "," "," ",1182.8599999999999," "," ",1181.93," ",1670.52,1704.02,1183.79,1668.66," "," "," ",1172.6199999999999,1642.6,1523.47," ",1183.79," "," "," "," "," "," "," "," "," "," "," "," "," "," "," "," "," "," "," ",1285.23," ",1185.6500000000001," "," "," "," "," "," "," "," "," "," "," "," "," "," "," "," "," "," "," "," "," "," "," "," "," "," "," "," "," "," "," "," "," "," "," "," "," "," "," "," ",1185.6500000000001,1285.23]
["A03.09.002 Д Ст","Трахеоскопия",410.6," "," "," "," "," "," "," "," "," "," "," "," "," "," "," "," "," "," "," "," "," "," "," "," "," "," "," "," "," "," "," "," "," "," ",521.46," "," "," ",522.28," "," "," "," ",517.36," ",672.15," ",522.28," "," "," "," "," "," "," "," "," "," "," "," "," "," "," "," "," "," "," ",567.04," "," "," "," "," "," "," "," "," "," "," "," "," "," "," "," "," "," "," "," "," "," "," "," "," "," "," "," "," "," "," "," "," "," "," "," "," "," "," "," "," "," "," "," "]
["A03.09.002 Ст","Трахеоскопия",1667.92," "," "," "," "," "," "," "," "," ",2124.9299999999998,2124.9299999999998," "," "," "," "," "," "," "," "," "," "," "," "," "," "," "," "," "," "," "," ",2119.9299999999998," "," ",2118.2600000000002," ",2993.92," ",2121.59,2990.58," "," "," ",2101.58,2943.88,2730.39," ",2121.59," "," "," "," "," "," "," "," "," "," "," "," "," "," "," "," "," "," "," ",2303.4," "," "," "," "," "," "," "," "," "," "," "," "," "," "," "," "," "," "," "," "," "," "," "," "," "," "," "," "," "," "," "," "," "," "," "," "," "," "," "," "," "," "," "," "]
["A03.14.001","Диагностическая лапароскопия",524.67999999999995," "," "," "," "," "," "," "," "," "," "," "," "," "," "," "," "," "," "," "," "," "," "," "," "," "," "," "," "," "," "," ",666.87," ",955.97," "," ",941.8," ",667.39," ",855.23,932.36," ",661.1,926.06,858.9,941.28," "," "," ",668.44,668.44," "," "," "," "," "," "," "," "," "," "," "," "," "," "," "," "," "," "," "," "," "," "," "," "," "," "," "," "," "," "," "," "," "," "," "," "," "," "," "," "," "," "," "," "," "," "," "," "," "," "," "," "," "," "," "," "," "," "," "," "]
["A03.14.002 Л Ст","Холедохоскопия ( дуоденоскопия + РПХГ+ ЭПСТ ) лечебная",682.03," "," "," "," "," "," "," "," "," "," "," "," "," "," "," "," "," "," "," "," "," "," "," "," "," "," "," "," "," "," "," ",866.86," "," "," "," ",1224.24," ",867.54," "," "," "," ",859.36,1203.78,1116.48," "," "," "," "," "," "," "," "," "," "," "," "," "," "," "," "," "," "," "," "," "," "," "," "," "," "," "," "," "," "," "," "," "," "," "," "," "," "," "," "," "," "," "," "," "," "," "," "," "," "," "," "," "," "," "," "," "," "," "," "," "," "," "," "," "," "]
["A03.14.002 Ст","Холедохоскопия",535.34," "," "," "," "," "," "," "," "," "," "," "," "," "," "," "," "," "," "," "," "," "," "," "," "," "," "," "," "," "," "," ",680.42," "," "," "," ",960.94," ",680.95," "," "," "," "," ",944.88,876.35," "," "," "," "," "," "," "," "," "," "," "," "," "," "," "," "," "," "," "," "," "," "," "," "," "," "," "," "," "," "," "," "," "," "," "," "," "," "," "," "," "," "," "," "," "," "," "," "," "," "," "," "," "," "," "," "," "," "," "," "," "," "," "," "," ",739.3]
["A03.16.001 D Ст","Эзофагогастродуоденоскопия (диагностическая )",1139.07," "," "," "," "," "," ",1451.18," ",1451.18," ",1451.18," "," "," "," "," "," ",1573.06," "," "," "," "," "," "," "," "," "," "," "," "," ",1447.76," ",2075.39,1446.62," ",2044.63,2085.64,1448.9,2042.35,1856.68,2024.13," ",1435.23,2010.46,1864.66,2043.49,1448.9,1872.63," ",1451.18,1451.18," "," "," "," "," "," "," "," "," "," "," "," "," "," "," ",1573.06," ",1451.18," "," "," "," "," "," "," "," "," "," "," "," "," "," "," "," "," "," "," "," "," "," "," "," "," "," "," "," "," "," "," "," "," "," "," "," "," "," "," "," ",1451.18," "]
["A03.16.001 О Ст","Эзофагогастродуоденоскопия",911.26," "," "," "," "," "," "," "," "," "," "," "," "," "," "," "," "," "," "," "," "," "," "," "," "," "," "," "," "," "," "," "," "," "," "," "," "," "," ",1159.1199999999999," "," "," "," "," "," "," "," "," "," "," "," "," "," "," "," "," "," "," "," "," "," "," "," "," "," "," "," ",1258.45," "," "," "," "," "," "," "," "," "," "," "," "," "," "," "," "," "," "," "," "," "," "," "," "," "," "," "," "," "," "," "," "," "," "," "," "," "," "," "," "," "," ",1160.95," "]
["A03.16.001 Ст","Эзофагогастродуоденоскопия",911.26," ",1160.95," "," "," "," "," "," "," ",1160.95,1160.95," "," "," "," "," "," ",1258.45," "," "," "," "," "," ",1160.95," "," "," "," "," "," ",1158.21,1158.21,1660.32,1157.3,1517.25,1635.71,1668.52,1159.1199999999999,1633.89,1485.35,1619.31,1131.78,1148.19,1608.37,1491.73,1634.8,1159.1199999999999,1498.11," ",1160.95,1160.95," "," "," "," ",1160.95," "," "," "," "," "," ",1160.95," "," "," ",1258.45," ",1160.95," "," "," "," "," "," "," "," "," "," "," "," "," "," "," "," "," "," "," "," "," "," "," "," ",1160.95," "," "," "," "," "," "," ",1160.95," "," "," "," "," "," "," "," ",1258.45]
["A03.16.001 ДД","Эзофагогастродуоденоскопия",911.26," ",1160.95," "," "," "," "," "," "," ",1160.95,1160.95," "," "," "," "," "," "," "," "," "," "," "," "," ",1160.95," "," "," "," "," "," ",1158.21,1158.21,1660.32,1157.3,1517.25,1635.71,1668.52,1159.1199999999999,1633.89,1485.35,1619.31,1131.78,1148.19,1608.37,1491.73,1634.8,1159.1199999999999,1498.11," "," "," "," "," "," "," "," "," "," "," "," "," "," "," "," "," "," "," "," "," "," "," "," "," "," "," "," "," "," "," "," "," "," "," "," "," "," "," "," "," "," "," "," "," "," "," "," "," "," "," "," "," "," "," "," "," "," "," "," "," "," ",1258.45]
["A03.17.001 Д Ст","Эзофагогастроинтестиноскопия (тонкокишечная эндоскопия)",643.54," "," "," "," "," "," "," "," ",819.87," "," "," "," "," "," "," "," "," "," "," "," "," "," "," "," "," "," "," "," "," "," "," "," ",1172.53," "," ",1155.1500000000001," ",818.58," "," "," "," "," "," ",1053.47," "," "," "," ",819.87,819.87," "," "," "," "," "," "," "," "," "," "," "," "," "," "," ",888.73," "," "," "," "," "," "," "," "," "," "," "," "," "," "," "," "," "," "," "," "," "," "," "," "," "," "," "," "," "," "," "," "," "," "," "," "," "," "," "," "," "," "," "," "]
["A03.17.001 Ст","Эзофагогастроинтестиноскопия",512.49," "," "," "," "," "," "," "," "," "," "," "," "," "," "," "," "," "," "," "," "," "," "," "," "," "," "," "," "," "," "," "," "," ",933.76," "," ",919.92,938.37,651.89," "," "," "," "," ",904.54,838.95," "," "," "," ",652.91,652.91," "," "," "," "," "," "," "," "," "," "," ",652.91," "," "," ",707.75," "," "," "," "," "," "," "," "," "," "," "," "," "," "," "," "," "," "," "," "," "," "," "," "," "," "," "," "," "," "," "," "," "," "," "," "," "," "," "," "," "," "," "," "]
["A03.18.001 D Ст","Колоноскопия (диагностическая)",1703.34," "," "," "," "," "," "," "," ",2170.06,2170.06,2170.06," "," "," "," "," "," ",2352.31," "," "," "," "," "," "," "," "," "," "," "," "," ",2164.9499999999998," ",3103.49,2163.2399999999998," ",3057.5,3118.82,2166.65,3054.09," "," "," ",2146.21," ",2788.37,3055.79,2166.65," "," "," "," "," "," "," "," "," "," "," "," "," "," "," "," "," "," "," ",2352.31," ",2170.06," "," "," "," "," "," "," "," "," "," "," "," "," "," "," "," "," "," "," "," "," "," "," "," "," "," "," "," "," "," "," "," "," "," "," "," "," "," "," "," "," "," "]
["A03.18.001 D Н О Ст","Колоноскопия (диагностическая) под наркозом",3256.49," "," "," "," "," "," "," "," "," "," "," "," "," "," "," "," "," "," "," "," "," "," "," "," "," "," "," "," "," "," "," "," "," "," "," "," "," "," ",4142.26," "," "," "," "," "," "," "," "," "," "," "," "," "," "," "," "," "," "," "," "," "," "," "," "," "," "," "," ",4497.21," "," "," "," "," "," "," "," "," "," "," "," "," "," "," "," "," "," "," "," "," "," "," "," "," "," "," "," "," "," "," "," "," "," "," "," "," "," "," "," "," "," ",4148.7700000000004," "]
["A03.18.001 D Н Ст","Колоноскопия (диагностическая) под наркозом",3256.49," "," "," "," "," "," "," "," "," "," ",4148.7700000000004," "," "," "," "," "," ",4497.21," "," "," "," "," "," "," "," "," "," "," "," "," "," "," "," ",4135.74," "," "," ",4142.26," "," "," "," ",4103.18," ",5330.87," ",4142.26," "," "," "," "," "," "," "," "," "," "," "," "," "," "," "," "," "," "," ",4497.21," "," "," "," "," "," "," "," "," "," "," "," "," "," "," "," "," "," "," "," "," "," "," "," "," "," "," "," "," "," "," "," "," "," "," "," "," "," "," "," "," "," "," "," "]
["A03.18.001 Н ДД","Колоноскопия (диагностическая) под наркозом",3256.49," "," "," "," "," "," "," "," "," "," ",4148.7700000000004," "," "," "," "," "," "," "," "," "," "," "," "," "," "," "," "," "," "," "," "," "," "," ",4135.74," "," "," ",4142.26," "," "," "," ",4103.18," ",5330.87," ",4142.26," "," "," "," "," "," "," "," "," "," "," "," "," "," "," "," "," "," "," ",4497.21," "," "," "," "," "," "," "," "," "," "," "," "," "," "," "," "," "," "," "," "," "," "," "," "," "," "," "," "," "," "," "," "," "," "," "," "," "," "," "," "," "," "," "," "]
["A03.18.001 О Ст","Колоноскопия",1362.68," "," "," "," "," "," "," "," "," "," "," "," "," "," "," "," "," "," "," "," "," "," "," "," "," "," "," "," "," "," "," "," "," "," "," "," "," "," ",1733.33," "," "," "," "," "," "," "," "," "," "," "," "," "," "," "," "," "," "," "," "," "," "," "," "," "," "," "," ",1881.86," "," "," "," "," "," "," "," "," "," "," "," "," "," "," "," "," "," "," "," "," "," "," "," "," "," "," "," "," "," "," "," "," "," "," "," "," "," "," "," "," "," ",1736.05," "]
["A03.18.001 Ст","Колоноскопия",1362.68," ",1736.05," "," "," "," "," "," "," ",1736.05,1736.05," "," "," "," "," "," ",1881.86," "," "," "," "," "," ",1736.05," "," "," "," "," "," ",1731.97," ",2482.8000000000002,1730.6," ",2446.0100000000002,2495.0700000000002,1733.33,2443.29," "," ",1692.45,1716.98,2405.13,2230.71,2444.65,1733.33,2240.25," "," "," "," "," "," "," ",1736.05," "," "," "," "," "," ",1736.05," "," "," ",1881.86," ",1736.05," "," "," "," "," "," "," "," "," "," "," "," "," "," "," "," "," "," "," "," "," "," "," "," ",1736.05," "," "," "," "," "," "," "," "," "," "," "," "," "," "," ",1736.05,1881.86]
["A03.18.001 ДД","Колоноскопия",1362.68," ",1736.05," "," "," "," "," "," "," ",1736.05,1736.05," "," "," "," "," "," "," "," "," "," "," "," "," ",1736.05," "," "," "," "," "," ",1731.97," ",2482.8000000000002,1730.6," ",2446.0100000000002,2495.0700000000002,1733.33,2443.29," "," "," ",1716.98,2405.13,2230.71,2444.65,1733.33,2240.25," "," "," "," "," "," "," "," "," "," "," "," "," "," "," "," "," "," "," "," "," "," "," "," "," "," "," "," "," "," "," "," "," "," "," "," "," "," "," "," "," "," "," "," "," "," "," "," "," "," "," "," "," "," "," "," "," "," "," "," "," ",1736.05,1881.86]
["A03.18.001.004 Ст","Эндосонография толстой кишки",1304.26," ",1661.63," "," "," "," "," "," "," "," ",1661.63," "," "," "," "," "," ",1801.18," "," "," "," "," "," "," "," "," "," "," "," "," "," "," "," "," "," "," "," "," "," "," "," "," ",1643.37," ",2135.0700000000002," ",1659.02," "," "," "," "," "," "," "," "," "," "," "," "," "," "," "," "," "," "," ",1801.18," "," "," "," "," "," "," "," "," "," "," "," "," "," "," "," "," "," "," "," "," "," "," "," "," "," "," "," "," "," "," "," "," "," "," "," "," "," "," "," "," "," "," ",1801.18]
["A03.18.001.007 Ст","Колоноскопия с введением лекарственных препаратов",3256.49," ",4148.7700000000004," "," "," "," "," "," "," "," "," "," "," "," "," "," "," ",4497.21," "," "," "," "," "," "," "," "," "," "," "," "," "," "," "," "," "," "," "," ",4142.26," "," "," "," "," "," "," "," "," "," "," "," "," "," "," "," "," "," "," "," "," "," "," "," "," "," "," "," ",4497.21," "," "," "," "," "," "," "," "," "," "," "," "," "," "," "," "," "," "," "," "," "," "," "," "," "," "," "," "," "," "," "," "," "," "," "," "," "," "," "," "," "," "," "," "]
["A03.19.001 Ст","Аноскопия",191.61," "," "," "," "," "," "," "," "," ",244.11,244.11," "," "," "," "," "," "," "," "," "," "," "," "," "," "," "," "," "," "," "," ",243.54," ",349.11,243.34,319.02999999999997,343.94," "," ",343.56,312.32," ",237.98,241.43,338.19,313.67,343.75,243.73," "," "," "," "," "," "," "," "," "," "," "," "," "," "," "," "," "," "," ",264.61," ",244.11," "," "," "," "," "," "," "," "," "," "," "," "," "," "," "," "," "," "," "," "," "," "," "," "," "," "," "," "," "," "," "," "," "," "," "," "," "," "," "," "," "," "]
["A03.19.002 D Ст","Ректороманоскопия (диагностическая)",1114.28," "," "," "," "," "," "," "," ",1419.59," ",1419.59," "," "," "," "," "," ",1538.82," "," "," "," "," "," "," "," "," "," "," "," "," ",1416.25," "," ",1415.14," ",2000.13,2040.25,1417.36,1997.9," "," "," ",1403.99,1966.7,1824.08," ",1417.36," "," "," "," "," "," "," "," "," "," "," "," "," "," "," "," "," "," "," ",1538.82," "," "," "," "," "," "," "," "," "," "," "," "," "," "," "," "," "," "," "," "," "," "," "," "," "," "," "," "," "," "," "," "," "," "," "," "," "," "," "," "," "," "," "," "]
["A03.19.002 Ст","Ректороманоскопия",1116.04," ",1421.83," "," "," "," "," "," "," ",1421.83,1421.83," "," "," "," "," "," "," "," "," "," "," "," "," "," "," "," "," "," "," "," ",1418.49," ",2033.42,1417.37,1858.21,2003.29,2043.47,1419.6,2001.06,1819.15," "," ",1406.21,1969.81,1826.96,2002.18,1419.6," "," "," "," "," "," "," "," "," "," "," "," "," "," "," ",1421.83," "," "," ",1541.25," ",1421.83," "," "," "," "," "," "," "," "," "," "," "," "," "," "," "," "," "," "," "," "," "," "," "," ",1421.83," "," "," "," "," "," "," "," "," "," "," "," "," "," "," "," ",1541.25]
["A03.19.002 ДД","Ректороманоскопия",1116.04," ",1421.83," "," "," "," "," "," "," ",1421.83,1421.83," "," "," "," "," "," "," "," "," "," "," "," "," "," "," "," "," "," "," "," ",1418.49," ",2033.42,1417.37,1858.21,2003.29,2043.47,1419.6,2001.06,1819.15," "," ",1406.21,1969.81,1826.96,2002.18,1419.6," "," "," "," "," "," "," "," "," "," "," "," "," "," "," "," "," "," "," "," "," "," "," "," "," "," "," "," "," "," "," "," "," "," "," "," "," "," "," "," "," "," "," "," "," "," "," "," "," "," "," "," "," "," "," "," "," "," "," "," "," "," "," ",1541.25]
["A03.19.003 D Ст","Сигмоидоскопия ( диагностическая )",787.72," "," "," "," "," "," "," "," ",1003.56," "," "," "," "," "," "," "," "," "," "," "," "," "," "," "," "," "," "," "," "," "," ",1001.19," "," ",1000.4," ",1413.96,1442.32,1001.98,1412.38," "," "," ",992.53,1390.33,1289.5,1413.17,1001.98," "," "," "," "," "," "," "," "," "," "," "," "," "," "," "," "," "," "," ",1087.8399999999999," "," "," "," "," "," "," "," "," "," "," "," "," "," "," "," "," "," "," "," "," "," "," "," "," "," "," "," "," "," "," "," "," "," "," "," "," "," "," "," "," "," "," "," "]
["A03.19.003 Ст","Сигмоидоскопия",1116.04," ",1421.83," "," "," "," "," "," "," ",1421.83,1421.83," "," "," "," "," "," "," "," "," "," "," "," "," "," "," "," "," "," "," "," ",1418.49," "," ",1417.37," ",2003.29,2043.47,1419.6,2001.06," "," "," ",1406.21,1969.81,1826.96,2002.18,1419.6," "," "," "," "," "," "," "," "," "," "," "," "," "," "," ",1421.83," "," "," ",1541.25," "," "," "," "," "," "," "," "," "," "," "," "," "," "," "," "," "," "," "," "," "," "," "," "," "," ",1421.83," "," "," "," "," "," "," "," "," "," "," "," "," "," "," "," "," "]
["A03.20.001 Cт","Кольпоскопия",620.91999999999996," "," "," "," "," "," "," "," "," "," ",791.05," "," "," "," ",791.05," "," "," "," "," "," "," "," "," "," "," "," "," "," "," "," "," ",1131.32,788.57," "," ",1136.9000000000001," "," ",1012.1,1103.3699999999999,771.18," "," "," ",1113.93," "," "," "," "," ",791.05," "," "," "," "," "," "," "," "," "," "," "," "," "," ",857.49," ",791.05," "," "," "," "," "," "," "," "," "," "," "," "," "," "," "," "," ",1100.27," "," "," "," "," "," "," ",857.49," "," "," "," "," "," "," "," "," "," "," "," "," "," "," "," "]
["A03.21.001","Диафаноскопия",132.35," "," "," "," "," "," "," "," ",168.61," "," "," "," "," "," "," "," "," "," "," "," "," "," "," "," "," "," "," "," "," "," "," "," "," "," "," ",237.57," "," "," "," "," "," "," ",233.6,216.66," "," "," "," "," "," "," "," "," "," "," "," "," "," "," "," "," "," "," "," "," "," "," "," "," "," "," "," "," "," "," "," "," "," "," "," "," "," "," "," "," "," "," "," "," "," ",168.61,168.61," "," "," "," "," "," "," "," "," "," "," "," "," "," "," "," "," "," "]
["A03.25.001","Вестибулометрия",413.32," "," "," "," "," "," "," "," "," "," "," "," "," "," "," "," "," "," "," "," "," "," "," "," "," "," "," "," "," "," "," "," "," "," "," "," "," "," "," "," "," "," ",513.34," "," "," "," "," "," "," "," "," "," "," "," "," "," "," "," "," "," "," "," "," ",526.57000000000005," "," "," "," "," "," "," "," "," "," "," "," ",526.57000000000005," "," "," "," "," "," "," "," "," "," "," "," ",526.57000000000005," "," "," "," "," "," "," "," "," "," "," "," "," "," "," "," "," "," "," "," "," "]
["A03.25.002","Проведение калорической пробы",134.69999999999999," "," "," "," "," "," "," "," "," "," "," "," "," "," "," "," "," "," "," "," "," "," "," "," "," "," "," "," "," "," "," "," "," "," "," "," "," "," "," "," "," "," "," "," "," ",220.5," "," "," "," "," "," "," "," "," "," "," "," "," "," "," "," "," "," "," "," "," ",186.02," "," "," "," "," "," "," "," "," ",171.61," "," "," "," "," "," "," "," "," "," "," "," "," "," "," "," "," "," "," "," "," "," "," "," "," "," "," "," "," "," "," "," "," "," "]
["A03.25.003","Исследование органов слуха с помощью камертона",300.38," "," "," "," "," "," "," "," ",382.68," "," "," "," "," "," "," "," "," "," "," "," "," "," "," "," "," "," "," "," "," "," "," "," "," "," "," "," ",550," "," "," "," "," "," "," ",491.72," "," "," "," "," "," "," "," "," "," "," "," "," "," "," "," "," "," ",382.68," "," ",414.82," ",382.68," "," "," "," "," "," "," ",382.68," "," "," "," "," "," "," "," "," "," "," "," ",382.68," "," "," ",382.68," "," "," "," "," "," "," "," "," "," "," "," "," "," "," "," "," "]
["A03.26.001","Биомикроскопия глаза",63.4," "," "," "," "," "," "," "," ",80.77,80.77," "," "," "," "," "," "," "," "," "," "," "," ",80.77," ",80.77," "," "," "," "," "," "," "," "," ",80.52," "," "," "," "," "," "," "," "," ",111.9,103.79," "," "," "," "," "," "," "," "," ",80.77," "," "," "," "," "," "," "," "," "," ",80.77,87.56," ",80.77," "," "," ",80.77," "," "," "," "," "," "," "," "," "," "," "," ",80.77,112.34," "," "," "," ",80.77,80.77," "," "," "," "," ",80.77," "," "," "," "," "," "," "," "," "," ",80.77," "]
["A03.26.002","Гониоскопия",169.07," "," "," "," "," "," "," "," ",215.4,215.4," "," "," "," "," "," "," "," "," "," "," "," "," "," "," "," "," "," "," "," "," "," "," "," "," "," "," "," "," "," "," "," "," "," "," ",276.77," "," "," "," "," "," "," "," "," "," "," "," "," "," "," "," "," "," "," "," ",215.4,233.49," ",215.4," "," "," ",215.4," "," "," "," "," "," "," "," "," "," "," "," "," "," "," "," "," "," ",215.4,215.4," "," "," "," "," "," "," "," "," "," "," "," "," "," "," "," "," "," "]
["A03.26.003","Осмотр периферии глазного дна трехзеркальной линзой Гольдмана",110.72," "," "," "," "," "," "," "," ",141.06,141.06," "," "," "," "," "," "," "," "," "," "," "," ",141.06," "," "," "," "," "," "," "," "," "," "," "," "," "," "," "," ",198.52," "," "," "," "," ",181.25," "," "," "," "," "," "," "," "," "," "," "," "," "," "," "," "," "," "," "," ",141.06,152.9," ",141.06," "," "," ",141.06," "," "," "," "," "," "," "," "," "," "," "," "," "," "," "," "," "," ",141.06,141.06," "," "," "," "," "," "," "," "," "," "," "," "," "," "," "," "," "," "]
["A03.26.005.001","Биомикрофотография глазного дна с использованием фундус-камеры",314.22000000000003," "," "," "," "," "," "," "," "," "," "," "," "," "," "," "," "," "," "," "," "," "," "," "," "," "," "," "," "," "," "," "," "," "," "," "," "," "," "," "," "," "," "," "," "," "," "," "," "," "," "," "," "," "," "," "," "," "," "," "," "," "," "," "," "," "," "," "," "," "," "," "," "," "," "," "," "," "," "," "," "," "," "," "," "," "," "," "," "," "," "," "," "," "," "," "," "," "," "," "," "," "," "," "," "," "," "," "," "," "," "," "," "]
["A03.26.008","Рефрактометрия",155.74," "," "," "," "," "," "," "," ",198.41,198.41," "," "," "," "," "," "," "," "," "," "," "," ",198.41," "," "," "," "," "," "," "," "," "," "," "," "," "," "," "," ",279.24," "," "," "," ",274.88,254.95," "," "," "," "," "," "," "," "," ",198.41," "," "," "," "," "," "," "," "," "," ",198.41,215.08," ",198.41," "," "," ",198.41," "," "," "," "," "," "," "," "," "," "," "," ",198.41,275.97000000000003," "," "," "," ",198.41,198.41," "," "," "," "," "," "," "," "," "," "," "," "," "," "," "," ",198.41,215.08]
["A03.26.011","Кератопахометрия",167.6," "," "," "," "," "," "," "," ",213.52,213.52," "," "," "," "," "," "," "," "," "," "," "," "," "," "," "," "," "," "," "," "," "," "," "," "," "," "," "," "," ",300.51," "," "," "," "," ",274.36," "," "," "," "," "," "," "," "," "," "," "," "," "," "," "," "," "," "," "," ",213.52,231.46," "," "," "," "," ",213.52," "," "," "," "," "," "," "," "," "," "," "," "," "," "," "," "," "," "," "," "," "," "," "," "," "," "," "," "," "," "," "," "," "," "," "," "," "," "]
["A03.26.015","Тонография",111.69," "," "," "," "," "," "," "," "," ",142.29," "," "," "," "," "," "," "," "," "," "," "," "," "," "," "," "," "," "," "," "," "," "," "," "," "," "," "," "," ",200.26," "," "," "," ",197.13,182.84," "," "," "," "," "," "," "," "," "," "," "," "," "," "," "," "," "," "," "," "," "," "," "," "," "," "," "," "," "," "," "," "," "," "," "," "," "," "," "," "," "," "," "," "," "," "," "," "," "," "," "," "," "," "," "," "," "," "," "," "," "," "," "," "," ",154.24]
["A03.26.018","Биомикроскопия глазного дна",103.1," "," "," "," "," "," "," "," "," ",131.35," "," "," "," "," "," "," "," "," "," "," "," ",131.35," "," "," "," "," "," "," "," "," "," "," "," "," "," "," "," ",184.86," "," "," "," "," ",168.77," "," "," "," "," "," "," "," "," ",131.35," "," "," "," "," "," "," "," "," "," ",131.35,142.38," ",131.35," "," "," ",131.35," "," "," "," "," "," "," "," "," "," "," "," "," "," "," "," "," "," "," "," "," "," "," "," "," "," "," "," "," "," "," "," "," "," "," "," "," "," "]
["A03.26.019","Оптическое исследование сетчатки с помощью компьютерного анализатора",429.02," "," "," "," "," "," "," "," "," ",546.57000000000005," "," "," "," "," "," "," "," "," "," "," "," "," "," "," "," "," "," "," "," "," "," "," "," "," "," "," "," "," "," "," "," "," "," "," ",702.31," "," "," "," "," "," "," "," "," "," "," "," "," "," "," "," "," "," "," "," ",546.57000000000005,592.48," "," "," "," "," ",546.57000000000005," "," "," "," "," "," "," "," "," "," "," "," "," "," "," ",546.57000000000005," "," "," "," "," "," "," "," "," "," "," "," "," "," "," "," "," "," "," "," "," "," "]
["A03.26.019.003","Оптическое исследование головки зрительного нерва и слоя нервных волокон с помощью компьютерного анализатора",413.05," "," "," "," "," "," "," "," "," ",526.23," "," "," "," "," "," "," "," "," "," "," "," "," "," "," "," "," "," "," "," "," "," "," "," "," "," "," "," "," "," "," "," "," "," "," ",676.16," "," "," "," "," "," "," "," "," "," "," "," "," "," "," "," "," "," "," "," ",526.23,570.41999999999996," "," "," "," "," ",526.23," "," "," "," "," "," "," "," "," "," "," "," "," "," "," "," "," "," "," "," "," "," "," "," "," "," "," "," "," "," "," "," "," "," "," "," "," "," "]
["A03.26.020","Компьютерная периметрия",141.22," "," "," "," "," "," "," "," "," ",179.91," "," "," "," "," "," "," "," "," "," "," "," ",179.91," "," "," "," "," "," "," "," ",179.49," "," "," "," "," "," "," "," "," "," "," "," "," "," "," "," "," "," "," "," "," "," "," "," "," "," "," "," "," "," "," "," "," "," "," ",195.02," ",179.91," "," "," "," "," "," "," "," "," "," "," "," "," "," "," "," "," "," "," ",179.91," "," "," "," "," "," "," "," "," "," "," "," "," "," "," "," "," "," "," "," "," "," "]
["A03.28.001 Ст","Цистоскопия",1415.95," "," "," "," "," "," "," "," ",1803.92,1803.92,1803.92," "," "," "," "," "," "," "," "," "," "," "," "," "," "," "," "," "," "," "," ",1799.67," "," ",1798.26," ",2541.63,2592.6,1801.09," "," "," "," ",1784.1," ",2317.91," "," "," "," "," "," "," "," "," "," "," "," "," "," "," "," "," ",1803.92," "," "," ",1955.43," ",1803.92," "," "," "," "," "," "," "," "," "," "," ",1803.92," "," "," "," "," "," "," "," "," "," ",1803.92,1803.92," "," "," "," "," "," "," "," "," "," "," "," "," "," "," "," "," "," "]
["A03.28.014","Рефлексометрия",133.22," "," "," "," "," "," "," "," ",169.72," "," "," "," "," "," "," "," "," "," "," "," "," "," "," "," "," "," "," "," "," "," "," "," "," "," "," "," "," "," "," "," "," "," "," "," ",218.08," "," "," "," "," "," "," "," "," "," "," "," "," "," "," "," "," "," "," "," "," "," "," "," "," "," "," "," "," "," "," "," "," "," "," "," "," "," "," "," "," "," "," "," "," "," "," "," "," "," "," "," "," "," "," "," "," "," "," "," "," "," "," "," "," "," "]
["A03.30.006.006 Ст","Узкоспектральное NBI-исследование органов желудочно-кишечного тракта",3693.84," "," "," "," "," "," "," "," "," "," ",4705.95," "," "," "," "," "," ",5101.1899999999996," "," "," "," "," "," "," "," "," "," "," "," "," "," "," "," "," "," "," "," "," "," "," "," "," "," "," "," "," "," "," "," "," "," "," "," "," "," "," "," "," "," "," "," "," "," "," "," "," ",5101.1899999999996," "," "," "," "," "," "," "," "," "," "," "," "," "," "," "," "," "," "," "," "," "," "," "," "," "," "," "," "," "," "," "," "," "," "," "," "," "," "," "," "," "," "," ",5101.1899999999996]
["A03.30.007 Ст","Хромоскопия, контрастное исследование органов желудочно-кишечного тракта",3693.84," "," "," "," "," "," "," "," "," "," ",4705.95," "," "," "," "," "," ",5101.1899999999996," "," "," "," "," "," "," "," "," "," "," "," "," "," "," "," "," "," "," "," ",4698.5600000000004," "," "," "," "," "," "," "," "," "," "," "," "," "," "," "," "," "," "," "," "," "," "," "," "," "," "," "," ",5101.1899999999996," ",4705.95," "," "," "," "," "," "," "," "," "," "," "," "," "," "," "," "," "," "," "," "," "," "," "," ",4705.95," "," "," "," "," "," "," "," "," "," "," "," "," "," "," "," ",5101.1899999999996]
["04","Регистрация звуковых сигналов, издаваемых или отражающихся органами или тканями с их последующей расшифровкой и описанием",null," "," "," "," "," "," "," "," "," "," "," "," "," "," "," "," "," "," "," "," "," "," "," "," "," "," "," "," "," "," "," "," "," "," "," "," "," "," "," "," "," "," "," "," "," "," "," "," "," "," "," "," "," "," "," "," "," "," "," "," "," "," "," "," "," "," "," "," "," "," "," "," "," "," "," "," "," "," "," "," "," "," "," "," "," "," "," "," "," "," "," "," "," "," "," "," "," "," "," "," "," "," "," "," "," "," "," "," "," "," "," "," "]
["A04.01.001","Ультразвуковое исследование мягких тканей (одна анатомическая зона)",144.56,184.17,184.17," "," "," "," ",184.17," ",184.17,184.17,184.17," "," "," "," "," ",184.17,199.64," "," ",184.17,184.17,184.17,184.17,184.17," "," "," "," "," ",183.74,183.74," ",263.39,183.59,240.69,259.49,264.69,183.88,259.2,235.63,256.88,179.54,182.15,255.15,236.64," ",183.88,237.66," ",184.17,184.17," "," "," "," "," "," ",184.17," "," "," ",184.17," "," "," "," "," "," "," "," "," "," "," "," "," "," ",184.17," "," "," "," "," "," "," "," ",184.17,256.16000000000003," "," "," ",184.17,184.17,184.17,184.17," ",184.17," "," ",184.17," "," "," "," "," "," "," "," "," "," "," "," "]
["A04.01.001.001","Эластография мягких тканей",3540.89," "," "," "," "," "," "," "," "," "," "," "," "," "," "," "," "," ",4889.97," "," "," "," "," "," "," "," "," "," "," "," "," "," "," "," "," "," "," "," "," "," "," "," "," "," "," "," "," "," "," "," "," "," "," "," "," "," "," "," "," "," ",4511.09," ",4511.09," "," "," "," ",4889.97," "," "," "," "," "," ",4511.09," "," ",4511.09," "," "," "," "," "," "," "," "," "," "," "," "," "," "," "," "," ",4889.97," "," "," "," "," "," "," "," "," "," "," "," "," "," "," "," "]
["A04.01.001.002","Ультразвуковое исследование мягких тканей (одна анатомическая зона) с контрастным усилением",2859.69," "," "," "," "," "," "," "," "," "," "," "," "," "," "," "," "," "," "," "," "," "," "," "," "," "," "," "," "," "," "," "," "," "," "," "," "," "," "," "," "," "," "," "," "," "," "," "," "," "," "," "," "," "," "," "," "," "," "," "," "," "," ",3643.25," "," "," "," "," "," "," "," "," "," "," "," "," "," "," "," "," "," "," "," "," "," "," "," "," "," "," "," "," "," "," "," "," "," "," "," "," "," "," "," "," "," "," "," "," "," "," "," "," "]
["A04.01.002","Ультразвуковое исследование кожи (одна анатомическая зона)",120.62," "," "," "," "," "," "," "," "," "," "," "," "," "," "," "," ",153.66999999999999,166.58," "," "," ",153.66999999999999," "," "," "," "," "," "," "," "," "," "," "," "," "," "," ",220.86," ",216.27," "," ",149.81," "," "," "," "," "," "," ",153.66999999999999,153.66999999999999," "," "," "," "," "," "," ",153.66999999999999," "," ",153.66999999999999," "," "," "," "," "," "," "," "," "," "," "," "," "," ",153.66999999999999," "," "," "," "," "," "," "," ",153.66999999999999,213.74," "," "," ",153.66999999999999,153.66999999999999,153.66999999999999,153.66999999999999," "," "," "," "," "," "," "," "," "," "," "," "," "," "," "," "," "]
["A04.01.002.001","Эластография кожи",2700.93," "," "," "," "," "," "," "," "," "," "," "," "," "," "," "," "," ",3729.98," "," "," "," "," "," "," "," "," "," "," "," "," "," "," "," "," "," "," "," "," "," "," "," "," "," "," "," "," "," "," "," "," "," "," "," "," "," "," "," "," "," ",3440.98," ",3440.98," "," "," "," ",3729.98," "," "," "," "," "," ",3440.98," "," ",3440.98," "," "," "," "," "," "," "," "," "," "," "," "," "," "," "," "," "," "," "," "," "," "," "," "," "," "," "," "," "," "," "," "," "," "]
["A04.01.003","Ультразвуковое исследование послеоперационного рубца",332.73," ",423.9," "," "," "," "," "," "," "," ",423.9," "," "," "," "," "," "," "," "," "," "," ",423.9,423.9," "," "," "," "," "," "," "," "," "," ",422.57," "," ",609.23," ",596.58000000000004," "," ",413.25,419.24," "," "," "," "," "," "," "," "," "," "," "," "," "," ",423.9," "," "," ",423.9," "," "," "," "," "," "," "," "," "," "," ",423.9," ",423.9,423.9," "," "," "," "," "," "," ",423.9,423.9,589.6," "," "," "," "," "," ",423.9,459.5,423.9," "," "," "," "," "," "," "," "," "," "," "," "," "," "," "]
["A04.03.001","Ультразвуковое исследование костей",258.82," "," "," "," "," "," "," "," "," "," "," "," "," "," "," "," "," "," "," "," "," "," ",329.74," "," "," "," "," "," "," "," "," "," "," "," "," "," "," "," ",464.06," "," "," "," "," "," "," "," "," "," "," "," "," "," "," "," "," "," "," ",329.74," "," ",329.74," "," "," "," "," "," "," "," "," "," "," "," "," "," "," "," "," "," "," "," "," "," ",329.74," "," "," "," "," ",329.74,329.74,329.74,329.74," "," "," "," "," "," "," "," "," "," "," "," "," "," "," "," "," "]
["A04.03.002","Ультразвуковое исследование позвоночника",258.82," "," "," "," "," "," "," "," "," "," "," "," "," "," "," "," "," "," "," "," "," "," "," "," "," "," "," "," "," "," "," "," "," "," "," "," "," "," "," ",464.06," "," "," "," "," "," "," "," "," "," "," "," "," "," "," "," "," "," "," ",329.74," "," ",329.74," "," "," "," "," "," "," "," "," "," "," "," "," "," "," "," "," "," "," "," "," "," ",329.74," "," "," "," "," ",329.74,329.74,329.74,329.74," "," "," "," "," "," "," "," "," "," "," "," "," "," "," "," "," "]
["A04.03.003","Ультразвуковая денситометрия",182.61," "," "," "," "," "," "," "," "," "," "," "," "," "," "," "," "," "," "," "," "," "," "," "," "," "," "," "," "," "," "," "," "," "," "," "," "," "," "," "," "," "," "," "," "," "," "," "," "," "," "," "," "," "," "," "," "," "," "," ",232.65," "," ",232.65," "," "," "," "," "," "," "," "," "," "," "," "," "," "," "," "," "," "," "," "," "," "," "," "," "," "," "," ",232.65,232.65," "," "," "," "," "," "," "," "," "," "," "," "," "," "," "," "," "," "," "]
["A04.04.001","Ультразвуковое исследование сустава",258.82,329.74,329.74," "," "," "," "," "," ",329.74,329.74,329.74," "," "," "," "," ",329.74," "," "," "," "," ",329.74,329.74," "," "," "," "," "," "," "," "," "," ",328.7," ",464.58,473.9,329.22,464.06,421.88," ",321.45,326.11," ",423.69," "," "," "," ",329.74,329.74," "," "," "," "," "," ",329.74,329.74," "," ",329.74," "," "," "," "," "," "," "," "," "," "," ",329.74,329.74," ",329.74," "," "," "," "," "," "," ",329.74,329.74,458.63," "," "," ",329.74,329.74,329.74,329.74,357.43," "," "," "," "," "," "," "," "," "," "," "," "," "," "," "," "]
["A04.04.001.001 ","Ультразвуковое исследование тазобедренного сустава",89.7," "," "," "," "," "," "," "," "," "," ",114.28," "," "," "," "," "," "," "," "," "," "," "," "," ",114.28," "," "," "," "," "," "," "," "," ",113.92," "," "," "," "," "," "," "," "," "," "," "," "," "," "," "," "," "," "," "," "," "," "," "," "," "," "," "," "," "," "," "," "," "," "," "," "," "," "," "," "," "," "," "," "," "," "," "," "," "," "," "," "," "," "," "," "," "," "," "," "," "," "," "," "," "," "," "," "," "," "," "," "," "," "," "," "," "]
["A04.06.001","Ультразвуковое исследование селезенки",118.35,150.78,150.78," "," "," "," ",150.78,150.78,150.78,150.78,150.78," "," "," "," "," ",150.78,163.44," "," ",150.78,150.78,150.78,150.78,150.78," "," "," "," "," ",150.41999999999999,150.41999999999999," ",215.63,150.30000000000001,197.05,212.44,216.7,150.54,212.2,192.91,210.31,146.99,149.12,208.89,193.74,212.32,150.54," "," ",150.78,150.78," "," "," "," "," "," ",150.78,150.78," "," ",150.78," "," "," "," "," "," ",150.78," "," "," "," ",150.78," ",150.78,150.78," "," ",150.78," "," "," "," ",150.78,150.78,209.72," "," "," ",150.78,150.78,150.78,150.78,163.44,150.78," "," ",150.78," "," "," "," "," "," "," "," "," "," "," ",163.44]
["A04.06.001.001","Эластография селезенки",2700.93," "," "," "," "," "," "," "," "," "," "," "," "," "," "," "," "," ",3729.98," "," "," "," "," "," "," "," "," "," "," "," "," "," "," "," "," "," "," "," "," "," "," "," "," "," "," "," "," "," "," "," "," "," "," "," "," "," "," "," "," "," ",3440.98," ",3440.98," "," "," "," "," "," "," "," "," "," "," ",3440.98," "," "," "," "," "," "," "," "," "," "," "," "," "," "," "," "," "," "," "," "," "," "," "," "," "," "," "," "," "," "," "," "," "," "," "," "," "]
["A04.06.001.002","Ультразвуковое исследование селезенки с контрастным усилением",2859.69," "," "," "," "," "," "," "," "," "," "," "," "," "," "," "," "," ",3949.23," "," "," "," "," "," "," "," "," "," "," "," "," "," "," "," "," "," "," "," "," ",5127.42," "," "," ",3603.21," "," "," "," "," "," "," "," "," "," "," "," "," "," "," "," "," "," ",3643.25," "," "," "," "," "," "," "," "," "," "," "," "," "," "," "," "," "," "," "," "," "," "," "," "," "," "," "," "," "," "," "," "," "," "," "," "," "," "," "," "," "," "," "," "," "," "," "," "," "]
["A04.06.002","Ультразвуковое исследование лимфатических узлов (одна анатомическая зона)",144.56,184.17,184.17," "," "," "," "," ",184.17,184.17,184.17,184.17," "," "," "," "," ",184.17,199.64," "," "," ",184.17,184.17,184.17,184.17," "," "," "," "," ",183.74,183.74," ",263.39,183.59,240.69,259.49,264.69,183.88,259.2,235.63,256.88,179.54,182.15,255.15,236.64,259.33999999999997,183.88,237.66," ",184.17,184.17," "," "," "," "," "," ",184.17," "," "," ",184.17," "," "," "," "," "," "," "," "," "," "," ",184.17," ",184.17,184.17," "," ",184.17," "," "," "," ",184.17,184.17,256.16000000000003," "," "," ",184.17,184.17,184.17,184.17," ",184.17," "," "," "," "," "," "," "," "," "," "," "," "," "," "," "]
["A04.06.002 О","Ультразвуковое исследование лимфатических узлов (одна анатомическая зона)",144.56," "," "," "," "," "," "," "," "," "," "," "," "," "," "," "," "," "," "," "," "," "," "," "," "," "," "," "," "," "," "," "," "," "," "," "," "," "," "," ",259.2," "," "," "," "," "," "," "," "," "," "," "," "," "," "," "," "," "," "," "," "," "," ",184.17," "," "," "," "," "," "," "," "," "," "," ",184.17," "," "," "," "," "," "," "," "," "," "," "," "," "," "," "," "," "," "," "," "," "," "," "," "," "," "," "," "," "," "," "," "," "," "," ",184.17," "]
["A04.07.002","Ультразвуковое исследование слюнных желез",167.76," "," "," "," "," "," "," "," ",213.73," ",213.73," "," "," "," "," ",213.73," "," "," "," "," ",213.73,213.73," "," "," "," "," "," "," "," "," ",305.66000000000003,213.06," "," ",307.17," ",300.79000000000002," ",298.11,208.36,211.38," "," "," "," ",275.8," "," "," "," "," "," "," "," "," "," ",213.73," "," ",213.73," "," "," "," "," "," "," "," "," "," "," "," "," "," ",213.73," "," "," "," "," "," "," "," ",213.73,297.27," "," "," "," ",213.73,213.73," "," ",213.73," "," "," "," "," "," "," "," "," "," "," "," "," "," "," "]
["А04.08.002","Ульразвуковое ииследование гортани",308.95," "," "," "," "," "," "," "," "," "," ",393.6," "," "," "," "," "," "," "," "," "," "," "," "," "," "," "," "," "," "," "," "," "," "," "," "," "," "," "," "," "," "," "," "," "," "," "," "," "," "," "," "," "," "," "," "," "," "," "," "," "," "," "," "," "," "," "," "," "," "," "," "," "," "," "," "," "," "," "," "," "," "," "," "," "," "," "," "," "," "," "," "," "," "," "," "," "," "," "," "," "," "," "," "," "," "," "," "," "," "," "," "," "]
["A04.09.001","Ультразвуковое исследование плевральной полости",144.56," ",184.17," "," "," "," "," "," ",184.17,184.17,184.17," "," "," "," "," ",184.17,199.64," "," "," ",184.17,184.17,184.17," "," "," "," "," "," "," "," "," "," ",183.59," "," ",264.69," ",259.2," ",256.88,179.54,182.15," ",236.64," "," ",237.66," "," "," "," "," "," "," "," "," "," ",184.17," "," ",184.17," "," "," "," "," "," "," "," "," "," "," "," "," "," ",184.17," "," "," "," "," "," "," ",184.17,184.17,256.16000000000003," "," "," ",184.17,184.17,184.17,184.17," ",184.17," "," "," "," "," "," "," "," "," "," "," "," "," "," "," "]
["A04.09.002","Ультразвуковое исследование легких",182.61," "," "," "," "," "," "," "," "," "," "," "," "," "," "," "," ",232.65,252.18," "," "," ",232.65," "," "," "," "," "," "," "," ",232.1,232.1," "," "," "," ",327.78,334.36,232.28,327.42," "," ",226.8," ",322.31,298.93,327.60000000000002,232.28," "," "," "," "," "," "," "," "," "," "," ",232.65," "," ",232.65," "," "," "," "," "," "," "," "," "," "," "," "," "," ",232.65," "," "," "," "," "," "," ",232.65,232.65,323.58," "," "," "," "," "," "," "," "," "," "," "," "," "," "," "," "," "," "," "," "," "," "," ",252.18]
["A04.09.003Ст","Эндосонографическое исследование трахеи и бронхов",648.30999999999995," ",825.95," "," "," "," "," "," "," "," ",825.95," "," "," "," "," "," "," "," "," "," "," "," "," "," "," "," "," "," "," "," "," "," "," "," "," "," "," "," ",1162.42," "," ",805.2," "," "," "," "," "," "," "," "," "," "," "," "," "," "," "," "," "," "," ",825.95," "," "," "," "," "," "," "," "," "," "," "," "," "," "," "," "," "," "," "," "," "," "," "," "," "," "," "," "," "," "," "," "," "," "," "," "," "," "," "," "," "," "," "," "," "," "," "," "," "]
["A04.10.002 Ст","Эхокардиография",541.20000000000005,689.49,689.49," "," "," "," ",689.49,689.49,689.49,689.49,689.49," ",689.49," "," "," "," "," "," "," "," ",689.49,689.49," ",689.49," "," "," "," "," "," ",687.87,687.87," ",687.32," ",971.45,990.94,688.41,970.37,882.16,961.71,672.17,681.91,955.22,885.94," "," ",889.73," "," "," "," "," "," "," "," "," "," "," "," "," ",689.49," "," "," "," ",747.4," ",689.49," "," "," "," "," "," ",689.49," "," "," "," "," "," "," "," ",689.49,689.49,959.01," "," "," "," ",689.49,689.49,689.49,747.4," "," "," "," "," "," ",689.49," "," "," "," "," "," "," "," ",747.4]
["A04.10.002 ДД","Эхокардиография",541.20000000000005," "," "," "," "," "," ",689.49,689.49,689.49," ",689.49," "," "," "," "," "," "," "," "," "," "," "," "," ",689.49," "," "," "," "," "," "," "," "," ",687.32," ",971.45,990.94,688.41,970.37,882.16,961.71,672.17," ",955.22," "," "," "," "," "," "," "," "," "," "," "," "," "," "," "," "," "," "," "," "," "," "," "," "," "," "," "," "," "," "," "," "," "," "," "," "," "," "," "," "," "," "," "," "," "," "," "," "," "," "," "," "," "," "," "," "," "," "," "," "," "," "," "," "," "," "," "]
["A04.10.003 Ст","Эхокардиография с контрастным усилением",2812.07," "," "," "," "," "," "," "," "," "," ",3582.58," "," "," "," "," "," "," "," "," "," "," "," "," "," "," "," "," "," "," "," "," "," "," "," "," "," "," "," "," "," "," "," ",3543.21," "," "," "," "," "," "," "," "," "," "," "," "," "," "," "," "," "," ",3582.58," "," "," "," "," "," "," "," "," "," "," "," "," "," "," "," "," "," "," "," "," "," "," "," "," "," "," "," "," "," "," "," "," "," "," "," "," "," "," "," "," "," "," "," "," "," "," "," "," "]
["A04.12.001 Ст","Ультразвуковая допплерография артерий верхних конечностей",189.32,241.19,241.19," "," "," "," "," "," "," ",241.19,241.19," "," "," "," "," ",241.19," "," "," ",241.19," ",241.19," "," "," "," "," "," "," "," "," "," "," ",240.44," "," ",346.64,240.82,339.45,308.58999999999997," ",235.14,238.54," ",309.92," "," "," "," ",241.19,241.19," "," "," "," "," "," "," "," "," "," ",241.19," "," "," "," "," "," ",241.19," "," "," "," "," "," "," "," "," "," "," "," "," "," "," ",241.19,241.19,335.48," "," "," "," ",241.19,241.19,241.19," "," "," "," "," "," "," "," "," "," "," "," "," "," "," "," ",261.45]
["A04.12.001.001 Ст","Ультразвуковая допплерография артерий нижних конечностей",630.17999999999995,802.85,802.85," "," "," "," "," "," "," ",802.85,802.85," "," "," "," "," ",802.85," "," "," "," ",802.85,802.85," "," "," "," "," "," "," "," "," "," "," ",800.33," ",1131.17,1153.8599999999999,801.59,1129.9100000000001,1027.19," ",782.68,794.03," ",1031.5999999999999," "," "," "," ",802.85,802.85," "," "," "," "," "," ",802.85," "," "," ",802.85," "," "," "," ",870.28," ",802.85," "," "," "," "," ",802.85," "," "," "," "," "," "," "," "," ",802.85,802.85,1116.68," "," "," ",802.85,802.85,802.85,802.85,870.28," "," "," "," "," "," "," "," "," "," "," "," "," "," "," ",870.28]
["A04.12.001.002 Ст","Дуплексное сканирование артерий почек",759.89," ",968.1," "," "," "," "," "," ",968.1,968.1,968.1," "," "," "," "," "," "," "," "," ",968.1," ",968.1," "," "," "," "," "," "," "," "," "," "," ",965.06," "," "," ",966.58," "," "," ",943.78," "," ",1243.94," "," "," "," ",968.1,968.1," "," "," "," "," "," ",968.1," "," "," ",968.1," "," "," "," ",1049.4100000000001," ",968.1," "," "," "," "," "," ",968.1," "," "," "," "," "," "," "," ",968.1,968.1,1346.53," "," "," ",968.1,968.1,968.1,968.1,1049.4100000000001," "," "," "," "," "," "," "," "," "," "," "," "," "," "," ",1049.4100000000001]
["A04.12.001.009 Ст","Ультразвуковое исследование брюшной аорты с контрастным усилением",3181.18," "," "," "," "," "," "," "," "," "," ",4052.82," "," "," "," "," "," "," "," "," "," "," "," "," "," "," "," "," "," "," "," "," "," "," "," "," "," "," ",4046.46," "," "," "," "," "," "," "," "," "," "," "," "," "," "," "," "," "," "," "," "," "," "," ",4052.82," "," "," "," "," "," "," "," "," "," "," "," "," "," "," "," "," "," "," "," "," "," "," "," "," "," "," "," ",4052.82," ",4052.82," "," "," "," "," "," "," "," "," "," "," "," "," "," "," "," "," "," "]
["A04.12.001.010 Ст","Ультразвуковое исследование сосудов шеи с контрастным усилением",3181.18," "," "," "," "," "," "," "," "," "," ",4052.82," "," "," "," "," "," "," "," "," "," "," "," "," "," "," "," "," "," "," "," "," "," "," "," "," "," "," ",4046.46," "," "," "," "," "," "," "," "," "," "," "," "," "," "," "," "," "," "," "," "," "," "," ",4052.82," "," "," "," "," "," "," "," "," "," "," "," "," "," "," "," "," "," "," "," "," "," "," "," "," "," "," "," ",4052.82," ",4052.82," "," "," "," "," "," "," "," "," "," "," "," "," "," "," "," "," "," "]
["A04.12.001.011 Ст","Ультразвуковое исследование сосудов печени с контрастным усилением",3181.18," "," "," "," "," "," "," "," "," "," ",4052.82," "," "," "," "," "," "," "," "," "," "," "," "," "," "," "," "," "," "," "," "," "," "," "," "," "," "," ",4046.46," "," "," "," "," "," "," "," "," "," "," "," "," "," "," "," "," "," "," "," "," "," "," ",4052.82," "," "," "," "," "," "," "," "," "," "," "," "," "," "," "," "," "," "," "," "," "," "," "," "," "," "," "," ",4052.82," ",4052.82," "," "," "," "," "," "," "," "," "," "," "," "," "," "," "," "," "," "]
["A04.12.001.012 Ст","Ультразвуковое исследование сонных артерий",394.41," ",502.48," "," "," "," ",502.48," "," "," ",502.48," "," "," "," "," ",502.48," "," "," "," "," ",502.48," "," "," "," "," "," "," "," "," "," "," ",500.9," "," ",722.16,501.69,707.18,642.89," ",489.86," "," "," "," "," "," "," ",502.48,502.48," "," "," "," "," "," "," "," "," "," ",502.48," "," "," "," ",544.67999999999995," "," "," "," "," "," "," ",502.48,502.48," "," "," "," "," "," "," "," ",502.48," "," "," "," "," ",502.48,502.48,502.48,502.48,544.67999999999995," "," "," "," "," "," ",502.48," "," "," "," "," "," "," "," "," "]
["A04.12.001.013 Ст","Ультразвуковое исследование позвоночных артерий",394.41," "," "," "," "," "," ",502.48," "," "," ",502.48," "," "," "," "," "," "," "," "," "," "," ",502.48," "," "," "," "," "," "," "," "," "," "," ",500.9," "," "," ",501.69,707.18,642.89," "," "," "," "," "," "," "," "," ",502.48,502.48," "," "," "," "," "," "," "," "," "," ",502.48," "," "," "," ",544.67999999999995," "," "," "," "," "," "," ",502.48,502.48," "," "," "," "," "," "," "," ",502.48," "," "," "," "," ",502.48,502.48,502.48,502.48,544.67999999999995," "," "," "," "," "," "," "," "," "," "," "," "," "," "," "," "]
["A04.12.002 Ст","Ультразвуковая допплерография сосудов (артерий и вен) верхних конечностей",415.46," ",529.29999999999995," "," "," "," "," "," ",529.29999999999995,529.29999999999995," "," "," "," "," "," ",529.29999999999995," "," "," "," "," "," "," "," "," "," "," "," "," "," "," "," "," ",527.63," ",745.75,760.71,528.47,744.92,677.2," ",516,523.48,733.29,680.11," "," "," "," ",529.29999999999995,529.29999999999995," "," "," "," "," "," "," "," "," "," ",529.29999999999995," "," "," "," ",573.75," ",529.29999999999995," "," "," "," "," "," ",529.29999999999995," "," "," "," "," "," "," "," ",529.29999999999995,529.29999999999995,736.2," "," "," ",529.29999999999995,529.29999999999995,529.29999999999995,529.29999999999995," "," "," "," "," "," "," "," "," "," "," "," "," "," "," "," ",573.75]
["A04.12.002.001 Ст","Ультразвуковая допплерография сосудов (артерий и вен) нижних конечностей",1260.33,1605.66,1605.66," "," "," "," "," "," "," ",1605.66,1605.66," "," "," "," "," ",1605.66," "," "," "," ",1605.66," "," ",1605.66," "," "," "," "," "," "," "," "," ",1600.62," "," "," ",1603.14,2259.77,2054.34," ",1565.33,1588.02," ",2063.16," "," "," "," ",1605.66,1605.66," "," "," "," "," "," ",1605.66," "," "," ",1605.66," "," "," "," ",1740.52," ",1605.66," "," "," "," "," ",1605.66,1605.66," "," "," ",1605.66," "," "," "," ",1605.66,1605.66,2233.3000000000002," "," "," ",1605.66,1605.66,1605.66,1605.66,1740.52," "," "," "," "," "," "," "," "," "," "," "," "," "," "," ",1740.52]
["A04.12.002.002 Д Ст","Ультразвуковая допплерография вен нижних конечностей для детей",859.69," "," "," "," "," "," "," "," "," "," "," "," "," "," "," "," "," "," "," "," "," "," "," "," "," "," "," "," "," "," "," "," "," "," "," "," "," "," "," "," "," "," "," ",1083.21," "," "," "," "," "," "," "," "," "," "," "," "," "," ",1095.25," "," "," ",1095.25," "," "," "," ",1187.23," "," "," "," "," "," "," "," "," "," "," "," ",1095.25," "," "," "," ",1095.25,1095.25,1523.37," "," "," "," "," "," "," "," "," "," "," "," "," "," "," "," "," "," "," "," "," "," ",1095.25," "]
["A04.12.002.002 Ст","Ультразвуковая допплерография вен нижних конечностей",630.17999999999995,802.85,802.85," "," "," "," "," "," "," ",802.85,802.85," "," "," "," "," ",802.85," "," "," ",802.85,802.85," "," "," "," "," "," "," "," "," "," "," "," ",800.33," ",1131.17," ",801.59,1129.9100000000001,1027.19," ",782.68,794.03," ",1031.5999999999999," ",801.59," "," ",802.85,802.85," "," "," "," "," "," ",802.85," "," "," ",802.85," "," "," "," ",870.28," ",802.85," "," "," "," "," "," "," "," "," "," ",802.85," "," "," "," ",802.85,802.85,1116.68," "," "," ",802.85,802.85,802.85,802.85,870.28," "," "," "," "," "," "," "," "," "," "," "," "," "," "," ",870.28]
["A04.12.002.003 Ст","Ультразвуковая допплерография вен верхних конечностей",189.32,241.19,241.19," "," "," "," "," "," "," ",241.19,241.19," "," "," "," "," ",241.19," "," "," ",241.19,241.19," "," "," "," "," "," "," "," "," "," "," "," ",240.44," "," "," ",240.82,339.45,308.58999999999997," ",235.14,238.54," ",309.92," ",240.82," "," ",241.19,241.19," "," "," "," "," "," "," "," "," "," ",241.19," "," "," "," ",261.45," ",241.19," "," "," "," "," "," "," "," "," "," "," "," "," "," "," ",241.19," "," "," "," "," ",241.19,241.19,241.19,241.19," "," "," "," "," "," "," "," "," "," "," "," "," "," "," "," ",261.45]
["A04.12.003 Ст","Дуплексное сканирование аорты",270.83,345.04,345.04," "," "," "," "," "," "," ",345.04,345.04," "," "," "," "," "," "," "," "," "," ",345.04,345.04," "," "," "," "," "," "," "," "," "," "," ",343.95," "," "," ",344.5," ",441.45," ",336.37,341.25," ",443.35," ",344.5," "," ",345.04,345.04," "," "," "," "," "," "," "," "," "," ",345.04," "," "," "," ",374.02," ",345.04," "," "," "," "," "," ",345.04," "," "," "," "," "," "," "," ",345.04,345.04,479.91," "," "," ",345.04,345.04,345.04,345.04," "," "," "," "," "," "," "," "," "," "," "," "," "," "," "," ",374.02]
["A04.12.004 Ст","Внутрисосудистое ультразвуковое исследование сосудистой стенки",270.37," "," "," "," "," "," "," "," ",344.45," "," "," "," "," "," "," "," "," "," "," "," "," "," "," "," "," "," "," "," "," "," "," "," "," "," "," "," "," ",343.91," "," "," "," "," "," ",442.6," "," "," "," ",344.45,344.45," "," "," "," "," "," "," "," "," "," ",344.45," "," "," "," "," "," "," "," "," "," "," "," "," "," "," "," "," "," "," "," "," "," "," "," "," "," "," "," ",344.45,344.45,344.45," "," "," "," "," "," "," "," "," "," "," "," "," "," "," "," "," ",373.38]
["A04.12.005 Ст","Дуплексное сканирование сосудов (артерий и вен) верхних конечностей",270.37,344.45," "," "," "," "," "," "," ",344.45," ",344.45," "," "," "," "," "," "," "," "," "," "," "," "," "," "," "," "," "," "," "," "," "," "," ",343.37," "," "," ",343.91,484.77," "," ",335.8," "," ",442.6," "," "," "," ",344.45,344.45," "," "," "," "," "," "," "," "," "," ",344.45," "," "," "," ",373.38," "," "," "," "," "," "," "," "," "," "," "," "," "," "," "," "," ",344.45," "," "," "," "," ",344.45,344.45,344.45,344.45," "," "," "," "," "," "," "," "," "," "," "," "," "," "," "," ",373.38]
["A04.12.005.001 Ст","Дуплексное сканирование артерий нижних конечностей",287.45999999999998,366.22," "," "," "," "," "," "," ",366.22," ",366.22," "," "," "," "," "," "," "," "," "," "," "," "," "," "," "," "," "," "," "," "," "," "," ",365.07," "," "," "," ",515.41999999999996," "," ",357.03," "," ",470.57," "," "," "," ",366.22,366.22," "," "," "," "," "," "," "," "," "," ",366.22," "," "," "," ",396.98," "," "," "," "," "," "," "," "," "," "," "," "," "," "," "," "," ",366.22," "," "," "," "," ",366.22,366.22,366.22,366.22," "," "," "," "," "," "," "," "," "," "," "," "," "," "," "," "," "]
["A04.12.005.002 Ст","Дуплексное сканирование артерий верхних конечностей",281.98,359.24," "," "," "," "," "," "," ",359.24," ",359.24," "," "," "," "," "," "," "," "," ",359.24," "," "," "," "," "," "," "," "," "," "," "," "," ",358.11," "," "," ",358.68,505.59," "," ",350.22," "," ",461.6," "," "," "," ",359.24,359.24," "," "," "," "," "," "," "," "," "," ",359.24," "," "," "," ",389.41," ",359.24," "," "," "," "," "," "," "," "," "," "," "," "," "," "," ",359.24," "," "," "," "," ",359.24,359.24,359.24,359.24," "," "," "," "," "," "," "," "," "," "," "," "," "," "," "," ",389.41]
["A04.12.005.003 Ст","Дуплексное сканирование брахиоцефальных артерий с цветным допплеровским картированием кровотока",541.20000000000005,689.49,689.49," "," "," "," "," ",689.49,689.49,689.49,689.49," "," "," "," "," "," "," "," "," ",689.49,689.49,689.49," ",689.49," "," "," "," "," "," "," ",687.87," ",687.32,901.1," "," ",688.41,970.37,882.16," ",672.17,681.91," ",885.94," "," "," "," ",689.49,689.49," "," "," "," "," "," "," "," "," "," ",689.49," "," "," "," ",747.4," ",689.49," "," "," "," "," ",689.49," "," "," "," "," "," "," "," "," ",689.49," "," "," "," "," ",689.49,689.49,689.49,689.49," "," "," "," "," "," "," "," "," "," "," "," "," "," "," "," ",747.4]
["A04.12.005.003 ДД","Дуплексное сканирование брахиоцефальных артерий с цветным допплеровским картированием кровотока",541.20000000000005,689.49,689.49," "," "," "," "," ",689.49,689.49,689.49,689.49," "," "," "," "," "," "," "," "," ",689.49,689.49,689.49," ",689.49," "," "," "," "," "," "," ",687.87," ",687.32,901.1," "," ",688.41,970.37,882.16," ",672.17,681.91," ",885.94," "," "," "," ",689.49,689.49," "," "," "," "," "," "," "," "," "," "," "," "," "," "," "," "," "," "," "," "," "," "," "," "," "," "," "," "," "," "," "," "," "," ",689.49,959.01," "," "," "," ",689.49," "," "," "," "," "," "," "," "," "," "," "," "," "," "," "," "," "," "," "]
["A04.12.005.004 Ст","Дуплексное сканирование вен верхних конечностей",1001.69,1276.1500000000001," "," "," "," "," "," "," ",1276.1500000000001," ",1276.1500000000001," "," "," "," "," "," "," "," "," "," "," "," "," "," "," "," "," "," "," "," "," "," "," ",1272.1500000000001," "," "," ",1274.1500000000001," "," "," "," ",1262.1300000000001," "," "," "," "," "," ",1276.1500000000001,1276.1500000000001," "," "," "," "," "," "," "," "," "," ",1276.1500000000001," "," "," "," ",1383.33," "," "," "," "," "," "," "," "," "," "," "," ",1276.1500000000001," "," "," "," ",1276.1500000000001,1276.1500000000001,1774.99," "," "," ",1276.1500000000001,1276.1500000000001,1276.1500000000001,1276.1500000000001,1383.33," "," "," "," "," "," "," "," "," "," "," "," "," "," "," ",1383.33]
["A04.12.005.008 Ст","Ультрозвуковая доплерография брахиоцефальных артерий",1001.69," "," "," "," "," "," "," "," ",1276.1500000000001," ",1276.1500000000001," "," "," "," "," "," "," "," "," "," "," "," "," "," "," "," "," "," "," "," "," "," "," ",1272.1500000000001," "," "," "," ",1796.03," "," "," ",1262.1300000000001," ",1639.77," "," "," "," ",1276.1500000000001,1276.1500000000001," "," "," "," "," "," ",1276.1500000000001," "," "," ",1276.1500000000001," "," "," "," ",1383.33," ",1276.1500000000001," "," "," "," "," ",1276.1500000000001,1276.1500000000001," "," "," ",1276.1500000000001," "," "," "," ",1276.1500000000001,1276.1500000000001,1774.99," "," "," ",1276.1500000000001,1276.1500000000001," "," ",1383.33," "," "," "," "," "," "," "," "," "," "," "," "," "," "," "," "]
["A04.12.006 Ст","Дуплексное сканирование сосудов (артерий и вен) нижних конечностей",270.37,344.45," "," "," "," "," "," "," ",344.45," ",344.45," "," "," "," "," "," "," "," "," ",344.45," "," "," "," "," "," "," "," "," "," "," "," "," ",343.37,450.17," "," ",343.91,484.77," "," ",335.8," "," ",442.6," "," "," "," ",344.45,344.45," "," "," "," "," "," "," "," "," "," ",344.45," "," "," "," ",373.38," "," "," "," "," "," "," "," "," "," "," "," "," "," "," "," "," "," "," "," "," "," "," "," ",344.45,344.45,344.45," "," "," "," "," "," "," "," "," "," "," "," "," "," "," "," ",373.38]
["A04.12.007 Ст","Ультразвуковая допплерография сосудов глаза",270.37," "," "," "," "," "," "," "," ",344.45," "," "," "," "," "," "," "," "," "," "," "," "," "," "," "," "," "," "," "," "," "," "," "," "," "," "," "," "," "," "," "," "," "," "," "," "," "," "," "," "," "," "," "," "," "," "," "," "," "," "," "," "," ",344.45," "," "," "," ",373.38," "," "," "," "," "," "," "," "," "," "," "," "," "," "," "," "," ",344.45," "," "," "," "," "," "," "," "," "," "," "," "," "," "," "," "," "," "," "," "," "," "," "," "," "," "]
["A04.12.008 Ст","Дуплексное сканирование сосудов мошонки и полового члена",270.37," "," "," "," "," "," "," "," ",344.45," "," "," "," "," "," "," "," "," "," "," "," "," "," "," "," "," "," "," "," "," "," "," "," "," "," "," "," "," "," "," "," "," "," "," "," "," "," "," "," "," ",344.45,344.45," "," "," "," "," "," "," "," "," "," ",344.45," "," "," "," ",373.38," "," "," "," "," "," "," "," "," "," "," "," "," "," "," "," "," ",344.45," "," "," "," "," "," "," "," ",344.45," "," "," "," "," "," "," "," "," "," "," "," "," "," "," "," "," "]
["A04.12.008.001 Ст","Ультразвуковое исследование полового члена с допплерометрией",1167.43," "," "," "," "," "," "," "," "," "," "," "," "," "," "," "," "," "," "," "," "," "," "," "," "," "," "," "," "," "," "," "," "," "," "," "," "," "," "," "," "," "," "," "," "," "," "," "," "," "," "," "," "," "," "," "," "," "," "," "," "," "," "," "," "," "," "," ",1612.22," "," "," "," "," "," "," "," ",1487.31," "," "," "," "," "," "," "," "," "," "," "," "," "," "," "," "," "," "," "," "," "," "," "," "," "," "," "," "," "," "," "," "," "," "," "]
["A04.12.008.002 Ст","УЗДГ- оценка пенильного кровотока (кавернозодопплерография)",2522.5," "," "," "," "," "," "," "," "," "," "," "," "," "," "," "," "," "," "," "," "," "," "," "," "," "," "," "," "," "," "," "," "," "," "," "," "," "," "," "," "," "," "," "," "," "," "," "," "," "," "," "," "," "," "," "," "," "," "," "," "," "," "," "," "," "," "," "," "," "," "," "," "," "," "," "," ",3213.67," "," "," "," "," "," "," "," "," "," "," "," "," "," "," "," "," "," "," "," "," "," "," "," "," "," "," "," "," "," "," "," "," "," "," "]
["A04.12.012 Ст","Дуплексное сканирование сосудов печени",120.12," "," "," "," "," "," "," "," ",153.03," "," "," "," "," "," "," "," "," "," "," "," "," ",153.03," "," "," "," "," "," "," "," "," "," "," "," "," "," "," "," "," ",195.8," ",149.19," "," ",196.64," "," "," "," "," "," "," "," "," "," "," "," "," "," "," "," ",153.03," "," "," "," "," "," "," "," "," "," "," "," "," "," "," "," "," "," "," "," "," "," ",153.03," "," "," "," "," "," "," "," ",153.03," "," "," "," "," "," "," "," "," "," "," "," "," "," "," "," "," "]
["A04.12.015 Ст","Триплексное сканирование вен",284.72000000000003,362.73," "," "," "," "," "," "," "," "," "," "," "," "," "," "," "," "," "," "," "," "," "," "," "," "," "," "," "," "," "," "," "," "," "," "," "," "," ",362.16," "," "," "," "," "," ",466.09," "," "," "," "," "," "," "," "," "," "," "," "," "," "," "," ",362.73," "," "," "," "," "," "," "," "," "," "," "," "," "," "," "," "," "," "," "," "," "," "," "," "," "," "," "," "," ",362.73,362.73,362.73," "," "," "," "," "," "," "," "," "," "," "," "," "," "," "," ",393.2]
["A04.12.017 Ст","Дуплексное сканирование сосудов щитовидной железы",270.37," "," "," "," "," "," "," "," ",344.45," "," "," "," "," "," "," "," "," "," "," "," "," "," "," "," "," "," "," "," "," "," "," "," "," "," "," "," "," "," "," "," "," "," "," "," ",442.6," "," "," "," ",344.45,344.45," "," "," "," "," "," "," "," "," "," ",344.45," "," "," "," "," "," "," "," "," "," "," "," "," "," "," "," "," "," "," "," "," "," "," "," "," "," "," "," "," "," "," "," "," "," "," "," "," "," "," "," "," "," "," "," "," "," "," "," "," "]
["A04.12.024 Ст","Ультразвуковая допплерография маточно-плацентарного кровотока",499.45," "," "," "," "," "," "," "," "," "," "," "," "," "," "," "," "," "," "," "," "," "," "," "," "," "," "," "," "," "," "," "," "," "," "," "," "," "," "," "," "," "," "," "," "," "," "," "," "," "," "," "," "," "," "," "," "," "," "," "," "," "," ",636.29999999999995," "," "," "," "," "," "," "," "," "," "," "," "," "," "," "," "," "," "," "," "," "," "," "," "," "," "," "," "," "," "," "," "," "," "," "," "," ",636.29999999999995," "," "," "," "," "," "," "," "," "," "," "]
["A04.14.001","Ультразвуковое исследование печени",144.56," ",184.17," "," "," "," ",184.17,184.17,184.17,184.17,184.17," "," "," "," "," ",184.17,199.64," "," ",184.17,184.17,184.17,184.17,184.17," "," "," "," "," ",183.74,183.74,183.74,263.39,183.59,240.69,259.49,264.69,183.88,259.2,235.63,256.88,179.54,182.15,255.15,236.64,259.33999999999997,183.88,237.66," ",184.17,184.17," "," "," "," "," "," ",184.17,184.17," "," ",184.17," "," "," "," "," "," ",184.17," "," "," "," "," "," ",184.17,184.17," "," ",184.17," "," "," "," ",184.17,184.17,256.16000000000003," "," "," ",184.17,184.17,184.17,184.17,199.64,184.17," "," ",184.17," "," "," "," "," "," "," "," "," "," "," ",199.64]
["A04.14.001 О","Ультразвуковое исследование печени",144.56," "," "," "," "," "," "," "," "," "," "," "," "," "," "," "," "," "," "," "," "," "," "," ",184.17," "," "," "," "," "," "," "," "," "," "," "," "," ",264.69," ",259.2," "," "," "," "," "," "," "," "," "," "," "," "," "," "," "," "," "," "," "," "," "," ",184.17," "," "," "," "," "," "," "," "," "," "," "," "," "," "," "," "," "," "," "," "," "," "," "," "," "," "," "," "," "," "," "," "," "," "," "," "," "," "," "," "," "," "," "," "," "," "," ",184.17," "]
["A04.14.001.005","Эластометрия печени",2700.93," "," "," "," "," "," "," "," "," "," ",3440.98," "," "," "," "," "," ",3729.98," "," "," "," "," "," "," "," "," "," "," "," "," "," "," "," "," "," "," "," "," "," "," "," "," "," "," "," "," "," "," "," "," "," "," "," "," "," ",3440.98," "," "," ",3440.98," ",3440.98," "," "," "," "," "," "," "," "," "," "," ",3440.98," "," "," "," "," "," "," "," "," "," "," "," "," "," "," "," "," "," "," "," ",3729.98," "," "," "," "," "," "," "," "," "," "," "," "," "," "," "," "]
["A04.14.001.006","Ультразвуковое исследование печени  с контрастным усилением",2859.69," "," "," "," "," "," "," "," "," "," "," "," "," "," "," "," "," "," "," "," "," "," "," "," "," "," "," "," "," "," "," "," "," "," "," "," "," "," "," "," "," ",5081.67," "," "," "," "," "," "," "," "," "," "," "," "," "," "," "," "," "," "," "," ",3643.25," "," "," "," "," "," "," "," "," "," "," "," "," "," "," "," "," "," "," "," "," "," "," "," "," "," "," "," "," "," "," "," "," "," "," "," "," "," "," "," "," "," "," "," "," "," "," ",3643.25," "]
["A04.14.002","Ультразвуковое исследование желчного пузыря и протоков",144.56,184.17,184.17," "," "," "," ",184.17,184.17,184.17,184.17,184.17," "," "," "," "," ",184.17,199.64," "," ",184.17,184.17,184.17,184.17,184.17," "," "," "," "," ",183.74,183.74,183.74,263.39,183.59,240.69,259.49,264.69,183.88,259.2,235.63,256.88,179.54,182.15,255.15,236.64,259.33999999999997,183.88," "," ",184.17,184.17," "," "," "," "," "," ",184.17,184.17," "," ",184.17," "," "," "," "," "," ",184.17," "," "," "," ",184.17," ",184.17,184.17," "," ",184.17," "," "," "," ",184.17,184.17,256.16000000000003," "," "," "," "," ",184.17,184.17,199.64,184.17," "," ",184.17," "," "," "," "," "," "," "," "," "," "," ",199.64]
["A04.14.002 О","Ультразвуковое исследование желчного пузыря и протоков",144.56," "," "," "," "," "," "," "," "," "," "," "," "," "," "," "," "," "," "," "," "," "," "," ",184.17," "," "," "," "," "," "," "," "," "," "," "," "," ",264.69," ",259.2," "," "," "," "," "," "," "," "," "," "," "," "," "," "," "," "," "," "," "," "," "," ",184.17," "," "," "," "," "," "," "," "," "," "," ",184.17," "," "," "," "," "," "," "," "," "," "," "," "," "," "," "," "," "," "," "," "," "," "," "," "," "," "," "," "," "," "," "," "," "," "," ",184.17," "]
["A04.14.002.001","Ультразвуковое исследование желчного пузыря с определением его сократимости",182.61," "," "," "," "," "," "," "," ",232.65," ",232.65," "," "," "," "," "," ",252.18," "," "," ",232.65,232.65,232.65," "," "," "," "," "," "," "," "," "," "," "," "," "," "," "," "," ",324.5," "," "," "," "," "," "," "," ",232.65,232.65," "," "," "," "," "," "," ",232.65," "," ",232.65," "," "," "," "," "," "," "," "," "," "," "," "," "," "," "," "," ",232.65," "," "," "," "," "," "," "," "," "," "," "," "," "," "," "," "," "," ",232.65," "," "," "," "," "," "," "," "," "," "," "," "]
["A04.14.002.001 О","Ультразвуковое исследование желчного пузыря с определением его сократимости",182.61," "," "," "," "," "," "," "," "," "," "," "," "," "," "," "," "," "," "," "," "," "," "," ",232.65," "," "," "," "," "," "," "," "," "," "," "," "," "," "," "," "," "," "," "," "," "," "," "," "," "," "," "," "," "," "," "," "," "," "," "," "," "," ",232.65," "," "," "," "," "," "," "," "," "," "," "," "," "," "," "," "," "," "," "," "," "," "," "," "," "," "," "," "," "," "," "," "," "," "," "," "," "," "," "," "," "," "," "," "," "," "," ",232.65," "]
["A04.15.001","Ультразвуковое исследование поджелудочной железы",169.07,215.4,215.4," "," "," "," ",215.4,215.4,215.4,215.4,215.4," "," "," "," "," ",215.4,233.49," "," ",215.4,215.4,215.4,215.4,215.4," "," "," "," "," ",214.89,214.89,214.89,308.05,214.72,281.5,303.48,309.57,215.06,303.14,275.58,300.44,209.98,213.03,298.41000000000003,276.77,303.31,215.06," "," ",215.4,215.4," "," "," "," "," "," ",215.4,215.4," "," ",215.4," "," "," "," "," "," ",215.4," "," "," "," ",215.4," ",215.4,215.4," "," ",215.4," "," "," "," ",215.4,215.4,299.58999999999997," "," "," ",215.4,215.4,215.4,215.4,233.49,215.4," "," ",215.4," "," "," "," "," "," "," "," "," "," "," ",233.49]
["A04.15.001 О","Ультразвуковое исследование поджелудочной железы",169.07," "," "," "," "," "," "," "," "," "," "," "," "," "," "," "," "," "," "," "," "," "," "," ",215.4," "," "," "," "," "," "," "," "," "," "," "," "," ",309.57," ",303.14," "," "," "," "," "," "," "," "," "," "," "," "," "," "," "," "," "," "," "," "," "," ",215.4," "," "," "," "," "," "," "," "," "," "," ",215.4," "," "," "," "," "," "," "," "," "," "," "," "," "," "," "," "," "," "," "," "," "," "," "," "," "," "," "," "," "," "," "," "," "," "," ",215.4," "]
["A04.15.001.001","Эластография поджелудочной железы",3615.59," "," "," "," "," "," "," "," "," "," "," "," "," "," "," "," "," ",4993.13," "," "," "," "," "," "," "," "," "," "," "," "," "," "," "," "," "," "," "," "," "," "," "," "," "," "," "," "," "," "," "," "," "," "," "," "," "," "," "," "," "," "," "," ",4606.26," "," "," "," "," "," "," "," "," "," "," ",4606.26," "," "," "," "," "," "," "," "," "," "," "," "," "," "," "," "," "," "," "," "," "," "," "," "," "," "," "," "," "," "," "," "," "," "," "," "," "]
["A04.15.001.002 Ст","Ультразвуковое исследование поджелудочной железы (эндоскопическое)",1144.3699999999999," "," "," "," "," "," "," "," "," "," "," "," "," "," "," "," "," ",1580.37," "," "," "," "," "," "," "," "," "," "," "," "," "," "," "," ",1453.35," "," "," "," "," "," "," "," "," "," "," "," "," "," "," "," "," "," "," "," "," "," "," "," "," "," "," ",1457.93," "," "," "," "," "," "," "," "," "," "," "," "," "," "," "," "," "," "," "," "," "," "," "," "," "," "," "," "," "," "," "," "," "," "," "," "," "," "," "," "," "," "," "," "," "," "," "," "," "]
["A04.15.001.003","Ультразвуковое исследование поджелудочной железы с контрастным усилением",2859.69," "," "," "," "," "," "," "," "," "," ",3643.25," "," "," "," "," "," "," "," "," "," "," "," "," "," "," "," "," "," "," "," "," "," "," "," "," "," "," "," "," "," "," "," "," "," "," "," "," "," "," "," "," "," "," "," "," "," "," "," "," "," "," ",3643.25," "," "," "," "," "," "," "," "," "," "," ",3643.25," "," "," "," "," "," "," "," "," "," "," "," "," "," "," "," "," "," "," "," "," "," "," "," "," "," "," "," "," "," "," "," "," "," "," "," "," "]
["A04.16.001","Ультразвуковое исследование органов брюшной полости (комплексное)",257.83," ",328.48," "," "," "," ",328.48,328.48,328.48," ",328.48," "," "," "," "," ",328.48,356.06," "," ",328.48,328.48,328.48,328.48,328.48," "," "," "," "," ",327.7,327.7,327.7,469.77,327.44,429.29,462.8,472.09,327.96,462.29,420.26,458.16,320.22000000000003,324.87,455.07,422.07,462.55,327.96,423.87," ",328.48,328.48,328.48," "," "," "," "," "," ",328.48," "," ",328.48," "," "," "," "," "," "," "," "," "," "," ",328.48,328.48,328.48," "," "," ",328.48," "," "," "," "," ",328.48,456.87," "," "," "," "," "," ",328.48," "," "," "," ",328.48," "," "," "," "," "," "," "," "," "," "," ",356.06]
["A04.16.002 Ст","Эндосонография желудка",1144.3699999999999," ",1457.93," "," "," "," "," "," "," "," ",1457.93," "," "," "," "," "," ",1580.37," "," "," "," "," "," "," "," "," "," "," "," "," ",1454.49," ",2085.04," "," ",2054.14," "," ",2051.86," "," "," "," ",2019.81,1873.33," "," "," "," "," "," "," "," "," "," "," "," "," "," "," "," ",1457.93," "," "," "," "," "," "," "," "," "," "," "," "," "," "," "," "," "," "," "," "," "," "," "," "," "," "," "," "," "," "," "," "," "," "," "," "," "," "," "," "," "," "," "," "," "," "," "," ",1580.37]
["A04.16.003 Ст","Эндосонография двенадцатиперстной кишки",1144.3699999999999," ",1457.93," "," "," "," "," "," "," "," ",1457.93," "," "," "," "," "," ",1580.37," "," "," "," "," "," "," "," "," "," "," "," "," ",1454.49," ",2085.04," "," ",2054.14," "," ",2051.86," "," "," "," ",2019.81,1873.33," "," "," "," "," "," "," "," "," "," "," "," "," "," "," "," ",1457.93," "," "," "," "," "," "," "," "," "," "," "," "," "," "," "," "," "," "," "," "," "," "," "," "," "," "," "," "," "," "," "," "," "," "," "," "," "," "," "," "," "," "," "," "," "," "," "," ",1580.37]
["A04.16.004","Ультразвуковое исследование пищевода",144.56," "," "," "," "," "," "," "," ",184.17," "," "," "," "," "," "," "," ",199.64," "," "," "," "," "," "," "," "," "," "," "," "," "," "," "," "," "," "," "," "," ",259.2," "," "," "," ",255.15,236.64," "," "," "," "," "," "," "," "," "," "," "," "," ",184.17," "," ",184.17," "," "," "," "," "," "," "," "," "," "," "," "," "," "," "," "," "," "," "," "," "," "," "," "," "," "," "," "," "," "," ",184.17," "," "," "," "," "," "," "," "," "," "," "," "," "," "," "," ",199.64]
["A04.16.004 О","Ультразвуковое исследование пищевода",144.56," "," "," "," "," "," "," "," "," "," "," "," "," "," "," "," "," "," "," "," "," "," "," "," "," "," "," "," "," "," "," "," "," "," "," "," "," "," "," "," "," "," "," "," "," "," "," "," "," "," "," "," "," "," "," "," "," "," "," "," "," "," ",184.17," "," "," "," "," "," "," "," "," "," "," "," "," "," "," "," "," "," "," "," "," "," "," "," "," "," "," "," "," "," "," "," "," "," "," "," "," "," "," "," "," "," "," "," "," "," "," ",184.17," "]
["A04.16.004.001","Ультразвуковое исследование пищевода с контрастным усилением",953.5," "," "," "," "," "," "," "," "," "," "," "," "," "," "," "," "," ",1316.78," "," "," "," "," "," "," "," "," "," "," "," "," "," "," "," "," "," "," "," "," "," "," "," "," "," "," ",1560.88," "," "," "," "," "," "," "," "," "," "," "," "," "," "," "," ",1214.76," "," "," "," "," "," "," "," "," "," "," "," "," "," "," "," "," "," "," "," "," "," "," "," "," "," "," "," "," "," "," "," "," "," "," "," "," "," "," "," "," "," "," "," "," "," "," "," "," "]
["A04.16.004.001 О","Ультразвуковое исследование пищевода с контрастным усилением",953.5," "," "," "," "," "," "," "," "," "," "," "," "," "," "," "," "," "," "," "," "," "," "," "," "," "," "," "," "," "," "," "," "," "," "," "," "," "," "," "," "," "," "," "," "," "," "," "," "," "," "," "," "," "," "," "," "," "," "," "," "," "," ",1214.76," "," "," "," "," "," "," "," "," "," "," "," "," "," "," "," "," "," "," "," "," "," "," "," "," "," "," "," "," "," "," "," "," "," "," "," "," "," "," "," "," "," "," "," "," "," "," ",1214.76," "]
["A04.16.005 Ст","Эндосонография пищевода",620.91999999999996," ",791.05," "," "," "," "," "," "," "," ",791.05," "," "," "," "," "," ",857.49," "," "," "," "," "," "," "," "," "," "," "," "," "," "," "," "," "," "," "," "," "," "," "," "," "," "," "," "," "," "," "," "," "," "," "," "," "," "," "," "," "," "," "," ",791.05," "," "," "," "," "," "," "," "," "," "," "," "," "," "," "," "," "," "," "," "," "," "," "," "," "," "," "," "," "," "," "," "," "," "," "," "," "," "," "," "," "," "," "," "," "," "," "," "," "]
["A04.18.001","Ультразвуковое исследование толстой кишки",120.8," "," "," "," "," "," "," "," ",153.9," "," "," "," "," "," "," "," ",166.82," "," "," "," "," "," "," "," "," "," "," "," "," "," "," "," "," "," "," "," "," ",216.59," "," "," "," ",213.21,197.75," "," "," "," "," "," "," "," "," "," "," "," "," ",153.9," "," ",153.9," "," "," "," "," "," "," "," "," "," "," "," "," "," ",153.9," "," "," "," "," "," "," ",153.9," "," "," "," "," "," "," "," ",153.9," "," "," "," "," "," "," "," "," "," "," "," "," "," "," "," ",166.82]
["A04.18.001 О","Ультразвуковое исследование толстой кишки",120.8," "," "," "," "," "," "," "," "," "," "," "," "," "," "," "," "," "," "," "," "," "," "," "," "," "," "," "," "," "," "," "," "," "," "," "," "," "," "," "," "," "," "," "," "," "," "," "," "," "," "," "," "," "," "," "," "," "," "," "," "," "," ",153.9," "," "," "," "," "," "," "," "," "," "," "," "," "," "," "," "," "," "," "," "," "," "," "," "," "," "," "," "," "," "," "," "," "," "," "," "," "," "," "," "," "," "," "," "," "," "," ",153.9," "]
["A04.19.001","Ультразвуковое исследование сигмовидной и прямой кишки",120.8," "," "," "," "," "," "," "," ",153.9," "," "," "," "," "," "," "," ",166.82," "," "," "," "," "," "," "," "," "," "," "," "," "," "," "," "," "," "," "," "," ",216.59," "," "," "," "," ",197.75," "," "," "," "," "," "," "," "," "," "," "," "," ",153.9," "," ",153.9," "," "," "," "," "," "," "," "," "," "," "," "," "," ",153.9," "," "," "," "," "," "," ",153.9," "," "," "," "," "," "," "," ",153.9," "," "," "," "," "," "," "," "," "," "," "," "," "," "," "," ",166.82]
["A04.19.001 О","Ультразвуковое исследование сигмовидной и прямой кишки",120.8," "," "," "," "," "," "," "," "," "," "," "," "," "," "," "," "," "," "," "," "," "," "," "," "," "," "," "," "," "," "," "," "," "," "," "," "," "," "," "," "," "," "," "," "," "," "," "," "," "," "," "," "," "," "," "," "," "," "," "," "," "," ",153.9," "," "," "," "," "," "," "," "," "," "," "," "," "," "," "," "," "," "," "," "," "," "," "," "," "," "," "," "," "," "," "," "," "," "," "," "," "," "," "," "," "," "," "," "," "," "," ",153.9," "]
["A04.20.001","Ультразвуковое исследование матки и придатков трансабдоминальное",352.23,448.74,448.74," "," "," "," "," "," ",448.74,448.74,448.74," ",448.74," "," ",448.74,448.74," "," "," "," ",448.74,448.74,448.74," "," "," "," "," "," ",447.68,447.68,447.68,641.76,447.33,586.46,632.25,644.92999999999995,448.04,631.54999999999995,574.13,625.91,437.47,443.81,621.69000000000005,576.6,631.9,448.04," "," ",448.74,448.74,448.74," "," "," "," "," ",448.74,448.74," "," ",448.74," "," "," "," ",486.43," ",448.74," "," "," "," ",448.74," ",448.74,448.74," "," "," "," "," "," "," ",448.74,448.74,624.15," "," "," ",448.74,448.74,448.74,448.74,486.43,448.74," "," "," "," "," "," "," "," "," "," "," "," "," "," "," "]
["A04.20.001 О","Ультразвуковое исследование матки и придатков трансабдоминальное",352.23," "," "," "," "," "," "," "," "," "," "," "," "," "," "," "," "," "," "," "," "," "," "," ",448.74," "," "," "," "," "," "," "," "," "," "," "," "," "," "," ",631.54999999999995," "," "," "," "," "," "," "," "," "," "," "," "," "," "," "," "," "," "," "," "," "," ",448.74," "," "," "," "," "," "," "," "," "," "," ",448.74," "," "," "," "," "," "," "," "," "," "," "," "," "," "," "," "," "," "," "," "," "," "," "," "," "," "," "," "," "," "," "," "," "," "," ",448.74," "]
["A04.20.001.001","Ультразвуковое исследование матки и придатков трансвагинальное",352.23," "," "," "," "," "," "," "," "," ",448.74,448.74," ",448.74,448.74,448.74,448.74,448.74," "," "," "," "," ",448.74,448.74," "," "," "," "," "," "," "," "," ",641.76,447.33," "," ",644.92999999999995," ",631.54999999999995,574.13,625.91,437.47,443.81," ",576.6," ",448.04," "," ",448.74,448.74,448.74," "," "," "," "," ",448.74,448.74," "," ",448.74," "," "," "," ",486.43," ",448.74," "," ",448.74," ",448.74," ",448.74,448.74," "," ",448.74," "," "," "," ",448.74,448.74,624.15," "," "," ",448.74,448.74,448.74,448.74,486.43,448.74," "," ",448.74," "," "," "," "," "," "," "," "," "," "," ",486.43]
["A04.20.001.001 О","Ультразвуковое исследование матки и придатков трансвагинальное",352.23," "," "," "," "," "," "," "," "," "," "," "," "," "," "," "," "," "," "," "," "," "," "," ",448.74," "," "," "," "," "," "," "," "," "," "," "," "," "," "," ",631.54999999999995," "," "," "," "," "," "," "," "," "," "," "," "," "," "," "," "," "," "," "," "," "," ",448.74," "," "," "," "," "," "," "," "," "," "," ",448.74," "," "," "," "," "," "," "," "," "," "," "," "," "," "," "," "," "," "," "," "," "," "," "," "," "," "," "," "," "," "," "," "," "," "," ",448.74," "]
["A04.20.001.002","Ультразвуковое исследование матки и придатков с контрастным усилением",2859.69," "," "," "," "," "," "," "," "," "," ",3643.25," "," "," "," "," "," "," "," "," "," "," "," "," "," "," "," "," "," "," "," "," "," "," "," "," "," "," "," "," "," "," "," "," "," "," "," "," "," "," "," "," "," "," "," "," "," "," "," "," "," "," ",3643.25," "," "," "," "," "," "," "," "," "," "," "," "," "," "," "," "," "," "," "," "," "," "," "," "," "," "," "," "," "," "," "," "," "," "," "," "," "," "," "," "," "," "," "," "," "," "," "," "," "]
["A04.20.001.002 О","Ультразвуковое исследование матки и придатков с контрастным усилением",2859.69," "," "," "," "," "," "," "," "," "," "," "," "," "," "," "," "," "," "," "," "," "," "," "," "," "," "," "," "," "," "," "," "," "," "," "," "," "," "," "," "," "," "," "," "," "," "," "," "," "," "," "," "," "," "," "," "," "," "," "," "," "," ",3643.25," "," "," "," "," "," "," "," "," "," "," "," "," "," "," "," "," "," "," "," "," "," "," "," "," "," "," "," "," "," "," "," "," "," "," "," "," "," "," "," "," "," "," "," "," "," "," ",3643.25," "]
["A04.20.001.003","Эластография матки и придатков",641.42999999999995," "," "," "," "," "," "," "," "," "," "," "," "," "," "," "," "," "," "," "," "," "," "," "," "," "," "," "," "," "," "," "," "," "," "," "," "," "," "," "," "," "," "," "," "," "," "," "," "," "," "," "," "," "," "," "," "," "," "," "," "," "," "," "," "," "," "," "," "," "," "," "," "," "," ",817.18," "," "," "," "," "," "," "," "," "," "," "," "," "," "," "," "," "," "," "," ",885.81," "," "," "," "," "," "," "," "," "," "," "," "," "," "," "," "]
["A04.20.001.004","Ультразвуковое исследование  шейки матки (УЗ - цервикометрия)",370.7," "," "," "," "," "," "," "," "," "," "," "," ",472.27," "," ",472.27," "," "," "," "," "," "," "," "," "," "," "," "," "," "," "," "," "," "," "," "," ",678.75," "," "," "," "," "," "," "," "," "," "," "," "," "," "," "," "," "," "," "," "," "," "," "," "," "," "," "," "," "," "," "," "," "," "," "," "," "," "," "," "," "," "," "," "," "," "," "," "," "," "," "," "," "," "," "," "," "," "," "," "," "," ",472.27," "," "," "," "," "," "," "," "," "," "," "]
["A04.20.002","Ультразвуковое исследование молочных желез",182.61,232.65,232.65," "," "," "," "," "," ",232.65,232.65,232.65," ",232.65," ",232.65,232.65,232.65,252.18," "," ",232.65,232.65,232.65,232.65,232.65," "," "," "," "," ",232.1,232.1," ",332.72,231.91,304.05,327.78,334.36,232.28,327.42,297.64999999999998,324.5,226.8,230.09,322.31,298.93,327.60000000000002,232.28,300.20999999999998," ",232.65,232.65,232.65," "," "," "," "," ",232.65," "," "," ",232.65," "," "," "," "," "," "," "," "," "," "," ",232.65," ",232.65,232.65," "," ",232.65," "," "," "," ",232.65,232.65,323.58," "," "," ",232.65,232.65,232.65,232.65," ",232.65," "," ",232.65," "," "," "," "," "," "," "," "," "," "," "," "]
["A04.20.002.001","Эластография молочных желез",611.19000000000005," "," "," "," "," "," "," "," "," "," ",778.66," "," "," "," "," "," ",844.05," "," "," "," "," "," "," "," "," "," "," "," "," "," "," "," "," "," "," "," "," "," "," "," "," "," "," "," "," "," "," "," "," "," "," "," "," "," "," "," "," "," ",778.66," ",778.66," "," "," "," ",844.05," "," "," "," "," "," ",778.66," "," ",778.66," "," "," "," "," "," "," ",778.66," "," "," "," "," "," "," "," "," ",844.05," "," "," "," "," "," "," "," "," "," "," "," "," "," "," "," "]
["A04.20.002.003","Ультразвуковое исследование молочных желез с контрастным усилением",2859.69," "," "," "," "," "," "," "," "," "," "," "," "," "," "," "," "," "," "," "," "," "," "," "," "," "," "," "," "," "," "," "," "," "," "," "," "," "," "," ",5127.42," "," "," "," ",5047.3500000000004," "," "," "," "," "," "," "," "," "," "," "," "," "," "," "," "," ",3643.25," "," "," "," "," "," "," "," "," "," "," "," "," "," "," "," "," "," "," "," "," "," "," "," "," "," "," "," "," "," "," "," "," "," "," "," "," "," "," "," "," "," "," "," "," "," "," "," "," "]
["A04.21.001","Ультразвуковое исследование простаты",293.51,373.93,373.93," "," "," "," "," "," ",373.93,373.93,373.93," ",373.93," "," "," ",373.93," "," "," ",373.93,373.93,373.93,373.93,373.93," "," "," "," "," ",373.05,373.05," ",534.78,372.76," ",526.85,537.41999999999996,373.34,526.26,478.42,521.57000000000005,364.54,369.82,518.04999999999995,480.48,526.55999999999995,373.34," "," ",373.93,373.93,373.93," "," "," "," "," ",373.93," "," "," ",373.93," "," "," "," "," "," ",373.93," "," ",373.93," ",373.93," ",373.93,373.93," "," ",373.93," "," "," "," ",373.93,373.93,520.1," "," "," ",373.93,373.93,373.93,373.93,405.34,373.93," "," "," "," "," "," "," "," "," "," "," "," "," "," "," "]
["A04.21.001 О","Ультразвуковое исследование простаты",293.51," "," "," "," "," "," "," "," "," "," "," "," "," "," "," "," "," "," "," "," "," "," "," ",373.93," "," "," "," "," "," "," "," "," "," "," "," "," "," "," ",526.26," "," "," "," "," "," "," "," "," "," "," "," "," "," "," "," "," "," "," "," "," "," ",373.93," "," "," "," "," "," "," "," "," "," "," ",373.93," "," "," "," "," "," "," "," "," "," "," "," "," "," "," "," "," "," "," "," "," "," "," "," "," "," "," "," "," "," "," "," "," "," "," ",373.93," "]
["A04.21.001.001","Ультразвуковое исследование предстательной железы трансректальное",273.93," ",348.99," "," "," "," "," "," "," ",348.99,348.99," "," "," "," "," ",348.99,378.3," "," ",348.99,348.99,348.99,348.99," "," "," "," "," "," "," "," "," "," ",347.89," "," ",501.57," ",491.16,446.51,486.77,340.22,345.15,483.49,448.42," "," ",450.34," ",348.99,348.99," "," "," "," "," "," ",348.99,348.99," "," ",348.99," "," "," "," "," "," "," "," "," "," "," ",348.99," ",348.99,348.99," "," ",348.99," "," "," "," ",348.99,348.99,485.4," "," "," ",348.99,348.99,348.99,348.99," ",348.99," "," ",348.99," "," "," "," "," "," "," "," "," "," "," "," "]
["A04.21.001.001 О","Ультразвуковое исследование предстательной железы трансректальное",273.93," "," "," "," "," "," "," "," "," "," "," "," "," "," "," "," "," "," "," "," "," "," "," ",348.99," "," "," "," "," "," "," "," "," "," "," "," "," "," "," ",491.16," "," "," "," "," "," "," "," "," "," "," "," "," "," "," "," "," "," "," "," "," "," ",348.99," "," "," "," "," "," "," "," "," "," "," ",348.99," "," "," "," "," "," "," "," "," "," "," "," "," "," "," "," "," "," "," "," "," "," "," "," "," "," "," "," "," "," "," "," "," "," "," ",348.99," "]
["A04.21.001.002","Ультразвуковое исследование предстательной железы с контрастным усилением",332.73," "," "," "," "," "," "," "," "," "," ",423.9," "," "," "," "," "," "," "," "," "," "," "," "," "," "," "," "," "," "," "," "," "," "," "," "," "," "," "," "," "," "," "," "," "," ",544.67999999999995," "," "," "," "," "," "," "," "," "," "," "," "," "," "," "," ",423.9," "," "," "," "," "," "," "," "," "," "," "," "," "," "," "," "," "," "," "," "," "," "," "," "," "," "," "," "," "," "," "," "," "," "," "," "," "," "," "," "," "," "," "," "," "," "," "," "," "]
["A04.21.001.002 О","Ультразвуковое исследование предстательной железы с контрастным усилением",332.73," "," "," "," "," "," "," "," "," "," "," "," "," "," "," "," "," "," "," "," "," "," "," "," "," "," "," "," "," "," "," "," "," "," "," "," "," "," "," "," "," "," "," "," "," "," "," "," "," "," "," "," "," "," "," "," "," "," "," "," "," "," ",423.9," "," "," "," "," "," "," "," "," "," "," "," "," "," "," "," "," "," "," "," "," "," "," "," "," "," "," "," "," "," "," "," "," "," "," "," "," "," "," "," "," "," "," "," "," "," "," ",423.9," "]
["A04.21.003 О Ст","Ультразвуковая допплерография сосудов семенного канатика",334.11," "," "," "," "," "," "," "," "," "," "," "," "," "," "," "," "," "," "," "," "," "," "," "," "," "," "," "," "," "," "," "," "," "," "," "," "," "," "," "," "," "," "," "," "," "," "," "," "," "," "," "," "," "," "," "," "," "," "," "," "," "," ",425.66," "," "," "," "," "," "," "," "," "," "," "," "," "," "," "," "," "," "," "," "," "," "," "," "," "," "," "," "," "," "," "," "," "," "," "," "," "," "," "," "," "," "," "," "," "," "," ",425.66," "]
["A04.21.003 Ст","Ультразвуковая допплерография сосудов семенного канатика",334.11," "," "," "," "," "," "," "," ",425.66," ",425.66," "," "," "," "," "," "," "," "," "," "," ",425.66," "," "," "," "," "," "," "," "," "," "," "," "," "," "," "," "," "," "," "," "," "," ",546.94000000000005," ",424.99," "," ",425.66,425.66," "," "," "," "," "," "," "," "," "," ",425.66," "," "," "," "," "," "," "," "," "," "," "," "," ",425.66," "," "," "," "," "," "," "," "," "," "," "," "," "," "," "," "," ",425.66," "," "," "," "," "," "," "," "," "," "," "," "," "," "," "," "," "]
["A04.22.001","Ультразвуковое исследование щитовидной железы и паращитовидных желез",182.61,232.65,232.65," "," "," "," ",232.65,232.65,232.65,232.65,232.65," "," "," "," "," ",232.65,252.18," "," ",232.65,232.65,232.65,232.65,232.65," "," "," "," "," ",232.1,232.1," ",332.72,231.91," ",327.78,334.36,232.28,327.42,297.64999999999998,324.5,226.8,230.09,322.31,298.93,327.60000000000002,232.28,300.20999999999998," ",232.65,232.65,232.65," "," "," "," "," ",232.65,232.65," "," ",232.65," "," "," "," "," "," "," "," "," ",232.65," ",232.65," ",232.65,232.65," "," ",232.65," "," "," "," ",232.65,232.65,323.58," "," "," ",232.65,232.65,232.65,232.65," ",232.65," "," ",232.65," "," "," "," "," "," "," "," "," "," "," "," "]
["A04.22.001 О","Ультразвуковое исследование щитовидной железы и паращитовидных желез",182.61," "," "," "," "," "," "," "," "," "," "," "," "," "," "," "," "," "," "," "," "," "," "," ",232.65," "," "," "," "," "," "," "," "," "," "," "," "," "," "," "," "," "," "," "," "," "," "," "," "," "," "," "," "," "," "," "," "," "," "," "," "," "," ",232.65," "," "," "," "," "," "," "," "," "," "," ",232.65," "," "," "," "," "," "," "," "," "," "," "," "," "," "," "," "," "," "," "," "," "," "," "," "," "," "," "," "," "," "," "," "," "," "," ",232.65," "]
["A04.22.001.001","Эластография щитовидной железы",611.19000000000005," "," "," "," "," "," "," "," "," "," ",778.66," "," "," "," "," "," ",844.05," "," "," "," "," "," "," "," "," "," "," "," "," "," "," "," "," "," "," "," "," "," "," "," "," "," "," "," "," "," "," "," "," "," "," "," "," "," "," "," "," "," "," "," ",778.66," "," "," "," ",844.05," "," "," "," "," "," ",778.66," "," ",778.66," "," "," "," "," "," "," ",778.66," "," "," "," "," "," "," "," "," ",844.05," "," "," "," "," "," "," "," "," "," "," "," "," "," "," "," "]
["A04.22.001.002","Ультразвуковое исследование щитовидной железы с контрастным усилением",2859.69," "," "," "," "," "," "," "," "," "," "," "," "," "," "," "," "," "," "," "," "," "," "," "," "," "," "," "," "," "," "," "," "," "," "," "," "," "," "," ",5127.42," "," "," "," "," "," "," "," "," "," "," "," "," "," "," "," "," "," "," "," "," "," ",3643.25," "," "," "," "," "," "," "," "," "," "," "," "," "," "," "," "," "," "," "," "," "," "," "," "," "," "," "," "," "," "," "," "," "," "," "," "," "," "," "," "," "," "," "," "," "," "," ",3643.25," "]
["A04.22.002","Ультразвуковое исследование надпочечников",132.55000000000001,168.87,168.87," "," "," "," "," "," ",168.87,168.87,168.87," "," "," "," "," ",168.87,183.05," "," "," ",168.87,168.87,168.87," "," "," "," "," "," "," "," "," "," ",168.34," "," "," "," ",237.66," ",235.54,164.63,167.01,233.95,216.98," "," "," "," ",168.87,168.87," "," "," "," "," "," ",168.87,168.87," "," ",168.87," "," "," "," "," "," "," "," "," "," "," ",168.87," ",168.87,168.87," "," ",168.87," "," "," "," ",168.87,168.87,234.88," "," "," ",168.87,168.87,168.87,168.87," ",168.87," "," ",168.87," "," "," "," "," "," "," "," "," "," "," ",183.05]
["A04.23.001.001","Ультразвуковое исследование головного мозга",363.49," "," "," "," "," "," ",463.09,463.09,463.09,463.09,463.09," "," "," "," "," "," "," "," "," "," "," "," ",463.09,463.09," "," "," "," "," ",462,462," ",662.28,461.63,605.21,652.46,665.55," ",651.74," "," ",451.45,458,641.55999999999995," "," "," "," "," ",463.09,463.09," "," "," "," "," "," ",463.09," "," "," ",463.09," "," "," "," "," "," "," "," "," "," "," "," "," "," "," "," "," "," "," "," "," "," ",463.09," "," "," "," "," "," ",463.09,463.09,463.09," "," "," "," "," "," "," "," "," "," "," "," "," "," "," "," ",501.98]
["A04.23.002","Эхоэнцефалография",161.1," "," "," "," "," "," "," "," ",205.24,205.24,205.24," "," "," "," "," "," "," "," "," "," "," "," "," "," "," "," "," "," "," "," "," "," "," "," "," "," "," "," "," "," ",286.27," ",202.99,284.33999999999997,263.72000000000003," ",204.92," ",205.24," "," "," "," "," "," "," "," "," "," "," "," ",205.24," "," "," "," "," "," "," "," "," "," "," "," "," "," "," "," "," "," "," "," "," "," "," "," "," "," "," "," "," ",205.24," "," "," "," "," "," "," "," "," "," "," "," "," "," "," "," "," "," ",222.48]
["A04.26.002","Ультразвуковое исследование глазного яблока",180.18," "," "," "," "," "," "," "," ",229.55,229.55,229.55," "," "," "," "," "," "," "," "," "," "," "," "," "," "," "," "," "," "," "," "," "," "," "," "," "," "," "," "," "," "," "," "," "," "," "," "," "," "," "," "," "," "," "," "," "," "," "," "," "," "," ",229.55," "," "," "," "," "," "," "," "," "," "," "," "," "," "," "," "," "," "," "," "," "," "," "," "," "," "," "," "," ",229.55," "," "," "," "," "," "," "," "," "," "," "," "," "," "," "," "," "," "," "]
["A04.26.003","Ультразвуковое исследование глазницы",119.77," "," "," "," "," "," "," "," ",152.59," ",152.59," "," "," "," "," "," "," "," "," "," "," "," "," "," "," "," "," "," "," "," "," "," "," "," "," "," "," "," "," "," "," "," "," "," "," "," "," "," "," "," "," "," "," "," "," "," "," "," "," "," "," ",152.59," "," "," "," "," "," "," "," "," "," "," "," "," "," "," "," "," "," "," "," "," "," "," "," "," "," "," "," "," ",152.59," "," "," "," "," "," "," "," "," "," "," "," "," "," "," "," "," "," "," "]
["A04.26.004","Ультразвуковая биометрия глаза (Ультразвуковая биометрия глаза (Б-скан)",473.96," "," "," "," "," "," "," "," "," "," "," "," "," "," "," "," "," "," "," "," "," "," "," "," "," "," "," "," "," "," "," "," "," "," "," "," "," "," "," "," "," "," "," "," "," "," "," "," "," "," "," "," "," "," "," "," "," "," "," "," "," "," "," "," "," "," "," "," "," "," "," "," "," "," "," "," "," "," "," "," "," "," "," "," "," "," "," "," "," ",603.83000000000004," "," "," "," "," "," "," "," "," "," "," "," "," "," "," "," "," "," "," "," "," "," "]
["A04.26.005 Ст","Ультразвуковая допплерография сосудов орбиты и глазного яблока",190.18," "," "," "," "," "," "," "," "," ",242.29,242.29," "," "," "," "," "," "," "," "," "," "," "," "," "," "," "," "," "," "," "," "," "," "," "," "," "," "," "," "," "," "," "," "," "," "," "," "," "," "," "," "," "," "," "," "," "," "," "," "," "," "," ",242.29," "," "," "," "," "," "," "," "," "," "," "," "," "," "," "," "," "," "," "," "," "," "," "," "," "," "," "," "," "," "," "," "," "," "," "," "," "," "," "," "," "," "," "," "," "," "," "," "," "]
["A04.26.006 Ст","Дуплексное сканирование сосудов глаза и орбиты",190.18," "," "," "," "," "," "," "," "," "," ",242.29," "," "," "," "," "," "," "," "," "," "," "," "," "," "," "," "," "," "," "," "," "," "," "," "," "," "," "," "," "," "," "," "," "," "," "," "," "," "," "," "," "," "," "," "," "," "," "," "," "," "," ",242.29," "," "," "," "," "," "," "," "," "," "," "," "," "," "," "," "," "," "," "," "," "," "," "," "," "," "," "," "," "," "," "," "," "," "," "," "," "," "," "," "," "," "," "," "," "," "," "," "," "]
["A04.28.001.001","Лапароскопическое ультразвуковое исследование почек",2859.69," "," "," "," "," "," "," "," "," "," ",3643.25," "," "," "," "," "," "," "," "," "," "," "," "," "," "," "," "," "," "," "," "," "," "," "," "," "," "," "," "," "," "," "," "," "," "," "," "," "," "," "," "," "," "," "," "," "," "," "," "," "," "," "," "," "," "," "," "," "," "," "," "," "," "," "," "," "," "," "," "," "," "," "," "," "," "," "," "," "," "," "," "," "," "," "," "," "," "," "," "," "," "," "," "," "," "," "," "," "," "," "," "," "]
["A04.28.002.001","Ультразвуковое исследование почек",182.61,232.65,232.65," "," "," "," ",232.65,232.65,232.65,232.65,232.65," "," "," "," "," ",232.65,252.18," "," ",232.65,232.65,232.65,232.65,232.65," "," "," "," "," ",232.1,232.1,232.1,332.72,231.91,304.05,327.78,334.36,232.28,327.42,297.64999999999998,324.5,226.8,230.09,322.31,298.93,327.60000000000002,232.28,300.20999999999998," ",232.65,232.65,232.65," "," "," "," "," ",232.65,232.65," "," ",232.65," "," "," "," "," "," ",232.65," "," "," "," ",232.65," ",232.65,232.65," "," ",232.65," "," "," "," ",232.65,232.65,323.58," "," "," ",232.65,232.65,232.65,232.65,252.18,232.65," "," ",232.65," "," "," "," "," "," "," "," "," "," "," ",252.18]
["A04.28.002.001 О","Ультразвуковое исследование почек",182.61," "," "," "," "," "," "," "," "," "," "," "," "," "," "," "," "," "," "," "," "," "," "," ",232.65," "," "," "," "," "," "," "," "," "," "," "," "," "," "," ",327.42," "," "," "," "," "," "," "," "," "," "," "," "," "," "," "," "," "," "," "," "," "," ",232.65," "," "," "," "," "," "," "," "," "," "," ",232.65," "," "," "," "," "," "," "," "," "," "," "," "," "," "," "," "," "," "," "," "," "," "," "," "," "," "," "," "," "," "," "," "," "," "," ",232.65," "]
["A04.28.002.002","Ультразвуковое исследование мочеточников",107.36," "," "," "," "," "," "," "," "," "," ",136.78," "," "," "," "," "," ",148.26," "," "," ",136.78,136.78,136.78," "," "," "," "," "," "," "," "," "," ",136.35," "," "," "," ",192.5," "," ",133.34,135.27000000000001," ",175.75," ",136.56," "," "," "," "," "," "," "," "," "," "," "," "," "," ",136.78," "," "," "," "," "," "," "," "," "," "," "," "," ",136.78,136.78," "," ",136.78," "," "," "," ",136.78,136.78,190.24," "," "," "," "," "," "," "," "," "," "," "," "," "," "," "," "," "," "," "," "," "," "," "," "]
["A04.28.002.003","Ультразвуковое исследование мочевого пузыря",107.36,136.78,136.78," "," "," "," ",136.78,136.78,136.78,136.78,136.78," "," "," "," "," ",136.78,148.26," "," ",136.78,136.78,136.78,136.78,136.78," "," "," "," "," ",136.44999999999999,136.44999999999999,136.44999999999999,195.61,136.35," ",192.71,196.58,136.56,192.5,175,190.78,133.34,135.27000000000001,189.49,175.75,192.6,136.56,176.5," ",136.78,136.78,136.78," "," "," "," "," ",136.78,136.78," "," ",136.78," "," "," "," "," "," "," "," "," "," "," ",136.78," ",136.78,136.78," "," ",136.78," "," "," "," ",136.78,136.78,190.24," "," "," ",136.78,136.78,136.78,136.78," ",136.78," "," ",136.78," "," "," "," "," "," "," "," "," "," "," ",148.26]
["A04.28.002.003 О","Ультразвуковое исследование мочевого пузыря",107.36," "," "," "," "," "," "," "," "," "," "," "," "," "," "," "," "," "," "," "," "," "," "," ",136.78," "," "," "," "," "," "," "," "," "," "," "," "," "," "," ",192.5," "," "," "," "," "," "," "," "," "," "," "," "," "," "," "," "," "," "," "," "," "," ",136.78," "," "," "," "," "," "," "," "," "," "," ",136.78," "," "," "," "," "," "," "," "," "," "," "," "," "," "," "," "," "," "," "," "," "," "," "," "," "," "," "," "," "," "," "," "," "," "," ",136.78," "]
["A04.28.002.005","Ультразвуковое исследование мочевого пузыря с определением остаточной мочи",344.61," ",439.03," "," "," "," "," "," ",439.03," ",439.03," "," "," "," "," "," ",475.91," "," "," ",439.03,439.03,439.03," "," "," "," "," "," "," "," "," "," "," "," "," "," "," ",617.89,561.71,612.37," "," "," "," "," "," "," "," "," "," "," "," "," "," "," "," ",439.03,439.03," "," ",439.03," "," "," "," "," "," ",439.03," "," "," "," "," "," "," ",439.03," "," ",439.03," "," "," "," ",439.03,439.03,610.65," "," "," "," "," "," "," ",475.91,439.03," "," ",439.03," "," "," "," "," "," "," "," "," "," "," "," "]
["A04.28.002.006","Ультразвуковое исследование почек с функциональной нагрузкой",3196.3," "," "," "," "," "," "," "," "," "," "," "," "," "," "," "," "," ",4414.09," "," "," "," "," "," "," "," "," "," "," "," "," "," "," "," "," "," "," "," "," "," "," "," "," "," "," "," "," "," "," "," "," "," "," "," "," "," "," "," "," "," "," "," ",4072.09," "," "," "," "," "," "," "," "," "," "," "," "," "," "," "," "," "," "," "," "," "," "," "," "," "," "," "," "," "," "," "," "," "," "," "," "," "," "," "," "," "," "," "," "," "," "," "," "," "]
["A04.28.002.007","Эластография почек",3196.3," "," "," "," "," "," "," "," "," "," ",4072.09," "," "," "," "," "," ",4414.09," "," "," "," "," "," "," "," "," "," "," "," "," "," "," "," "," "," "," "," "," "," "," "," "," "," "," "," "," "," "," "," "," "," "," "," "," "," "," "," "," "," "," "," ",4072.09," "," "," "," "," "," "," "," "," "," "," "," "," "," "," "," "," "," "," "," "," "," "," "," "," "," "," "," "," "," "," "," "," "," "," "," "," "," "," "," "," "," "," "," "," "," "," "," "," "]
["A04.28.002.008","Ультразвуковое исследование мочевого пузыря  с контрастным усилением",2859.69," "," "," "," "," "," "," "," "," "," ",3643.25," "," "," "," "," "," "," "," "," "," "," "," "," "," "," "," "," "," "," "," "," "," "," "," "," "," "," "," "," "," "," "," "," "," "," "," "," "," "," "," "," "," "," "," "," "," "," "," "," "," "," ",3643.25," "," "," "," "," "," "," "," "," "," "," "," "," "," "," "," "," "," "," "," "," "," "," "," "," "," "," "," "," "," "," "," "," "," "," "," "," "," "," "," "," "," "," "," "," "," "," "," "," "]
["A04.28.003","Ультразвуковое исследование органов мошонки ",336.75,429.02,429.02," "," "," "," ",429.02,429.02,429.02,429.02,429.02," ",429.02," "," "," ",429.02,465.05," "," "," ",429.02,429.02,429.02,429.02," "," "," "," "," ",428.01,428.01," ",613.55999999999995,427.67," ",604.47,616.59,428.35,603.79,548.9,598.4,418.24,424.31,594.36,551.26,604.13,428.35," "," ",429.02,429.02,429.02," "," "," "," "," ",429.02,429.02," "," ",429.02," "," "," "," "," "," ",429.02," "," "," "," ",429.02," ",429.02,429.02," "," ",429.02," "," "," "," ",429.02,429.02,596.72," "," "," ",429.02,429.02,429.02,429.02," ",429.02," "," ",429.02," "," "," "," "," "," "," "," "," "," "," "," "]
["A04.28.003 О","Ультразвуковое исследование органов мошонки",144.56," "," "," "," "," "," "," "," "," "," "," "," "," "," "," "," "," "," "," "," "," "," "," ",184.17," "," "," "," "," "," "," "," "," "," "," "," "," "," "," ",259.2," "," "," "," "," "," "," "," "," "," "," "," "," "," "," "," "," "," "," "," "," "," ",184.17," "," "," "," "," "," "," "," "," "," "," ",184.17," "," "," "," "," "," "," "," "," "," "," "," "," "," "," "," "," "," "," "," "," "," "," "," "," "," "," "," "," "," "," "," "," "," "," ",184.17," "]
["A04.30.001","Ультразвуковое исследование плода",571.21," "," "," "," "," "," "," "," "," "," ",727.72," ",727.72," ",727.72,727.72," "," "," "," "," "," "," "," "," "," "," "," "," "," "," "," "," "," ",725.44," "," ",1045.8900000000001,726.58,1024.18,931.07," ",709.44,719.72,1008.19,935.07,1024.75,726.58," "," "," "," ",727.72," "," "," "," "," "," "," "," "," "," "," "," "," "," "," "," "," "," "," "," "," "," "," "," "," "," "," ",727.72," "," "," "," "," "," "," "," "," "," "," ",727.72,727.72,727.72," "," "," "," "," ",727.72," "," "," "," "," "," "," "," "," "," "," "]
["A04.30.001.003","Ультразвуковое исследование плода (пренатальная диагностика с 11 до 14 недель беременности, при многоплодной беременности)",350.87," "," "," "," "," "," "," "," "," "," "," "," "," "," "," "," "," "," "," "," "," "," "," "," "," "," "," "," "," "," "," "," "," "," "," "," "," ",642.44000000000005,446.31,629.11," "," "," "," "," "," "," "," "," "," "," "," "," "," "," "," "," "," "," "," "," "," "," "," "," "," "," "," "," "," "," "," "," "," "," "," "," "," "," "," ",447.01," "," "," "," "," "," "," "," "," "," "," "," "," "," "," "," "," "," "," "," "," "," "," "," "," "," "," "," "," "," "," "]
["A04.30.001.004","Ультразвуковое исследование плода (пренатальная диагностика с 18 до 22 недель беременности)",350.87," "," "," "," "," "," "," "," "," "," "," "," "," "," "," "," "," "," "," "," "," "," "," "," "," "," "," "," "," "," "," "," "," "," "," "," "," ",642.44000000000005,446.31,629.11," "," "," "," "," "," "," "," "," "," "," "," "," "," "," "," "," "," "," "," "," "," "," "," "," "," "," "," "," "," "," "," "," "," "," "," "," "," "," "," ",447.01," "," "," "," "," "," "," "," "," "," "," "," "," "," "," "," "," "," "," "," "," "," "," "," "," "," "," "," "," "," "," "]
["A04.30.001.006","Ультразвуковое исследование плода (пренатальная диагностика с 23 до 32 недель беременности)",350.87," "," "," "," "," "," "," "," "," "," "," "," "," "," "," "," "," "," "," "," "," "," "," "," "," "," "," "," "," "," "," "," "," "," "," "," "," ",642.44000000000005,446.31,629.11," "," "," "," "," "," "," "," "," "," "," "," "," "," "," "," "," "," "," "," "," "," "," "," "," "," "," "," "," "," "," "," "," "," "," "," "," "," "," "," ",447.01," "," "," "," "," "," "," "," "," "," "," "," "," "," "," "," "," "," "," "," "," "," "," "," "," "," "," "," "," "," "," "]
["A04.30.002","Дуплексное сканирование сердца и сосудов плода",274.64999999999998," "," "," "," "," "," "," "," "," "," ",349.9," ",349.9," ",349.9,349.9," "," "," "," "," "," "," "," "," "," "," "," "," "," "," "," "," "," ",348.81," "," "," "," ",492.45," "," ",341.12,346.06," ",449.6,492.72," "," "," "," "," "," "," "," "," "," "," "," "," "," "," "," "," "," "," "," "," "," "," "," "," "," "," "," "," "," "," "," "," "," "," "," "," "," "," "," "," "," "," "," "," "," "," ",349.9," "," "," "," "," ",349.9," "," "," "," "," "," "," "," "," "," ",379.29]
["A04.30.003","Ультразвуковое исследование забрюшинного пространства",167.76,213.73," "," "," "," "," ",213.73,213.73,213.73,213.73,213.73," "," "," "," "," ",213.73,231.68," "," "," ",213.73,213.73,213.73,213.73," "," "," "," "," ",213.22,213.22," "," ",213.06," ",301.13,307.17,213.39,300.79000000000002,273.45,298.11,208.36,211.38,296.10000000000002,274.62,300.95999999999998," "," "," ",213.73,213.73," "," "," "," "," "," "," ",213.73," "," ",213.73," "," "," "," "," "," "," "," "," "," "," "," "," "," ",213.73," "," "," "," "," "," "," ",213.73,213.73,297.27," "," "," ",213.73,213.73,213.73,213.73," ",213.73," "," ",213.73," "," "," "," "," "," "," "," "," "," "," "," "]
["A04.30.003 О","Ультразвуковое исследование забрюшинного пространства",167.76," "," "," "," "," "," "," "," "," "," "," "," "," "," "," "," "," "," "," "," "," "," "," ",213.73," "," "," "," "," "," "," "," "," "," "," "," "," "," "," ",300.79000000000002," "," "," "," "," "," "," "," "," "," "," "," "," "," "," "," "," "," "," "," "," "," ",213.73," "," "," "," "," "," "," "," "," "," "," "," "," "," "," "," "," "," "," "," "," "," "," "," "," "," "," "," "," "," "," "," "," "," "," "," "," "," "," "," "," "," "," "," "," "," "," ",213.73," "]
["A04.30.004","Ультразвуковое определение жидкости в брюшной полости",126.2,160.78,160.78," "," "," "," ",160.78,160.78,160.78,160.78,160.78," "," "," "," "," ",160.78,174.28," "," ",160.78,160.78,160.78,160.78,160.78," "," "," "," "," ",160.4,160.4," ",229.94,160.27000000000001,210.12,226.53,231.07,160.53,226.28,205.71,224.26,156.74,159.01," ",206.59,226.4,160.53," "," ",160.78,160.78," "," "," "," "," "," "," "," "," "," ",160.78," "," "," "," "," "," "," "," "," "," "," "," "," "," ",160.78," "," "," "," "," "," "," ",160.78,160.78,223.63," "," "," "," "," "," ",160.78," ",160.78," "," ",160.78," "," "," "," "," "," "," "," "," "," "," "," "]
["A04.30.004 О","Ультразвуковое определение жидкости в брюшной полости",126.2," "," "," "," "," "," "," "," "," "," "," "," "," "," "," "," "," "," "," "," "," "," "," ",160.78," "," "," "," "," "," "," "," "," "," "," "," "," "," "," ",226.28," "," "," "," "," "," "," "," "," "," "," "," "," "," "," "," "," "," "," "," "," "," ",160.78," "," "," "," "," "," "," "," "," "," "," "," "," "," "," "," "," "," "," "," "," "," "," "," "," "," "," "," "," "," "," "," "," "," "," "," "," "," "," "," "," "," "," "," "," "," "," ",160.78," "]
["A04.30.008","Ультразвуковое исследование в режиме 3D",69.319999999999993," "," "," "," "," "," "," "," "," "," "," "," "," "," "," "," "," ",95.73," "," "," "," "," "," "," "," "," "," "," "," "," "," "," "," "," "," "," "," "," "," "," "," "," "," "," "," "," "," "," "," "," "," "," "," "," "," "," "," "," "," "," "," ",88.31," "," "," "," "," "," "," "," "," "," "," "," "," "," "," "," "," "," "," "," "," "," "," "," "," "," "," "," "," "," "," "," "," "," "," "," "," "," "," "," "," "," "," "," "," "," "," "," "," "]
["05","Регистрация электромагнитных сигналов, испускаемых или потенцированных в органах и тканях с их последующей расшифровкой и описанием",null," "," "," "," "," "," "," "," "," "," "," "," "," "," "," "," "," "," "," "," "," "," "," "," "," "," "," "," "," "," "," "," "," "," "," "," "," "," "," "," "," "," "," "," "," "," "," "," "," "," "," "," "," "," "," "," "," "," "," "," "," "," "," "," "," "," "," "," "," "," "," "," "," "," "," "," "," "," "," "," "," "," "," "," "," "," "," "," "," "," "," "," "," "," "," "," "," "," "," "," "," "," "," "," "," "," "," "," "," "," "," "," "]
["A05.01.002 Д Ст","Магнитно-резонансная томография мягких тканей",2010.41," "," "," "," "," "," ",2561.2600000000002," "," "," ",2561.2600000000002," "," "," "," "," "," "," "," "," "," "," "," "," "," "," "," "," "," "," "," "," "," "," "," "," "," "," "," "," "," "," "," "," "," "," "," "," "," "," "," "," "," ",2561.2600000000002,3548.37," "," "," "," "," "," ",2561.2600000000002,2561.2600000000002,2561.2600000000002," "," "," ",2776.38," "," "," "," "," "," "," "," "," "," "," "," "," "," "," "," "," "," "," "," "," "," "," "," "," "," "," "," "," "," "," "," "," "," "," "," "," "," "," "," "," "," "," "," "]
["A05.01.002 ДН Ст","Магнитно-резонансная томография мягких тканей с наркозом",7406.68," "," "," "," "," "," ",9436.11," "," "," ",9436.11," "," "," "," "," "," "," "," "," "," "," "," "," "," "," "," "," "," "," "," "," "," "," "," "," "," "," "," "," "," "," "," "," "," "," "," "," "," "," "," "," "," "," "," "," "," "," "," "," "," "," ",9436.11,9436.11," "," "," ",10228.629999999999," "," "," "," "," "," "," "," "," "," "," "," "," "," "," "," "," "," "," "," "," "," "," "," "," "," "," "," "," "," "," "," "," "," "," "," "," "," "," "," "," "," "," "," "]
["A05.01.002 Ст","Магнитно-резонансная томография мягких тканей",1353.19," "," "," "," "," "," ",1723.96," "," ",1723.96,1723.96," "," "," "," "," "," "," "," "," "," "," "," "," "," "," "," "," "," "," "," "," "," "," "," "," "," "," "," "," "," "," "," "," "," "," "," "," "," "," "," "," "," ",1723.96,2388.38," "," "," "," "," "," ",1723.96,1723.96,1723.96," "," "," ",1868.76," "," "," "," "," "," "," "," "," "," "," "," "," "," "," "," "," "," "," "," "," "," "," "," "," "," "," "," "," "," "," "," "," "," "," "," "," "," "," "," "," "," "," "," "]
["A05.01.002.001 Д Ст","Магнитно-резонансная томография мягких тканей с контрастированием",4143.9799999999996," "," "," "," "," "," "," "," "," "," ",5279.43," "," "," "," "," "," "," "," "," "," "," "," "," "," "," "," "," "," "," "," "," "," "," "," "," "," "," "," "," "," "," "," "," "," "," "," "," "," "," "," "," "," ",5279.43,7314.12," "," "," "," "," "," ",5279.43,5279.43," "," "," "," ",5722.84," "," "," "," "," "," "," "," "," "," "," "," "," "," "," "," "," "," "," "," "," "," "," "," "," "," "," "," "," "," "," "," "," "," "," "," "," "," "," "," "," "," "," "," "]
["A05.01.002.001 ДН Ст","Магнитно-резонансная томография мягких тканей с контрастированием с наркозом",9540.23," "," "," "," "," "," ",12154.25," "," "," ",12154.25," "," "," "," "," "," "," "," "," "," "," "," "," "," "," "," "," "," "," "," "," "," "," "," "," "," "," "," "," "," "," "," "," "," "," "," "," "," "," "," "," "," "," "," "," "," "," "," "," "," "," ",12154.25,12154.25," "," "," ",13175.06," "," "," "," "," "," "," "," "," "," "," "," "," "," "," "," "," "," "," "," "," "," "," "," "," "," "," "," "," "," "," "," "," "," "," "," "," "," "," "," "," "," "," "," "]
["A05.01.002.001 Ст","Магнитно-резонансная томография мягких тканей с контрастированием",3486.74," "," "," "," "," "," "," "," "," ",4442.1099999999997,4442.1099999999997," "," "," "," "," "," "," "," "," "," "," "," "," "," "," "," "," "," "," "," "," "," "," "," "," "," "," "," "," "," "," "," "," "," "," "," "," "," "," "," "," "," ",4442.1099999999997,6154.1," "," "," "," "," "," ",4442.1099999999997,4442.1099999999997," "," "," "," ",4815.1899999999996," "," "," "," "," "," "," "," "," "," "," "," "," "," "," "," "," "," "," "," "," "," "," "," "," "," "," "," "," "," "," "," "," "," "," "," "," "," "," "," "," "," ",4442.1099999999997," "]
["A05.01.002.002 Д Ст","Магнитно-резонансная томография мягких тканей с внутривенным динамическим болюсным контрастированием",7549.04," "," "," "," "," "," ",9617.48," "," "," ",9617.48," "," "," "," "," "," "," "," "," "," "," "," "," "," "," "," "," "," "," "," "," "," "," "," "," "," "," "," "," "," "," "," "," "," "," "," "," "," "," "," "," "," ",9617.48,13324.06," "," "," "," "," "," ",9617.48,9617.48,9617.48," "," "," ",10425.219999999999," "," "," "," "," "," "," "," "," "," "," "," "," "," "," "," "," "," "," "," "," "," "," "," "," "," "," "," "," "," "," "," "," "," "," "," "," "," "," "," "," "," "," "," "]
["A05.01.002.002 Ст","Магнитно-резонансная томография мягких тканей с внутривенным динамическим болюсным контрастированием",6975.75," "," "," "," "," "," ",8887.11," "," "," ",8887.11," "," "," "," "," "," "," "," "," "," "," "," "," "," "," "," "," "," "," "," "," "," "," "," "," "," "," "," "," "," "," "," "," "," "," "," "," "," "," "," "," "," ",8887.11,12312.2," "," "," "," "," "," ",8887.11,8887.11,8887.11," "," "," ",9633.51," "," "," "," "," "," "," "," "," "," "," "," "," "," "," "," "," "," "," "," "," "," "," "," "," "," "," "," "," "," "," "," "," "," "," "," "," "," "," "," "," "," ",8887.11," "]
["A05.01.002.003 Ст","Магнитно - резонансная перфузия мягких тканей с контрастированием",5246.86," "," "," "," "," "," "," "," "," "," ",6684.5," "," "," "," "," "," "," "," "," "," "," "," "," "," "," "," "," "," "," "," "," "," "," "," "," "," "," "," "," "," "," "," "," "," "," "," "," "," "," "," "," "," "," "," "," "," "," "," "," "," ",6684.5,6684.5,6684.5," "," "," ",7245.91," "," "," "," "," "," "," "," "," "," "," "," "," "," "," "," "," "," "," "," "," "," "," "," "," "," "," "," "," "," "," "," "," "," "," "," "," "," "," "," "," "," "," "," "]
["A05.03.002 Ст","Магнитно-резонансная томография позвоночника (один отдел) ",1363.97," "," "," "," "," "," ",1737.7," "," ",1737.7,1737.7," "," "," "," "," "," "," "," "," "," "," "," "," "," "," "," "," "," "," "," "," "," "," "," "," "," "," "," "," "," "," "," "," "," "," "," "," "," "," "," "," "," ",1737.7,2407.41," "," "," "," "," "," ",1737.7,1737.7,1737.7," "," "," ",1883.64," "," "," "," "," "," "," "," "," "," "," "," "," "," "," "," "," "," "," "," "," "," "," "," "," "," "," "," "," "," "," "," "," "," "," "," "," "," "," "," "," "," "," "," "]
["A05.04.001 Ст","Магнитно-резонансная томография суставов (один сустав)                             ",1353.19," "," "," "," "," "," ",1723.96," "," ",1723.96,1723.96," "," "," "," "," "," "," "," "," "," "," "," "," "," "," "," "," "," "," "," "," "," "," "," "," "," "," "," "," "," "," "," "," "," "," "," "," "," "," "," "," "," ",1723.96,2388.38," "," "," "," "," "," "," ",1723.96,1723.96," "," "," ",1868.76," "," "," "," "," "," "," "," "," "," "," "," "," "," "," "," "," "," "," "," "," "," "," "," "," "," "," "," "," "," "," "," "," "," "," "," "," "," "," "," "," "," "," "," "]
["A05.04.001.002 Ст","Магнитно-резонансная томография суставов (один сустав) с  внутривенным динамическим болюсным контрастированием",6975.75," "," "," "," "," "," ",8887.11," "," "," ",8887.11," "," "," "," "," "," "," "," "," "," "," "," "," "," "," "," "," "," "," "," "," "," "," "," "," "," "," "," "," "," "," "," "," "," "," "," "," "," "," "," "," "," ",8887.11,12312.2," "," "," "," "," "," "," ",8887.11,8887.11," "," "," ",9633.51," "," "," "," "," "," "," "," "," "," "," "," "," "," "," "," "," "," "," "," "," "," "," "," "," "," "," "," "," "," "," "," "," "," "," "," "," "," "," "," "," "," "," "," "]
["A05.10.001","Регистрация электрической активности проводящей системы сердца",1097.26," "," "," "," "," "," "," "," "," ",1397.91," "," "," "," "," "," "," "," "," "," "," "," "," "," "," "," "," "," "," "," "," "," "," "," ",1393.52," ",1969.58," "," "," "," "," "," "," ",1936.66,1796.21," "," "," "," "," "," "," "," "," "," "," "," "," "," "," "," "," "," "," "," "," "," "," "," "," "," "," "," "," "," "," "," "," "," "," "," "," "," "," "," "," "," "," "," "," "," "," "," "," "," "," "," "," "," "," "," "," "," "," "," "," "," "," "," "," ",1515.32]
["A05.10.008","Холтеровское мониторирование сердечного ритма (ХМ-ЭКГ)",882.26," "," "," "," "," "," ",1124," ",1124,1124," "," ",1124," "," "," "," "," "," "," "," "," ",1124,1124," "," "," "," "," "," "," "," "," "," ",1120.47," "," "," "," "," "," ",1567.78,1095.77,1111.6500000000001,1557.19,1444.26," ",1122.23," ",1124,1124,1124," "," "," "," "," "," ",1124,1124," "," "," "," "," "," "," ",1218.4000000000001," ",1124,1124,1124,1124," "," "," "," ",1124," "," ",1124," "," "," "," "," ",1124,1563.36," "," "," "," ",1124,1124,1124," "," "," "," ",1124," "," "," "," "," "," "," "," "," "," "," "," "]
["A05.10.008.010","Телемедицинская расшифровка, описание и интерпретация данных холтеровского мониторирования врачом-экспертом 2 уровня срочное",372.8," "," "," "," "," "," "," "," "," ",474.95," "," "," "," "," "," "," "," "," "," "," "," "," "," "," "," "," "," "," "," "," "," "," "," "," "," "," "," "," "," "," "," "," "," "," "," "," "," "," "," "," "," "," "," "," "," "," "," "," "," "," "," "," "," "," "," "," "," "," "," "," "," "," "," "," "," "," "," "," "," "," "," "," "," "," "," "," "," "," "," "," "," "," "," "," "," "," "," "," "," "," "," "," "," "," "," "," "," "," "," ",474.95," "]
["A05.10.009.002 Ст","Магнитно-резонансная томография сердца с внутривенным динамическим болюсным контрастированием",7227.12," "," "," "," "," "," "," "," "," "," ",9207.35," "," "," "," "," "," "," "," "," "," "," "," "," "," "," "," "," "," "," "," "," "," "," "," "," "," "," "," "," "," "," "," "," "," "," "," "," "," "," "," "," "," "," "," "," "," "," "," "," "," "," ",9207.35," "," "," "," ",9980.65," "," "," "," "," "," "," "," "," "," "," "," "," "," "," "," "," "," "," "," "," "," "," "," "," "," "," "," "," "," "," "," "," "," ",9207.35," "," "," "," "," "," "," "," "," "]
["A05.12.004.002 Ст","Магнитно-резонансная артериография (одна область) с внутривенным динамическим болюсным контрастированием",6829.14," "," "," "," "," "," ",8700.32," "," "," ",8700.32," "," "," "," "," "," "," "," "," "," "," "," "," "," "," "," "," "," "," "," "," "," "," "," "," "," "," "," "," "," "," "," "," "," "," "," "," "," "," "," "," "," "," "," "," "," "," "," "," "," ",8700.32,8700.32,8700.32," "," "," ",9431.0400000000009," "," "," "," "," "," "," "," "," "," "," "," "," "," "," "," "," "," "," "," "," "," "," "," "," "," "," "," "," "," "," "," "," "," "," "," "," "," "," "," "," "," "," "," "]
["A05.16.002 Ст","Магнитно-резонансная томография пищевода",1363.97," "," "," "," "," "," "," "," "," "," ",1737.7," "," "," "," "," "," "," "," "," "," "," "," "," "," "," "," "," "," "," "," "," "," "," "," "," "," "," "," "," "," "," "," "," "," "," "," "," "," "," "," "," "," ",1737.7," "," "," "," "," "," "," ",1737.7,1737.7," "," "," "," ",1883.64," "," "," "," "," "," "," "," "," "," "," "," "," "," "," "," "," "," "," "," "," "," "," "," "," "," "," "," "," "," "," "," "," "," "," "," "," "," "," "," "," "," "," "," "]
["A05.20.004 Ст","Магнитно-резонансная томография молочных желез",1680.22," "," "," "," "," "," "," "," "," "," ",2140.6," "," "," "," "," "," "," "," "," "," "," "," "," "," "," "," "," "," "," "," "," "," "," "," "," "," "," "," "," "," "," "," "," "," "," "," "," "," "," "," "," "," ",2140.6,2965.59," "," "," "," "," "," ",2140.6,2140.6," "," "," "," ",2320.38," "," "," "," "," "," "," "," "," "," "," "," "," "," "," "," "," "," "," "," "," "," "," "," "," "," "," "," "," "," "," "," "," "," "," "," "," "," "," "," "," "," "," "," "]
["A05.22.002.002 Ст","Магнитно-резонансная томография гипофиза с внутривенным динамическим болюсным контрастированием",7113.58," "," "," "," "," "," ",9062.7000000000007," "," ",9062.7000000000007,9062.7000000000007," "," "," "," "," "," "," "," "," "," "," "," "," "," "," "," "," "," "," "," "," "," "," "," "," "," "," "," "," "," "," "," "," "," "," "," "," "," "," "," "," "," ",9062.7000000000007,12555.47," "," "," "," "," "," ",9062.7000000000007,9062.7000000000007,9062.7000000000007," "," "," ",9823.85," "," "," "," "," "," "," "," "," "," "," "," "," "," "," "," "," "," "," "," "," "," "," "," "," "," "," "," "," "," "," "," "," "," "," "," "," "," "," "," "," "," ",9062.7000000000007," "]
["A05.23.009 Ст","Магнитно-резонансная томография головного мозга",1363.97," "," "," "," "," "," ",1737.7," "," ",1737.7,1737.7," "," "," "," "," "," "," "," "," "," "," "," "," "," "," "," "," "," "," "," "," "," "," "," "," "," "," "," "," "," "," "," "," "," "," "," "," "," "," "," "," "," ",1737.7,2407.41," "," "," "," "," "," ",1737.7,1737.7,1737.7," "," "," ",1883.64," "," "," "," "," "," "," "," "," "," "," "," "," "," "," "," "," "," "," "," "," "," "," "," "," "," "," "," "," "," "," "," "," "," "," "," "," "," "," "," "," "," "," "," "]
["A05.25.002.001","Исследование отоакустической эмиссии на частоте продукта искажения",363.02," "," "," "," "," "," "," "," ",462.49," "," "," "," "," "," "," "," "," "," "," "," "," "," "," "," "," "," "," "," "," "," "," "," "," "," "," "," "," "," "," "," "," "," "," "," "," "," "," "," "," "," "," "," "," "," "," "," "," "," "," "," "," "," "," ",462.49," "," "," "," "," "," "," "," "," "," "," "," ",462.49," "," "," "," "," "," "," "," "," "," "," "," ",462.49," "," "," "," "," "," "," "," "," "," "," "," "," "," "," "," "," "," "," "," "," "]
["A05.26.008 Д Ст","Магнитно-резонансная томография глазницы",1895.8," "," "," "," "," "," ",2415.25," "," ",2415.25,2415.25," "," "," "," "," "," "," "," "," "," "," "," "," "," "," "," "," "," "," "," "," "," "," "," "," "," "," "," "," "," "," "," "," "," "," "," "," "," "," "," "," "," ",2415.25,3346.09," "," "," "," "," "," ",2415.25,2415.25,2415.25," "," "," ",2618.1," "," "," "," "," "," "," "," "," "," "," "," "," "," "," "," "," "," "," "," "," "," "," "," "," "," "," "," "," "," "," "," "," "," "," "," "," "," "," "," "," "," "," "," "]
["A05.30.001","Кардиотокография плода",284.55," "," "," "," "," "," "," "," "," "," ",362.52," ",362.52," ",362.52,362.52," "," "," "," "," "," "," "," "," "," "," "," "," "," "," ",361.66," "," "," "," "," "," "," "," "," "," "," ",358.53," "," "," ",361.95," "," "," "," ",362.52," "," "," "," "," "," "," "," "," "," "," "," "," "," "," "," "," "," "," "," "," "," "," "," "," "," "," "," "," "," "," "," "," "," "," "," "," "," "," "," "," "," "," "," "," "," "," "," "," "," "," "," "," "," "," "," "," "," "," "]
["A05.30.005.003 Ст","Магнитно-резонансная томография органов брюшной полости с динамическим контрастированием ",7305.48," "," "," "," "," "," ",9307.18," "," ",9307.18,9307.18," "," "," "," "," "," "," "," "," "," "," "," "," "," "," "," "," "," "," "," "," "," "," "," "," "," "," "," "," "," "," "," "," "," "," "," "," "," "," "," "," "," ",9307.18,12894.17," "," "," "," "," "," ",9307.18,9307.18,9307.18," "," "," ",10088.870000000001," "," "," "," "," "," "," "," "," "," "," "," "," "," "," "," "," "," "," "," "," "," "," "," "," "," "," "," "," "," "," "," "," "," "," "," "," "," "," "," "," "," ",9307.18," "]
["A05.30.007 ДН Ст","Магнитно-резонансная томография забрюшинного пространства с наркозом",7406.68," "," "," "," "," "," ",9436.11," "," "," ",9436.11," "," "," "," "," "," "," "," "," "," "," "," "," "," "," "," "," "," "," "," "," "," "," "," "," "," "," "," "," "," "," "," "," "," "," "," "," "," "," "," "," "," "," "," "," "," "," "," "," "," "," ",9436.11,9436.11," "," "," ",10228.629999999999," "," "," "," "," "," "," "," "," "," "," "," "," "," "," "," "," "," "," "," "," "," "," "," "," "," "," "," "," "," "," "," "," "," "," "," "," "," "," "," "," "," "," "," "]
["A05.30.007.002 Ст","Магнитно-резонансная томография забрюшинного пространства с динамическим  контрастированием",7305.48," "," "," "," "," "," ",9307.18," "," "," ",9307.18," "," "," "," "," "," "," "," "," "," "," "," "," "," "," "," "," "," "," "," "," "," "," "," "," "," "," "," "," "," "," "," "," "," "," "," "," "," "," "," "," "," ",9307.18,12894.17," "," "," "," "," "," ",9307.18,9307.18,9307.18," "," "," ",10088.870000000001," "," "," "," "," "," "," "," "," "," "," "," "," "," "," "," "," "," "," "," "," "," "," "," "," "," "," "," "," "," "," "," "," "," "," "," "," "," "," "," "," "," ",9307.18," "]
["A06.01.001.001 Д Ст","Спиральная компьютерная томография мягких тканей с введением контрастного вещества",3692.43," "," ",4704.16,4704.16," "," "," "," "," "," ",4704.16," "," "," "," "," ",4704.16," "," "," "," "," "," "," ",4704.16," "," "," "," "," "," "," "," "," "," "," "," "," "," "," "," "," "," "," "," "," "," "," "," "," "," "," "," "," "," "," "," "," "," "," "," "," ",4704.16," "," "," "," ",5099.25," "," "," "," "," "," "," "," "," "," "," "," "," "," "," "," "," "," "," "," "," "," "," "," "," "," ",4704.16," "," "," "," "," "," "," "," "," "," "," "," "," "," "," "," "," "]
["A06.01.005","Рентгенография мягких тканей нижней конечности",148.5," ",189.19," "," "," "," ",189.19,189.19,189.19,189.19," "," "," "," "," "," ",189.19," "," "," ",189.19," ",189.19,189.19," "," "," "," "," "," ",188.74,188.74,188.74,270.57," ",247.25,266.56,271.89999999999998,188.89,266.26,242.06," ",184.44,187.11,262.10000000000002,243.09,266.41000000000003,188.89," "," "," "," "," "," "," "," "," "," "," "," "," "," "," "," "," "," "," ",205.08," "," "," "," "," "," "," "," "," "," "," "," "," "," "," "," "," "," "," "," "," "," "," "," ",189.19," ",189.19," "," "," "," "," "," "," "," "," "," "," "," "," "," "," "," ",205.08]
["A06.03.002.001 Д Ст","Компьютерная томография головы с контрастированием",3191.76," "," "," "," "," "," "," "," "," "," "," "," "," "," "," "," "," "," "," "," "," "," "," "," ",4066.3," "," "," "," "," "," "," "," "," "," "," "," "," "," ",5722.83," "," "," "," ",5633.46," "," "," "," "," "," "," "," "," "," "," "," "," "," "," "," "," ",4066.3," "," "," "," ",4407.82," "," "," "," "," "," "," "," "," "," "," "," "," "," "," "," "," "," "," "," "," "," "," "," "," "," ",4066.3," "," "," "," "," "," "," "," "," "," "," "," "," "," "," "," ",4407.82]
["A06.03.002.010 Ст","Спиральная компьютерная томография головы с введением болюсного контрастного вещества",4143.1899999999996," "," "," ",5278.42," "," "," "," "," ",5278.42,5278.42," "," "," "," "," ",5278.42," "," "," "," "," "," "," ",5278.42," "," "," "," "," "," "," "," "," ",5261.85," "," "," "," ",7428.74," "," "," "," "," "," "," "," "," "," "," "," "," ",5278.42," "," "," "," "," "," "," "," ",5278.42,5278.42," "," "," ",5721.75," "," "," "," "," "," "," "," "," "," "," "," "," "," "," "," "," "," "," "," "," "," "," "," "," "," ",5278.42," "," "," "," "," "," "," "," "," "," "," "," "," "," "," ",5278.42," "]
["A06.03.012.001 ДН Ст","Спиральная компьютерная томография шеи с введением контрастного вещества с наркозом",9088.69," "," "," "," "," "," "," "," "," "," "," "," "," "," "," "," "," "," "," "," "," "," "," "," "," "," "," "," "," "," "," "," "," "," "," "," "," "," "," "," "," "," "," "," "," "," "," "," "," "," "," "," "," "," "," "," "," "," "," "," "," "," "," ",11578.99," "," "," "," "," "," "," "," "," "," "," "," "," "," "," "," "," "," "," "," "," "," "," "," "," "," "," "," "," "," "," "," "," "," "," "," "," "," "," "," "," "," "," "," "," "," "," "," "]
["A06.03.012.003 Ст","Спиральная компьютерная томография шеи",1236.43," ",1575.21," ",1575.21," "," "," "," "," ",1575.21,1575.21," "," "," "," "," ",1575.21," "," "," "," "," "," "," ",1575.21," "," "," "," "," "," "," "," "," "," "," "," "," "," ",2216.92,2015.38," "," "," "," "," "," "," "," "," "," "," "," ",1575.21," "," "," "," "," "," "," "," ",1575.21," "," "," "," ",1707.51," "," "," "," "," "," "," "," "," "," "," "," "," "," "," "," "," "," "," "," "," "," "," "," "," "," ",1575.21," "," "," "," "," "," "," "," "," "," "," "," "," "," "," ",1575.21," "]
["A06.03.021.003 ДН Ст","Компьютерная томография верхней конечности с внутривенным болюсным контрастированием, мультипланарной и трехмерной реконструкцией с наркозом",8588.01," "," "," "," "," "," "," "," "," "," "," "," "," "," "," "," "," "," "," "," "," "," "," "," "," "," "," "," "," "," "," "," "," "," "," "," "," "," "," "," "," "," "," "," "," "," "," "," "," "," "," "," "," "," "," "," "," "," "," "," "," "," "," ",10941.12," "," "," "," "," "," "," "," "," "," "," "," "," "," "," "," "," "," "," "," "," "," "," "," "," "," "," "," "," "," "," "," "," "," "," "," "," "," "," "," "," "," "," "," "," "," "," "," "]
["A06.03.029.001","Рентгенография локтевой кости и лучевой кости (костей предплечья) в 2-х проекциях",269.95," "," "," "," "," "," ",343.92," ",343.92," ",343.92," "," "," "," "," "," "," "," "," "," "," ",343.92,343.92," "," "," "," "," "," "," "," ",343.11," ",342.84," "," "," "," ",484.02," ",479.7,335.28,340.14,476.46,441.91," ",343.38," "," "," "," "," "," "," "," "," "," "," "," "," "," "," "," "," "," "," ",372.8," ",343.92," "," "," "," "," "," "," "," "," "," "," "," "," "," "," "," "," "," "," "," "," "," "," "," "," "," "," "," "," "," "," "," "," "," "," "," "," "," "," "," "," "," "]
["A06.03.036.002 ДН Ст","Компьютерная томография нижней конечности с внутривенным болюсным контрастированием с наркозом",8588.01," "," "," "," "," "," "," "," "," "," "," "," "," "," "," "," "," "," "," "," "," "," "," "," "," "," "," "," "," "," "," "," "," "," "," "," "," "," "," "," "," "," "," "," "," "," "," "," "," "," "," "," "," "," "," "," "," "," "," "," "," "," "," ",10941.12," "," "," "," "," "," "," "," "," "," "," "," "," "," "," "," "," "," "," "," "," "," "," "," "," "," "," "," "," "," "," "," "," "," "," "," "," "," "," "," "," "," "," "," "," "," "," "," "]
["A06.03.045","Рентгенография надколенника",148.08000000000001,188.65,188.65," "," "," "," ",188.65,188.65,188.65,188.65," "," "," "," "," "," ",188.65," "," "," ",188.65,188.65,188.65,188.65," "," "," "," "," "," ",188.21,188.21,188.21,269.8,188.06,246.55,265.8,271.13,188.36,265.51,241.37,263.14,183.92,186.58,261.36,242.41,265.66000000000003,188.36," "," "," "," "," "," "," "," "," "," "," "," "," "," "," "," "," "," "," ",204.5," ",188.65," "," "," "," "," "," "," "," "," "," "," "," "," "," "," "," "," "," "," "," "," "," ",188.65," ",188.65," "," "," "," "," "," "," "," "," "," "," "," "," "," "," "," "," "]
["A06.03.049","Рентгенография предплюсны",148.08000000000001," ",188.65," "," "," "," ",188.65,188.65,188.65,188.65," "," "," "," "," "," ",188.65," "," "," ",188.65,188.65,188.65,188.65," "," "," "," "," "," ",188.21,188.21,188.21,269.8,188.06,246.55,265.8,271.13,188.36,265.51,241.37,263.14,183.92,186.58,261.36,242.41,265.66000000000003,188.36," "," "," "," "," "," "," "," "," "," "," "," "," "," "," "," "," "," "," ",204.5," ",188.65," "," "," "," "," "," "," "," "," "," "," "," "," "," "," "," "," "," "," "," "," "," ",188.65," ",188.65," "," "," "," "," "," "," "," "," "," "," "," "," "," "," "," "," "]
["A06.03.058.001 Ст","Компьютерная томография позвоночника с мультипланарной и трехмерной реконструкцией",1286.83," "," "," ",1639.42," "," "," "," "," ",1639.42," "," "," "," "," "," "," "," "," "," "," "," "," "," ",1639.42," "," "," "," "," "," "," "," "," "," "," "," "," "," "," "," "," "," "," "," "," "," "," "," "," "," "," "," "," "," "," "," "," "," "," "," "," ",1639.42," "," "," "," ",1777.11," "," "," "," "," "," "," "," "," "," "," "," "," "," "," "," "," "," "," "," "," "," "," "," "," "," ",1639.42," "," "," "," "," "," "," "," "," "," "," "," "," "," "," "," "," "]
["A06.03.058.005 Ст","Спиральная компьютерная томография позвоночника (один отдел)",1236.43," ",1575.21," ",1575.21," "," "," "," "," ",1575.21,1575.21," "," "," "," "," ",1575.21," "," "," "," "," "," "," ",1575.21," "," "," "," "," "," "," "," "," ",1570.27," "," "," "," ",2216.92,2015.38," "," "," "," "," "," "," "," "," "," "," "," ",1575.21," "," "," "," "," "," "," "," ",1575.21,1575.21," "," "," ",1707.51," "," "," "," "," "," "," "," "," "," "," "," "," "," "," "," "," "," "," "," "," "," "," "," "," "," ",1575.21," "," "," "," "," "," "," "," "," "," "," "," "," "," "," ",1575.21,1707.51]
["A06.04.010","Рентгенография плечевого сустава",160.21," ",204.11," "," "," "," ",204.11," ",204.11,204.11," "," "," "," "," "," "," "," "," "," "," "," ",204.11,204.11," ",204.11," "," "," "," "," ",203.63,203.63,291.89999999999998,203.47," "," "," "," ",287.26,261.14,284.69,198.98,201.86,282.77,262.26," "," "," "," "," "," "," "," "," "," "," "," "," "," "," "," "," "," "," "," "," ",221.25," ",204.11," "," "," "," "," "," "," "," "," "," "," "," "," "," "," "," "," "," "," "," "," "," "," "," ",204.11," "," "," "," "," "," "," "," "," "," "," "," "," "," "," "," ",221.25]
["A06.04.017.002 Д Ст","Спиральная компьютерная томография сустава с введением контрастного вещества",2631.3," "," ",3352.28," "," "," "," "," "," "," "," "," "," "," "," "," ",3352.28," "," "," "," "," "," "," ",3352.28," "," "," "," "," "," "," "," "," "," "," "," "," "," "," "," "," "," "," "," "," "," "," "," "," "," "," "," ",3352.28," "," "," "," "," "," "," "," ",3352.28,3352.28," "," "," ",3633.83," "," "," "," "," "," "," "," "," "," "," "," "," "," "," "," "," "," "," "," "," "," "," "," "," "," ",3352.28," "," "," "," "," "," "," "," "," "," "," "," "," "," "," "," "," "]
["A06.04.017.008 Ст","Спиральная  компьютерная томография опорно-двигательного аппарта без контраста",1257.7," "," "," "," "," "," "," "," "," "," ",1602.31," "," "," "," "," ",1602.31," "," "," "," "," "," "," ",1602.31," "," "," "," "," "," "," "," "," ",1597.28," "," "," "," "," "," "," "," "," "," "," "," "," "," "," "," "," "," ",1602.31," "," "," "," "," "," "," "," ",1602.31," "," "," "," "," "," "," "," "," "," "," "," "," "," "," "," "," "," "," "," "," "," "," "," "," "," "," "," "," "," "," ",1602.31," "," "," "," "," "," "," "," "," "," "," "," "," "," "," ",1602.31," "]
["A06.04.020.002 ДН Ст","Спиральная  компьютерная томография височно-нижнечелюстного сустава с введением  контрастного вещества",9088.69," "," "," "," "," "," "," "," "," "," "," "," "," "," "," "," "," "," "," "," "," "," "," "," "," "," "," "," "," "," "," "," "," "," "," "," "," "," "," "," "," "," "," "," "," "," "," "," "," "," "," "," "," "," "," "," "," "," "," "," "," "," "," ",11578.99," "," "," "," "," "," "," "," "," "," "," "," "," "," "," "," "," "," "," "," "," "," "," "," "," "," "," "," "," "," "," "," "," "," "," "," "," "," "," "," "," "," "," "," "," "," "," "," "]
["A06.08.003.003","Рентгенография гайморовой пазухи",500.51," ",637.65," "," "," "," ",637.65," ",637.65," ",637.65," "," "," "," "," "," "," "," "," ",637.65," "," ",637.65," ",637.65," "," "," "," "," "," ",636.15," "," "," "," "," "," ",897.41," ",889.41,621.63,630.64," ",819.33," ",636.65," "," "," "," "," "," "," "," "," "," "," "," "," "," "," "," "," "," "," ",691.2," ",637.65," "," "," "," "," "," "," "," "," "," "," "," "," "," "," "," "," "," "," "," "," "," "," "," "," "," "," "," "," "," "," "," "," "," "," "," "," "," "," "," "," "," "]
["A06.08.007.004 Ст","Компьютерная томография придаточных пазух носа с внутривенным болюсным контрастированием",2638.86," "," "," "," "," "," "," "," "," ",3361.91,3361.91," "," "," "," "," "," "," "," "," "," "," "," "," ",3361.91," "," "," "," "," "," "," "," "," "," "," "," "," "," "," "," "," "," "," "," "," "," "," "," "," "," "," "," "," "," "," "," "," "," "," "," "," ",3361.91," "," "," "," "," "," "," "," "," "," "," "," "," "," "," "," "," "," "," "," "," "," "," "," "," "," "," "," "," "," "," ",3361.91," "," "," "," "," "," "," "," "," "," "," "," "," "," "," "," "," "]
["A06.08.007.005 Д Ст","Спиральная компьютерная томография придаточных пазух носа с введением контрастного вещества",3293.97," "," ",4196.5200000000004," "," "," "," "," "," "," ",4196.5200000000004," "," "," "," "," ",4196.5200000000004," "," "," "," "," "," "," ",4196.5200000000004," "," "," "," "," "," "," "," "," "," "," "," "," "," "," "," "," "," "," "," "," "," "," "," "," "," "," "," "," "," "," "," "," "," "," "," "," ",4196.5200000000004," "," "," "," ",4548.97," "," "," "," "," "," "," "," "," "," "," "," "," "," "," "," "," "," "," "," "," "," "," "," "," "," ",4196.5200000000004," "," "," "," "," "," "," "," "," "," "," "," "," "," "," "," "," "]
["A06.09.001","Рентгеноскопия легких",148.08000000000001," ",188.65," "," "," "," "," "," ",188.65,188.65," "," "," "," "," "," "," "," "," "," "," ",188.65," "," "," "," "," "," "," "," ",188.21," "," ",269.8," ",246.55,265.8,271.13,188.36,265.51,241.37,263.14,183.92,186.58,261.36,242.41," ",188.36," "," "," "," "," "," "," "," "," "," "," "," "," "," "," "," "," "," "," "," "," "," "," "," "," "," "," "," "," "," "," "," "," "," "," "," "," "," "," "," "," "," "," "," "," "," "," "," "," "," "," "," "," "," "," "," "," "," "," "," "," "," "," "," "]
["A06.09.005.001 ДН Ст","Спиральная компьютерная томография грудной полости с наркозом",7560.48," "," ",9632.0499999999993," "," "," "," "," "," "," "," "," "," "," "," "," ",9632.0499999999993," "," "," "," "," "," "," "," "," "," "," "," "," "," "," "," "," ",9601.81," "," "," "," "," "," "," "," "," "," "," "," "," "," "," "," "," "," "," "," "," "," "," "," "," "," "," "," ",9632.0499999999993," "," "," "," "," "," "," "," "," "," "," "," "," "," "," "," "," "," "," "," "," "," "," "," "," "," "," "," "," "," "," "," "," "," "," "," "," "," "," "," "," "," "," "," "," "," "," "," "]
["A06.09.007.003","Рентгенография органов грудной клетки в 1-ой проекции",264.08," ",336.44," "," "," "," ",336.44," ",336.44," ",336.44," "," "," "," "," "," "," "," "," "," "," ",336.44,336.44," ",336.44," "," "," "," "," ",335.65,335.65,481.15,335.38," "," "," "," ",473.5," ",469.27," ",332.74,466.1,432.3," ",335.91,434.15," "," "," "," "," "," "," "," "," "," "," "," "," "," "," "," "," "," ",364.69," ",336.44," "," "," "," "," "," "," "," "," "," "," "," "," "," "," "," "," "," "," "," "," "," ",336.44," "," "," "," "," "," "," "," "," "," "," "," "," "," "," "," "," "," "," "]
["A06.10.006 Ст","Коронарография",12367.24," "," "," "," "," "," "," "," "," "," "," "," "," "," "," "," "," "," "," "," "," "," "," "," "," "," "," "," "," "," "," "," "," "," "," "," "," "," "," ",22174.46," "," "," "," "," "," "," "," "," "," "," "," "," "," "," "," "," "," "," "," "," "," "," "," "," "," "," "," "," "," "," "," "," "," "," "," "," "," "," "," "," "," "," "," "," "," "," "," "," "," "," "," "," "," "," "," "," "," "," "," "," "," "," "," "," "," "," "," "," "," "," "," "]
["A06.12.050.002 Д Ст","Спиральная компьютерная томография КТ сосудов нижних конечностей",4516.3100000000004," "," "," "," "," "," "," "," "," "," ",5753.78," "," "," "," "," ",5753.78," "," "," "," "," "," "," ",5753.78," "," "," "," "," "," "," "," "," "," "," "," "," "," "," "," "," "," "," "," "," "," "," "," "," "," "," "," ",5753.78," "," "," "," "," "," "," "," ",5753.78,5753.78," "," "," ",6237.02," "," "," "," "," "," "," "," "," "," "," "," "," "," "," "," "," "," "," "," "," "," "," "," "," "," ",5753.78," "," "," "," "," "," "," "," "," "," "," "," "," "," "," ",5753.78," "]
["A06.12.050.004 Ст","Ангиография сосудов головного мозга на спиральном компьютерном томографе",4143.32," "," "," ",5278.59," "," "," "," "," ",5278.59,5278.59," "," "," "," "," "," "," "," "," "," "," "," "," ",5278.59," "," "," "," "," "," "," "," "," ",5262.02," "," "," "," "," "," "," "," "," "," "," "," "," "," "," "," "," "," ",5278.59," "," "," "," "," "," "," "," ",5278.59,5278.59," "," "," "," "," "," "," "," "," "," "," "," "," "," "," "," "," "," "," "," "," "," "," "," "," "," "," "," "," "," "," "," "," "," "," "," "," "," ",5278.59," "," "," "," "," "," "," "," "," "]
["A06.12.050.013 Ст","Панаортография на спиральном компьютерном томографе",4438.6400000000003," "," "," "," "," "," "," "," "," "," ",5654.83," "," "," "," "," "," "," "," "," "," "," "," "," "," "," "," "," "," "," "," "," "," "," "," "," "," "," "," "," "," "," "," "," "," "," "," "," "," "," "," "," "," "," "," "," "," "," "," "," "," "," ",5654.83," "," "," "," "," "," "," "," "," "," "," "," "," "," "," "," "," "," "," "," "," "," "," "," "," "," "," "," "," "," "," "," "," "," "," "," "," "," "," "," "," "," "," "," "," "," "," "," "," "]
["A06.16.001.001","Рентгеноскопия пищевода",249.1," "," "," "," "," "," "," "," "," ",317.35000000000002,317.35000000000002," "," "," "," "," "," "," "," "," "," "," "," "," "," "," "," "," "," "," "," "," "," ",453.86," ",414.75,447.13,456.1,316.86,446.64,406.03,442.65,309.38,313.87,439.66,407.78," ",316.86," "," "," "," "," "," "," "," "," "," "," "," "," "," "," "," "," "," "," "," "," "," "," "," "," "," "," "," "," "," "," "," "," "," "," "," "," "," "," "," "," "," "," "," "," "," "," "," "," "," "," "," "," "," "," "," "," "," "," "," "," "," "," "," "]
["A06.20.002 Д Ст","Компьютерная томография органов малого таза у женщин",799.16," "," "," "," "," "," "," "," "," "," "," "," "," "," "," "," "," "," "," "," "," "," "," "," ",1018.13," "," "," "," "," "," "," "," "," "," "," "," "," "," ",1432.89," "," "," "," ",1410.52," "," "," "," "," "," "," "," "," "," "," "," "," "," "," "," "," ",1018.13," "," "," "," "," "," "," "," "," "," "," "," "," "," "," "," "," "," "," "," "," "," "," "," "," "," "," "," "," "," "," "," "," "," "," "," "," "," "," "," "," "," "," "," "," "," "," "," ",1103.6400000000001]
["A06.20.004 ДД","Маммография (проведение исследования и первое прочтение)",229.34,292.18,292.18," "," "," "," "," "," "," ",292.18,292.18," "," "," "," "," "," "," "," "," ",292.18,292.18," "," ",292.18," "," "," "," "," "," ",291.49," "," ",291.26,381.85,411.67,419.92,291.72000000000003,411.21,373.82,407.54,284.83999999999997,288.97000000000003,404.79,375.43,411.44," ",377.03," "," "," "," "," "," "," "," "," "," "," "," "," "," "," "," "," "," ",316.72000000000003," "," "," "," "," "," "," "," "," "," "," "," "," "," "," "," "," "," "," "," "," "," "," "," "," "," ",292.18," "," "," "," "," "," "," "," "," "," "," "," "," "," "," ",292.18,316.72000000000003]
["A06.21.003.001 Ст","Спиральная компьютерная томография органов таза у мужчин",1544.73," "," "," ",1967.99," "," "," "," "," ",1967.99,1967.99," "," "," "," "," ",1967.99," "," "," "," "," "," "," ",1967.99," "," "," "," "," "," "," "," "," ",1961.81," "," "," "," "," ",2517.91," "," "," "," "," "," "," "," "," "," "," "," ",1967.99," "," "," "," "," "," "," "," ",1967.99,1967.99," "," "," ",2133.27," "," "," "," "," "," "," "," "," "," "," "," "," "," "," "," "," "," "," "," "," "," "," "," "," "," ",1967.99," "," "," "," "," "," "," "," "," "," "," "," "," "," "," ",1967.99,2133.27]
["A06.21.003.003 ДН Ст","Компьютерная томография органов таза у мужчин с контрастированием с наркозом",8588.01," "," "," "," "," "," "," "," "," "," "," "," "," "," "," "," "," "," "," "," "," "," "," "," "," "," "," "," "," "," "," "," "," "," "," "," "," "," "," "," "," "," "," "," "," "," "," "," "," "," "," "," "," "," "," "," "," "," "," "," "," "," "," ",10941.12," "," "," "," "," "," "," "," "," "," "," "," "," "," "," "," "," "," "," "," "," "," "," "," "," "," "," "," "," "," "," "," "," "," "," "," "," "," "," "," "," "," "," "," "," "," "," "," "]
["A06.23.004.001 Ст","Компьютерно-томографическая перфузия головного мозга",3385.19," "," "," "," "," "," "," "," "," ",4312.7299999999996," "," "," "," "," "," "," "," "," "," "," "," "," "," ",4312.7299999999996," "," "," "," "," "," "," "," "," "," "," "," "," "," "," "," "," "," "," "," "," "," "," "," "," "," "," "," "," "," "," "," "," "," "," "," "," ",4312.7299999999996," "," "," "," "," "," "," "," "," "," "," "," "," "," "," "," "," "," "," "," "," "," "," "," "," "," "," "," "," "," "," "," "," "," "," "," "," "," "," "," "," "," "," "," "," "," "," "," "," "]
["A06.23.008 Ст","Компьютерно-томографическая цистернография",2144.7199999999998," "," "," "," "," "," "," "," "," ",2732.37," "," "," "," "," "," "," "," "," "," "," "," "," "," "," "," "," "," "," "," "," "," "," "," "," "," "," "," "," "," "," "," "," "," "," "," "," "," "," "," "," "," "," "," "," "," "," "," "," "," "," "," ",2732.37," "," "," "," "," "," "," "," "," "," "," "," "," "," "," "," "," "," "," "," "," "," "," "," "," "," "," "," "," "," "," "," "," "," "," "," "," "," "," "," "," "," "," "," "," "," "," "," "," "]
["A06.26.006 Д Ст","Компьютерная томография глазницы",770.19," "," "," "," "," "," "," "," "," "," "," "," "," "," "," "," "," "," "," "," "," "," "," "," ",981.22," "," "," "," "," "," "," "," "," "," "," "," "," "," ",1380.95,1255.4100000000001," "," "," ",1359.39," "," "," "," "," "," "," "," "," "," "," "," "," "," "," "," "," ",981.22," "," "," "," "," "," "," "," "," "," "," "," "," "," "," "," "," "," "," "," "," "," "," "," "," "," "," "," "," "," "," "," "," "," "," "," "," "," "," "," "," "," "," "," "," "," "," "," ",1063.6300000000001]
["A06.28.002","Внутривенная урография",2462.16," "," "," "," "," "," "," "," ",3136.79," "," "," "," "," "," "," "," "," "," "," "," ",3136.79,3136.79," "," "," "," "," "," "," ",3129.41,3129.41,3129.41,4486.0600000000004,3126.94,4099.5,4419.58,4508.21,3131.87,4414.6499999999996,4013.32," ",3058,3102.32,4345.71,4030.56,4417.12,3131.87," "," "," "," "," "," "," "," "," "," "," "," "," "," "," "," "," "," "," "," "," "," "," "," "," "," "," "," "," "," "," "," "," "," "," "," "," "," "," "," "," "," "," "," ",3136.79," ",3136.79," "," "," "," "," "," "," "," "," "," "," "," "," "," "," "," ",3400.24]
["A06.28.009.001 Ст","Компьютерная томография почек и верхних мочевыводящих путей с болюсным контрастированием",4668.5," "," "," ",5947.67," "," "," "," "," ",5947.67,5947.67," "," "," "," "," "," "," "," "," "," "," "," "," ",5947.67," "," "," "," "," "," "," "," "," "," "," "," "," "," "," "," "," "," "," "," "," "," "," "," "," "," "," "," "," "," "," "," "," "," "," "," "," ",5947.67,5947.67," "," "," ",6447.2," "," "," "," "," "," "," "," "," "," "," "," "," "," "," "," "," "," "," "," "," "," "," "," "," "," ",5947.67," "," "," "," "," "," "," ",5947.67," "," "," "," "," "," "," "," "," "]
["A06.28.011","Уретрография восходящая",385.81," "," "," "," "," "," "," "," "," "," "," "," "," "," "," "," "," "," "," "," "," "," "," "," "," "," "," "," "," "," "," "," "," "," ",489.98," "," "," "," "," "," "," "," "," "," "," "," "," "," "," "," "," "," "," "," "," "," "," "," "," "," "," "," "," "," "," "," "," "," "," "," "," "," "," "," "," "," "," "," "," "," "," "," "," "," "," "," "," "," "," "," "," "," "," "," "," "," "," "," "," "," "," "," "," "," "," "," "," "," "," "," "," "]
["A06.30.002.001.013","Телемедицинское описание и интерпретация одной зоны изображения компьютерной томографии с применением контрастного вещества врачом-экспертом 1 уровня срочное",692.35," "," "," "," "," "," "," "," "," ",882.05,882.05," "," "," "," "," "," "," "," "," "," "," "," "," "," "," "," "," "," "," "," "," "," "," "," "," "," "," "," "," "," "," "," "," "," "," "," "," "," "," "," "," "," "," "," "," "," "," "," "," "," "," "," "," "," "," "," "," "," "," "," "," "," "," "," "," "," "," "," "," "," "," "," "," "," "," "," "," "," "," "," "," "," "," "," "," "," "," "," "," "," "," "," "," "," "," "," "," "," "," ",882.05," "]
["A06.30.002.001.017","Телемедицинское описание и интерпретация одной зоны изображения компьютерной томографии с применением контрастного вещества врачом-экспертом 2 уровня плановое",903.48," "," "," "," "," "," "," "," "," ",1151.03,1151.03," "," "," "," "," "," "," "," "," "," "," "," "," "," "," "," "," "," "," "," "," "," "," "," "," "," "," "," ",1619.94," "," "," "," "," "," "," "," "," "," "," "," "," "," "," "," "," "," "," "," "," "," "," "," "," "," "," "," "," "," "," "," "," "," "," "," "," "," "," "," "," "," "," "," "," "," "," "," "," "," "," "," "," "," "," "," "," "," "," "," "," "," "," "," "," "," "," "," "," "," ",1151.03," "]
["A06.30.002.002.007","Телемедицинское описание и интерпретация одной зоны нативного изображения магнитно-резонансной томографии врачом-экспертом 2 уровня экстренное",1445.56," "," "," "," "," "," "," "," "," ",1841.64,1841.64," "," "," "," "," "," "," "," "," "," "," "," "," "," "," "," "," "," "," "," "," "," "," "," "," "," "," "," "," "," "," "," "," "," "," "," "," "," "," "," "," "," "," "," "," "," "," "," "," "," "," "," "," "," "," "," "," "," "," "," "," "," "," "," "," "," "," "," "," "," "," "," "," "," "," "," "," "," "," "," "," "," "," "," "," "," "," "," "," "," "," "," "," "," "," "," "," "," "," ",1841.64," "]
["A06.30.002.009","Телемедицинское описание и интерпретация рентгенографического изображения -маммографии врачом специалистом срочное",94.48," "," "," "," "," "," "," "," "," ",120.37,120.37," "," "," "," "," "," "," "," "," "," "," "," "," "," "," "," "," "," "," "," "," "," "," "," "," "," "," "," "," "," "," "," "," "," "," "," "," "," "," "," "," "," "," "," "," "," "," "," "," "," "," "," "," "," "," "," "," "," "," "," "," "," "," "," "," "," "," "," "," "," "," "," "," "," "," "," "," "," "," "," "," "," "," "," "," "," "," "," "," "," "," "," "," "," "," "," "," "," "," ",120.37," "]
["A06.30.002.014","Телемедицинское описание и интерпретация рентгенографического изображения -маммографии врачом-экспертом 2 уровня плановое",266.29000000000002," "," "," "," "," "," "," "," "," ",339.25,339.25," "," "," "," "," "," "," "," "," "," "," "," "," "," "," "," "," "," "," "," "," "," "," "," "," "," "," "," "," "," "," "," "," "," "," "," "," "," "," "," "," "," "," "," "," "," "," "," "," "," "," "," "," "," "," "," "," "," "," "," "," "," "," "," "," "," "," "," "," "," "," "," "," "," "," "," "," "," "," "," "," "," "," "," "," "," "," "," "," "," "," "," "," "," "," "," "," "," "," ",339.25," "]
["A06.30.002.024","Телемедицинское описание и интерпретация рентгенографического изображения -маммографии в четырех проекциях  врачом специалистом плановое",87.74," "," "," "," "," "," "," "," "," "," ",111.78," "," "," "," "," "," "," "," "," "," "," "," "," "," "," "," "," "," "," "," "," "," "," "," "," "," "," "," "," "," "," "," "," "," "," "," "," "," "," "," "," "," "," "," "," "," "," "," "," "," "," "," "," "," "," "," "," "," "," "," "," "," "," "," "," "," "," "," "," "," "," "," "," "," "," "," "," "," "," "," "," "," "," "," "," "," "," "," "," "," "," "," "," "," "," "," "," "," "," "," "," "]
["A06.30.005.006 ДН Ст","Спиральная компьютерная томография органов брюшной полости с введением контрастного вещества с наркозом",8027.56," "," "," "," "," "," "," "," "," "," "," "," "," "," "," "," "," "," "," "," "," "," "," "," "," "," "," "," "," "," "," "," "," "," "," "," "," "," "," "," "," "," "," "," "," "," "," "," "," "," "," "," "," "," "," "," "," "," "," "," "," "," "," ",10227.11," "," "," "," "," "," "," "," "," "," "," "," "," "," "," "," "," "," "," "," "," "," "," "," "," "," "," "," "," "," "," "," "," "," "," "," "," "," "," "," "," "," "," "," "," "," "," "," "]
["A06.30.005.007 Д Ст","Спиральная компьютерная томография органов брюшной полости",1706.42," "," "," ",2173.98," "," "," "," "," "," ",2173.98," "," "," "," "," ",2173.98," "," "," "," "," "," "," ",2173.98," "," "," "," "," "," "," "," "," ",2167.15," "," "," "," "," ",2781.46," "," "," "," "," "," "," "," "," "," "," "," ",2173.98," "," "," "," "," "," "," "," ",2173.98,2173.98," "," "," ",2356.5700000000002," "," "," "," "," "," "," "," "," "," "," "," "," "," "," "," "," "," "," "," "," "," "," "," "," "," "," "," "," "," "," "," "," "," "," "," "," "," "," "," "," "," ",2173.98,2356.5700000000002]
["A07.03.003.002 Ст","Однофотонно-эмиссионная компьютерная томография одной области скелета",1681.12," "," "," "," "," "," "," "," "," "," ",2141.75," "," "," "," "," "," "," "," "," "," "," "," "," "," "," "," "," "," "," "," "," "," "," "," "," "," "," "," "," "," "," "," "," "," "," "," "," "," "," "," "," "," "," "," "," "," "," "," "," "," "," "," "," "," "," "," ",2321.63," "," "," "," "," "," "," "," "," "," "," "," "," "," "," "," "," "," "," "," "," "," "," "," "," "," "," "," "," "," "," "," "," "," "," "," "," "," "," "," "," "," ",2141.75," "]
["A07.07.001.003.001","Дистанционная лучевая терапия (1 поле - 3,0 грея) на линейном ускорителе при опухолях полости рта с использованием индивидуальных формирующих или фиксирующих устройств 1 сеанс",1425.23," "," "," "," "," "," "," "," "," "," ",1815.74," "," "," "," "," "," "," "," "," "," "," "," "," "," "," "," "," "," "," "," "," "," "," "," "," "," "," "," "," "," "," "," "," "," "," "," "," "," "," "," "," "," "," "," "," "," "," "," "," "," "," "," "," "," "," "," "," "," "," "," "," "," "," "," "," "," "," "," "," "," "," "," "," "," "," "," "," "," "," "," "," "," "," "," "," "," "," "," "," "," "," "," "," "," "," "," "," "," "," "," "," "]
["A07.16.004.001","Радионуклидное исследование моторно-эвакуаторной функции желудка и пассажа РФП по кишечнику",1774.94," "," "," "," "," "," "," "," "," "," "," "," "," "," "," "," "," "," "," "," "," "," "," "," "," "," "," "," "," "," "," "," "," "," "," "," "," "," "," "," "," "," "," "," "," "," "," "," "," "," "," "," "," "," "," "," "," "," "," "," "," "," "," "," "," "," "," "," "," "," "," "," "," "," "," "," "," "," "," "," "," "," "," "," "," "," "," "," "," "," "," "," "," "," "," "," "," "," "," "," "," "," "," "," "," "," "," "," "," "," ",2261.27," "]
["A07.22.002.001","Сцинтиграфия щитовидной железы с туморотропным РФП",3037.74," "," "," "," "," "," "," "," "," "," ",3870.08," "," "," "," "," "," "," "," "," "," "," "," "," "," "," "," "," "," "," "," "," "," "," "," "," "," "," "," "," "," "," "," "," "," "," "," "," "," "," "," "," "," "," "," "," "," "," "," "," "," "," "," "," "," "," "," "," "," "," "," "," "," "," "," "," "," "," "," "," "," "," "," "," "," "," "," "," "," "," "," "," "," "," "," "," "," "," "," "," "," "," "," "," "," "," "," "," "," "," ",3870.08," "]
["A07.22.004","Сцинтиграфия надпочечников",1265.21," "," "," "," "," "," "," "," "," "," ",1611.88," "," "," "," "," "," "," "," "," "," "," "," "," "," "," "," "," "," "," "," "," "," "," "," "," "," "," "," "," "," "," "," "," "," "," "," "," "," "," "," "," "," "," "," "," "," "," "," "," "," "," "," "," "," "," "," "," "," "," "," "," "," "," "," "," "," "," "," "," "," "," "," "," "," "," "," "," "," "," "," "," "," "," "," "," "," "," "," "," "," "," "," "," "," "," "," "," "," "," "," "," "]
["A07.30.017.001 Ст","Однофотонно-эмиссионная компьютерная томография одной области с введением контрастного вещества",2809.59," "," "," "," "," "," "," "," "," "," ",3579.42," "," "," "," "," "," "," "," "," "," "," "," "," "," "," "," "," "," "," "," "," "," "," "," "," "," "," "," "," "," "," "," "," "," "," "," "," "," "," "," "," "," "," "," "," "," "," "," "," "," "," "," "," "," "," "," ",3880.04," "," "," "," "," "," "," "," "," "," "," "," "," "," "," "," "," "," "," "," "," "," "," "," "," "," "," "," "," "," "," "," "," "," "," "," "," "," "," "," "," "," "," "," "]
["A08.02.001.003 Ст","Патолого-анатомическое исследование биопсийного (операционного) материала мышечной ткани с применением гистохимических методов",1477.56," "," "," "," "," "," "," "," "," "," ",1882.41," "," "," "," "," "," "," "," ",1882.41," "," "," "," "," "," "," "," "," "," "," "," "," "," "," "," "," "," "," "," "," "," "," "," "," "," "," "," "," "," "," "," "," "," "," "," "," "," "," "," "," "," "," "," "," "," "," "," "," "," "," "," "," "," "," "," "," "," "," "," "," "," "," "," "," "," "," "," "," "," "," "," "," "," "," "," "," ",1882.41," "," "," "," "," "," "," "," "," "," "," "," ",1882.41," "]
["A08.03.002.001 Ст","Патолого-анатомическое исследование биопсийного (операционного) материала костной ткани с применением гистохимических методов",1477.56," "," "," "," "," "," "," "," "," "," ",1882.41," "," "," "," "," "," "," "," ",1882.41," "," "," "," "," "," "," "," "," "," "," "," "," "," "," "," "," "," "," "," "," "," "," "," "," "," "," "," "," "," "," "," "," "," "," "," "," "," "," "," "," "," "," "," "," "," "," "," "," "," "," "," "," "," "," "," "," "," "," "," "," "," "," "," "," "," "," "," "," "," "," "," "," "," "," "," "," ",1882.41," "," "," "," "," "," "," "," "," "," "," "," ",1882.41," "]
["A08.05.001.001","Цитологическое исследование мазка костного мозга (подсчет формулы костного мозга) (сложная)",301.79000000000002," "," "," "," "," "," "," "," "," ",384.48,384.48," "," "," "," "," "," "," "," "," "," "," "," "," "," "," "," "," "," "," "," "," "," "," "," "," "," "," "," "," "," "," "," "," "," "," "," "," "," "," "," "," "," "," "," "," "," "," "," "," "," "," "," "," "," "," "," "," "," "," "," "," "," "," "," "," "," "," "," "," "," "," "," "," "," "," "," "," "," "," "," "," "," "," "," "," "," "," "," "," "," "," "," "," "," "," "," "," "," "," ",384.48,416.77]
["A08.05.010","Определение среднего содержания и средней концентрации гемоглобина в эритроцитах",60.29," ",76.81," ",76.81," "," ",76.81," "," ",76.81,76.81," "," "," "," "," "," "," "," "," "," ",76.81,76.81,76.81,76.81,76.81," "," "," "," ",76.63,76.63,76.63,109.85,76.569999999999993,100.38,108.22,110.39," ",108.1,98.27," ",74.88,75.97,106.41,98.69,108.16,76.69," "," ",76.81,76.81," "," "," "," "," "," "," "," "," "," "," "," "," "," "," "," "," "," "," "," "," "," "," "," "," "," "," "," "," "," "," "," "," "," "," "," "," "," "," "," "," "," "," "," "," "," "," "," "," "," "," "," "," "," "," "," "," "," "," ",83.26]
["A08.06.004.0021 Ст","Патолого-анатомическое исследование биопсийного (операционного) материала селезенки (сложная)",1477.56," "," "," "," "," "," "," "," "," "," ",1882.41," "," "," "," "," "," "," "," ",1882.41," "," "," "," "," "," "," "," "," "," "," "," "," "," "," "," "," "," "," "," "," "," "," "," "," "," "," "," "," "," "," "," "," "," "," "," "," "," "," "," "," "," "," "," "," "," "," "," "," "," "," "," "," "," "," "," "," "," "," "," "," "," ",1882.41," "," "," "," "," "," "," "," "," "," "," "," "," "," "," "," "," "," "," "," "," "," "," "," "," "," "," ",1882.41," "]
["A08.07.001.001","Цитологическое исследование микропрепарата тканей полости рта (сложная)",390.06," "," "," "," "," "," "," "," "," "," ",496.94," "," "," "," "," "," "," "," ",496.94," "," "," "," "," "," "," "," "," "," "," "," "," "," "," "," "," "," "," ",699.38," "," "," "," "," "," "," "," "," "," "," "," "," "," "," "," "," ",496.94," "," "," "," "," "," "," "," "," "," "," "," "," "," "," "," "," "," "," "," "," "," "," "," "," "," "," "," "," "," "," "," "," "," "," "," "," "," "," "," "," "," "," "," "," "," "," "," "," "," "," "," ",496.94," "]
["A08.07.005.003 Ст","Гистологическое исследование препарата тканей губы (сложная)",2299.73," "," "," "," "," "," "," "," "," "," ",2929.86," "," "," "," "," "," "," "," ",2929.86," "," "," "," "," "," "," "," "," "," "," "," "," "," "," "," "," "," "," "," "," "," "," "," "," "," "," "," "," "," "," "," "," "," "," "," "," "," "," "," "," "," "," "," "," "," "," "," "," "," "," "," "," "," "," "," "," "," "," "," "," "," "," "," "," "," "," "," "," "," "," "," "," "," "," "," "," "," "," "," "," "," "," "," "," "," "," "," "," "," "," "," "]
["A08.07.007.002 Ст","Патолого-анатомическое исследование биопсийного (операционного) материала тканей преддверия полости рта с применением иммуногистохимических методов",1477.56," "," "," "," "," "," "," "," "," "," "," "," "," "," "," "," "," "," "," ",1882.41," "," "," "," "," "," "," "," "," "," "," "," "," "," "," "," "," "," "," "," "," "," "," "," "," "," "," "," "," "," "," "," "," "," "," "," "," "," "," "," "," "," "," "," "," "," "," "," "," "," "," "," "," "," "," "," "," "," "," "," "," "," "," "," "," "," "," "," "," "," "," "," "," "," "," "," "," ",1882.41," "," "," "," "," "," "," "," "," "," "," "," "," "," "]
["A08.08.003.001","Цитологическое исследование мазков с поверхности слизистой оболочки верхних дыхательных путей (сложная)",390.06," "," "," "," "," "," "," "," "," "," ",496.94," "," "," "," "," "," "," "," ",496.94," "," "," "," "," "," "," "," "," "," "," "," "," "," "," "," "," "," "," "," "," "," "," "," "," "," "," "," "," "," "," "," "," "," "," "," "," "," "," "," "," "," "," "," "," "," "," "," "," "," "," "," "," "," "," "," "," "," "," "," "," "," "," "," "," "," "," "," "," "," "," "," ",496.94,496.94," "," "," "," "," "," "," "," "," "," "," "," "," "," "," "," ",496.94," "]
["A08.09.003.002 ","Цитологическое исследование микропрепарата тканей нижних дыхательных путей (сложная)",390.06," "," "," "," "," "," "," "," "," "," ",496.94," "," "," "," "," "," "," "," ",496.94," "," "," "," "," "," "," "," "," "," "," "," "," "," "," "," "," "," "," "," "," "," "," "," "," "," "," "," "," "," "," "," "," "," "," "," "," "," "," "," "," "," "," "," "," "," "," "," "," "," "," "," "," "," "," "," "," "," "," "," "," "," "," "," "," "," "," "," "," "," "," "," "," "," "," "," "," "," "," "," "," "," "," "," "," "," "," "," "," "," ",496.94," "]
["A08.09.006.002","Цитологическое исследование микропрепарата тканей плевры (сложная)",390.06," "," "," "," "," "," "," "," "," "," ",496.94," "," "," "," "," "," "," "," ",496.94," "," "," "," "," "," "," "," "," "," "," "," "," "," "," "," "," "," "," ",699.38," "," "," "," "," "," "," "," "," "," "," "," "," "," "," "," "," "," "," "," "," "," "," "," "," "," "," "," "," "," "," "," "," "," "," "," "," "," "," "," "," "," "," "," "," "," "," "," "," "," "," "," "," "," "," "," "," "," "," "," "," "," "," "," "," "," "," "," "," "," ",496.94," "]
["A08.14.002.004","Телемедицинское описание и интерпретация одного поля зрения цитологического исследования микропрепарата тканей печени (простая)",193.25," "," "," "," "," "," "," "," "," "," ",246.2," "," "," "," "," "," "," "," "," "," "," "," "," "," "," "," "," "," "," "," "," "," "," "," "," "," "," "," "," "," "," "," "," "," "," "," "," "," "," "," "," "," "," "," "," "," "," "," "," "," "," "," "," "," "," "," "," "," "," "," "," "," "," "," "," "," "," "," "," "," "," "," "," "," "," "," "," "," "," "," "," "," "," "," "," "," "," "," "," "," "," "," "," "," "," "," "," "," "," "," "," "]
["A08.15.002.004","Телемедицинское описание и интерпретация одного поля зрения цитологического исследования микропрепарата тканей поджелудочной железы(сложная)",257.92," "," "," "," "," "," "," "," "," "," ",328.59," "," "," "," "," "," "," "," "," "," "," "," "," "," "," "," "," "," "," "," "," "," "," "," "," "," "," "," "," "," "," "," "," "," "," "," "," "," "," "," "," "," "," "," "," "," "," "," "," "," "," "," "," "," "," "," "," "," "," "," "," "," "," "," "," "," "," "," "," "," "," "," "," "," "," "," "," "," "," "," "," "," "," "," "," "," "," "," "," "," "," "," "," "," "," "," "," "," "," "," "," "]
["A08.16.003 Ст","Патолого-анатомическое исследование биопсийного (операционного) материала двенадцатиперстной кишки",655.64," "," "," "," "," "," "," "," "," "," ",835.29," "," "," "," "," "," "," "," ",835.29," "," "," "," "," "," "," "," "," "," "," "," "," "," "," "," "," "," "," "," "," "," "," "," "," "," "," "," "," "," "," "," "," "," "," "," "," "," "," "," "," "," "," "," "," "," "," "," "," "," "," "," "," "," "," "," "," "," "," "," "," "," ",835.29," "," "," "," "," "," "," "," "," "," "," "," "," "," ",835.29," "," "," "," "," "," "," "," "," "," "," "," "," ",905.44]
["A08.16.007.004","Телемедицинское описание и интерпретация одного поля зрения цитологического исследования микропрепарата тканей желудка (сложная)",257.92," "," "," "," "," "," "," "," "," "," ",328.59," "," "," "," "," "," "," "," "," "," "," "," "," "," "," "," "," "," "," "," "," "," "," "," "," "," "," "," "," "," "," "," "," "," "," "," "," "," "," "," "," "," "," "," "," "," "," "," "," "," "," "," "," "," "," "," "," "," "," "," "," "," "," "," "," "," "," "," "," "," "," "," "," "," "," "," "," "," "," "," "," "," "," "," "," "," "," "," "," "," "," "," "," "," "," "," "," "," "," "," "," "]
["A08.18.002.004","Телемедицинское описание и интерпретация одного поля зрения цитологического исследования микропрепарата тканей толстой кишки (сложная)",257.92," "," "," "," "," "," "," "," "," "," ",328.59," "," "," "," "," "," "," "," "," "," "," "," "," "," "," "," "," "," "," "," "," "," "," "," "," "," "," "," "," "," "," "," "," "," "," "," "," "," "," "," "," "," "," "," "," "," "," "," "," "," "," "," "," "," "," "," "," "," "," "," "," "," "," "," "," "," "," "," "," "," "," "," "," "," "," "," "," "," "," "," "," "," "," "," "," "," "," "," "," "," "," "," "," "," "," "," "," "," "," "," "," "]
["A08.19.002.001 Ст","Патолого-анатомическое исследование биопсийного (операционного) материала прямой кишки с применением гистохимических методов",1477.56," "," "," "," "," "," "," "," "," "," ",1882.41," "," "," "," "," "," "," "," ",1882.41," "," "," "," "," "," "," "," "," "," "," "," "," "," "," "," "," "," "," "," "," "," "," "," "," "," "," "," "," "," "," "," "," "," "," "," "," "," "," "," "," "," "," "," "," "," "," "," "," "," "," "," "," "," "," "," "," "," "," "," "," "," "," "," "," "," "," "," "," "," "," "," "," "," "," "," "," ",1882.41," "," "," "," "," "," "," "," "," "," "," "," ",1882.41," "]
["A08.20.003.001 Ст","Патолого-анатомическое исследование биопсийного (операционного) материала матки с применением гистохимических методов",1477.56," "," "," "," "," "," "," "," "," "," ",1882.41," "," "," "," "," "," "," "," ",1882.41," "," "," "," "," "," "," "," "," "," "," "," "," "," "," "," "," "," "," "," "," "," "," "," "," "," "," "," "," "," "," "," "," "," "," "," "," "," "," "," "," "," "," "," "," "," "," "," "," "," "," "," "," "," "," "," "," "," "," "," "," "," "," "," "," "," "," "," "," "," "," "," "," "," "," "," "," ",1882.41," "," "," "," "," "," "," "," "," "," "," "," ",1882.41," "]
["A08.20.011 Ст","Патолого-анатомическое исследование биопсийного (операционного) материала шейки матки",655.64," "," "," "," "," "," "," "," "," "," ",835.29," "," "," "," "," "," "," "," ",835.29," "," "," "," "," "," "," "," "," "," "," "," "," "," "," "," "," "," "," ",1175.56," "," "," "," "," "," "," "," "," "," "," "," "," "," "," "," "," "," "," "," "," "," "," "," "," "," "," "," "," "," "," "," "," "," "," "," "," "," "," "," "," "," ",835.29," "," "," "," "," "," "," "," "," "," "," "," "," "," ",835.29," "," "," "," "," "," "," "," "," "," "," "," "," ",905.44]
["A08.20.012.003","Телемедицинское описание и интерпретация одного поля зрения цитологического исследования микропрепарата тканей влагалища (простая)",193.25," "," "," "," "," "," "," "," "," "," ",246.2," ",246.2," "," "," "," "," "," "," "," "," "," "," "," "," "," "," "," "," "," "," "," "," "," "," "," "," "," "," "," "," "," "," "," "," "," ",245.81," "," "," "," "," "," "," "," "," "," "," "," "," "," "," "," "," "," "," "," "," "," "," "," "," "," "," "," "," "," "," "," "," "," "," "," "," "," "," "," "," "," "," "," "," "," "," "," "," "," "," "," "," "," "," "," "," "," "," "," "," "," "," "," "]
["A08.20.014.004","Телемедицинское описание и интерпретация одного поля зрения цитологического исследования микропрепарата тканей яичников (сложная)",257.92," "," "," "," "," "," "," "," "," "," ",328.59," "," "," "," "," "," "," "," "," "," "," "," "," "," "," "," "," "," "," "," "," "," "," "," "," "," "," "," "," "," "," "," "," "," "," "," "," "," "," "," "," "," "," "," "," "," "," "," "," "," "," "," "," "," "," "," "," "," "," "," "," "," "," "," "," "," "," "," "," "," "," "," "," "," "," "," "," "," "," "," "," "," "," "," "," "," "," "," "," "," "," "," "," "," "," "," "," "," "," "," "," "]
["A08.21.004 Ст","Патолого-анатомическое исследование биопсийного (операционного) материала удаленного новообразования мужских половых органов",655.64," "," "," "," "," "," "," "," "," "," ",835.29," "," "," "," "," "," "," "," ",835.29," "," "," "," "," "," "," "," "," "," "," "," "," "," "," "," "," "," "," "," "," "," "," "," "," "," "," "," "," "," "," "," "," "," "," "," "," "," "," "," "," "," "," "," "," "," "," "," "," "," "," "," "," "," "," "," "," "," "," "," "," "," ",835.29," "," "," "," "," "," "," "," "," "," "," "," "," "," ",835.29," "," "," "," "," "," "," "," "," "," "," "," "," ",905.44]
["A08.21.006.001","Цитологическое исследование микропрепарата тканей яичка (сложная)",301.79000000000002," "," "," "," "," "," "," "," "," "," ",384.48," "," "," "," "," "," "," "," ",384.48," "," "," "," "," "," "," "," "," "," "," "," "," "," "," "," "," "," "," "," "," "," "," "," "," "," "," "," "," "," "," "," "," "," "," "," "," ",384.48," "," "," "," "," "," "," "," "," "," "," "," "," "," "," "," "," "," "," "," "," "," "," "," "," "," "," "," "," "," "," "," "," "," "," "," "," "," "," "," "," "," "," "," "," "," "," "," "," "," "," "," ",384.48," "]
["A08.22.007 Ст","Патолого-анатомическое исследование биопсийного (операционного) материала надпочечника",655.64," "," "," "," "," "," "," "," "," "," ",835.29," "," "," "," "," "," "," "," ",835.29," "," "," "," "," "," "," "," "," "," "," "," "," "," "," "," "," "," "," "," "," "," "," "," "," "," "," "," "," "," "," "," "," "," "," "," "," "," "," "," "," "," "," "," "," "," "," "," "," "," "," "," "," "," "," "," "," "," "," "," "," "," ",835.29," "," "," "," "," "," "," "," "," "," "," "," "," "," ",835.29," "," "," "," "," "," "," "," "," "," "," "," "," "," "]
["A08.23.002.001 Ст","Патолого-анатомическое исследование биопсийного (операционного) материала тканей центральной нервной системы и головного мозга с применением иммуногистохимических методов",1477.56," "," "," "," "," "," "," "," "," "," ",1882.41," "," "," "," "," "," "," "," ",1882.41," "," "," "," "," "," "," "," "," "," "," "," "," "," "," "," "," "," "," "," "," "," "," "," "," "," "," "," "," "," "," "," "," "," "," "," "," "," "," "," "," "," "," "," "," "," "," "," "," "," "," "," "," "," "," "," "," "," "," "," "," "," "," "," "," "," "," "," "," "," "," "," "," "," "," "," "," ",1882.41," "," "," "," "," "," "," "," "," "," "," "," ",1882.41," "]
["A08.26.001.001","Цитологическое исследование соскоба с коньюктивы (сложная)",390.06," "," "," "," "," "," "," "," "," "," ",496.94," "," "," "," "," "," "," "," ",496.94," "," "," "," "," "," "," "," "," "," "," "," "," "," "," "," "," "," "," "," "," "," "," "," "," "," "," "," "," "," "," "," "," "," "," "," "," "," "," "," "," "," "," "," "," "," "," "," "," "," "," "," "," "," "," "," "," "," "," "," "," "," "," "," "," "," "," "," "," "," "," "," "," "," "," "," "," "," "," "," "," "," "," "," "," "," "," "," "," "," "," "," "]
["A08.26.005.004","Телемедицинское описание и интерпретация одного поля зрения цитологического исследования отпечатков с век (простая)",193.25," "," "," "," "," "," "," "," "," "," ",246.2," "," "," "," "," "," "," "," "," "," "," "," "," "," "," "," "," "," "," "," "," "," "," "," "," "," "," "," "," "," "," "," "," "," "," "," "," "," "," "," "," "," "," "," "," "," "," "," "," "," "," "," "," "," "," "," "," "," "," "," "," "," "," "," "," "," "," "," "," "," "," "," "," "," "," "," "," "," "," "," "," "," "," "," "," "," "," "," "," "," "," "," "," "," "," "," "," "," "," "," "," "]
["A08.28.008.001","Цитологическое исследование микропрепарата тканей почечной лоханки и мочеточника (сложная)",390.06," "," "," "," "," "," "," "," "," "," ",496.94," "," "," "," "," "," "," "," ",496.94," "," "," "," "," "," "," "," "," "," "," "," "," "," "," "," "," "," "," "," "," "," "," "," "," "," "," "," "," "," "," "," "," "," "," "," "," "," "," "," "," "," "," "," "," "," "," "," "," "," "," "," "," "," "," "," "," "," "," "," "," "," "," "," "," "," "," "," "," "," "," "," "," "," "," "," "," "," "," "," "," "," "," "," "," "," "," "," "," "," ",496.94," "]
["A08.28.012","Исследование мочи для выявления клеток опухоли",466.55," "," "," "," "," "," "," "," "," "," ",594.38," "," "," "," "," "," "," "," ",594.38," "," "," "," "," "," "," "," "," "," "," "," "," "," "," "," "," "," "," ",836.52," "," "," "," "," "," "," "," "," "," "," "," "," "," "," "," "," "," "," "," "," "," "," "," "," "," "," "," "," "," "," "," "," "," "," "," "," "," "," "," "," "," "," "," "," "," "," "," "," "," "," "," "," "," "," "," "," "," "," "," "," "," "," "," "," "," "," "," "," "," "," "," "]
["A08.30.010.001","Морфологическое исследование препарата тканей брюшины (сложная)",1419.22," "," "," "," "," "," "," "," "," "," ",1808.09," "," "," "," "," "," "," "," ",1808.09," "," "," "," "," "," "," "," "," "," "," "," "," "," "," "," "," "," "," "," "," "," "," "," "," "," "," "," "," "," "," "," "," "," "," "," "," "," "," "," "," "," "," "," "," "," "," "," "," "," "," "," "," "," "," "," "," "," "," "," "," "," "," "," "," "," "," "," "," "," "," "," "," "," "," "," "," "," "," "," "," "," "," "," "," "," "," "," "," "," ",1808.09," "]
["A08.30.013.007 Ст","Иммуногистохимическое исследование материала (8 маркер)",7144.09," "," "," "," "," "," "," "," "," "," ",9101.57," "," "," "," "," "," "," "," ",9101.57," "," "," "," "," "," "," "," "," "," "," "," "," "," "," "," "," "," "," "," "," "," "," "," "," "," "," "," "," "," "," "," "," "," "," "," "," "," "," "," "," "," "," "," "," "," "," "," "," "," "," "," "," "," "," "," "," "," "," "," "," "," ",9101.57," "," "," "," "," "," "," "," "," "," "," "," "," "," "," "," "," "," ",9101.57," "," "," "," "," "," "," "," "," "," "]
["A08.30.013.012 Ст","Иммуногистохимическое исследование материала (13 маркер)",11609.16," "," "," "," "," "," "," "," "," "," ",14790.07," "," "," "," "," "," "," "," ",14790.07," "," "," "," "," "," "," "," "," "," "," "," "," "," "," "," "," "," "," "," "," "," "," "," "," "," "," "," "," "," "," "," "," "," "," "," "," "," "," "," "," "," "," "," "," "," "," "," "," "," "," "," "," "," "," "," "," "," "," "," "," "," ",14790.07," "," "," "," "," "," "," "," "," "," "," "," "," "," "," "," "," "," ",14790.07," "," "," "," "," "," "," "," "," "," "]
["A08.30.013.019 Ст","Иммуногистохимическое исследование материала ЗНО на антитела эстроген",893," "," "," "," "," "," "," "," "," "," ",1137.68," "," "," "," "," "," "," "," ",1137.68," "," "," "," "," "," "," "," "," "," "," "," "," "," "," "," "," "," "," "," "," "," "," "," "," "," "," "," "," "," "," "," "," "," "," "," "," "," "," "," "," "," "," "," "," "," "," "," "," "," "," "," "," "," "," "," "," "," "," "," "," "," ",1137.68," "," "," "," "," "," "," "," "," "," "," "," "," "," "," "," "," "," ",1137.68," "," "," "," "," "," "," "," ",1137.68," "]
["A08.30.016.004","Телемедицинское описание и интерпретация одного поля зрения цитологического исследования препарата пунктатов опухолей, опухолеподобных образований мягких тканей (сложная)",257.92," "," "," "," "," "," "," "," "," "," ",328.59," "," "," "," "," "," "," "," "," "," "," "," "," "," "," "," "," "," "," "," "," "," "," "," "," "," "," "," "," "," "," "," "," "," "," "," "," "," "," "," "," "," "," "," "," "," "," "," "," "," "," "," "," "," "," "," "," "," "," "," "," "," "," "," "," "," "," "," "," "," "," "," "," "," "," "," "," "," "," "," "," "," "," "," "," "," "," "," "," "," "," "," "," "," "," "," "," "," "," "," "," "]
["A08.30.025.001 Ст","Патолого-анатомическое исследование материала неразвивающихся беременностей (сложная)",2299.73," "," "," "," "," "," "," "," "," "," ",2929.86," "," "," "," "," "," "," "," ",2929.86," "," "," "," "," "," "," "," "," "," "," "," "," "," "," "," "," "," "," "," "," "," "," "," "," "," "," "," "," "," "," "," "," "," "," "," "," "," "," "," "," "," "," "," "," "," "," "," "," "," "," "," "," "," "," "," "," "," "," "," "," "," ",2929.86," "," "," "," "," "," "," "," "," "," "," "," "," "," "," "," "," "," "," "," "," "," "," "," "," "," "," "," "," "]
["A09.05.002.001","Оценка гематокрита (без забора материала)",32.72," "," "," "," "," "," "," "," "," ",41.69," "," "," "," "," "," "," "," "," "," "," "," ",41.69," "," ",41.69," "," "," "," "," "," "," "," ",41.55," "," "," "," ",58.67," ",58.14," "," "," "," "," ",41.62," "," "," "," "," "," "," "," "," "," "," "," "," "," "," "," "," "," "," "," "," "," "," "," "," "," "," "," "," "," "," "," "," "," "," "," "," "," "," "," "," "," "," "," "," "," "," "," "," "," "," "," "," "," "," "," "," "," "," "," "," "," "," "," "]
["A09.05.006.001","Экспресс-исследование уровня миоглобина в крови",280.68," "," "," "," "," "," "," "," "," "," "," "," "," "," "," "," "," "," "," "," "," "," "," "," "," "," "," "," "," "," "," "," "," "," "," "," "," "," "," "," "," "," "," "," "," ",459.47," "," "," "," "," "," "," "," "," "," "," "," "," "," "," "," "," "," "," "," "," "," "," "," "," "," "," "," "," "," "," "," "," "," "," "," "," "," "," "," "," "," ",357.59," "," "," "," "," "," "," "," "," "," "," "," "," "," "," "," "," "," "," "," "," "," ",387.62]
["A09.05.014.004","Исследование уровня глобулиновых фракций в крови (методом капиллярного электрофореза)",376.04," "," "," "," "," "," "," "," ",479.07," "," "," "," "," "," "," "," "," "," "," "," "," "," "," "," "," "," "," "," "," "," "," "," "," "," "," "," "," "," "," "," "," "," "," "," "," "," "," "," "," "," "," "," "," "," "," "," "," "," "," "," "," "," "," "," "," "," "," "," "," "," "," "," "," "," "," "," "," "," "," "," "," "," "," "," "," "," "," "," "," "," "," "," "," "," "," "," "," "," "," "," "," "," "," "," "," "," "," "," "," "," "," "]
["A09.05.023.001","Исследование уровня глюкозы в крови методом непрерывного мониторирования",215.22," "," "," "," "," "," ",274.19," ",274.19,274.19," "," "," "," "," "," "," "," "," "," "," "," ",274.19,274.19," "," "," "," "," "," ",273.54000000000002,273.54000000000002," "," ",273.33,358.34,386.32,394.07,273.76,385.89,350.81," "," ",271.18,379.86,352.32,386.1,273.76," "," "," "," "," "," "," "," "," ",274.19," "," "," "," "," "," "," "," "," "," "," "," "," "," "," "," "," "," "," "," "," "," "," "," "," "," "," "," "," "," "," "," "," "," ",274.19,274.19," "," "," "," "," "," "," "," "," "," "," "," "," "," "," "," "," ",297.22000000000003]
["A09.05.025","Исследование уровня триглицеридов в крови",65.099999999999994,82.94,82.94," ",82.94," "," ",82.94," ",82.94,82.94,82.94,82.94," "," "," "," "," "," "," "," "," ",82.94,82.94,82.94,82.94,82.94," "," "," "," ",82.74,82.74," ",118.61,82.68,108.39,116.85,119.2,82.81,116.72,106.11,115.68,80.849999999999994,82.03,114.9,106.57,116.79,82.81,107.02," "," "," "," "," "," "," "," ",82.94,82.94," "," "," "," "," "," ",82.94," "," "," "," "," "," "," "," "," "," "," "," "," "," "," "," "," "," ",82.94," "," "," ",82.94," "," "," ",82.94,82.94," "," "," "," "," ",82.94," "," "," "," "," "," "," "," "," "," ",82.94,89.9]
["A09.05.031","Исследование уровня калия в крови",53.25," ",67.84," ",67.84," "," ",67.84," ",67.84,67.84,67.84," ",67.84," "," "," "," "," "," "," "," "," ",67.84,67.84,67.84," "," "," "," "," ",67.680000000000007,67.680000000000007," "," ",67.63,88.66,95.58,97.5,67.73,95.48,86.8,94.63,66.14,67.099999999999994,93.99,87.17,95.53,67.73," "," "," "," "," "," "," "," "," ",67.84,67.84," "," "," "," "," "," ",67.84," "," "," "," "," "," "," "," "," "," "," "," "," "," "," "," "," "," ",67.84," "," "," ",67.84," "," "," ",67.84,67.84," "," "," "," "," "," "," "," "," "," "," "," "," "," "," "," ",67.84,73.540000000000006]
["A09.05.041.001","Исследование уровня аспарат-трансаминазы в крови (без забора материала)",40.950000000000003," "," "," ",52.17," "," "," "," "," ",52.17,52.17," "," "," "," "," ",52.17," "," "," "," "," "," "," "," ",52.17," "," "," "," "," "," "," "," "," "," "," "," "," "," "," ",72.77," "," "," ",67.040000000000006," "," "," "," "," "," "," "," "," "," "," "," "," "," "," "," "," "," "," "," "," "," "," "," "," "," "," "," "," "," "," "," "," "," "," "," "," "," "," "," "," "," ",52.17," "," "," "," "," "," "," "," "," "," "," "," "," "," "," "," "," "," "," "," "," ",52.17," "]
["A09.05.042.001","Исследование уровня аланин-трансаминазы в крови (без забора материала)",40.950000000000003," "," "," ",52.17," "," "," "," "," ",52.17,52.17," "," "," "," "," ",52.17," "," "," "," "," "," "," "," ",52.17," "," "," "," "," "," "," "," "," "," "," "," "," "," "," ",72.77," "," "," ",67.040000000000006," "," "," "," "," "," "," "," "," "," "," "," "," "," "," "," "," "," "," "," "," "," "," "," "," "," "," "," "," "," "," "," "," "," "," "," "," "," "," "," "," "," ",52.17," "," "," "," "," "," "," "," "," "," "," "," "," "," "," "," "," "," "," "," "," ",52.17," "]
["A09.05.050","Исследование уровня фибриногена в крови",66.78,85.08,85.08," "," "," "," ",85.08," ",85.08,85.08,85.08," ",85.08," "," "," ",85.08," "," "," "," ",85.08,85.08,85.08,85.08,85.08," "," "," "," ",84.88,84.88," ",121.67,84.81,111.19,119.87,122.27,84.94,119.74,108.85,118.67,82.94,84.14,117.87,109.32,119.8,84.94,109.79," "," "," "," "," "," "," "," ",85.08,85.08," "," "," "," "," "," ",85.08," "," "," "," "," "," "," "," "," "," "," "," "," "," "," "," "," "," ",85.08," "," "," ",85.08," "," "," ",85.08,85.08," "," "," "," "," ",85.08," "," "," "," "," "," "," "," "," "," ",85.08,92.22]
["A09.05.054.003","Исследование уровня иммуноглобулина M в крови",117.51," "," "," "," "," "," "," "," "," ",149.71," "," "," "," "," "," "," "," "," "," "," "," ",149.71," "," "," "," "," "," "," "," "," "," "," "," "," "," "," "," "," "," "," "," "," "," "," "," "," "," "," "," "," "," "," "," "," "," ",149.71,149.71," "," "," "," "," "," ",149.71," "," "," "," "," "," "," "," "," "," "," "," "," "," "," "," "," "," ",149.71," "," "," ",149.71," "," "," "," "," "," "," "," "," "," "," "," "," "," "," "," "," "," "," "," "," "," ",162.28]
["A09.05.054.006","Исследование уровня секреторного иммуноглобулина класса А IgА в крови",106.51," "," "," "," "," "," "," "," "," "," "," "," "," "," "," "," "," "," "," "," "," "," "," "," "," "," "," "," "," "," "," "," "," "," "," "," "," "," "," "," "," "," "," "," "," ",174.36," "," "," "," "," "," "," "," "," "," "," "," "," "," "," "," "," "," "," ",135.69," "," "," "," "," "," "," "," "," "," "," "," "," "," "," "," "," "," ",135.69," "," "," ",135.69," "," "," "," "," "," "," "," "," "," "," "," "," "," "," "," "," "," "," "," "," "," ",147.09]
["A09.05.062","Исследование уровня свободного трийодтиронина (СТ3) в крови",147.94," "," "," "," "," "," ",188.48," "," ",188.48,188.48," ",188.48," "," "," ",188.48," "," "," "," "," ",188.48," "," "," "," "," "," "," "," "," "," "," ",187.88," ",265.55," "," ",265.26," "," "," "," ",261.11,242.18," "," "," "," "," "," "," "," "," "," "," ",188.48,188.48," "," "," "," "," "," ",188.48," "," "," "," "," "," "," "," "," "," "," "," "," "," "," "," "," "," ",188.48," "," "," ",188.48," "," "," ",188.48,188.48," "," "," "," "," "," "," "," "," "," "," "," "," "," "," "," ",188.48,204.31]
["A09.05.064.001","Исследование уровня общего тироксина (T4) сыворотки крови (без забора материала)",120.28," "," "," "," "," "," ",153.24," ",153.24,153.24,153.24," "," "," "," "," ",153.24," "," "," "," "," "," "," "," "," "," "," "," "," "," "," "," "," "," "," "," "," "," "," "," "," "," "," "," ",196.9," "," "," "," "," "," "," "," "," "," "," "," ",153.24," "," "," "," "," "," ",153.24," "," "," "," "," "," "," "," "," "," "," "," "," "," "," "," "," "," ",153.24," "," "," ",153.24," "," "," ",153.24,153.24," "," "," "," "," "," "," "," "," "," "," "," "," "," "," "," ",153.24," "]
["A09.05.074","Исследование уровня циркулирующих иммунных комплексов в крови",156.38," "," "," "," "," "," "," "," "," ",199.23," "," "," "," "," "," "," "," "," "," "," "," ",199.23," "," "," "," "," "," "," "," "," "," "," "," "," ",280.7," "," "," "," "," "," "," ",276.01,255.99," "," "," "," "," "," "," "," "," "," "," ",199.23," "," "," "," "," "," "," "," "," "," "," "," "," "," "," "," "," "," "," "," "," "," "," "," "," "," "," "," "," "," ",199.23," "," "," ",199.23,199.23," "," "," "," "," "," "," "," "," "," "," "," "," "," "," "," "," ",215.96]
["A09.05.083.001","Исследование уровня гликированного гемоглобина в крови (без забора материала)",280.68," "," "," "," "," "," ",357.59," "," ",357.59,357.59," "," "," "," "," "," "," "," "," "," "," "," "," "," "," "," "," "," "," "," "," "," "," "," "," "," "," "," "," "," "," "," "," "," ",459.47," "," "," "," "," "," "," "," "," "," "," ",357.59,357.59," "," "," "," "," "," "," "," "," "," "," "," "," "," "," "," "," "," "," "," "," "," "," "," "," "," "," "," "," ",357.59," "," "," "," "," "," "," "," "," "," "," "," "," "," "," "," "," "," "," "," "," ",357.59," "]
["A09.05.086.001","Исследование уровня лития в крови",601.42999999999995," "," "," "," "," "," "," "," "," "," "," "," "," "," "," "," "," "," "," "," "," "," "," "," "," "," "," "," "," "," "," "," "," "," "," "," "," "," "," "," "," "," "," "," "," ",984.54," "," "," "," "," "," "," "," "," "," "," "," ",766.22," "," "," "," "," "," ",766.22," "," "," "," "," "," "," "," "," "," "," "," "," "," "," "," "," "," ",766.22," "," "," ",766.22," "," "," "," "," "," "," "," "," "," "," "," "," "," "," "," "," "," "," "," "," "," ",830.57]
["A09.05.117","Исследование уровня тиреоглобулина в крови",136.11000000000001," "," "," "," "," "," "," "," "," ",173.4,173.4," "," "," "," "," "," "," "," "," "," "," "," "," "," "," "," "," "," "," "," "," "," "," "," "," ",244.32," "," ",244.05," "," "," "," ",240.23,222.81," "," "," "," "," "," "," "," "," "," "," ",173.4,173.4," "," "," "," "," "," ",173.4," "," "," "," "," "," "," "," "," "," "," "," "," "," "," "," "," "," ",173.4," "," "," ",173.4," "," "," ",173.4,173.4," "," "," "," "," ",173.4," "," "," "," "," "," "," "," "," "," ",173.4,187.97]
["A09.05.132.001","Исследование уровня фолликулостимулирующего гормона в сыворотке крови (без забора материала)",120.28," "," "," "," "," "," ",153.24," "," ",153.24,153.24," "," "," "," "," "," "," "," "," "," "," "," "," "," "," "," "," "," "," "," "," "," "," "," "," "," "," "," "," "," "," "," "," "," ",196.9," "," "," "," "," "," "," "," "," "," "," "," "," "," "," "," "," "," "," "," "," "," "," "," "," "," "," "," "," "," "," "," "," "," "," "," "," "," "," "," "," "," ",153.24," "," "," "," "," "," "," "," "," "," "," "," "," "," "," "," "," "," "," "," "," ",153.24," "]
["A09.05.139.001","Исследование уровня 17-гидроксипрогестерона",215.22," "," "," "," "," "," "," "," "," "," "," "," "," "," "," "," "," "," "," "," "," "," "," "," "," "," "," "," "," "," "," "," "," "," "," "," "," "," "," "," "," "," "," "," "," ",352.32," "," "," "," "," "," "," "," "," "," "," ",274.19,274.19," "," "," "," "," "," ",274.19," "," "," "," "," "," "," "," "," "," "," "," "," "," "," "," "," "," ",274.19," "," "," ",274.19," "," "," ",274.19,274.19," "," "," "," "," "," "," "," "," "," "," "," "," "," "," "," "," ",297.22000000000003]
["A09.05.174","Исследование уровня холинэстеразы в сыворотке крови",274.01," "," "," ",349.09," "," "," "," "," "," "," "," "," "," "," "," "," "," "," "," "," "," "," "," "," "," "," "," "," "," "," "," "," "," "," "," "," "," "," "," "," "," "," "," "," "," "," "," "," "," "," "," "," "," "," "," "," "," "," "," "," "," "," "," "," "," "," "," "," "," "," "," "," "," "," "," "," "," "," "," "," "," "," "," "," "," "," "," ",349.09," "," "," "," "," "," "," "," "," "," "," "," "," "," "," "," "," "," "," "," "," "," "," "]
["A09.05.195","Исследование уровня ракового эмбрионального антигена в крови",110.11," "," "," "," "," "," "," "," "," "," ",140.28," "," "," "," "," "," "," "," "," "," "," "," "," "," "," "," "," "," "," "," "," "," "," "," "," "," "," "," "," "," "," "," "," ",194.34," "," "," "," "," "," "," "," "," "," "," "," ",140.28," "," "," "," "," "," "," "," "," "," "," "," "," "," "," "," "," "," "," "," "," "," "," "," "," "," "," "," "," "," "," "," "," "," "," "," "," "," "," "," "," "," "," "," "," "," "," "," "," "," "," "," "," "," "]
["A09.05.209.001","Исследование уровня прокальцитонина в крови (без забора материала)",296.7," "," "," "," "," "," "," "," ",378," "," "," "," "," "," "," "," "," "," "," "," "," "," "," "," ",378," "," "," "," "," "," "," "," "," "," "," "," "," ",531.98," "," "," "," "," ",485.7," "," "," "," "," "," "," "," "," "," "," "," "," "," "," "," "," "," "," "," "," "," "," "," "," "," "," "," "," "," "," "," "," "," "," "," "," "," "," "," "," "," "," "," "," "," "," "," "," "," "," "," "," "," "," "," "," "," "," "," "," "," "," "," ",378," "]
["A09.05.221.001 АА","Определение 1,25-ОН витамина Д в крови на автоматическом анализаторе(без забора материала)",882.11," "," "," "," "," "," "," "," "," "," "," "," "," "," "," "," "," "," "," "," "," "," ",1123.81," "," "," "," "," "," "," "," "," "," "," "," "," "," "," "," "," "," "," "," "," "," ",1444.01," "," "," "," "," "," "," "," "," "," "," ",1123.81,1123.81," "," "," "," "," "," ",1123.81," "," "," "," "," "," "," "," "," "," "," "," "," "," "," "," "," "," ",1123.81," "," "," ",1123.81," "," "," "," "," "," "," "," "," "," "," "," "," "," "," "," "," "," "," "," "," ",1123.81," "]
["A09.05.304","Определение активности фактора II в сыворотке крови",660.39," "," "," "," "," "," "," "," ",841.34," "," "," "," "," "," "," "," "," "," "," "," "," "," "," "," "," "," "," "," "," "," "," "," "," "," "," "," "," "," "," "," "," "," "," "," "," "," "," "," "," "," "," "," "," "," "," "," "," "," "," "," "," "," "," "," "," "," "," "," "," "," "," "," "," "," "," "," "," "," "," "," "," "," "," "," "," "," "," "," "," "," "," "," "," "," "," "," "," "," "," "," "," "," "," "," "," "," "," "," "," "," "," "]
["A09.07.001.001","Цитологическое исследование отделяемого полости рта (простая)",120.28," "," "," "," "," "," "," "," "," "," ",153.24," "," "," "," "," "," "," "," ",153.24," "," "," "," "," "," "," "," "," "," "," "," "," "," "," "," "," "," "," "," "," "," "," "," "," ",196.9," "," "," "," "," "," "," "," "," "," "," "," "," "," "," "," "," "," "," "," "," "," "," "," "," "," "," "," "," "," "," "," "," "," "," "," "," "," "," "," "," "," "," "," "," "," "," "," "," "," "," "," "," "," "," "," "," "," "," "," "," "," "," "," ",153.24," "]
["A09.09.008","Исследование физических свойств плевральной жидкости",16.91," ",21.54," ",21.54," "," "," "," ",21.54,21.54," "," "," "," "," "," ",21.54," "," "," "," "," "," "," "," "," "," "," "," "," "," ",21.49," "," ",21.48,28.16,30.35,30.96," ",30.32,27.56,30.05," ",21.31,29.85,27.68,30.34,21.51," "," "," "," "," "," "," "," "," "," "," "," "," "," "," "," "," "," "," "," "," "," "," "," "," "," "," "," "," "," "," "," "," "," "," "," "," "," "," "," "," "," "," "," "," "," "," "," "," "," "," "," "," "," "," "," "," "," "," "," "," "," "," ",23.35]
["A09.14.001.001","Цитологическое исследование панкреатического сока",390.06," "," "," "," "," "," "," "," "," "," ",496.94," "," "," "," "," "," "," "," ",496.94," "," "," "," "," "," "," "," "," "," "," "," "," "," "," "," "," "," "," "," "," "," "," "," "," "," "," "," "," "," "," "," "," "," "," "," "," "," "," "," "," "," "," "," "," "," "," "," "," "," "," "," "," "," "," "," "," "," "," "," "," "," "," "," "," "," "," "," "," "," "," "," "," "," "," "," "," "," "," "," "," "," "," "," "," "," "," "," "," "," "," "," "]
["A09.19.002","Исследование кала на гельминты",239.89," "," "," "," "," "," "," "," "," ",305.62,305.62," ",305.62," "," "," ",305.62," "," "," "," "," "," ",305.62," ",305.62," "," "," "," "," "," "," ",437.08," "," "," ",439.24," ",430.12," ",426.28," ",302.26," "," "," ",305.14," "," "," "," "," "," "," "," "," "," ",305.62," "," "," "," "," "," ",305.62," "," "," "," "," "," "," "," "," "," "," "," "," "," "," "," "," "," "," "," "," "," ",305.62," "," "," "," "," "," "," "," "," "," "," "," "," "," ",305.62," "," "," "," ",426.28,439.24,305.62,331.29]
["A09.20.003.001","Определение Д-димера с применением реагента Helena Biosciences",480.06," "," "," "," "," "," "," "," "," ",611.6," "," "," "," "," "," "," "," "," "," "," "," ",611.6," "," "," "," "," "," "," "," "," "," "," "," "," "," "," "," "," "," "," "," "," "," "," "," "," "," "," "," "," "," "," "," "," "," "," "," "," "," "," "," "," "," "," "," "," "," "," "," "," "," "," "," "," "," "," "," "," "," "," "," "," "," "," "," "," "," "," "," "," "," "," "," "," "," "," "," "," "," "," "," "," "," "," "," "," "," "," "," "," "]
["A09.21.004","Микроскопическое исследование секрета крайней плоти",126.8," "," "," "," "," "," "," "," "," "," "," "," ",161.54," "," "," "," "," "," "," "," "," "," "," "," ",161.54," "," "," "," "," "," "," "," "," "," "," "," "," "," "," "," "," "," "," "," "," ",161.29," "," "," "," "," "," "," "," "," "," "," "," "," "," "," "," "," "," "," "," "," "," "," "," "," "," "," "," "," "," "," "," "," "," "," "," "," "," "," "," ",161.54," "," ",161.54,161.54,161.54," "," "," "," "," "," "," "," "," "," "," "," "," "," "," "," "," ",175.11]
["A09.23.003","Исследование уровня глюкозы в спинномозговой жидкости",48.14," ",61.33," ",61.33," "," "," "," ",61.33,61.33," "," ",61.33," "," "," ",61.33," "," "," "," "," "," "," ",61.33," "," "," "," "," "," ",61.19," ",87.71,61.14,80.150000000000006,86.41,88.14,61.23,86.32,78.47,85.54,59.79,60.66,84.97,78.81,86.36,61.23," "," "," "," "," "," "," "," "," "," "," "," "," "," "," "," "," ",61.33," "," "," "," "," "," "," "," "," "," "," "," "," "," "," "," "," "," ",61.33," "," "," ",61.33," "," "," "," "," "," "," "," "," "," "," "," "," "," "," "," "," "," "," "," "," "," ",66.48]
["A09.28.003","Определение белка в моче",16.739999999999998," ",21.33," "," "," "," "," "," ",21.33,21.33,21.33," ",21.33," "," "," ",21.33," "," "," "," ",21.33,21.33," "," ",21.33," "," "," "," "," "," "," "," ",21.26," "," "," "," ",30.01," ",29.75,20.79,21.09,29.55,27.4," ",21.29," "," "," "," "," "," "," "," "," "," "," "," "," "," "," "," "," ",21.33," "," "," "," "," "," "," "," "," "," "," "," "," "," "," "," "," "," ",21.33," "," "," ",21.33," "," "," ",21.33,21.33," "," "," "," "," ",21.33," "," "," "," "," "," "," "," "," "," ",21.33,23.12]
["A09.28.006","Исследование уровня креатинина в моче",42.27," "," "," ",53.85," "," "," "," ",53.85,53.85," "," "," "," "," "," "," "," "," "," "," "," "," "," ",53.85,53.85," "," "," "," ",53.73,53.73," ",77.02,53.68,70.38,75.87,77.400000000000006,53.77," ",68.900000000000006,75.11," ",53.26,74.61,69.2,75.83,53.77," "," "," "," "," "," "," "," "," ",53.85," "," "," "," "," "," "," ",53.85," "," "," "," "," "," "," "," "," "," "," "," "," "," "," "," "," "," ",53.85," "," "," ",53.85," "," "," "," "," "," "," "," "," "," ",53.85," "," "," "," "," "," "," "," "," "," ",53.85,58.37]
["A09.28.013.001","Исследование уровня калия в моче (без забора материала)",53.25," "," "," ",67.84," "," "," "," "," ",67.84,67.84," "," "," "," "," "," "," "," "," "," "," "," "," "," "," "," "," "," "," "," "," "," "," ",67.63," "," "," "," "," "," "," "," "," "," ",87.17," "," "," "," "," "," "," "," "," "," "," ",67.84," "," "," "," "," "," "," ",67.84," "," "," "," "," "," "," "," "," "," "," "," "," "," "," "," "," "," ",67.84," "," "," ",67.84," "," "," ",67.84,67.84," "," "," "," "," "," "," "," "," "," "," "," "," "," "," "," ",67.84," "]
["A09.28.030","Исследование парапротеинов в моче",91.22," "," "," "," "," "," "," "," ",116.21,116.21," "," "," "," "," "," "," "," "," "," "," "," "," "," "," "," "," "," "," "," "," "," "," "," "," ",151.88,163.74," "," "," ",148.69," "," "," ",161,149.33000000000001," ",116.03," "," "," "," "," "," "," "," "," "," "," "," "," "," "," "," "," "," "," "," "," "," "," "," "," "," "," "," "," "," "," "," "," "," "," "," "," "," "," "," "," "," "," "," "," "," "," "," "," "," "," "," "," "," "," "," "," "," "," "," "," "," "," ",125.97]
["A11.01.003","Внутрикожное введение лекарственных препаратов",47.21," ",60.15," "," "," "," ",60.15,60.15,60.15,60.15," "," "," "," "," "," "," "," "," "," ",60.15,60.15,60.15,60.15,60.15," "," "," "," "," ",60,60,60,86.02,59.96,78.599999999999994,84.74,86.44,60.05,84.65,76.95,83.89,58.63,59.48,83.33,77.28,84.69,60.05," "," ",60.15,60.15," "," "," "," "," "," "," ",60.15," "," "," "," "," "," "," "," "," "," "," "," "," "," "," "," "," "," "," "," "," "," "," "," "," "," "," "," "," "," "," "," ",60.15,60.15," "," "," "," "," "," "," "," "," "," "," "," "," "," "," "," "," ",65.2]
["A11.04.001","Биопсия тканей сустава",266.08," "," "," "," "," "," "," "," "," "," ",338.99," "," "," "," "," "," "," "," "," "," "," "," "," "," "," "," "," "," "," "," "," "," "," "," "," ",477.61," ",338.45," "," "," "," "," ",469.63,435.57," "," "," "," "," "," "," "," "," "," "," "," "," ",338.99," "," "," "," "," "," "," "," "," "," "," "," "," "," "," "," "," "," "," "," "," "," "," "," "," "," "," "," "," "," "," "," ",338.99,338.99," "," "," "," "," "," "," "," "," "," "," "," "," "," "," "," "," "," "]
["A11.08.020","Анемизация слизистой носа",112.85," "," "," "," "," "," "," "," ",143.77000000000001," "," "," "," "," "," "," "," "," "," "," "," "," "," "," "," "," "," "," "," "," "," "," "," "," "," "," "," "," "," "," "," ",200.53," "," "," "," "," "," "," "," "," "," "," "," "," "," "," "," "," "," "," "," "," "," "," "," "," "," "," "," "," "," "," "," "," "," "," "," "," "," "," "," "," "," "," "," "," "," "," "," "," "," "," "," "," "," "," "," "," "," "," "," "," "," "," "," "," "," "," "," "," "," "]
["A11.09.003.002","Пункция плевральной полости под контролем ультразвукого исследования",1248.51," "," "," "," "," "," "," "," "," "," ",1590.6," "," "," "," "," "," "," "," "," "," "," "," "," "," "," "," "," "," "," "," "," "," "," "," "," "," "," "," "," "," ",2218.6," "," "," "," "," "," "," "," "," "," "," "," "," "," "," "," "," "," "," "," "," "," "," "," "," "," "," "," "," "," "," "," "," "," "," "," "," "," "," "," "," "," "," "," "," "," "," "," "," "," "," "," "," "," "," "," "," "," "," "," "," "," "," "," "," "," "," "," "," "," "]
["A11.16.007","Дуоденальное зондирование с анализом содержимого",727.88," "," "," "," "," "," ",927.32," ",927.32," "," "," "," "," "," "," "," "," "," "," "," "," "," "," "," "," "," "," "," "," "," ",925.14," ",1326.2," ",1211.92,1306.54,1332.75,925.86," ",1186.44," "," ",917.13,1284.71,1191.54,1305.82,925.86," "," "," "," "," "," "," "," "," "," "," "," "," "," "," "," "," "," "," "," "," ",927.32," "," "," "," "," "," "," "," "," "," "," "," "," "," "," "," "," "," "," "," "," "," "," ",927.32," "," "," "," "," "," "," "," "," "," "," "," "," "," "," "," "," "," "]
["A11.20.014","Введение внутриматочной спирали",821.69," "," "," "," "," "," "," "," "," "," "," "," "," "," "," "," "," "," "," "," "," "," "," "," "," "," "," "," "," "," "," "," "," ",1497.12," "," "," ",1504.51," ",1473.29," ",1460.14," ",1035.33," "," "," ",1045.19," "," "," "," ",1046.83," "," "," "," "," "," "," "," "," "," "," "," "," "," "," "," ",1046.83," "," "," "," "," "," "," "," "," "," "," "," "," "," "," "," "," "," "," "," "," "," "," "," "," "," "," "," "," "," "," "," "," "," "," "," "," "," "," "," "," "," "]
["A11.23.003.003 Ст","Замена помпы в порт системе для спинального и эпидурального введения лекарственных средств",4724.71," "," "," "," "," "," "," "," "," "," ",6019.28," "," "," "," "," "," "," "," "," "," "," "," "," "," "," "," "," "," "," "," "," "," "," "," "," "," "," "," "," "," "," "," "," "," "," "," "," "," "," "," "," "," "," "," "," "," "," "," "," "," "," "," "," "," "," "," "," "," "," "," "," "," "," "," "," "," "," "," "," "," "," "," "," "," "," "," "," "," "," "," "," "," "," "," "," "," "," "," "," "," "," "," "," "," "," "," "," "," "," "," "," "]
["A11.26.009","Получение мазка содержимого конъюнктивальной полости и слезоотводящих путей",25.36," "," "," "," "," "," "," "," ",32.31," "," "," "," "," "," "," "," "," "," "," "," "," ",32.31," "," "," "," "," "," "," "," "," "," "," "," "," "," "," "," ",45.47," ",45.06," "," "," ",41.51," ",32.26," "," "," "," "," "," "," "," "," "," "," "," "," "," "," "," "," "," "," "," "," ",32.31," "," "," "," "," "," "," "," "," "," "," "," "," "," "," "," "," "," "," "," "," "," "," "," "," "," "," "," "," "," "," "," "," "," "," "," "," "," "," "," "," ",35.020000000000003]
["A12.05.007.001","Определение фенотипа по антигенам C, c, E, e, Cw, K, k и определение антиэритроцитарных антител",479.32," "," "," "," "," "," "," "," "," "," ",610.65," ",610.65," "," ",610.65," "," "," "," "," "," "," "," "," "," "," "," "," "," "," "," "," "," "," "," "," "," "," "," "," ",851.75,595.32000000000005," "," "," "," "," "," "," "," "," "," "," "," "," "," "," "," "," "," "," "," "," "," "," "," "," "," "," "," "," "," "," "," "," "," "," "," "," "," "," "," "," "," "," "," "," ",610.65," "," "," "," "," "," "," "," "," "," "," "," "," "," "," "," "," "," "," "," "," "," "," "]
["A12.05.008.003","Определение групп крови, резус принадлежности, неполных резус-антител (гель-карта) (без забора материала)",349.97," "," "," "," "," "," "," "," "," ",445.86,445.86," "," "," ",445.86," ",445.86," "," "," "," "," "," "," "," "," "," "," "," "," "," "," "," "," "," "," "," "," "," "," "," "," "," "," "," "," "," "," "," "," "," "," "," "," "," "," "," ",445.86," "," "," "," "," "," "," "," "," "," "," "," "," "," "," "," "," "," "," "," "," "," "," "," "," "," "," "," "," "," ",445.86," "," "," "," "," "," "," "," "," "," "," "," "," "," "," "," "," "," "," "," "," "," "," "]
["A12.05.017","Исследование агрегации тромбоцитов",43.49," "," "," "," "," "," "," "," ",55.41,55.41,55.41," "," "," "," "," ",55.41," "," "," "," "," "," "," "," "," "," "," "," "," "," "," "," "," "," "," ",78.06," "," "," ",70.89," "," ",54.8," "," ",78.02,55.32," "," "," "," "," "," "," "," "," "," "," "," "," "," "," "," "," "," "," "," "," "," "," "," "," "," "," "," "," "," "," "," "," "," "," "," "," "," "," "," "," "," "," "," "," "," "," "," "," "," "," "," "," "," "," "," "," "," "," "," "," "," "," ",60.06]
["A12.05.029","Тест дегрануляции базофилов",50.56," "," "," "," "," "," "," "," "," ",64.41," "," "," "," "," "," "," "," "," "," "," "," "," "," "," "," "," "," "," "," "," "," "," "," "," "," ",90.76," "," "," "," "," "," "," "," "," "," "," "," "," "," "," "," "," "," "," "," "," "," "," "," "," "," "," "," "," "," "," "," "," "," "," "," "," "," "," "," "," "," "," "," "," "," "," "," "," "," "," "," "," "," "," "," "," "," "," "," "," "," "," "," "," "," "," "," "," "," "," "," "," "," "," "]
["A12.06.001","Исследование популяций лимфоцитов",69.23," "," "," "," "," "," "," "," "," ",88.2," "," "," "," "," "," "," "," "," "," "," "," ",88.2," "," "," "," "," "," "," "," "," "," "," "," "," "," "," "," "," "," "," "," "," "," "," "," "," "," "," "," "," "," "," "," "," "," "," "," "," "," "," "," "," "," "," "," "," "," "," "," "," "," "," "," "," "," "," "," "," "," "," "," "," "," "," "," "," "," "," "," "," "," "," "," "," "," "," "," "," "," "," "," "," "," "," "," "," "," "," "," ",95.61]
["A12.06.003","Микроскопия крови на обнаружение LE-клеток",114.12," ",145.38999999999999," ",145.38999999999999," "," "," "," ",145.38999999999999,145.38999999999999," "," "," "," "," "," "," "," "," "," "," "," ",145.38999999999999," "," "," "," "," "," "," "," "," "," "," ",144.93," ",204.85," "," ",204.62," "," "," "," ",201.42," ",204.73," "," "," "," "," "," "," "," "," "," "," "," "," "," "," "," "," "," "," "," "," "," "," "," "," "," "," "," "," "," "," "," "," "," "," "," "," "," "," "," "," "," "," "," "," "," "," "," "," "," "," "," "," "," "," "," "," "," "," "," "," "," "," "," ",157.6]
["A12.06.016.008","РПГА- определение антител к возбудителю сальмонеллеза с О-антигенным комплексом",141.33000000000001," "," "," "," "," "," "," "," "," ",180.05," "," "," "," "," "," "," "," "," "," "," "," "," "," "," "," "," "," "," "," "," "," "," "," "," "," "," ",258.77999999999997," "," "," "," "," "," "," "," "," "," "," "," "," "," "," "," "," "," "," ",180.05," "," "," "," "," "," "," ",180.05," "," "," "," "," "," "," "," "," "," "," "," "," "," "," "," "," "," "," "," "," "," ",180.05," "," "," "," "," "," "," "," "," "," "," "," "," "," ",180.05,179.49," ",253.4,249.45,251.14,258.77999999999997,180.05," "]
["A12.06.017.001","Исследование антител к тироглобулину в сыворотке крови (без забора материала)",104.25," "," "," "," "," "," "," "," "," ",132.81,132.81," "," "," "," "," "," "," "," "," "," "," "," "," "," "," "," "," "," "," "," "," "," "," "," "," "," "," "," "," "," "," "," "," "," "," "," "," "," "," "," "," "," "," "," "," "," "," ",132.81," "," "," "," "," "," ",132.81," "," "," "," "," "," "," "," "," "," "," "," "," "," "," "," "," "," ",132.81," "," "," "," "," "," "," "," "," "," "," "," "," "," "," "," "," "," "," "," "," "," "," "," "," ",132.81," "]
["A12.09.001","Исследование неспровоцированных дыхательных объемов и потоков",329.55,419.85,419.85," "," "," "," "," "," ",419.85,419.85,419.85," "," "," "," "," ",419.85," "," "," "," "," ",419.85," ",419.85," "," "," "," "," "," "," "," "," ",418.53," ",591.54,603.41," "," ",537.16999999999996,585.61,409.3,415.23,581.66,539.47," ",419.19," "," "," "," "," "," "," "," "," "," "," "," "," "," "," "," "," "," "," "," "," ",419.85," "," "," "," "," "," "," "," "," "," "," "," "," "," "," "," ",419.85,583.96," "," "," "," ",419.85,419.85," "," "," "," "," ",419.85," "," "," "," "," "," "," "," "," "," "," ",455.11]
["A12.09.002.002.1","Исследование дыхательных объемов при провокации физической нагрузкой  (с использованием бактериального фильтра)",598.83000000000004," "," "," "," "," "," "," "," ",762.91," "," "," "," "," "," "," "," "," "," "," "," "," "," "," "," "," "," "," "," "," "," "," "," "," "," "," "," "," "," "," "," "," "," "," "," "," "," "," "," "," "," "," "," "," "," "," "," "," "," "," "," "," "," "," "," "," "," "," "," "," "," "," "," "," "," "," "," "," "," "," "," "," "," "," "," "," "," "," "," "," "," "," "," "," "," "," "," "," "," "," "," "," "," "," "," "," "," "," "," "," "," "," "]
["A12.25.002.005","Речевая аудиометрия в свободном звуковом поле",247.45," "," "," "," "," "," "," "," ",315.25," "," "," "," "," "," "," "," "," "," "," "," "," "," "," "," "," "," "," "," "," "," "," "," "," "," "," "," "," "," "," "," ",439.72," "," "," "," "," "," "," "," "," "," "," "," "," "," "," "," "," "," "," "," "," "," ",315.25," "," "," "," "," "," "," "," "," "," "," "," "," "," "," "," "," "," "," "," "," "," "," "," "," ",315.25," "," "," ",315.25," "," "," "," ",315.25," "," "," "," "," "," "," "," "," "," "," "," "]
["A14.20.001","Спринцевание влагалища",71.86," "," "," "," "," "," "," "," "," "," "," "," "," "," "," "," "," "," "," "," "," "," "," "," "," "," "," "," "," "," "," "," "," "," "," "," "," "," "," "," "," ",127.7," "," ",126.83," "," "," "," "," "," "," "," "," "," "," "," "," "," "," "," "," "," "," "," "," "," "," "," "," "," "," "," "," "," "," "," "," "," "," "," "," "," "," "," "," "," "," "," "," "," "," "," "," "," "," "," "," "," "," "," "," "," "," "," "," "," "," "," "," "," "," "]
["A16.01.002","Вскрытие панариция",327.49," ",417.22," "," "," "," "," "," ",417.22,417.22," "," "," "," "," "," "," "," "," "," "," "," ",417.22," "," "," "," "," "," "," "," ",416.24," "," ",415.91," "," ",599.63," ",587.19000000000005,533.80999999999995,581.95000000000005," ",412.64," ",536.1," "," "," "," ",417.22,417.22," "," "," "," "," "," "," ",417.22," "," "," "," "," "," "," "," "," ",417.22," "," "," "," "," "," "," "," "," "," "," "," "," "," "," "," ",417.22,580.30999999999995," "," "," "," ",417.22,417.22," "," "," "," "," "," "," "," "," "," "," "," "," "," "," "," "," "," "]
["A16.01.017","Удаление доброкачественных новообразований кожи",496.82," "," "," "," "," "," "," "," ",632.95000000000005,632.95000000000005," "," "," "," "," "," "," "," "," "," ",632.95000000000005," ",632.95000000000005," "," "," "," "," "," "," "," "," "," "," ",630.96," "," ",909.68," ",890.8,809.82,882.85," ",625.99," ",813.29," "," "," "," ",632.95000000000005,632.95000000000005," "," "," "," "," "," "," ",632.95000000000005," "," "," "," "," "," "," "," "," ",632.95000000000005," "," "," "," "," "," "," "," "," "," "," "," "," "," "," "," ",632.95000000000005,880.37," "," "," "," ",632.95000000000005,632.95000000000005," "," "," "," "," "," "," "," "," "," "," "," "," "," "," "," "," ",686.11]
["A16.10.015.002 Ст","Ревизия электрокардиостимулятора",388.03," "," "," "," "," "," "," "," "," "," "," "," "," "," "," "," "," "," "," "," "," "," "," "," "," "," "," "," "," "," "," "," "," "," "," "," "," "," "," "," "," "," "," "," "," "," "," "," "," "," "," "," "," "," "," "," "," "," "," "," "," "," "," "," "," "," "," "," "," "," "," "," "," "," "," "," "," "," "," "," "," "," "," "," "," "," "," "," "," "," "," "," "," "," "," "," "," "," "," "," "," "," "," "," "," "," "," "," "," "," "," "," "]
["A16.25.001","Дренирование фурункула наружного уха",186.93," "," "," "," "," "," ",238.15," ",238.15," "," "," "," "," "," "," "," "," "," "," "," "," ",238.15," "," "," "," "," "," "," "," "," "," "," ",237.4," "," ",342.27," ",335.17,304.7,332.17," "," "," ",306," ",237.77," "," "," "," "," "," "," "," "," "," "," "," "," "," "," "," "," "," "," ",258.14999999999998," "," "," "," "," "," "," "," "," ",238.15," "," "," "," "," "," "," "," ",238.15,331.24," "," "," "," ",238.15,238.15," "," "," "," "," "," "," "," "," "," "," "," "," "," "," "," "," "," "]
["A17.01.003","Ионофорез кожи",93.5," "," "," "," "," "," ",119.12," "," "," "," "," "," "," "," "," "," "," "," "," "," ",119.12," "," "," "," "," "," "," "," "," ",118.84," "," "," ",155.68,167.83," ",118.93,167.65,152.41,166.15," ",117.81,165.03,153.06,167.74," "," "," "," "," "," "," "," "," "," "," "," "," "," "," "," "," "," "," "," "," "," ",119.12," "," "," "," "," "," "," "," ",119.12," "," "," "," "," "," "," "," "," "," "," "," "," ",119.12," "," "," "," "," "," "," "," "," "," "," "," "," "," "," "," "," "," "," "]
["A17.08.002.001","Промывание миндалин лекарственными веществами аппаратное",543.79," "," "," "," "," "," "," "," "," "," "," "," "," "," "," "," "," "," "," "," ",692.79," "," "," "," "," "," "," "," "," "," "," "," "," "," "," "," "," "," "," "," ",966.31," "," "," ",890.18," "," "," "," "," "," "," "," "," "," ",692.79," "," "," "," "," "," "," ",692.79," "," ",750.97," "," "," "," "," "," "," "," "," ",692.79," "," ",692.79,692.79," "," "," "," "," "," "," "," "," "," "," "," "," "," "," "," "," "," "," "," "," "," "," "," "," "," "," "," "," "," "]
["A17.24.001","Чрескожная электронейростимуляция при заболеваниях периферической нервной системы",303.20999999999998," "," "," "," "," "," "," "," "," "," "," "," "," "," "," "," "," "," "," "," "," "," "," "," "," "," "," "," "," "," "," "," "," "," "," "," "," "," "," "," "," ",538.79999999999995," "," "," ",496.35," "," "," "," "," "," "," "," "," "," "," "," "," "," "," "," "," "," "," "," "," "," "," "," "," "," "," "," "," "," "," "," "," "," "," "," "," "," "," "," "," "," "," "," "," "," "," "," "," "," "," "," "," "," "," "," "," "," "," "," "," "," "," "," "," "," "]
["A17.25.002","Дарсонвализация органа слуха",91.3," ",116.32," "," "," "," ",116.32," "," "," "," "," "," "," "," "," "," "," "," "," "," "," ",116.32," "," "," "," "," "," "," "," ",116.04," "," ",115.95," "," "," "," "," "," ",162.24,113.39," "," "," "," "," "," "," "," "," "," "," "," "," "," "," "," "," "," "," "," "," "," "," "," "," "," ",116.32," "," "," "," "," "," "," "," ",116.32," "," "," "," "," "," "," "," "," "," "," "," "," "," "," "," "," "," "," "," "," "," "," "," "," "," "," "," "," "," "," "," "," "]
["A17.30.018","Воздействие электромагнитным излучением дециметрового диапазона (ДМВ)",45.02," ",57.36," "," "," "," "," "," "," "," "," "," "," "," "," "," "," "," "," "," ",57.36," "," "," "," "," "," "," "," "," "," "," "," "," "," "," "," "," "," "," "," ",80," "," "," "," "," ",57.27," "," "," "," "," "," "," "," "," "," "," "," "," "," "," "," "," "," "," "," "," "," "," "," "," "," "," "," "," "," "," "," "," "," "," "," "," "," "," "," "," "," "," "," "," "," "," "," "," "," "," "," "," "," "," "," "," "," "," "," "," "," "," "," "]
["A17.30.034","Ультрафонофорез лекарственный",114.81," "," "," "," "," "," "," "," "," "," "," "," "," "," "," "," "," "," "," "," "," "," "," "," "," "," "," "," "," "," "," ",145.91999999999999," "," "," "," "," "," "," "," "," ",204.02," "," ",202.64," "," "," "," "," "," "," "," "," "," "," "," "," "," "," "," "," "," "," "," "," "," "," "," "," "," "," "," "," "," "," "," "," "," "," "," "," "," "," "," "," "," "," "," "," "," "," "," "," "," "," "," "," "," "," "," "," "," "," "," "," "," "," "," "," "," "," "]
["A19.18.001","Лечебная физкультура при заболеваниях толстой кишки",91.22," "," "," "," "," "," "," "," "," "," "," "," "," "," "," "," "," "," "," "," "," "," ",116.21," "," "," "," "," "," "," "," "," "," "," ",115.85," ",163.74," ",116.03,163.56," "," "," "," ",161," "," ",116.03," "," "," "," "," "," "," "," "," "," "," "," "," "," "," "," "," "," "," "," "," "," "," "," "," "," "," "," "," "," "," "," "," "," "," "," "," "," "," "," "," "," "," "," "," "," "," "," "," "," "," "," "," "," "," "," "," "," "," "," "," "," "," "," "]
["A20.24.002","Парафинотерапия заболеваний периферической нервной системы",67.64," "," "," "," "," "," "," "," "," "," "," "," "," "," "," "," "," "," "," "," "," "," "," "," "," "," "," "," "," "," "," "," "," "," ",85.9," ",121.41," ",86.04," "," "," "," ",85.23,119.38,110.73," ",86.04," "," "," "," "," "," "," "," "," "," "," "," "," "," "," "," "," "," "," "," "," "," "," "," "," "," "," "," "," "," "," "," "," "," "," "," "," "," "," "," "," "," "," "," "," "," "," "," "," "," "," "," "," "," "," "," "," "," "," "," "," "," "," ",93.41]
["A21.01.001","Общий массаж медицинский",509.83," ",649.52," "," "," "," ",649.52," ",649.52," "," "," "," "," "," "," "," "," "," "," ",649.52,649.52,649.52,649.52,649.52," "," "," "," "," ",647.99,647.99," "," ",647.48,848.87,915.14,933.5,648.5,914.13,831.02,905.97," ",642.39,899.85,834.59,914.64,648.5," "," ",649.52,649.52," "," "," "," "," "," "," "," "," "," "," "," "," "," "," "," "," ",649.52," "," "," "," "," "," "," "," ",649.52,649.52," "," "," "," "," "," "," "," "," "," "," "," ",649.52," "," "," "," "," ",649.52," "," "," "," "," "," "," "," "," "," "," "," ",704.08]
["A21.12.002","Перемежающаяся пневмокомпрессия",33.979999999999997," "," "," "," "," "," "," "," ",43.29," "," "," "," "," "," "," "," "," "," "," "," "," "," "," "," "," "," "," "," "," "," "," "," "," "," "," "," "," "," "," "," "," "," "," "," ",55.63," "," "," "," "," "," "," "," "," "," "," "," "," "," "," "," "," "," "," "," "," "," "," "," "," "," "," "," "," "," "," "," "," "," "," "," "," "," "," "," "," "," "," "," "," "," "," "," "," "," "," "," "," "," "," "," "," "," "," "," "," "," "," "," "," "," "]
["A22.26.004","Лазерная корепраксия, дисцизия задней капсулы хрусталика",613.78," "," "," "," "," "," "," "," ",781.96,781.96," "," "," "," "," "," "," "," "," "," "," "," "," "," "," "," "," "," "," "," "," "," "," "," "," "," "," "," "," "," "," "," "," "," "," "," "," "," "," "," "," "," "," "," "," "," "," "," "," "," "," "," "," "," "," "," "," "," "," "," "," "," "," "," "," "," "," "," "," "," "," "," "," "," "," "," "," "," "," ",781.96," "," "," "," "," "," "," "," "," "," "," "," "," "," "," "," "," "," "," "," "," "," "]
["A22.26.012","Лазерстимуляция сетчатки",67.91," "," "," "," "," "," "," "," ",86.52,86.52," "," "," "," "," "," "," "," "," "," "," "," "," "," "," "," "," "," "," "," "," "," "," "," "," "," "," "," "," "," "," "," "," "," "," "," "," "," "," "," "," "," "," "," "," "," "," "," "," "," "," "," "," "," "," "," ",86.52,93.78," "," "," "," "," ",86.52," "," "," "," "," "," "," "," "," "," "," "," "," "," "," ",86.52," "," "," "," "," "," "," "," "," "," "," "," "," "," "," "," "," "," "," "," "," "," "]
["A24.01.004.001.2","Криодеструкция кожи (удаление папилломы менее 2 мм (1ед.))",104.99," "," "," "," "," "," "," "," ",133.76," "," "," "," "," "," "," "," "," "," "," "," "," "," "," "," "," "," "," "," "," "," "," "," "," "," "," "," "," "," "," "," "," "," "," "," "," "," "," "," "," "," "," "," "," "," "," "," "," "," "," "," "," "," "," "," "," "," "," "," ",133.76," "," "," "," "," "," "," "," "," "," "," "," "," "," "," "," "," "," "," "," "," "," "," "," "," "," "," "," "," "," "," "," "," "," "," "," "," "," "," "," "," "," "]
["A24.31.008 Ст","Совмещенная однофотонно-эмиссионная компьютерная томография щитовидной железы и двухфазное исследование паращитовидных желез с введением контрастного вещества",2769.13," "," "," "," "," "," "," "," "," "," ",3527.87," "," "," "," "," "," "," "," "," "," "," "," "," "," "," "," "," "," "," "," "," "," "," "," "," "," "," "," "," "," "," "," "," "," "," "," "," "," "," "," "," "," "," "," "," "," "," "," "," "," "," "," "," "," "," "," ",3824.17," "," "," "," "," "," "," "," "," "," "," "," "," "," "," "," "," "," "," "," "," "," "," "," "," "," "," "," "," "," "," "," "," ",3527.87," "," "," "," "," "," "," "," "," "," "]
["A26.01.001.001","Микробиологическое (культуральное) исследование гнойного отделяемого из пупочной ранки на аэробные и факультативно-анаэробные микроорганизмы",190.73," "," "," "," "," "," "," "," "," ",242.99," "," "," "," "," "," "," "," "," "," "," "," "," "," "," "," "," "," "," "," "," "," "," "," "," "," "," "," "," "," "," "," "," "," "," "," "," "," "," "," "," "," "," "," "," "," "," "," "," "," "," "," "," "," "," "," "," "," "," "," "," "," "," "," "," "," "," "," "," "," "," "," "," "," "," "," "," "," "," "," "," "," "," "," "," "," "," "," "," "," "," "," "," ",242.99,242.23,236.89,341.98,336.64,338.93,349.23," ",263.39999999999998]
["A26.03.001","Микробиологическое (культуральное) исследование костной ткани на аэробные и факультативно-анаэробные микроорганизмы",276.81," "," "," "," "," "," "," "," ",352.66,352.66," "," "," "," "," "," "," "," "," "," "," "," "," "," "," "," "," "," "," "," "," "," "," "," "," "," ",496.87,506.84," "," ",451.2," "," "," ",488.57,453.14," "," "," "," "," "," "," "," "," "," "," "," "," "," "," "," "," "," "," "," "," "," "," "," "," "," "," "," "," "," "," "," "," "," "," "," "," "," "," "," "," "," "," "," "," "," "," "," "," "," "," "," "," "," "," "," "," ",352.66," "," ",496.32,488.57,491.89,506.84," ",382.27]
["A26.05.009.001","Микроскопическое исследование \"толстой капли\" мазка крови на малярийные плазмодии (Plasmodium)",744.89," "," "," "," "," "," "," "," "," "," "," "," "," "," "," "," "," "," "," "," "," "," ",948.99," "," "," "," "," "," "," "," "," "," "," "," "," "," "," "," ",1335.59," "," "," "," "," "," "," "," "," "," "," "," "," "," "," "," "," "," "," "," "," "," "," "," "," "," "," "," "," "," "," "," "," "," "," "," "," "," "," "," "," "," "," "," "," "," "," "," "," "," "," "," "," "," "," "," "," "," "," "," "," "," "," "," "," "," "," "," "," "," "," ",1028.69]
["A26.05.010","Микроскопическое исследование мазка крови на микрофилярии",601.98," "," "," "," "," "," "," "," "," "," "," "," "," "," "," "," "," "," "," "," "," "," "," "," "," "," "," "," "," "," "," "," "," "," "," "," "," "," "," "," "," "," "," "," "," "," "," "," "," "," "," "," "," "," "," "," "," "," "," "," "," "," "," "," "," "," "," "," "," "," "," "," "," "," "," "," "," "," "," "," "," "," "," "," "," "," "," "," "," "," "," "," "," "," "," "," "," "," "," "," "," "," "," "," "," "," "," "," "," "," "," ",831.33]
["A26.05.019.005","Молекулярно-биологическое исследование крови на вирусный гепатит С (Hepatitis С virus) количественно",1479.38," "," "," "," "," "," "," "," "," ",1884.73," "," "," "," "," "," "," "," "," "," "," "," "," "," "," "," "," "," "," "," "," "," "," "," "," "," "," "," "," "," "," "," "," "," "," "," "," "," "," "," "," "," "," "," "," "," "," ",1884.73,1884.73," "," "," "," "," "," ",1884.73," "," "," "," "," "," "," "," "," "," "," "," "," "," "," "," "," "," "," "," "," "," ",1884.73," "," "," "," "," "," "," "," "," "," "," "," "," "," "," "," "," "," "," "," "," "," "," "]
["A26.05.031.002","Молекулярно-биологическое исследование крови на  ДНК вируса простого герпеса 6 типа (HSV 6)",202.04," "," "," "," "," "," "," "," "," ",257.39999999999998," "," "," "," "," "," "," "," "," "," "," "," "," "," "," "," "," "," "," "," "," "," "," "," "," "," "," "," "," "," "," "," "," "," "," "," "," "," "," "," "," "," "," "," "," "," "," ",257.39999999999998," "," "," "," "," "," "," ",257.39999999999998," "," "," "," "," "," "," "," "," "," "," "," "," "," "," "," "," "," "," "," "," "," ",257.39999999999998," "," "," "," "," "," "," "," "," "," "," "," "," "," "," "," "," "," "," "," "," "," "," "]
["A26.05.035.002","Определение ДНК простого герпеса 1 и 2 типов (Herpes simplex virus types 1, 2) методом ПЦР в крови, количественное исследование",343.73," "," "," "," "," "," "," "," "," ",437.91," "," "," "," "," "," "," "," "," "," "," "," "," "," "," "," "," "," "," "," "," "," "," "," "," "," "," "," "," "," "," "," "," "," "," "," "," "," "," "," "," "," "," "," "," "," "," "," "," "," "," "," "," "," "," "," "," "," "," "," "," "," "," "," "," "," "," "," "," "," "," "," "," "," ",437.91," "," "," "," "," "," "," "," "," "," "," "," "," "," "," "," "," "," "," "," "," "," "," "," "," "," "," "]
["A26.06.016.001","Определение антител классов А, M, G (IgA, IgM, IgG) к хламидии пневмонии (Chlamidia pheumoniae) в крови (без забора материала)",168.41," "," "," "," "," "," "," "," "," ",214.55,214.55," "," "," "," "," "," "," "," "," "," "," "," "," "," "," "," "," "," "," "," "," "," "," "," "," "," "," "," "," "," "," "," "," "," "," "," "," "," "," "," "," "," "," "," "," "," "," "," "," "," "," "," "," "," "," "," "," "," "," "," "," "," "," "," "," "," "," "," "," "," "," "," "," ",214.55," "," "," "," "," "," "," "," "," "," "," "," "," "," "," "," "," "," "," "," "," "," "," "," "," "," "," "]
["A26.06.022.002","Определение антител класса M (IgM) к цитомегаловирусу (Cytomegalovirus) в крови",164.85," "," "," "," "," "," "," "," "," ",210.02," "," ",210.02," "," "," "," "," "," "," "," "," "," "," "," "," "," "," "," "," "," "," "," "," "," "," "," "," "," ",295.58," "," "," "," "," "," "," "," "," "," "," "," "," "," "," "," "," ",210.02,210.02," "," "," "," "," "," ",210.02," "," "," "," "," "," "," "," "," "," "," "," "," "," "," "," "," "," ",210.02," "," "," ",210.02," "," "," "," ",210.02," "," "," "," "," "," "," "," "," "," "," "," "," "," "," "," "," "," "]
["A26.06.024","Определение антител класса G (IgG) к эхинококку однокамерному в крови",111.69," "," "," "," "," "," "," "," "," "," "," "," "," "," "," "," "," "," "," "," "," "," "," "," "," "," "," "," "," "," "," "," "," "," "," "," "," "," "," "," "," "," "," "," ",197.13," "," "," "," "," "," "," "," "," "," "," "," "," "," "," "," "," "," "," "," ",142.29," "," "," "," "," "," "," "," "," "," "," "," "," "," "," "," "," "," "," "," "," "," "," "," "," "," "," "," "," "," "," "," "," "," "," "," "," "," "," "," "," "," "," "," "," "," "]
["A26.06.031","Определение антител класса G (IgG) к ядерному антигену (NA) вируса Эпштейна-Барр (Epstein-Barr virus) в крови",135.13," "," "," "," "," "," "," "," ",172.16,172.16," "," "," "," "," "," ",172.16," "," "," "," "," "," "," "," "," "," "," "," "," "," "," "," "," "," "," "," "," "," ",242.29," "," "," "," ",238.5," "," "," "," "," "," "," "," "," "," "," "," ",172.16,172.16," "," "," "," "," "," ",172.16," "," "," "," "," "," "," "," "," "," "," "," "," "," "," "," "," "," ",172.16," "," "," ",172.16," "," "," ",172.16,172.16," "," "," "," "," "," "," "," "," "," "," "," "," "," "," "," "," ",186.61]
["A26.06.038.001","Определение антител классов M, G (IgM, IgG) к антигену вирусного гепатита В (HbeAg Hepatitis B virus) в крови (без забора материала)",96.22," "," "," "," "," "," "," "," "," ",122.58,122.58," "," "," "," "," ",122.58," "," "," "," "," "," "," "," "," "," "," "," "," "," "," "," "," ",122.2," "," "," "," "," "," "," "," "," "," "," "," "," "," "," "," "," "," "," "," "," "," "," ",122.58," "," "," "," "," "," "," "," "," "," "," "," "," "," "," "," "," "," "," "," "," "," "," "," "," "," "," "," "," ",122.58," "," "," ",122.58,122.58," "," "," "," "," "," "," "," "," "," "," "," "," "," "," "," "," "," "]
["A26.06.039.003","Определение антител классов M, G (IgM, IgG) к антигену вирусного гепатита В (HbcAg Hepatitis B virus) в крови (без забора материала)",96.22," "," "," "," "," "," "," "," "," ",122.58," "," "," "," "," "," ",122.58," "," "," "," "," "," "," "," "," "," "," "," "," "," "," "," "," "," "," "," "," "," "," "," "," "," "," "," "," "," "," "," "," "," "," "," "," "," "," "," "," "," "," "," "," "," "," "," "," "," "," "," "," "," "," "," "," "," "," "," "," "," "," "," "," "," "," "," "," "," "," ",122.58," "," "," "," "," "," "," "," "," "," "," "," "," "," "," "," "," "," "," "," "," "," "," "]
["A26.06.045.003","Определение антител класса M (IgM) к вирусу простого герпеса 1 и 2 типов (Herpes simplex virus types 1, 2) в крови",165.09," "," "," "," "," "," "," "," ",210.32,210.32," "," "," "," "," "," "," "," "," "," "," "," "," "," "," "," "," "," "," "," "," "," "," "," "," "," "," "," "," "," "," "," "," "," "," "," "," "," "," "," "," "," "," "," "," "," "," "," "," "," "," "," "," "," "," "," "," "," "," "," "," "," "," "," "," "," "," "," "," "," "," "," "," "," "," "," "," "," "," "," "," "," "," "," "," "," "," "," "," "," "," "," "," "," "," "," "," "," "," "," "," ",227.99]
["A26.06.049","Определение антител классов M, G (IgM, IgG) к вирусу иммунодефицита человека ВИЧ-2 (Human immunodeficiency virus HIV 2) в крови",141.62," "," "," "," "," "," "," "," "," ",180.42," "," "," "," "," "," "," "," "," "," "," "," "," "," "," "," "," "," "," "," "," "," "," "," "," "," ",254.21,259.31," ",253.92,230.84," "," "," ",249.96,231.83,254.07," "," "," "," "," "," "," "," "," "," ",180.42,180.42," "," "," "," "," "," "," "," "," "," "," "," "," "," "," "," "," "," "," "," "," "," "," "," "," "," "," "," "," ",180.42," "," "," "," "," "," "," "," "," "," "," "," "," "," "," "," "," "," "," "," "," "," ",195.58]
["A26.06.057.002","Определение антител класса M (IgM) к микоплазме пневмонии  (Mycoplasma pheumoniae) в крови",120.21," "," "," "," "," "," "," "," "," ",153.15," "," "," "," "," "," "," "," "," "," "," "," "," "," "," "," "," "," "," "," "," "," "," "," "," "," "," "," "," "," "," "," "," "," "," "," "," "," "," "," "," "," "," "," "," "," "," "," "," "," "," "," "," "," "," ",153.15," "," "," "," "," "," "," "," "," "," "," "," "," "," "," "," "," "," ",153.15," "," "," "," "," "," "," ",153.15,153.15," "," "," "," "," "," "," "," "," "," "," "," "," "," "," "," "," "," "]
["A26.06.070.001","Определение антител классов M, G (IgM, IgG) к вирусу рухелла (Ruhella virus) в крови (без забора материала)",98.9," "," "," "," "," "," "," "," "," ",126," "," ",126," "," "," "," "," "," "," "," "," "," "," "," "," "," "," "," "," "," "," "," "," "," "," "," "," "," "," "," "," "," "," "," "," "," ",125.8," "," "," "," "," "," "," "," "," "," "," "," "," "," "," "," "," "," "," "," "," "," "," "," "," "," "," "," "," "," "," "," "," "," "," "," ",126," "," "," "," "," "," "," "," "," "," "," "," "," "," "," "," "," "," "," "," "," "," "," "," "," "," "," "]
["A26.06.071.005","Определение титра антител класса М (IgМ) к вирусу краснухи  (Rubeolla-титр IgM) в крови",371.31," "," "," "," "," "," "," "," "," ",473.05," "," ",473.05," "," "," "," "," "," "," "," "," "," "," "," "," "," "," "," "," "," "," "," "," "," "," "," "," "," "," "," "," "," "," "," "," "," "," "," "," "," "," "," "," "," "," "," ",473.05," "," "," "," "," "," "," "," "," "," "," "," "," "," "," "," "," "," "," "," "," "," "," "," "," "," ",473.05," "," "," "," "," "," "," "," "," "," "," "," "," "," "," "," "," "," "," "," "," "," "," "," "," "," "," "]
["A26.06.080.001","Определение антител к токсокаре собак (Toxocara canis) в крови (без забора материала)",101.96," "," "," "," "," "," "," "," ",129.9,129.9," "," "," "," "," "," "," "," "," "," "," "," "," "," "," "," "," "," "," "," "," "," "," "," "," "," "," "," "," "," "," "," "," "," "," "," "," "," "," "," "," "," "," "," "," "," "," "," "," "," "," "," "," "," "," "," "," "," "," "," "," "," "," "," "," "," "," "," "," "," "," "," "," "," "," "," "," "," "," "," "," "," "," "," "," "," "," "," "," "," "," "," "," "," "," "," "," "," "," "," "," "," "]
["A26.06.082.005.001","Определение антител к бледной трепонеме (Treponema Pallidum) в нетрепонемных тестах (RPR, РМП, РСК) (качественное и полуколичественное исследование) в ликворе (без забора материала)",106.51," "," "," "," "," "," "," "," "," ",135.69," "," "," "," "," "," ",135.69," "," "," "," "," "," "," "," "," "," "," "," "," "," "," "," "," "," "," "," "," "," "," "," ",189.27," "," "," "," "," "," "," "," "," "," "," "," "," "," "," "," "," "," "," "," "," "," "," ",135.69," "," "," "," "," "," "," "," "," "," "," "," "," "," "," "," "," "," ",135.69," "," "," "," "," "," "," "," "," "," "," "," "," "," "," "," "," "," "," "," "," "," "," "," "," ",135.69," "]
["A26.06.094.001","Определение антител классов M, G (IgM, IgG) к иерсинии псевдотуберкулеза (Yersinia pseudotuberculosis) в крови (без забора материала)",102.71," "," "," "," "," "," "," "," "," "," "," "," "," "," "," "," "," "," "," "," "," "," "," "," "," "," "," "," "," "," "," "," "," "," "," "," "," "," "," "," "," "," "," "," "," "," "," "," "," "," "," "," "," "," "," "," "," "," "," "," "," "," "," "," "," "," "," "," "," "," "," "," "," "," "," "," "," "," "," "," "," "," "," "," "," "," "," "," ",130.85," "," "," "," "," "," "," "," "," "," "," "," "," "," "," "," "," "," "," "," "," "," "," "]
["A26.06.097.001","Определение антител классов M, G (IgM, IgG) к шигелле Зонне (Shigella zonnei) в крови (без забора материала)",102.71," "," "," "," "," "," "," "," "," ",130.85," "," "," "," "," "," "," "," "," "," "," "," "," "," "," "," "," "," "," "," "," "," "," "," "," "," "," "," "," "," "," "," "," "," "," "," "," "," "," "," "," "," "," "," "," "," "," "," "," "," "," "," "," "," "," "," "," "," "," "," "," "," "," "," "," "," "," "," "," "," "," "," "," "," "," "," "," "," ",130.85," "," "," "," "," "," "," "," "," "," "," "," "," "," "," "," "," "," "," "," "," "," "," "]
["A26.06.114.006","Определение антител класса М (IgМ) к антигенам описторхисов (Opisthorchis felineus) в крови",155.54," "," "," "," "," "," "," "," "," "," "," "," "," "," "," "," "," "," "," "," "," "," "," "," "," "," "," "," "," "," "," "," "," "," "," "," "," "," "," "," "," "," "," "," "," "," "," "," "," "," "," "," "," "," "," "," "," "," "," "," "," "," "," "," "," ",198.16," "," "," "," "," "," "," "," "," "," "," "," "," "," "," "," "," "," "," "," "," "," "," "," "," "," "," "," "," "," "," "," "," "," "," "," "," "," "," "," "," "," "," "," "," "," "]
["A26.06.126","Определение антител класса G  (IgG) к глиадину в крови, при целиакии",144.08000000000001," "," "," "," "," "," "," "," "," "," "," "," "," "," "," "," "," "," "," "," "," "," "," "," "," "," "," "," "," "," "," "," "," "," "," "," "," "," "," "," "," "," "," "," "," "," "," "," "," "," "," "," "," "," "," "," "," "," "," "," "," "," "," "," "," "," "," "," "," "," "," "," "," "," "," "," "," "," "," "," "," "," "," "," ",183.56," "," "," ",183.56," "," "," "," "," "," "," "," "," "," "," "," "," "," "," "," "," "," "," "," "," "," "," "]
["A26.08.001","Микробиологическое (культуральное) исследование слизи и пленок с миндалин на палочку дифтерии (Corinebacterium diphtheriae)",130.43," "," "," "," "," "," ",166.17," ",166.17,166.17," "," "," "," "," "," "," "," "," "," "," "," "," "," "," "," "," "," "," "," "," "," "," ",237.64," ",217.17,234.12,238.82," "," "," "," "," "," ",230.21,213.51," "," "," "," "," "," "," "," "," "," "," "," ",166.17," "," "," "," "," "," "," "," "," "," "," "," "," "," "," "," "," "," "," "," "," "," "," "," "," "," "," "," "," ",166.17," "," "," "," "," "," "," "," "," "," "," "," "," "," ",166.17,165.65,161.99,233.86,230.21,231.77,238.82,166.17,180.12]
["A26.09.001.003","Микроскопическое исследование лаважной жидкости на микобактерии туберкулеза (Mycobacterium tuberculosis)",302.8," "," "," "," "," "," "," "," "," "," "," "," "," "," "," "," ",385.77," "," ",385.77," "," "," "," "," "," "," "," "," "," "," "," "," "," "," "," "," "," "," "," "," ",538.08000000000004," "," "," "," "," "," "," "," "," "," "," "," "," "," "," "," "," "," "," "," "," "," "," "," "," "," "," "," "," "," "," "," "," "," "," "," "," "," "," "," "," "," "," "," "," "," "," "," "," "," "," "," "," "," "," "," "," "," "," "," "," "," "," "," "," "," "," "," "," "," "]
["A26.09.013","Микробиологическое (культуральное) исследование мокроты абсцессов на неспорообразующие анаэробные микроорганизмы",190.73," "," "," "," "," "," "," "," "," ",242.99," "," "," "," "," "," "," "," "," "," "," "," "," "," "," "," "," "," "," "," "," "," "," "," "," "," "," "," "," "," "," "," "," "," "," "," "," "," "," "," "," "," "," "," "," "," "," "," "," "," "," "," "," "," "," "," "," "," "," "," "," "," "," "," "," "," "," "," "," "," "," "," "," "," "," "," "," "," ",242.99," "," "," "," "," "," "," "," "," "," "," "," "," "," ",242.99,242.23," ",341.98,336.64,338.93,349.23," ",263.39999999999998]
["A26.09.017.003","Молекулярно-биологическое исследование биологического материала на респираторные вирусные инфекции - ОРВИ-скрин: РНК респираторного вируса (Human Respiratory Sincytial virus - hRSv), метапневмовируса (Human Metapnevmovirus-hMpv), вирусов парагриппа 1,2,3",604.79," "," "," "," "," "," "," "," "," ",770.5," "," "," "," "," "," "," "," "," "," "," "," "," "," "," "," "," "," "," "," "," "," "," "," "," "," "," "," "," "," "," "," "," "," "," "," "," "," "," "," "," "," "," "," "," "," "," "," "," "," "," "," "," "," "," ",770.5," "," "," "," "," "," "," "," "," "," "," "," "," "," "," "," "," "," "," "," "," "," ",770.5," "," "," "," "," "," "," "," "," "," "," "," "," "," ",770.5," "," "," "," "," "," "," "," "]
["A26.09.027","Микроскопическое исследование бронхоальвеолярной лаважной жидкости на грибы (дрожжевые и мицелиальные)",302.8," "," "," "," "," "," "," "," "," "," "," "," "," "," "," "," "," "," "," ",385.77," "," "," "," "," "," "," "," "," "," "," "," "," "," "," "," "," "," "," "," "," "," "," "," "," "," "," "," "," "," "," "," "," "," "," "," "," "," "," "," "," "," "," "," "," "," "," "," "," "," "," "," "," "," "," "," "," "," "," "," "," "," "," "," "," "," "," "," ",385.77," "," "," "," "," "," "," "," "," "," "," "," "," "," "," "," "," "," "," "," "," "," ",418.17]
["A26.09.033","Микроскопическое исследование мокроты на цисты криптоспоридий (Cryptosporidium parwum)",745.72," "," "," "," "," "," "," "," "," "," "," "," "," "," "," "," ",950.05," "," "," "," "," "," "," "," "," "," "," "," "," "," "," "," "," "," "," "," "," "," "," "," "," "," "," "," "," "," "," "," "," "," "," "," "," "," "," "," "," "," "," "," "," "," "," "," "," "," "," "," "," "," "," "," "," "," "," "," "," "," "," "," "," "," "," "," "," "," "," "," "," "," "," "," "," "," "," "," "," "," "," "," "," "," "," "," "," "," "," "," "," "," "," "]
["A26.14.005.001","Микроскопическое исследование желчи на грибы рода аспергиллы (Aspergillus spp.)",302.8," "," "," "," "," "," "," "," "," "," "," "," "," "," "," "," "," "," "," ",385.77," "," "," "," "," "," "," "," "," "," "," "," "," "," "," "," "," "," "," "," "," "," "," "," "," "," "," "," "," "," "," "," "," "," "," "," "," "," "," "," "," "," "," "," "," "," "," "," "," "," "," "," "," "," "," "," "," "," "," "," "," "," "," "," "," "," "," "," "," "," "," "," "," "," "," "," "," "," "," "," "," "," "," "," "," "," "," "," "," "," "," "," "]
["A26.19.007","Микробиологическое (культуральное) исследование фекалий/ректального мазка на возбудитель диффициального клостридиоза (Clostridium difficile)",192.28," "," "," "," "," "," "," "," "," "," "," "," "," "," "," "," "," "," "," "," "," "," "," "," "," "," "," "," "," "," "," "," "," "," "," "," "," "," "," "," "," "," "," "," "," "," "," "," "," "," "," "," "," "," "," "," "," "," "," "," "," "," "," "," "," "," "," "," "," "," "," "," "," "," "," "," "," "," "," "," "," "," "," "," "," "," "," "," ",244.96," "," "," "," "," "," "," "," "," "," "," "," "," "," ",244.96," "," ",344.76,339.37,341.68,352.06," ",265.54000000000002]
["A26.19.020.001","Молекулярно-биологическое исследование кала на ДНК термофильных кампилобактерий (Campilobacter spp.)",429.64," "," "," "," "," "," "," "," "," ",547.36," "," "," "," "," "," "," "," "," "," "," "," "," "," "," "," "," "," "," "," "," "," "," "," "," "," "," "," "," "," "," "," "," "," "," "," "," "," "," "," "," "," "," "," "," "," "," "," "," "," "," "," "," "," "," ",547.36," "," "," "," "," "," "," "," "," "," "," "," "," "," "," "," "," "," "," "," "," "," "," "," "," "," "," "," "," "," "," "," "," "," "," "," "," ",547.36," "," "," "," "," "," "," "," "]
["A26.20.007","Микробиологическое исследование отделяемого женских половых органов на неспорообразующие анаэробные микроорганизмы",190.73," "," "," "," "," "," "," "," "," "," "," "," "," "," "," "," "," "," "," "," "," "," "," "," "," "," "," "," "," "," "," "," "," "," "," "," "," "," "," "," "," "," "," "," "," "," "," "," "," "," "," "," "," "," "," "," "," "," "," "," "," "," "," "," "," "," "," "," "," "," "," "," "," "," "," "," "," "," "," "," "," "," "," "," "," "," "," "," ",242.99," "," "," "," "," "," "," "," "," "," "," "," "," "," ",242.99,242.23," ",341.98,336.64,338.93,349.23," "," "]
["A26.20.010","Молекулярно-биологическое исследование отделяемого из цервикального канала на вирус простого герпеса 1 и 2 типов (Herpes simplex virus types 1, 2)",296.42," "," "," "," "," "," "," "," "," ",377.64,377.64," ",377.64," "," "," "," "," "," "," "," "," "," "," "," "," "," "," "," "," "," "," "," "," "," "," "," "," "," "," "," "," "," "," ",523.17999999999995," "," "," "," "," "," "," "," "," "," "," "," ",377.64,377.64," "," "," "," "," "," ",377.64," "," "," "," "," "," "," "," "," "," "," "," "," "," "," "," "," "," "," "," "," "," ",377.64," "," "," ",377.64,377.64," "," "," "," "," "," "," "," "," "," "," "," "," "," "," "," "," "," "]
["A26.20.014","Молекулярно-биологическое исследование влагалищного отделяемого на цитомегаловирус (Cytomegalovirus)",287.48," "," "," "," "," "," "," "," "," "," "," "," ",366.25," "," "," "," "," "," "," "," "," "," "," "," "," "," "," "," "," "," "," "," "," "," "," "," "," "," "," "," "," "," "," "," "," "," "," "," "," "," "," "," "," "," "," "," ",366.25," "," "," "," "," "," "," "," "," "," "," "," "," "," "," "," "," "," "," "," "," "," "," "," "," "," "," "," "," "," ",366.25," "," "," "," ",366.25," "," "," "," "," "," "," "," "," "," "," "," "," "," "," "," "," "," "]
["A26.20.031.004","Молекулярно-биологическое исследование клинического материала на ДНК вирусов папилломы человека 6 и 11 типов (HPV 6/11)",238.66," "," "," "," "," "," "," "," "," ",304.05," "," "," "," "," "," "," "," "," "," "," "," "," "," "," "," "," "," "," "," "," "," "," "," "," "," "," "," "," "," "," "," "," "," "," "," "," "," "," "," "," "," "," "," "," "," "," ",304.05," "," "," "," "," "," "," ",304.05," "," "," "," "," "," "," "," "," "," "," "," "," "," "," "," "," "," "," "," "," "," ",304.05," "," "," "," "," "," "," "," "," "," "," "," "," "," "," "," "," "," "," "," "," "," "," "]
["A26.21.007","Молекулярно-биологическое исследование отделяемого из уретры на хламидии трахоматис (Chlamydia trachomatis)",296.42," "," "," "," "," "," "," "," "," ",377.64,377.64," ",377.64," "," "," "," "," "," "," "," "," "," "," "," "," "," "," "," "," "," "," "," "," "," "," "," "," "," "," "," "," "," "," ",523.17999999999995," "," "," "," "," "," "," "," "," "," "," "," ",377.64,377.64," "," "," "," "," "," "," "," "," "," "," "," "," "," "," "," "," "," "," "," "," "," "," "," "," "," "," "," "," ",377.64," "," "," "," ",377.64," "," "," "," "," "," "," "," "," "," "," "," "," "," "," "," "," ",409.36]
["A26.21.008.005","Молекулярно-биологическое исследование отделяемого из уретры на вирус папиломы человека (типирование 16/18)",280.70999999999998," "," "," "," "," "," "," "," "," ",357.62,357.62," "," "," "," "," "," "," "," "," "," "," "," "," "," "," "," "," "," "," "," "," "," "," "," "," "," "," "," "," "," "," "," "," "," "," "," "," "," "," "," "," "," "," "," "," "," ",357.62," "," "," "," "," "," "," "," "," "," "," "," "," "," "," "," "," "," "," "," "," "," "," "," "," "," "," "," "," "," ",357.62," "," "," ",357.62,357.62," "," "," "," "," "," "," "," "," "," "," "," "," "," "," "," "," "," "]
["A26.21.023.004","Молекулярно-биологическое исследование отделяемого из уретры на грибы рода кандиды (Candida alb.)",287.48," "," "," "," "," "," "," "," "," ",366.25," "," ",366.25," "," "," "," "," "," "," "," "," "," "," "," "," "," "," "," "," "," "," "," "," "," "," "," "," "," "," "," "," "," "," "," "," "," "," "," "," "," "," "," "," "," "," "," ",366.25," "," "," "," "," "," "," "," "," "," "," "," "," "," "," "," "," "," "," "," "," "," "," "," "," "," "," "," "," "," ",366.25," "," "," "," ",366.25," "," "," "," "," "," "," "," "," "," "," "," "," "," "," "," "," "," "]
["A26.25.002.001","Микроскопическое исследование отделяемого из ушей на грибы рода аспергиллы (Aspergillus niger)",302.8," "," "," "," "," "," "," "," "," ",385.77," "," "," "," "," "," ",385.77," "," ",385.77," "," "," "," "," "," "," "," "," "," "," "," "," "," "," "," "," "," "," "," "," "," "," "," "," "," "," "," "," "," "," "," "," "," "," "," "," "," "," "," "," "," "," "," "," "," "," "," "," "," "," "," "," "," "," "," "," "," "," "," "," "," "," "," "," "," "," "," "," "," "," "," "," "," "," "," "," "," "," "," "," "," "," "," "," "," "," "," "," "," "," "," "]
["A26.26.004","Микробиологическое (культуральное) исследование отделяемого конъюнктивы на аэробные и факультативно-анаэробные условно-патогенные микроорганизмы",247.35," "," "," "," "," "," ",315.12," ",315.12,315.12," "," "," "," "," "," "," "," "," "," "," "," "," "," "," "," "," "," "," "," "," "," "," "," "," ",411.84,443.99,452.9," "," "," "," "," "," ",436.57,404.91," "," "," "," "," "," "," "," "," "," "," "," "," "," "," "," "," "," "," "," "," "," "," "," "," "," "," "," "," "," "," "," "," "," "," "," "," "," "," "," "," "," ",315.12," "," "," "," "," "," "," "," "," "," "," "," "," "," ",315.12,314.13,307.20999999999998,443.5,436.57,439.54,452.9," ",341.59]
["A26.26.026.002","Микроскопическое исследование отделяемого конъюнктивы на вирус герпеса человека (Herpes-virus 6)",264.11," "," "," "," "," "," "," "," "," "," "," "," "," "," "," "," "," "," "," "," "," "," "," "," "," "," "," "," "," "," "," "," "," "," "," "," "," "," "," "," "," "," "," "," "," "," "," "," "," "," "," "," "," "," "," "," "," ",336.48," "," "," "," "," "," "," "," "," "," "," "," "," "," "," "," "," "," "," "," "," "," "," "," "," "," "," "," "," "," "," "," "," "," "," ",336.48," "," "," "," "," "," "," "," "," "," "," "," "," "," "," "," "," "," "]
["A26.28.008","Микроскопическое исследование осадка мочи на трихомонады (Trichomonas vaginalis)",302.8," "," "," "," "," "," "," "," "," "," "," "," "," "," "," "," "," "," "," ",385.77," "," "," "," "," "," "," "," "," "," "," "," "," "," "," "," "," "," "," ",542.91999999999996," "," "," "," "," "," "," "," "," "," "," "," "," "," "," "," "," ",385.77," "," "," "," "," "," "," "," "," "," "," "," "," "," "," "," "," "," "," "," "," "," "," "," "," "," "," "," "," "," "," "," "," "," "," "," "," "," "," "," "," "," "," "," "," "," "," "," "," "," "," "," "," "," "]
["A26.30.006","Определение чувствительности микроорганизмов к бактериофагам",145.35," "," "," "," "," "," ",185.18," "," ",185.18," "," "," "," "," "," "," "," "," "," "," "," "," "," "," "," "," "," "," "," "," "," "," "," "," "," "," "," "," "," "," "," "," "," "," "," "," "," "," "," "," "," "," "," "," "," "," "," "," "," "," "," "," "," "," "," "," "," "," "," "," "," "," "," "," "," "," "," "," "," "," "," "," "," "," "," "," "," ",185.18," "," "," "," "," "," "," "," "," "," "," "," "," "," ",185.18," "," "," ",256.54000000000002,258.29000000000002," "," "," "]
["B01.001.001","Прием (осмотр, консультация) врача-акушера-гинеколога ",385.02," "," "," "," "," "," "," "," "," ",490.52," "," "," ",490.52,490.52,490.52," "," "," "," "," "," "," ",490.52," "," "," "," "," "," ",489.36,489.36,489.36,701.51,488.98,641.05999999999995,691.11,704.97,489.75,690.34,627.58000000000004,684.18,478.19,485.13,679.56," "," ",489.75,632.97," ",490.52,490.52,490.52," "," "," "," "," "," ",490.52," "," "," "," "," "," "," "," "," ",490.52," "," "," "," ",490.52," ",490.52," "," "," "," "," "," "," ",490.52," ",490.52,682.26," "," "," ",490.52,490.52," "," ",531.71," "," "," ",490.52," "," "," "," "," "," "," "," "," "," ",490.52,531.71]
["B01.002.001 Д ОБР","Прием (осмотр, консультация) врача-аллерголога-иммунолога",914.23," "," "," "," "," "," "," ",1164.73,1164.73," "," "," "," "," "," "," "," "," "," "," "," "," "," "," "," "," "," "," "," "," "," "," "," "," "," "," ",1641.04," "," "," "," "," "," "," ",1613.62," "," "," "," "," "," "," "," "," "," "," "," "," "," "," "," "," "," "," "," "," "," ",1262.55," ",1164.73," "," "," "," "," "," "," "," "," ",1164.73," "," "," "," "," "," ",1164.73,1620.02," "," "," "," ",1164.73," "," "," "," "," "," "," "," "," "," "," "," "," "," "," "," "," "," ",1262.55]
["B01.003.001.003","Прием (осмотр, консультация) врачом-анестезиологом-реаниматологом по диагностике, мониторингу и коррекции нарушений гемостатического потенциала крови больного с описанием и интерпритацией данных инструментального ананлиза системы гемостаза (с использованием web-технологий)",1495.89," "," "," "," "," "," "," "," "," "," "," "," ",1905.76," "," "," "," "," "," "," "," "," "," "," "," "," "," "," "," "," "," "," "," "," "," "," "," "," "," "," "," "," "," "," "," "," "," ",1902.77," "," "," "," "," "," "," "," "," "," "," "," "," "," ",1905.76," "," "," "," "," "," "," "," "," "," "," "," "," "," "," "," "," "," "," "," "," "," "," "," "," "," "," "," "," "," "," "," "," "," "," "," "," "," "," "," "," "," "," "," "," "," "," ",1905.76," "]
["B01.004.001.002 ОБР","Прием (осмотр, консультация) врача-гастроэнтеролога  (в режиме видео конференцсвязи)",934.26," "," "," "," "," "," "," "," "," ",1190.25," "," "," "," "," "," "," "," "," "," "," "," "," "," "," "," "," "," "," "," "," "," "," "," "," "," "," "," "," "," "," "," "," "," "," "," "," "," "," "," "," "," "," "," "," "," "," "," "," "," "," "," "," "," "," "," "," "," "," "," "," "," "," "," "," "," "," "," "," "," "," "," "," "," "," "," "," "," "," "," "," "," "," "," "," "," "," "," "," "," "," "," "," "," "," "," "," "," "," "," ",1190.25," "]
["B01.005.001.001","Прием (осмотр, консультация) врача-гематолога  (с использованием web-технологий)",467.12," "," "," "," "," "," "," "," "," ",595.11," "," "," "," "," "," "," "," "," "," "," "," "," "," "," "," "," "," "," "," "," "," "," "," "," "," "," "," "," "," "," "," "," "," "," "," "," "," "," "," "," "," "," "," "," "," "," "," "," "," "," "," "," "," "," "," "," "," "," "," "," "," "," "," "," "," "," "," "," "," "," "," "," "," "," "," "," "," "," "," "," "," "," ",595.11," "," "," "," "," "," "," "," "," "," "," "," "," "," "," "," "," "," "]
["B01.008.001.002 ОБР","Прием (осмотр, консультация) врача-дерматовенеролога (в режиме видео конференцсвязи)",952.93," "," "," "," "," "," "," "," "," ",1214.03," "," "," "," "," "," "," "," "," "," "," "," "," "," "," "," "," "," "," "," "," "," "," "," "," "," "," "," "," "," "," "," "," "," "," "," "," ",1212.1300000000001," "," "," "," "," "," "," "," "," "," "," "," "," "," "," "," "," "," "," "," "," "," "," "," "," "," "," "," "," "," "," "," "," "," "," "," "," "," "," "," "," "," "," "," "," "," "," "," "," "," "," "," "," "," "," "," "," "," "," "," "," "," ",1214.03," "]
["B01.013.001.001","Прием (осмотр, консультация) врача-диетолога  (в режиме видео конференцсвязи)",467.12," "," "," "," "," "," "," "," "," ",595.11," "," "," "," "," "," "," "," "," "," "," "," "," "," "," "," "," "," "," "," "," "," "," "," "," "," "," "," "," "," "," "," "," "," "," "," "," "," "," "," "," "," "," "," "," "," "," "," "," "," "," "," "," "," "," "," "," "," "," "," "," "," "," "," "," "," "," "," "," "," "," "," "," "," "," "," "," "," "," "," "," "," "," "," "," "," "," "," "," "," "," "," "," "," "," "," "," "," "," "," "," "," "]
["B01.015.001","Прием (осмотр, консультация) врача-кардиолога ",351.76," ",448.14," "," "," "," "," "," "," ",448.14," "," "," "," "," "," "," "," "," "," "," ",448.14,448.14," "," "," "," "," "," "," "," "," "," "," ",446.74," ",631.41,644.07000000000005," ",630.71,573.37,625.08000000000004,436.89," ",620.86,575.83000000000004,631.05999999999995,447.44,578.29," ",448.14,448.14," "," "," "," "," "," "," ",448.14," "," "," "," "," "," "," "," "," ",448.14," "," ",448.14," "," "," "," "," "," "," "," ",448.14," "," "," "," ",448.14,623.32000000000005," "," "," "," ",448.14," "," "," "," "," "," ",448.14," "," "," "," "," "," "," "," "," "," "," ",485.78]
["B01.015.003 ОБР","Прием (осмотр, консультация) врача - детского кардиолога ",1535.32," "," "," "," "," "," ",1956,1956,1956," "," "," "," "," "," "," "," "," "," "," "," "," "," "," "," "," "," "," "," "," "," "," "," "," "," "," ",2755.9,2811.17,1952.93,2752.83," "," "," "," ",2709.84," ",2754.36,1952.93,2524.0700000000002," "," "," "," "," "," "," "," "," "," "," "," "," "," "," "," "," "," "," "," "," "," "," "," "," "," "," "," "," "," "," "," "," "," "," "," "," "," "," "," "," "," "," "," "," "," "," "," "," "," "," "," "," "," "," "," "," "," "," "," "," "," ",2120.2800000000002]
["B01.023.001 Д ОБР","Прием (осмотр, консультация) врача-невролога ",981.58," "," "," "," "," "," ",1250.53,1250.53,1250.53," "," "," "," "," "," "," "," "," "," "," "," "," "," ",1250.53,1250.53," "," "," "," "," ",1247.5899999999999,1247.5899999999999,1247.5899999999999,1788.44,1246.6099999999999," ",1761.94,1797.27,1248.57,1759.97,1599.98," "," "," ",1732.49,1606.85,1760.95,1248.57,1613.72," "," "," "," "," "," "," "," "," "," "," "," "," "," "," "," "," "," "," "," "," "," "," "," "," ",1250.53," "," "," "," ",1250.53," "," "," "," "," "," "," "," "," "," "," "," ",1250.53,1250.53," "," "," "," "," "," "," "," "," "," "," "," "," "," "," "," ",1250.53,1355.56]
["B01.023.001.001 ОБР","Прием (осмотр, консультация) врача-невролога (с использованием web-технологий)",934.26," "," "," "," "," "," "," "," "," ",1190.25," "," "," "," "," "," "," "," "," "," "," "," "," "," "," "," "," "," "," "," "," "," "," "," "," "," "," "," "," "," "," "," "," "," "," ",1529.38," ",1188.3800000000001," "," "," "," "," "," "," "," "," "," "," "," "," "," "," "," "," "," "," "," "," "," "," "," "," "," "," "," "," "," "," "," "," "," "," "," "," "," "," "," "," "," "," "," ",1190.25,1190.25," "," "," "," "," "," "," "," "," "," "," "," "," "," "," "," ",1190.25," "]
["B01.025.001.001","Прием (осмотр, консультация) врача-нефролога (с использованием web-технологий)",467.12," "," "," "," "," "," "," "," "," ",595.11," "," "," "," "," "," "," "," "," "," "," "," "," "," "," "," "," "," "," "," "," "," "," "," "," "," "," "," "," "," "," "," "," "," "," "," "," "," "," "," "," "," "," "," "," "," "," "," "," "," "," "," "," "," "," "," "," "," "," "," "," "," "," "," "," "," "," "," "," "," "," "," "," "," "," "," "," "," "," "," "," "," "," "," "," "," "," "," "," "," "," "," "," "," "," "," "," "," "," "," "," "," "]
["B01.026.001","Прием (осмотр, консультация) врача общей практики (семейного врача) ",330.45," "," "," "," "," "," "," "," "," "," "," "," "," "," "," "," "," "," "," "," "," "," "," "," "," "," "," "," "," "," ",420,420," ",602.08000000000004," "," "," ",605.04999999999995,420.33,592.5,538.63,587.21," ",416.37," ",540.95000000000005," ",420.33," "," "," "," "," "," "," "," "," "," "," ",420.99," "," "," "," "," "," "," "," "," "," "," "," "," "," "," "," "," "," "," "," "," ",420.99," "," "," "," ",420.99,585.55999999999995," "," "," ",420.99,420.99,420.99," "," "," "," "," "," "," "," "," "," "," "," "," "," "," "," "," "," "]
["B01.028.001 Д ОБР","Прием (осмотр, консультация) врача-оториноларинголога ",689.81," "," "," "," "," "," ",878.82,878.82,878.82," "," "," "," "," "," "," "," "," "," "," "," "," "," ",878.82," "," "," "," "," "," ",876.75,876.75," ",1256.83,876.06," ",1238.21,1263.04,877.44,1236.83,1124.3900000000001," "," "," ",1217.51,1129.22,1237.52,877.44," "," "," "," "," "," "," "," ",878.82," "," "," "," "," "," "," ",878.82," "," ",952.63," ",878.82," "," "," "," "," "," "," ",878.82," "," "," "," "," "," "," "," "," "," "," "," "," "," ",878.82,878.82," "," "," "," "," "," "," "," "," "," "," "," "," "," "," "," "," ",952.63]
["B01.029.001.002","Прием (осмотр, консультация) врача-офтальмолога (в режиме видео конференцсвязи)",643.30999999999995," "," "," "," "," "," "," "," "," ",819.58," "," "," "," "," "," "," "," "," "," "," "," "," "," "," "," "," "," "," "," "," "," "," "," "," "," "," "," "," "," "," "," "," "," "," ",1053.0999999999999," ",818.29," "," "," "," "," "," "," "," "," "," "," "," "," "," "," "," "," "," "," "," "," "," "," "," "," "," "," "," "," "," "," "," "," "," "," "," "," "," "," "," "," "," "," "," "," "," "," "," "," "," "," "," "," "," "," "," "," "," "," "," "," "," ",819.58," "]
["B01.031.001 ОБР","Прием (осмотр, консультация) врача-педиатра ",1029.8," "," "," "," "," "," ",1311.97,1311.97,1311.97," "," "," "," "," "," "," "," "," "," "," "," "," ",1311.97,1311.97,1311.97," "," "," "," "," ",1308.8800000000001,1308.8800000000001,1308.8800000000001,1876.3,1307.8499999999999,1714.62,1848.49,1885.56,1309.9100000000001,1846.43,1678.57,1829.95,1279.01,1297.55,1817.6,1685.78,1847.46,1309.9100000000001,1692.99," ",1311.97,1311.97," "," "," "," "," "," "," "," "," "," "," "," "," "," "," ",1422.15," "," "," "," "," "," "," "," "," "," "," "," "," "," "," "," "," "," "," "," "," "," "," "," ",1311.97,1311.97," "," "," "," "," "," "," "," "," "," "," "," "," "," "," "," "," ",1422.15]
["B01.037.001 Д","Прием (осмотр, консультация) врача-пульмонолога ",400.7," "," "," "," "," "," ",510.49," ",510.49,510.49," "," "," "," "," "," ",510.49," "," "," "," "," "," "," "," "," "," "," "," "," "," "," "," "," "," "," ",719.26," "," "," "," "," "," "," ",707.24," "," "," "," "," "," "," "," "," "," "," "," "," "," "," "," "," "," "," "," "," "," "," "," "," "," "," "," "," "," "," "," "," "," "," "," "," "," "," "," "," "," "," "," "," "," "," "," "," "," "," "," "," "," "," "," "," "," "," "," "," "," "," "," "," ",510.49,553.37]
["B01.043.001","Прием (осмотр, консультация) врача - сердечно-сосудистого хирурга ",312.05," "," "," "," "," "," "," "," "," ",397.55," "," "," "," "," "," "," "," "," "," "," "," "," "," "," "," "," "," "," "," "," "," "," "," "," "," ",560.13," "," "," "," "," "," "," "," "," "," "," "," "," ",397.55,397.55," "," "," "," "," "," "," ",397.55," "," "," "," "," "," "," "," "," "," "," "," "," "," "," "," "," "," "," "," "," ",397.55," "," "," "," "," "," "," "," "," "," "," "," "," "," "," "," "," "," "," "," "," "," "," "," "," "," "," "," "," "," "]
["B01.046.001 ОБР","Прием (осмотр, консультация) врача сурдолога- оториноларинголога ",902.46," "," "," "," "," "," "," "," "," ",1149.73," "," "," "," "," "," "," "," "," "," "," "," "," "," "," "," "," "," "," "," "," "," "," "," "," "," ",1619.92,1652.4," "," "," "," "," "," ",1592.84," "," "," "," "," "," "," "," "," "," "," "," "," "," "," "," "," "," "," ",1149.73," "," "," "," "," "," "," "," "," "," "," "," ",1149.73," "," "," "," "," "," "," "," "," "," "," "," ",1149.73," "," "," "," "," "," "," "," "," "," "," "," "," "," "," "," "," "," "," "," ",1246.3]
["B01.047.001","Прием (осмотр, консультация) врача-терапевта ",306.54000000000002,390.53,390.53," "," "," "," "," "," "," "," "," "," "," "," ",390.53," "," "," "," "," ",390.53,390.53,390.53,390.53,390.53," "," ",390.53," "," ",389.61,389.61,389.61,558.52,389.31,510.39,550.24,561.27,389.92,549.63,499.66,544.72,380.72,386.24,541.04,501.81,549.92999999999995,389.92,503.95," ",390.53,390.53,390.53," "," "," "," "," "," ",390.53," "," "," "," "," "," "," "," "," "," "," "," "," "," ",390.53," "," "," "," "," "," ",390.53," "," "," "," ",390.53,543.19000000000005," "," "," ",390.53,390.53,390.53," "," "," "," "," ",390.53," "," "," "," "," "," "," "," "," "," ",390.53,423.33]
["B01.048.001.002","Прием (осмотр, консультация) врача-токсиколога (в режиме видео конференцсвязи)",643.30999999999995," "," "," "," "," "," "," "," "," ",819.58," "," "," "," "," "," "," "," "," "," "," "," "," "," "," "," "," "," "," "," "," "," "," "," "," "," "," "," "," "," "," "," "," "," "," "," "," "," "," "," "," "," "," "," "," "," "," "," "," "," "," "," "," "," "," "," "," "," "," "," "," "," "," "," "," "," "," "," "," "," "," "," "," "," "," "," "," "," "," "," "," "," "," "," "," "," "," "," "," "," "," "," "," "," "," "," "," "," "," "," "," "," "]
["B01.050.001","Прием (осмотр, консультация) врача - травматолога- ортопеда",212.84," ",271.16000000000003," ",271.16000000000003," "," "," "," "," ",271.16000000000003," "," "," "," "," "," "," "," "," "," ",271.16000000000003,271.16000000000003,271.16000000000003,271.16000000000003,271.16000000000003," "," "," "," "," "," "," "," ",387.79,270.31," ",382.05," "," ",381.62,346.93," ",264.35000000000002,268.18,375.66,348.42," ",270.73," "," ",271.16000000000003," "," "," "," "," "," "," "," "," "," "," "," "," "," "," "," "," ",271.16000000000003," "," "," "," "," "," "," "," "," "," "," "," ",271.16000000000003," "," "," "," "," "," "," "," "," "," "," "," ",271.16000000000003," "," "," "," "," "," "," "," "," "," "," "," "," "," "," "," ",293.93]
["B01.051.001.001 ОБР","Прием (осмотр, консультация) врача-трансфузиолога (с использованием web-технологий)",934.26," "," "," "," "," "," "," "," "," ",1190.25," "," "," "," "," "," "," "," "," "," "," "," "," "," "," "," "," "," "," "," "," "," "," "," "," "," "," "," "," "," "," "," "," "," "," ",1529.38," ",1188.3800000000001," "," "," "," "," "," "," "," "," "," "," "," "," "," "," "," "," "," "," "," "," "," "," "," "," "," "," "," "," "," "," "," "," "," "," "," "," "," "," "," "," "," "," "," "," "," "," "," "," "," "," "," "," "," "," "," "," "," "," "," "," "," ",1190.25," "]
["B01.054.001","Осмотр (консультация) врача-физиотерапевта",165.65,211.04,211.04," "," "," "," "," ",211.04," "," "," "," "," "," "," "," "," "," "," "," ",211.04,211.04,211.04," ",211.04," "," "," "," "," "," ",210.54," "," ",210.38," ",297.33999999999997," ",210.71,297.01," "," "," "," "," ",271.17," ",210.71,272.33," "," "," "," "," "," "," "," "," "," "," "," "," "," "," "," "," "," "," "," ",211.04," "," "," "," "," "," "," "," ",211.04," "," "," "," "," "," "," "," "," "," "," "," "," "," "," "," "," "," "," "," "," "," "," "," "," "," "," "," "," "," "," "," ",228.76]
["B01.054.001.001","Осмотр (консультация) врача физиотерапевта (с использованием web-технологий)",467.12," "," "," "," "," "," "," "," "," ",595.11," "," "," "," "," "," "," "," "," "," "," "," "," "," "," "," "," "," "," "," "," "," "," "," "," "," "," "," "," "," "," "," "," "," "," ",764.68," ",594.17999999999995," "," "," "," "," "," "," "," "," "," "," "," "," "," "," "," "," "," "," "," "," "," "," "," "," "," "," "," "," "," "," "," "," "," "," "," "," "," "," "," "," "," "," "," "," "," "," "," "," "," "," "," "," "," "," "," "," "," "," "," "," "," ",595.11," "]
["B01.056.001.002 ОБР","Осмотр (консультация) врача функциональной диагностики (в режиме видео конференцсвязи)",1286.6400000000001," "," "," "," "," "," "," "," "," ",1639.18," "," "," "," "," "," "," "," "," "," "," "," "," "," "," "," "," "," "," "," "," "," "," "," "," "," "," "," "," "," "," "," "," "," "," ",2106.23," ",1636.61," "," "," "," "," "," "," "," "," "," "," "," "," "," "," "," "," "," "," "," "," "," "," "," "," "," "," "," "," "," "," "," "," "," "," "," "," "," "," "," "," "," "," "," "," "," "," "," "," "," "," "," "," "," "," "," "," "," "," "," "," "," ",1639.18," "]
["B01.057.001.002","Прием (осмотр, консультация) врача хирурга (в режиме видео конференцсвязи)",643.30999999999995," "," "," "," "," "," "," "," "," ",819.58," "," "," "," "," "," "," "," "," "," "," "," "," "," "," "," "," "," "," "," "," "," "," "," "," "," "," "," "," "," "," "," "," "," "," ",1053.0999999999999," ",818.29," "," "," "," "," "," "," "," "," "," "," "," "," "," "," "," "," "," "," "," ",819.58," "," "," "," "," "," "," "," "," "," "," "," "," "," "," "," "," "," "," "," "," "," "," "," "," "," "," "," "," "," "," "," "," "," "," "," "," "," "," "," "," ",819.58," "]
["B01.058.001 ОБР","Прием (осмотр, консультация) врача-эндокринолога ",498.11,634.59,634.59," "," "," "," "," "," "," ",634.59," "," "," "," "," "," "," "," "," "," ",634.59,634.59,634.59,634.59,634.59," "," "," "," "," ",633.1,633.1," "," ",632.6," ",894.11,912.04,633.6,893.11,811.92,885.14,618.65,627.62,879.16,815.41,893.61,633.6,818.89," ",634.59,634.59," "," "," "," "," "," "," ",634.59," "," "," "," "," "," "," "," "," "," "," "," "," "," ",634.59," "," "," "," "," "," "," "," "," "," "," "," "," "," "," "," "," ",634.59,634.59," "," "," "," "," "," "," "," "," "," "," "," "," "," "," "," "," ",687.89]
["B01.058.001.001","Прием (осмотр, консультация) врача - эндокринолога (с использованием web-технологий)",467.12," "," "," "," "," "," "," "," "," ",595.11," "," "," "," "," "," "," "," "," "," "," "," "," "," "," "," "," "," "," "," "," "," "," "," "," "," "," "," "," "," "," "," "," "," "," ",764.68," ",594.17999999999995," "," "," "," "," "," "," "," "," "," "," "," "," "," "," "," "," "," "," "," "," "," "," "," "," "," "," "," "," "," "," "," "," "," "," "," "," "," "," "," "," "," "," "," ",595.11,595.11," "," "," "," "," "," "," "," "," "," "," "," "," "," "," "," ",595.11," "]
["B01.058.001.001 ОБР","Прием (осмотр, консультация) врача - эндокринолога (с использованием web-технологий)",976.29," "," "," "," "," "," "," "," "," ",1243.79," "," "," "," "," "," "," "," "," "," "," "," "," "," "," "," "," "," "," "," "," "," "," "," "," "," "," "," "," "," "," "," "," "," "," ",1598.19," ",1241.8399999999999," "," "," "," "," "," "," "," "," "," "," "," "," "," "," "," "," "," "," "," "," "," "," "," "," "," "," "," "," "," "," "," "," "," "," "," "," "," "," "," "," "," "," "," ",1243.79,1243.79," "," "," "," "," "," "," "," "," "," "," "," "," "," "," "," ",1243.79," "]
["B01.058.001.002","Прием (осмотр, консультация) врача - эндокринолога (в режиме видео конференцсвязи)",643.30999999999995," "," "," "," "," "," "," "," "," ",819.58," "," "," "," "," "," "," "," "," "," "," "," "," "," "," "," "," "," "," "," "," "," "," "," "," "," "," "," "," "," "," "," "," "," "," ",1053.0999999999999," ",818.29," "," "," "," "," "," "," "," "," "," "," "," "," "," "," "," "," "," "," "," "," "," "," "," "," "," "," "," "," "," "," "," "," "," "," "," "," "," "," "," "," "," "," "," "," "," "," "," "," "," "," "," "," "," "," "," "," "," "," "," "," "," ",819.58," "]
["B01.058.001.002 ОБР","Прием (осмотр, консультация) врача - эндокринолога (в режиме видео конференцсвязи)",1344.53," "," "," "," "," "," "," "," "," ",1712.93," "," "," "," "," "," "," "," "," "," "," "," "," "," "," "," "," "," "," "," "," "," "," "," "," "," "," "," "," "," "," "," "," "," "," ",2201," ",1710.24," "," "," "," "," "," "," "," "," "," "," "," "," "," "," "," "," "," "," "," "," "," "," "," "," "," "," "," "," "," "," "," "," "," "," "," "," "," "," "," "," "," "," "," "," "," "," "," "," "," "," "," "," "," "," "," "," "," "," "," "," "," ",1712.93," "]
["B01.058.003","Прием (осмотр, консультация) врача - детского эндокринолога ",295.67," "," "," "," "," "," ",376.68,376.68,376.68,376.68," "," "," "," "," "," "," "," "," "," "," "," "," "," ",376.68," "," "," "," "," "," ",375.8," "," ",375.5," ",530.73,541.37,376.09," "," "," "," "," ",521.86,484.01,530.42999999999995,376.09,486.08," "," "," "," "," "," "," "," "," "," "," "," "," "," "," "," "," "," "," "," "," "," "," "," "," "," "," "," "," "," ",376.68," ",376.68," "," "," "," "," "," "," "," "," "," "," "," "," "," "," "," "," "," "," "," "," "," "," "," "," "," "," "," "," ",408.32]
["B01.058.003 ОБР","Прием (осмотр, консультация) врача - детского эндокринолога ",612.04," "," "," "," "," "," ",779.74,779.74,779.74,779.74," "," "," "," "," "," "," "," "," "," "," "," "," "," ",779.74," "," "," "," "," "," ",777.9," "," ",777.29," ",1098.6099999999999,1120.6500000000001,778.51," "," "," "," "," ",1080.25,1001.91,1098,778.51,1006.19," "," "," "," "," "," "," "," "," "," "," "," "," "," "," "," "," "," "," "," "," "," "," "," "," "," "," "," "," "," ",779.74," "," "," "," "," "," "," "," "," "," "," "," "," "," "," "," "," "," "," "," "," "," "," "," "," "," "," "," "," "," "," ",845.23]
["B01.059.001","Прием (осмотр, консультация) врача-эндоскописта ",358.49," "," "," "," "," "," "," "," "," "," ",456.72," "," "," "," "," "," "," "," "," "," "," "," "," "," "," "," "," "," "," "," "," "," "," "," "," "," ",656.4," "," "," "," "," ",451.7,632.73,586.85," ",456," "," ",456.72,456.72," "," "," "," ",456.72," "," "," "," "," "," ",456.72," "," "," "," "," ",456.72," "," "," "," "," "," "," "," "," "," "," ",456.72," "," "," "," "," "," "," "," "," "," "," "," "," "," "," "," "," ",456.72," "," "," "," "," "," "," "," "," "," "," ",495.07]
["B01.059.001 ОБР","Прием (осмотр, консультация) врача-эндоскописта ",716.98," "," "," "," "," "," "," "," "," "," ",913.43," "," "," "," "," "," "," "," "," "," "," "," "," "," "," "," "," "," "," "," "," "," "," "," "," "," ",1312.79," "," "," "," "," ",903.39,1265.47,1173.7," ",912," "," ",913.43,913.43," "," "," "," ",913.43," "," "," "," "," "," "," "," "," "," "," "," ",913.43," "," "," "," "," "," "," "," "," "," "," "," "," "," "," "," "," "," "," "," "," "," "," "," "," "," "," "," "," "," "," "," "," "," "," "," "," "," "," "," "," ",990.15]
["B01.059.001.001","Прием (осмотр, консультация) врача -эндоскописта (с использованием web-технологий)",467.12," "," "," "," "," "," "," "," "," ",595.11," "," "," "," "," "," "," "," "," "," "," "," "," "," "," "," "," "," "," "," "," "," "," "," "," "," "," "," "," "," "," "," "," "," ",824.47,764.68," ",594.17999999999995," "," "," "," "," "," "," "," "," "," "," "," "," "," "," "," "," "," "," "," "," "," "," "," "," "," "," "," "," "," "," "," "," "," "," "," "," "," "," "," "," "," "," "," "," "," "," "," "," "," "," "," "," "," "," "," "," "," "," "," "," "," ",595.11," "]
["B01.059.001.001 ОБР","Прием (осмотр, консультация) врача -эндоскописта (с использованием web-технологий)",934.26," "," "," "," "," "," "," "," "," ",1190.25," "," "," "," "," "," "," "," "," "," "," "," "," "," "," "," "," "," "," "," "," "," "," "," "," "," "," "," "," "," "," "," "," "," ",1648.97,1529.38," ",1188.3800000000001," "," "," "," "," "," "," "," "," "," "," "," "," "," "," "," "," "," "," "," "," "," "," "," "," "," "," "," "," "," "," "," "," "," "," "," "," "," "," "," "," "," "," "," "," "," "," "," "," "," "," "," "," "," "," "," "," "," "," "," "," "," ",1190.25," "]
["B01.059.001.002","Прием (осмотр, консультация) врача -эндоскописта (в режиме видео конференцсвязи)",643.30999999999995," "," "," "," "," "," "," "," "," ",819.58," "," "," "," "," "," "," "," "," "," "," "," "," "," "," "," "," "," "," "," "," "," "," "," "," "," "," "," "," "," "," "," "," "," ",1135.44,1053.0999999999999," ",818.29," "," "," "," "," "," "," "," "," "," "," "," "," "," "," "," "," "," "," "," "," "," "," "," "," "," "," "," "," "," "," "," "," "," "," "," "," "," "," "," "," "," "," "," "," "," "," "," "," "," "," "," "," "," "," "," "," "," "," "," "," "," ",819.58," "]
["B01.059.001.002 ОБР","Прием (осмотр, консультация) врача -эндоскописта (в режиме видео конференцсвязи)",1286.6400000000001," "," "," "," "," "," "," "," "," ",1639.18," "," "," "," "," "," "," "," "," "," "," "," "," "," "," "," "," "," "," "," "," "," "," "," "," "," "," "," "," "," "," "," "," "," ",2270.92,2106.23," ",1636.61," "," "," "," "," "," "," "," "," "," "," "," "," "," "," "," "," "," "," "," "," "," "," "," "," "," "," "," "," "," "," "," "," "," "," "," "," "," "," "," "," "," "," "," "," "," "," "," "," "," "," "," "," "," "," "," "," "," "," "," "," "," ",1639.18," "]
["B01.068.001","Прием (осмотр, консультация) врача - челюстно-лицевого хирурга ",765.67," "," "," "," "," "," "," "," "," ",975.46," "," "," "," "," "," "," "," "," "," "," "," "," "," "," "," "," "," "," "," "," "," "," "," "," "," ",1374.38," "," "," "," "," "," "," "," "," "," "," "," "," ",975.46," "," "," "," "," "," "," "," "," ",975.46," "," "," "," "," "," "," "," "," "," "," "," "," "," "," "," "," "," "," "," ",975.46," "," "," "," "," "," "," "," "," ",975.46," "," "," "," "," "," "," "," "," "," "," "," "," "," "," "," "," "," "," ",1057.3900000000001]
["B01.068.001 ОБР","Прием (осмотр, консультация) врача - челюстно-лицевого хирурга ",810.35," "," "," "," "," "," "," "," "," ",1032.3900000000001," "," "," "," "," "," "," "," "," "," "," "," "," "," "," "," "," "," "," "," "," "," "," "," "," "," ",1454.58," "," "," "," "," "," "," "," "," "," "," "," "," ",1032.3900000000001," "," "," "," "," "," "," "," "," ",1032.3900000000001," "," "," "," "," "," "," "," "," "," "," "," "," "," "," "," "," "," "," "," "," "," "," "," "," "," "," "," "," "," ",1032.3900000000001," "," "," "," "," "," "," "," "," "," "," "," "," "," "," "," "," "," "," ",1119.0899999999999]
["В01.070.009","Прием (тестирование, консультация) медицинского психолога",544.41," "," "," "," "," "," "," "," "," "," "," "," "," "," "," "," "," "," "," "," ",693.58," "," "," "," "," "," "," "," "," "," "," "," "," "," "," "," "," "," "," "," "," "," "," "," "," "," "," "," "," "," "," "," "," "," "," "," "," "," "," "," "," "," "," "," "," "," "," "," "," "," "," "," "," "," "," "," "," "," "," "," "," "," "," "," "," "," "," "," "," "," "," "," "," "," "," "," "," "," "," "," "," "," "," "," "," "," "," "," "," "," "," "]
["B03.002.003","Исследование иммунологического статуса при смешанном иммунодефиците",755.32," "," "," "," "," "," "," "," "," "," "," "," "," "," "," "," "," "," "," "," "," "," "," "," "," "," "," "," "," "," "," "," "," "," "," "," "," "," "," "," "," "," "," "," ",1333.14," "," "," "," "," "," "," "," "," "," "," "," ",962.28," "," "," "," "," "," "," "," "," "," "," "," "," "," "," "," "," "," "," "," "," "," "," "," "," "," "," "," "," "," "," "," "," "," "," "," "," "," "," "," "," "," "," "," "," "," "," "," "," "," "," "," "," ",1043.0999999999999]
["B03.015.008","Кардиореспираторный мониторинг",4792.8900000000003," "," "," "," "," "," "," "," "," "," "," "," "," "," "," "," "," "," "," "," "," "," "," "," "," "," "," "," "," "," "," "," "," "," "," "," "," "," "," "," "," "," "," "," "," "," "," "," "," "," "," "," "," "," "," "," "," "," "," "," "," "," "," "," "," "," "," "," "," ",6106.14," "," "," "," "," "," "," "," "," "," "," "," "," "," "," "," "," "," "," "," "," "," "," "," "," "," "," "," "," "," "," "," "," "," "," "," "," "," "," "," "," "," "]
["B03.016.002","Общий (клинический) анализ крови",207.19,263.95999999999998,263.95999999999998," ",263.95999999999998," "," ",263.95999999999998,263.95999999999998,263.95999999999998,263.95999999999998,263.95999999999998," "," "," "," "," ",263.95999999999998," ",263.95999999999998," "," ",263.95999999999998," ",263.95999999999998,263.95999999999998,263.95999999999998," "," "," "," ",263.33999999999997,263.33999999999997,263.33999999999997,377.5,263.13,344.97,371.91,379.36,263.55,371.49,337.72,368.18,257.33,261.06,365.69,339.17,371.7,263.55,340.62," ",263.95999999999998,263.95999999999998," "," "," "," "," ",263.95999999999998,263.95999999999998," "," "," "," "," "," ",263.95999999999998," "," "," "," "," "," "," "," "," "," "," "," "," "," "," "," "," "," ",263.95999999999998," "," ",367.14,263.95999999999998," "," "," ",263.95999999999998,263.95999999999998," "," "," "," "," ",263.95999999999998," "," "," "," "," "," "," "," "," "," ",263.95999999999998,286.13]
["B03.016.002.001","Общий (клинический) анализ крови (без забора материала)",175.29," "," "," ",223.32," "," "," "," "," ",223.32,223.32," "," "," "," "," ",223.32," "," "," "," "," ",223.32,223.32," ",223.32," "," "," "," "," "," "," "," "," "," "," "," "," ",314.29000000000002," ",311.49," "," "," ",286.95," ",222.97," "," ",223.32,223.32," "," "," "," "," ",null," "," "," "," "," "," "," "," "," "," "," "," "," "," "," "," "," "," "," "," "," "," "," "," "," "," ",223.32," "," ",310.61,223.32," "," "," ",223.32,223.32," "," "," "," "," "," "," "," "," "," "," "," "," "," "," "," "," "," "]
["B03.016.003","Общий (клинический) анализ крови развернутый",208.61,265.77,265.77," ",265.77," "," ",265.77,265.77,265.77,265.77,265.77,265.77,265.77," "," "," ",265.77," ",265.77," ",265.77,265.77,265.77,265.77,265.77,265.77," "," "," "," ",265.14,265.14,265.14," ",264.93,347.34,374.45,381.96,265.35000000000002,374.04,340.03,370.7,259.08999999999997,262.85000000000002,368.2,341.49,374.25,265.35000000000002," "," ",265.77,265.77," "," "," "," "," ",265.77," "," "," "," "," "," "," ",265.77," "," "," "," "," "," "," "," "," "," "," "," "," "," "," "," "," "," ",265.77," "," ",369.66," "," "," "," ",265.77,265.77," "," "," "," "," ",265.77," "," "," "," "," "," "," "," "," "," ",265.77,288.08999999999997]
["B03.016.003.001","Общий (клинический) анализ крови развернутый (без забора материала)",176.71," ",225.13," ",225.13," "," "," "," "," ",225.13,225.13," "," "," "," "," ",225.13," "," "," "," "," ",225.13,225.13,225.13,225.13," "," "," "," "," "," "," "," ",224.42," "," "," "," ",316.83999999999997," ",314.01," "," "," ",289.27," ",224.78," "," ",225.13,225.13," "," "," "," "," ",null,225.13," "," "," "," "," "," "," "," "," "," "," "," "," "," "," "," "," "," "," "," "," "," "," "," "," ",225.13," "," ",313.13," "," "," "," ",225.13,225.13," "," "," "," "," "," "," "," "," "," "," "," "," "," "," "," "," "," "]
["B03.016.004.001","Анализ крови биохимический общетерапевтический (без забора материала)",323.77," "," "," ",412.48," "," "," "," "," ",412.48,412.48," ",412.48," ",412.48," ",412.48," "," "," "," "," ",412.48,412.48,412.48,412.48," "," "," "," "," ",411.51," "," ",411.19," "," ",592.82000000000005," ",580.52," ",575.34," "," "," ",530.01," ",411.84," "," ",412.48,412.48," "," "," "," "," ",412.48," "," "," "," "," "," "," ",412.48," "," "," "," "," "," "," "," "," "," "," "," "," "," "," "," "," "," ",412.48," "," ",573.72," "," "," "," ",412.48,412.48," "," "," "," "," ",412.48," "," "," "," "," "," "," "," "," "," "," "," "]
["B03.016.005.001","Анализ крови по оценке нарушений липидного обмена биохимический (без забора материала)",360.97," "," "," ",459.88," "," "," "," "," ",459.88," "," "," "," "," "," ",459.88," "," "," "," "," ",459.88," "," "," "," "," "," "," "," "," "," ",657.69,458.43," "," "," "," ",647.22," ",641.44000000000005," "," "," ",590.91," "," "," "," "," "," "," "," "," "," "," ",459.88," "," "," "," "," "," "," ",459.88," "," "," "," "," "," "," "," "," "," "," "," "," "," "," "," "," "," ",459.88," "," ",639.64," "," "," "," ",459.88,459.88," "," "," "," "," "," "," "," "," "," "," "," "," "," "," "," "," "," "]
["B03.016.006","Общий (клинический) анализ мочи",148.19999999999999,188.81,188.81," ",188.81," "," ",188.81,188.81," ",188.81,188.81,188.81,188.81," ",188.81," ",188.81," ",188.81," ",188.81,188.81,188.81,188.81,188.81,188.81," "," "," "," ",188.36,188.36,188.36,270.02,188.21,246.75,266.02,271.35000000000002,188.51,265.72000000000003,241.57,263.35000000000002,184.06,186.73,261.57,242.6,265.87,188.51,243.64," ",188.81,188.81," "," "," "," "," ",188.81," "," "," "," "," "," "," ",188.81," "," "," "," "," "," "," "," "," "," "," "," "," "," "," "," "," "," ",188.81," ",188.81,262.61,188.81," "," "," ",188.81,188.81," "," "," "," "," ",188.81," "," "," "," "," "," "," "," "," "," ",188.81,204.66]
["B03.016.006.001","Общий (клинический) анализ мочи (без забора материала)",137.56," "," "," ",175.25," "," "," "," ",175.25,175.25,175.25," "," "," "," "," ",175.25," "," "," "," "," "," ",175.25," ",175.25," "," "," "," "," "," "," "," "," "," "," "," "," ",246.65," ",244.44," "," "," ",225.19," ",174.98," "," "," "," "," "," "," "," "," ",null,175.25," "," "," "," "," "," ",175.25," "," "," "," "," "," "," "," "," "," "," "," "," "," "," "," "," "," ",175.25," ",175.25,243.76,175.25," "," "," ",175.25,175.25," "," "," "," "," "," "," "," "," "," "," "," "," "," "," "," "," "," "]
["B03.016.010","Копрологическое исследование",192.3," "," "," "," "," "," ",244.99," ",244.99,244.99,244.99," ",244.99," "," "," ",244.99," "," "," "," "," ",244.99,244.99," ",244.99," "," "," "," "," "," "," ",350.37,244.22," "," ",352.1," ",344.79,313.45,341.72,238.84," "," ",314.8," "," "," "," "," "," "," "," "," "," "," ",244.99,244.99," "," "," "," "," "," ",244.99," "," "," "," "," "," "," "," "," "," "," "," "," "," "," "," "," "," "," "," "," "," ",244.99," "," "," ",244.99,244.99," "," "," "," "," ",244.99," "," "," "," "," "," "," "," "," "," "," ",265.57]
["B03.016.011","Исследование кислотно-основного состояния и газов крови",482.96," "," "," "," "," "," "," "," "," "," "," "," "," "," "," "," "," "," "," "," "," "," "," "," "," "," "," "," "," "," "," "," "," "," "," "," "," "," "," "," "," "," "," "," ",852.42," "," "," "," "," "," "," "," "," "," "," "," "," "," "," "," "," "," "," "," "," "," "," "," "," "," "," "," "," "," "," "," "," "," "," "," "," "," "," "," "," "," "," ",615.29," "," "," "," "," "," "," "," "," "," "," "," "," "," "," "," "," "," "," "," "," "," "," "]
["B03.028.001","Объективная аудиометрия",423.4," "," "," "," "," "," "," "," ",539.41," "," "," "," "," "," "," "," "," "," "," "," "," "," "," "," "," "," "," "," "," "," "," "," ",771.43," "," "," "," "," ",759.16," "," "," "," ",747.3,693.11," "," "," "," ",539.41,539.41," "," "," "," "," "," "," "," "," "," "," "," "," "," "," "," "," ",539.41," "," "," "," "," "," "," "," "," "," "," "," "," "," "," "," ",539.41,750.26," "," "," "," "," "," ",539.41," "," "," "," "," "," "," "," "," "," "," "," "," "," "," "," "," "]
["B03.028.01 Д","Объективная аудиометрия под наркозом (при невозможности проведения без общей анестезии)",6241.03," "," "," "," "," "," "," "," ",7951.07," "," "," "," "," "," "," "," "," "," "," "," "," "," "," "," "," "," "," "," "," "," "," "," "," "," "," "," "," "," "," "," "," "," "," "," "," "," "," "," "," "," "," "," "," "," "," "," "," "," "," "," "," "," "," ",7951.07," "," "," "," "," "," "," "," "," "," "," "," "," "," "," "," "," "," "," "," "," "," "," "," "," "," "," "," "," ",7951.07," "," "," "," "," "," "," "," "," "," "," "," "," "," "," "," "," "]
["B03.029.001","Комплекс исследований для диагностики нарушения зрения",690.72," "," "," "," "," "," "," "," "," ",879.98," "," "," "," "," "," "," "," "," "," "," "," ",879.98," "," "," "," "," "," "," "," "," "," "," "," "," "," "," "," ",1238.46," "," "," "," "," "," "," "," "," "," "," "," "," "," "," "," "," "," "," "," "," "," "," "," "," "," ",879.98,953.88," ",879.98," "," "," ",879.98," "," "," "," "," "," "," "," "," "," "," "," "," "," "," ",879.98," "," "," "," "," "," "," "," "," ",879.98," "," "," "," "," "," "," "," "," "," "," "," "]
["B03.029.001 Д","Комплекс исследований для диагностики нарушения зрения",690.72," "," "," "," "," "," "," "," "," "," "," "," "," "," "," "," "," "," "," "," "," "," "," "," "," "," "," "," "," "," "," "," "," "," "," "," "," "," "," "," "," "," "," "," "," "," "," "," "," "," "," "," "," "," "," "," "," "," "," "," "," "," "," "," "," "," "," "," "," "," "," "," "," "," "," "," "," "," "," "," "," "," "," "," "," "," "," "," "," ",879.98," "," "," "," "," "," "," "," "," "," "," "," "," "," "," "," "," "," "," "," "," "," "]
["B03.029.002","Комплекс исследований для диагностики глаукомы",2010.69," "," "," "," "," "," "," "," "," ",2561.62," "," "," "," "," "," "," "," "," "," "," "," "," "," "," "," "," "," "," "," "," "," "," "," "," "," "," "," "," ",3605.17," "," "," "," "," "," "," "," "," "," "," "," "," "," "," "," "," "," "," "," "," "," "," "," "," "," ",2561.62,2776.76," "," "," "," "," ",2561.62," "," "," "," "," "," "," "," "," "," "," "," "," "," "," ",2561.62," "," "," "," ",2561.62," "," "," "," "," "," "," "," "," "," "," "," "," "," "," "," "," "]
["B03.051.001","Комплекс исследований при проведении трансфузионно-инфузионной терапии",5682.91," "," "," "," "," "," "," "," "," "," "," "," "," "," "," "," "," "," "," "," "," "," "," "," "," "," ",7240.03," "," "," "," "," "," "," "," "," "," "," "," "," "," "," "," "," "," "," "," "," "," "," "," "," "," "," "," "," "," "," "," "," "," "," "," "," "," "," "," "," "," "," "," "," "," "," "," "," "," "," "," "," "," "," "," "," "," "," "," "," "," "," "," "," "," "," "," "," "," "," "," "," "," "," "," "," "," "," "," "," "," "," "," "," "]
["B03.052.001","Комплексное ультразвуковое исследование внутренних органов",300.72000000000003," "," "," "," "," "," "," "," ",383.12," ",383.12," "," "," "," "," "," "," "," "," "," "," "," "," "," "," "," "," "," "," "," "," "," ",547.91," "," "," "," "," ",539.19000000000005," ",534.38," "," "," ",492.28," ",382.52," "," ",383.12,383.12," "," "," "," "," "," "," "," "," "," "," "," "," "," "," "," "," "," "," "," "," "," "," "," "," "," "," "," "," "," "," "," "," "," ",383.12,532.88," "," "," "," ",383.12,383.12," "," "," "," "," "," "," "," "," "," "," "," "," "," "," "," "," "," "]
["B03.052.001 О","Комплексное ультразвуковое исследование внутренних органов",300.72000000000003," "," "," "," "," "," "," "," "," "," "," "," "," "," "," "," "," "," "," "," "," "," "," "," "," "," "," "," "," "," "," "," "," "," "," "," "," "," "," ",539.19000000000005," "," "," "," "," "," "," "," "," "," "," "," "," "," "," "," "," "," "," "," "," "," "," "," "," "," "," "," "," "," "," "," "," "," "," "," "," "," "," "," "," "," "," "," "," "," "," "," "," "," "," "," "," "," "," "," "," "," "," "," "," "," "," "," "," "," "," "," "," "," ",383.12," "]
["B03.053.002","Спермограмма",636.36," "," "," "," "," "," "," "," "," "," "," "," ",810.72," "," "," "," "," "," "," "," "," "," "," "," "," "," "," "," "," "," "," "," "," "," "," "," "," "," "," "," "," "," "," "," "," "," "," "," "," "," "," "," "," "," "," "," "," "," "," "," "," "," "," "," "," "," "," "," "," "," "," "," "," "," "," "," "," "," "," "," "," "," "," "," "," "," "," "," "," "," "," "," "," "," "," "," "," "," "," "," "," "," "," "," "," "," "," "," "," "," "," "]
["B04.012.001.001","Школа для пациентов с сахарным диабетом (комплексное посещение - взрослые с сахарным диабетом 1 типа)",1557.72," "," "," "," "," "," "," "," "," ",1984.54," "," ",1984.54," "," "," "," "," "," "," "," "," "," "," "," "," "," "," "," "," "," "," "," "," "," "," "," "," "," "," "," "," "," "," "," "," "," "," "," "," "," "," "," "," "," "," "," "," "," "," "," "," "," "," "," "," "," "," "," "," "," "," "," "," "," "," "," "," "," "," "," "," "," "," "," "," "," "," "," "," "," "," "," "," "," "," "," "," "," "," "," "," "," "," "," "," "," "," "," "," ",1984.54,2151.21]
["B04.012.001.002","Школа для пациентов с сахарным диабетом (комплексное посещение - взрослые с сахарным диабетом 2 типа)",1291.27," "," "," "," "," "," "," "," "," ",1645.08," "," ",1645.08," "," "," "," "," "," "," "," "," "," "," "," "," "," "," "," "," "," "," "," "," "," "," "," "," "," "," "," "," "," "," "," "," "," "," "," "," "," "," "," "," "," "," "," "," "," "," "," "," "," "," "," "," "," "," "," "," "," "," "," "," "," "," "," "," "," "," "," "," "," "," "," "," "," "," "," "," "," "," "," "," "," "," "," "," "," "," "," "," "," "," "," "," "," "," "," "," ",1645.08,1783.24]
["B04.012.001.003","Школа для пациентов с сахарным диабетом (комплексное посещение - дети и подростки с сахарным диабетом)",2049.64," "," "," "," "," "," ",2611.2399999999998," ",2611.2399999999998," "," "," "," "," "," "," "," "," "," "," "," "," "," "," "," "," "," "," "," "," "," "," "," "," "," "," "," "," "," "," "," "," "," "," "," "," "," "," "," "," "," "," "," "," "," "," "," "," "," "," "," "," "," "," "," "," "," "," "," "," "," "," "," "," "," "," "," "," "," "," "," "," "," "," "," "," "," "," "," "," "," "," "," "," "," "," "," "," "," "," "," "," "," "," "," "," "," "," "," "," "," "," "]
["B04.037.003","Школа для больных с бронхиальной астмой",115.21," "," "," "," "," "," "," "," "," "," "," "," "," "," "," "," "," "," "," "," "," "," "," "," "," "," "," "," "," "," "," "," ",146.43," "," "," "," "," "," "," "," "," "," "," "," "," "," "," "," "," "," "," "," "," "," "," "," "," "," "," "," "," "," "," "," "," "," "," "," "," "," "," "," "," "," "," "," "," "," "," "," "," "," "," "," "," "," "," "," "," "," "," "," "," "," "," "," "," "," "," "," "," "," "," "," "," "," "," "," "," "," "," "]
["В04.064.001 ДД","Диспансерный прием (осмотр, консультация) врача -стоматолога детского",104.63," "," "," "," ",133.30000000000001,133.30000000000001," "," "," "," "," "," "," "," "," "," "," "," "," "," "," "," "," ",133.30000000000001," "," "," "," "," "," "," "," "," "," "," "," "," "," "," "," "," "," "," "," "," "," "," "," "," "," "," "," "," "," "," "," "," "," "," "," "," "," "," "," "," "," "," "," "," "," "," "," "," "," "," "," "," "," "," "," "," "," "," "," "," "," "," "," "," "," "," "," "," "," "," "," "," "," "," "," "," "," "," "," "," "," "," "," "," "," "," "," "]
["В04.064.002 ДД","Профилактический прием (осмотр, консультация) врача -стоматолога детского",104.63," "," "," "," ",133.30000000000001,133.30000000000001," "," "," "," "," "," "," "," "," "," "," "," "," "," "," "," "," ",133.30000000000001," "," "," "," "," "," "," "," "," "," "," "," "," "," "," "," "," "," "," "," "," "," "," "," "," "," "," "," "," "," "," "," "," "," "," "," "," "," "," "," "," "," "," "," "," "," "," "," "," "," "," "," "," "," "," "," "," "," "," "," "," "," "," "," "," "," "," "," "," "," "," "," "," "," "," "," "," "," "," "," "," "," "," "," "," "," "," "," "]
["В01.065.005 ДД","Прием (осмотр, консультация) гигиентиста стоматологтического детского",98.85," "," "," "," "," "," "," "," ",125.93," "," "," "," "," "," "," "," "," "," "," "," "," "," "," "," "," "," "," "," "," "," "," "," "," "," "," "," "," "," "," "," "," "," "," "," "," "," "," "," "," "," "," "," "," "," "," "," "," "," "," "," "," "," "," "," "," "," "," "," "," "," "," "," "," "," "," "," "," "," "," "," "," "," "," "," "," "," "," "," "," "," "," "," "," "," "," "," "," "," "," "," "," "," "," "," "," "," "," "," "," "," "," "]
[]
[]
["* - тариф действует с 01.01.2024"]
["** - тариф установлен для локального исследования 1 части тела"]
["Г - гельминтолог"]
["О - онкология"]
["Ф - фониатр"]
["ОБР - обращение"]
["Д - дети"]
["ДД - тарифы на оплату медицинской помощи, применяемые в рамках профилактических медицинских осмотров, диспансеризации"]
["Ст - медицинские услуги, проводимые при оказании медицинской помощи в стационарных условиях и в условиях дневного стационара"]
["Д Ст - медицинские услуги, проводимые при оказании медицинской помощи в стационарных условиях и в условиях дневного стационара, детям "]
["ДН Ст - медицинские услуги, проводимые при оказании медицинской помощи в стационарных условиях и в условиях дневного стационара, детям под наркозом"]
["ПУ - медицинские услуги, оказываемые с использованием передвижной установки"]
["ОП - при опухолях"]
["СК - определение силовых кислот"]
["НО - онкология под наркозом"]
["D - диагностическая"]

{"sheet":"Приложение № 4","index":4,"n_rows":277,"n_cols":34,"rows_kept":277,"cut":false,"hidden":false,"merged":[[19,15,20,15],[19,18,20,18],[18,14,20,14],[19,25,20,25],[19,28,20,28],[18,26,20,26],[18,27,20,27],[18,24,20,24],[17,16,17,20],[17,21,17,25],[17,26,17,30],[17,31,20,31],[19,20,20,20],[19,23,20,23],[18,16,20,16],[18,17,20,17],[18,19,20,19],[18,21,20,21],[18,22,20,22],[19,30,20,30],[18,29,20,29],[17,5,20,5],[17,6,17,10],[17,11,17,15],[17,0,20,0],[17,1,20,1],[17,2,20,2],[17,3,20,3],[17,4,20,4],[18,6,20,6],[18,7,20,7],[18,9,20,9],[18,11,20,11],[18,12,20,12],[19,8,20,8],[19,10,20,10],[19,13,20,13]]}
["_Оглавление"]
[null,{"$f":"MID(CELL(\"filename\",A2),SEARCH(\"]\",CELL(\"filename\",A2))+1,31)","v":"Приложение № 4"}]
[null,{"$f":"'Приложение № 3'!B3","v":"к Дополнительному соглашению № 6"}]
[null,{"$f":"_Оглавление_!A3","v":"от 05.06.2024"}]
[null,"к Тарифному соглашению"]
[null,"на оплату медицинской помощи "]
[null,"по ОМС на территории Томской области на 2024 год "]
[null,"от 05.02.2024"]
[]
[null,"Приложение № 25"]
[null,"к  Тарифному соглашению"]
[null,"на оплату медицинской помощи"]
[null,"по ОМС на территории Томской области на 2024 год"]
[null,"от 05.02.2024"]
[]
[null,null,"Размер финансового обеспечения фельдшерских здравпунктов, фельдшерско-акушерских пунктов с 01.06.2024 года"]
[]
["код МО","№","Наименование ФАП/ФП","Количество обслуживаемых жителей","Количество ФАП/ФП"," Соответствие/ несоответствие ФП, ФАП требованиям, установленным положением об организации оказания первичной медико-санитарной помощи взрослому населению в части обеспеченности медицинским персоналом"," ФАП, ФП, обслуживающий менее 100 жителей",{"$nulls":4}," ФАП, ФП, обслуживающий от 101 до 900 жителей",{"$nulls":4}," ФАП, ФП, обслуживающий от 901 до 1500 жителей",{"$nulls":4}," ФАП, ФП, обслуживающий от 1501 до 2000 жителей",{"$nulls":4}," ФАП, ФП, обслуживающий свыше 2000 жителей",{"$nulls":4},"ВСЕГО финансирование на 2024 год, тыс.руб."]
[{"$nulls":6},"Базовый норматив финансовых затрат на финансовое обеспечение 1 ФАП/ФП в Томской области, с учетом коэффициента дифференциации, установленного для муниципального образования в котором расположена медицинская организация (Федеральный базовый норматив затрат - 1 230,5 тыс.руб; поправочный коэффициент к размеру финансового обеспечения ФАП/ФП, обслуживающего менее 100 жителей - 0,5), тыс.руб.","Коэффициент специфики оказания медицинской помощи, применяемый к базовому нормативу финансовых затрат на финансовое обеспечение ФАП/ФП по Томской области","в том числе","Сумма финансирования, тыс.руб.","в том числе","Базовый норматив финансовых затрат на финансовое обеспечение 1 ФАП/ФП в Томской области, с учетом коэффициента дифференциации, установленного для муниципального образования в котором расположена медицинская организация (Федеральный базовый норматив затрат - 1 230,5 тыс.руб), тыс.руб.","Коэффициент специфики оказания медицинской помощи, применяемый к базовому нормативу финансовых затрат на финансовое обеспечение ФАП/ФП по Томской области","в том числе","Сумма финансирования, тыс.руб.","в том числе","Базовый норматив финансовых затрат на финансовое обеспечение  1 ФАП/ФП в Томской области, с учетом коэффициента дифференциации, установленного для муниципального образования в котором расположена медицинская организация (Федеральный базовый норматив затрат - 2 460,9 тыс.руб), тыс.руб.","Коэффициент специфики оказания медицинской помощи, применяемый к базовому нормативу финансовых затрат на финансовое обеспечение ФАП/ФП по Томской области","в том числе","Сумма финансирования, тыс.руб.","в том числе","Базовый норматив финансовых затрат на финансовое обеспечение  1 ФАП/ФП  в Томской области, с учетом коэффициента дифференциации, установленного для муниципального образования в котором расположена медицинская организация (Федеральный базовый норматив затрат -2 907,1 тыс. руб.), тыс.руб.","Коэффициент специфики оказания медицинской помощи, применяемый к базовому нормативу финансовых затрат на финансовое обеспечение ФАП/ФП по Томской области","в том числе","Сумма финансирования, тыс.руб.","в том числе","Базовый норматив финансовых затрат на финансовое обеспечение  1 ФАП/ФП в Томской области, с учетом коэффициента дифференциации, установленного для муниципального образования в котором расположена медицинская организация (Федеральный базовый норматив затрат - 2 907,1 тыс. рублей, поправочный коэффициент к размеру финансового обеспечения ФАП/ФП, обслуживающего более 2000 жителей - 1,3), тыс.руб.","Коэффициент специфики оказания медицинской помощи, применяемый к базовому нормативу финансовых затрат на финансовое обеспечение ФАП/ФП по Томской области","в том числе",{"$f":"Y19","v":"Сумма финансирования, тыс.руб."},"в том числе"]
[{"$nulls":8},"коэффициент, рассчитанный с учетом расчетного объема средств на оплату консультаций, связанных с проведение санитарно-гигиенического обучения женщин по вопросам грудного вскармливания, предупреждения заболеваний репродуктивной системы, абортов и инфекций, передаваемых половым путем",null,"Сумма финансирования за январь - май 2024, тыс. руб.",null,null,"коэффициент, рассчитанный с учетом расчетного объема средств на оплату консультаций, связанных с проведение санитарно-гигиенического обучения женщин по вопросам грудного вскармливания, предупреждения заболеваний репродуктивной системы, абортов и инфекций, передаваемых половым путем",null,"Сумма финансирования за январь - май 2024, тыс. руб.",null,null,"коэффициент, рассчитанный с учетом расчетного объема средств на оплату консультаций, связанных с проведение санитарно-гигиенического обучения женщин по вопросам грудного вскармливания, предупреждения заболеваний репродуктивной системы, абортов и инфекций, передаваемых половым путем",null,"Сумма финансирования за январь - май 2024, тыс. руб.",null,null,"коэффициент, рассчитанный с учетом расчетного объема средств на оплату консультаций, связанных с проведение санитарно-гигиенического обучения женщин по вопросам грудного вскармливания, предупреждения заболеваний репродуктивной системы, абортов и инфекций, передаваемых половым путем",null,"Сумма финансирования за январь - май 2024, тыс. руб.",null,null,"коэффициент, рассчитанный с учетом расчетного объема средств на оплату консультаций, связанных с проведение санитарно-гигиенического обучения женщин по вопросам грудного вскармливания, предупреждения заболеваний репродуктивной системы, абортов и инфекций, передаваемых половым путем",null,"Сумма финансирования за январь - май 2024, тыс. руб."]
[]
[]
[61,1,"ОГАУЗ \"Александровская РБ\"",{"$f":"SUM(D24:D26)","v":888},{"$f":"SUM(E24:E26)","v":3},{"$nulls":4},{"$f":"SUM(J24:J26)","v":0},{"$f":"SUM(K24:K26)","v":0},null,null,null,{"$f":"SUM(O24:O26)","v":4954.7999999999993},{"$f":"SUM(P24:P26)","v":2033.6999999999998},{"$nulls":15},{"$f":"J23+O23+T23+Y23+AD23","v":4954.7999999999993},null,{"$f":"AF23-[8]Расчетный!GO12","v":0}]
[null,null,"ФАП с.Новоникольское ОГАУЗ \"Александровская РБ\"",{"$f":"[8]Расчетный!E16","v":170},{"$f":"[8]Расчетный!F16","v":1},{"$f":"[8]Расчетный!G16","v":"Не соответствует"},{"$f":"[8]Расчетный!AF16","v":0},{"$f":"[8]Расчетный!AA16","v":0},{"$f":"[8]Расчетный!Z16","v":0},{"$f":"[8]Расчетный!AM16","v":0},{"$f":"[8]Расчетный!AD16-[8]Расчетный!AK16","v":0},{"$f":"[8]Расчетный!BN16","v":2291.4},{"$f":"[8]Расчетный!BR16","v":0.72738549794885232},{"$f":"[8]Расчетный!BH16","v":1.0004500000000001},{"$f":"[8]Расчетный!BX16","v":1649.1},{"$f":"[8]Расчетный!BL16-[8]Расчетный!BV16","v":676.9},{"$f":"[8]Расчетный!CY16","v":0},{"$f":"[8]Расчетный!DC16","v":0},0,{"$f":"[8]Расчетный!DI16","v":0},0,0,0,0,0,0,0,0,0,0,0]
[null,null,"ФАП с.Лукашкин Яр ОГАУЗ \"Александровская РБ\"",{"$f":"[8]Расчетный!E17","v":355},{"$f":"[8]Расчетный!F17","v":1},{"$f":"[8]Расчетный!G17","v":"Не соответствует"},{"$f":"[8]Расчетный!AF17","v":0},{"$f":"[8]Расчетный!AA17","v":0},{"$f":"[8]Расчетный!Z17","v":0},{"$f":"[8]Расчетный!AM17","v":0},{"$f":"[8]Расчетный!AD17-[8]Расчетный!AK17","v":0},{"$f":"[8]Расчетный!BN17","v":2291.4},{"$f":"[8]Расчетный!BR17","v":0.72898549794885237},{"$f":"[8]Расчетный!BH17","v":1.0020500000000001},{"$f":"[8]Расчетный!BX17","v":1652.7999999999997},{"$f":"[8]Расчетный!BL17-[8]Расчетный!BV17","v":678.39999999999986},{"$f":"[8]Расчетный!CY17","v":0},{"$f":"[8]Расчетный!DC17","v":0},0,{"$f":"[8]Расчетный!DI17","v":0},0,0,0,0,0,0,0,0,0,0,0]
[null,null,"ФАП с. Назино ОГАУЗ \"Александровская РБ\"",{"$f":"[8]Расчетный!E18","v":363},{"$f":"[8]Расчетный!F18","v":1},{"$f":"[8]Расчетный!G18","v":"Не соответствует"},{"$f":"[8]Расчетный!AF18","v":0},{"$f":"[8]Расчетный!AA18","v":0},{"$f":"[8]Расчетный!Z18","v":0},{"$f":"[8]Расчетный!AM18","v":0},{"$f":"[8]Расчетный!AD18-[8]Расчетный!AK18","v":0},{"$f":"[8]Расчетный!BN18","v":2291.4},{"$f":"[8]Расчетный!BR18","v":0.72905549794885216},{"$f":"[8]Расчетный!BH18","v":1.0021199999999999},{"$f":"[8]Расчетный!BX18","v":1652.9},{"$f":"[8]Расчетный!BL18-[8]Расчетный!BV18","v":678.40000000000009},{"$f":"[8]Расчетный!CY18","v":0},{"$f":"[8]Расчетный!DC18","v":0},0,{"$f":"[8]Расчетный!DI18","v":0},0,0,0,0,0,0,0,0,0,0,0]
[59,2,"ОГБУЗ \"Асиновская РБ\"",{"$f":"SUM(D28:D47)","v":4912},{"$f":"SUM(E28:E47)","v":20},{"$nulls":4},{"$f":"SUM(J28:J47)","v":3176},{"$f":"SUM(K28:K47)","v":1303.6999999999998},null,null,null,{"$f":"SUM(O28:O47)","v":16798.900000000001},{"$f":"SUM(P28:P47)","v":6894.7000000000007},{"$nulls":15},{"$f":"J27+O27+T27+Y27+AD27","v":19974.900000000001}]
[null,null,"ФАП д. Караколь ОГБУЗ \"Асиновская РБ\"",{"$f":"[8]Расчетный!E20","v":40},{"$f":"[8]Расчетный!F20","v":1},{"$f":"[8]Расчетный!G20","v":"Не соответствует"},{"$f":"[8]Расчетный!AF20","v":801.62400000000002},{"$f":"[8]Расчетный!AA20","v":1.00051},{"$f":"[8]Расчетный!I20","v":1.00051},{"$f":"[8]Расчетный!AM20","v":793.5},{"$f":"[8]Расчетный!AD20-[8]Расчетный!AK20","v":325.69999999999993},{"$f":"[8]Расчетный!BN20","v":0},{"$f":"[8]Расчетный!BR20","v":0},0,{"$f":"[8]Расчетный!BX20","v":0},{"$f":"[8]Расчетный!BL20-[8]Расчетный!BV20","v":0},0,0,0,0,0,0,0,0,0,0,0,0,0,0,0]
[null,null,"ФАП с. Латат ОГБУЗ \"Асиновская РБ\"",{"$f":"[8]Расчетный!E21","v":59},{"$f":"[8]Расчетный!F21","v":1},{"$f":"[8]Расчетный!G21","v":"Не соответствует"},{"$f":"[8]Расчетный!AF21","v":801.62400000000002},{"$f":"[8]Расчетный!AA21","v":1.0008999999999999},{"$f":"[8]Расчетный!I21","v":1.0008999999999999},{"$f":"[8]Расчетный!AM21","v":793.90000000000009},{"$f":"[8]Расчетный!AD21-[8]Расчетный!AK21","v":325.90000000000003},{"$f":"[8]Расчетный!BN21","v":0},{"$f":"[8]Расчетный!BR21","v":0},0,{"$f":"[8]Расчетный!BX21","v":0},{"$f":"[8]Расчетный!BL21-[8]Расчетный!BV21","v":0},0,0,0,0,0,0,0,0,0,0,0,0,0,0,0]
[null,null,"ФАП д. Тихомировка ОГБУЗ \"Асиновская РБ\"",{"$f":"[8]Расчетный!E22","v":65},{"$f":"[8]Расчетный!F22","v":1},{"$f":"[8]Расчетный!G22","v":"Не соответствует"},{"$f":"[8]Расчетный!AF22","v":801.62400000000002},{"$f":"[8]Расчетный!AA22","v":1.0018},{"$f":"[8]Расчетный!I22","v":1.0018},{"$f":"[8]Расчетный!AM22","v":794.69999999999993},{"$f":"[8]Расчетный!AD22-[8]Расчетный!AK22","v":326.19999999999993},{"$f":"[8]Расчетный!BN22","v":0},{"$f":"[8]Расчетный!BR22","v":0},0,{"$f":"[8]Расчетный!BX22","v":0},{"$f":"[8]Расчетный!BL22-[8]Расчетный!BV22","v":0},0,0,0,0,0,0,0,0,0,0,0,0,0,0,0]
[null,null,"ФАП пос. Ноль-Пикет ОГБУЗ \"Асиновская РБ\"",{"$f":"[8]Расчетный!E23","v":74},{"$f":"[8]Расчетный!F23","v":1},{"$f":"[8]Расчетный!G23","v":"Не соответствует"},{"$f":"[8]Расчетный!AF23","v":801.62400000000002},{"$f":"[8]Расчетный!AA23","v":1.0008999999999999},{"$f":"[8]Расчетный!I23","v":1.0008999999999999},{"$f":"[8]Расчетный!AM23","v":793.90000000000009},{"$f":"[8]Расчетный!AD23-[8]Расчетный!AK23","v":325.90000000000003},{"$f":"[8]Расчетный!BN23","v":0},{"$f":"[8]Расчетный!BR23","v":0},0,{"$f":"[8]Расчетный!BX23","v":0},{"$f":"[8]Расчетный!BL23-[8]Расчетный!BV23","v":0},0,0,0,0,0,0,0,0,0,0,0,0,0,0,0]
[null,null,"ФАП д. Вороно-Пашня ОГБУЗ \"Асиновская РБ\"",{"$f":"[8]Расчетный!E25","v":102},{"$f":"[8]Расчетный!F25","v":1},{"$f":"[8]Расчетный!G25","v":"Не соответствует"},{"$f":"[8]Расчетный!AF25","v":0},{"$f":"[8]Расчетный!AA25","v":0},0,{"$f":"[8]Расчетный!AM25","v":0},{"$f":"[8]Расчетный!AD25-[8]Расчетный!AK25","v":0},{"$f":"[8]Расчетный!BN25","v":1603.4},{"$f":"[8]Расчетный!BR25","v":0.72798522015716605},{"$f":"[8]Расчетный!I25","v":1.0010300000000001},{"$f":"[8]Расчетный!BX25","v":1154.8999999999999},{"$f":"[8]Расчетный!BL25-[8]Расчетный!BV25","v":473.99999999999989},0,0,0,0,0,0,0,0,0,0,0,0,0,0,0]
[null,null,"ФАП с. Цветковка ОГБУЗ \"Асиновская РБ\"",{"$f":"[8]Расчетный!E26","v":110},{"$f":"[8]Расчетный!F26","v":1},{"$f":"[8]Расчетный!G26","v":"Не соответствует"},{"$f":"[8]Расчетный!AF26","v":0},{"$f":"[8]Расчетный!AA26","v":0},0,{"$f":"[8]Расчетный!AM26","v":0},{"$f":"[8]Расчетный!AD26-[8]Расчетный!AK26","v":0},{"$f":"[8]Расчетный!BN26","v":1603.4},{"$f":"[8]Расчетный!BR26","v":0.45367729574653853},{"$f":"[8]Расчетный!I26","v":1.00064},{"$f":"[8]Расчетный!BX26","v":719.7},{"$f":"[8]Расчетный!BL26-[8]Расчетный!BV26","v":295.39999999999998},0,0,0,0,0,0,0,0,0,0,0,0,0,0,0]
[null,null,"ФАП пос. Первопашенск ОГБУЗ \"Асиновская РБ\"",{"$f":"[8]Расчетный!E27","v":119},{"$f":"[8]Расчетный!F27","v":1},{"$f":"[8]Расчетный!G27","v":"Не соответствует"},{"$f":"[8]Расчетный!AF27","v":0},{"$f":"[8]Расчетный!AA27","v":0},0,{"$f":"[8]Расчетный!AM27","v":0},{"$f":"[8]Расчетный!AD27-[8]Расчетный!AK27","v":0},{"$f":"[8]Расчетный!BN27","v":1603.4},{"$f":"[8]Расчетный!BR27","v":0.72753522015716598},{"$f":"[8]Расчетный!I27","v":1.00058},{"$f":"[8]Расчетный!BX27","v":1154.2},{"$f":"[8]Расчетный!BL27-[8]Расчетный!BV27","v":473.70000000000005},0,0,0,0,0,0,0,0,0,0,0,0,0,0,0]
[null,null,"ФАП д. Нижние Соколы ОГБУЗ \"Асиновская РБ\"",{"$f":"[8]Расчетный!E28","v":144},{"$f":"[8]Расчетный!F28","v":1},{"$f":"[8]Расчетный!G28","v":"Не соответствует"},{"$f":"[8]Расчетный!AF28","v":0},{"$f":"[8]Расчетный!AA28","v":0},0,{"$f":"[8]Расчетный!AM28","v":0},{"$f":"[8]Расчетный!AD28-[8]Расчетный!AK28","v":0},{"$f":"[8]Расчетный!BN28","v":1603.4},{"$f":"[8]Расчетный!BR28","v":0.72811522015716601},{"$f":"[8]Расчетный!I28","v":1.00116},{"$f":"[8]Расчетный!BX28","v":1155.0999999999999},{"$f":"[8]Расчетный!BL28-[8]Расчетный!BV28","v":474.09999999999991},0,0,0,0,0,0,0,0,0,0,0,0,0,0,0]
[null,null,"ФАП д. Победа ОГБУЗ \"Асиновская РБ\"",{"$f":"[8]Расчетный!E29","v":155},{"$f":"[8]Расчетный!F29","v":1},{"$f":"[8]Расчетный!G29","v":"Не соответствует"},{"$f":"[8]Расчетный!AF29","v":0},{"$f":"[8]Расчетный!AA29","v":0},0,{"$f":"[8]Расчетный!AM29","v":0},{"$f":"[8]Расчетный!AD29-[8]Расчетный!AK29","v":0},{"$f":"[8]Расчетный!BN29","v":1603.4},{"$f":"[8]Расчетный!BR29","v":0.7277252201571659},{"$f":"[8]Расчетный!I29","v":1.0007699999999999},{"$f":"[8]Расчетный!BX29","v":1154.4000000000001},{"$f":"[8]Расчетный!BL29-[8]Расчетный!BV29","v":473.80000000000007},0,0,0,0,0,0,0,0,0,0,0,0,0,0,0]
[null,null,"ФАП д. Моисеевка ОГБУЗ \"Асиновская РБ\"",{"$f":"[8]Расчетный!E30","v":155},{"$f":"[8]Расчетный!F30","v":1},{"$f":"[8]Расчетный!G30","v":"Не соответствует"},{"$f":"[8]Расчетный!AF30","v":0},{"$f":"[8]Расчетный!AA30","v":0},0,{"$f":"[8]Расчетный!AM30","v":0},{"$f":"[8]Расчетный!AD30-[8]Расчетный!AK30","v":0},{"$f":"[8]Расчетный!BN30","v":1603.4},{"$f":"[8]Расчетный!BR30","v":0.72811522015716601},{"$f":"[8]Расчетный!I30","v":1.00116},{"$f":"[8]Расчетный!BX30","v":1155.0999999999999},{"$f":"[8]Расчетный!BL30-[8]Расчетный!BV30","v":474.09999999999991},0,0,0,0,0,0,0,0,0,0,0,0,0,0,0]
[null,null,"ФАП пос. Большой Кордон ОГБУЗ \"Асиновская РБ\"",{"$f":"[8]Расчетный!E31","v":233},{"$f":"[8]Расчетный!F31","v":1},{"$f":"[8]Расчетный!G31","v":"Не соответствует"},{"$f":"[8]Расчетный!AF31","v":0},{"$f":"[8]Расчетный!AA31","v":0},0,{"$f":"[8]Расчетный!AM31","v":0},{"$f":"[8]Расчетный!AD31-[8]Расчетный!AK31","v":0},{"$f":"[8]Расчетный!BN31","v":1603.4},{"$f":"[8]Расчетный!BR31","v":0.73029522015716586},{"$f":"[8]Расчетный!I31","v":1.0033399999999999},{"$f":"[8]Расчетный!BX31","v":1158.5999999999999},{"$f":"[8]Расчетный!BL31-[8]Расчетный!BV31","v":475.5},0,0,0,0,0,0,0,0,0,0,0,0,0,0,0]
[null,null,"ФАП д. Гарь ОГБУЗ \"Асиновская РБ\"",{"$f":"[8]Расчетный!E32","v":238},{"$f":"[8]Расчетный!F32","v":1},{"$f":"[8]Расчетный!G32","v":"Не соответствует"},{"$f":"[8]Расчетный!AF32","v":0},{"$f":"[8]Расчетный!AA32","v":0},0,{"$f":"[8]Расчетный!AM32","v":0},{"$f":"[8]Расчетный!AD32-[8]Расчетный!AK32","v":0},{"$f":"[8]Расчетный!BN32","v":1603.4},{"$f":"[8]Расчетный!BR32","v":0.72695522015716596},{"$f":"[8]Расчетный!I32","v":1},{"$f":"[8]Расчетный!BX32","v":1153.1999999999998},{"$f":"[8]Расчетный!BL32-[8]Расчетный!BV32","v":473.29999999999995},0,0,0,0,0,0,0,0,0,0,0,0,0,0,0]
[null,null,"ФАП д. Феоктистовка ОГБУЗ \"Асиновская РБ\"",{"$f":"[8]Расчетный!E33","v":244},{"$f":"[8]Расчетный!F33","v":1},{"$f":"[8]Расчетный!G33","v":"Не соответствует"},{"$f":"[8]Расчетный!AF33","v":0},{"$f":"[8]Расчетный!AA33","v":0},0,{"$f":"[8]Расчетный!AM33","v":0},{"$f":"[8]Расчетный!AD33-[8]Расчетный!AK33","v":0},{"$f":"[8]Расчетный!BN33","v":1603.4},{"$f":"[8]Расчетный!BR33","v":0.45611729574653853},{"$f":"[8]Расчетный!I33","v":1.00308},{"$f":"[8]Расчетный!BX33","v":723.59999999999991},{"$f":"[8]Расчетный!BL33-[8]Расчетный!BV33","v":296.99999999999994},0,0,0,0,0,0,0,0,0,0,0,0,0,0,0]
[null,null,"ФАП с. Филимоновка ОГБУЗ \"Асиновская РБ\"",{"$f":"[8]Расчетный!E34","v":251},{"$f":"[8]Расчетный!F34","v":1},{"$f":"[8]Расчетный!G34","v":"Не соответствует"},{"$f":"[8]Расчетный!AF34","v":0},{"$f":"[8]Расчетный!AA34","v":0},0,{"$f":"[8]Расчетный!AM34","v":0},{"$f":"[8]Расчетный!AD34-[8]Расчетный!AK34","v":0},{"$f":"[8]Расчетный!BN34","v":1603.4},{"$f":"[8]Расчетный!BR34","v":0.45573729574653848},{"$f":"[8]Расчетный!I34","v":1.0026999999999999},{"$f":"[8]Расчетный!BX34","v":722.90000000000009},{"$f":"[8]Расчетный!BL34-[8]Расчетный!BV34","v":296.70000000000005},0,0,0,0,0,0,0,0,0,0,0,0,0,0,0]
[null,null,"ФАП с. Казанка ОГБУЗ \"Асиновская РБ\"",{"$f":"[8]Расчетный!E35","v":271},{"$f":"[8]Расчетный!F35","v":1},{"$f":"[8]Расчетный!G35","v":"Не соответствует"},{"$f":"[8]Расчетный!AF35","v":0},{"$f":"[8]Расчетный!AA35","v":0},0,{"$f":"[8]Расчетный!AM35","v":0},{"$f":"[8]Расчетный!AD35-[8]Расчетный!AK35","v":0},{"$f":"[8]Расчетный!BN35","v":1603.4},{"$f":"[8]Расчетный!BR35","v":0.73009522015716588},{"$f":"[8]Расчетный!I35","v":1.0031399999999999},{"$f":"[8]Расчетный!BX35","v":1158.3000000000002},{"$f":"[8]Расчетный!BL35-[8]Расчетный!BV35","v":475.40000000000009},0,0,0,0,0,0,0,0,0,0,0,0,0,0,0]
[null,null,"ФАП пос. Светлый ОГБУЗ \"Асиновская РБ\"",{"$f":"[8]Расчетный!E36","v":315},{"$f":"[8]Расчетный!F36","v":1},{"$f":"[8]Расчетный!G36","v":"Не соответствует"},{"$f":"[8]Расчетный!AF36","v":0},{"$f":"[8]Расчетный!AA36","v":0},0,{"$f":"[8]Расчетный!AM36","v":0},{"$f":"[8]Расчетный!AD36-[8]Расчетный!AK36","v":0},{"$f":"[8]Расчетный!BN36","v":1603.4},{"$f":"[8]Расчетный!BR36","v":0.45508729574653867},{"$f":"[8]Расчетный!I36","v":1.0020500000000001},{"$f":"[8]Расчетный!BX36","v":722},{"$f":"[8]Расчетный!BL36-[8]Расчетный!BV36","v":296.30000000000007},0,0,0,0,0,0,0,0,0,0,0,0,0,0,0]
[null,null,"ФАП д. Мало-Жирово ОГБУЗ \"Асиновская РБ\"",{"$f":"[8]Расчетный!E37","v":388},{"$f":"[8]Расчетный!F37","v":1},{"$f":"[8]Расчетный!G37","v":"Не соответствует"},{"$f":"[8]Расчетный!AF37","v":0},{"$f":"[8]Расчетный!AA37","v":0},0,{"$f":"[8]Расчетный!AM37","v":0},{"$f":"[8]Расчетный!AD37-[8]Расчетный!AK37","v":0},{"$f":"[8]Расчетный!BN37","v":1603.4},{"$f":"[8]Расчетный!BR37","v":0.73350522015716602},{"$f":"[8]Расчетный!I37","v":1.0065500000000001},{"$f":"[8]Расчетный!BX37","v":1163.7},{"$f":"[8]Расчетный!BL37-[8]Расчетный!BV37","v":477.6},0,0,0,0,0,0,0,0,0,0,0,0,0,0,0]
[null,null,"ФАП с. Больше-Дорохово ОГБУЗ \"Асиновская РБ\"",{"$f":"[8]Расчетный!E38","v":435},{"$f":"[8]Расчетный!F38","v":1},{"$f":"[8]Расчетный!G38","v":"Не соответствует"},{"$f":"[8]Расчетный!AF38","v":0},{"$f":"[8]Расчетный!AA38","v":0},0,{"$f":"[8]Расчетный!AM38","v":0},{"$f":"[8]Расчетный!AD38-[8]Расчетный!AK38","v":0},{"$f":"[8]Расчетный!BN38","v":1603.4},{"$f":"[8]Расчетный!BR38","v":0.734655220157166},{"$f":"[8]Расчетный!I38","v":1.0077},{"$f":"[8]Расчетный!BX38","v":1165.4000000000001},{"$f":"[8]Расчетный!BL38-[8]Расчетный!BV38","v":478.29999999999995},0,0,0,0,0,0,0,0,0,0,0,0,0,0,0]
[null,null,"ФАП пос. Причулымский ОГБУЗ \"Асиновская РБ\"",{"$f":"[8]Расчетный!E39","v":755},{"$f":"[8]Расчетный!F39","v":1},{"$f":"[8]Расчетный!G39","v":"Не соответствует"},{"$f":"[8]Расчетный!AF39","v":0},{"$f":"[8]Расчетный!AA39","v":0},0,{"$f":"[8]Расчетный!AM39","v":0},{"$f":"[8]Расчетный!AD39-[8]Расчетный!AK39","v":0},{"$f":"[8]Расчетный!BN39","v":1603.4},{"$f":"[8]Расчетный!BR39","v":0.4631772957465386},{"$f":"[8]Расчетный!I39","v":1.01014},{"$f":"[8]Расчетный!BX39","v":734.8},{"$f":"[8]Расчетный!BL39-[8]Расчетный!BV39","v":301.59999999999997},0,0,0,0,0,0,0,0,0,0,0,0,0,0,0]
[null,null,"ФАП с. Новониколаевка ОГБУЗ \"Асиновская РБ\"",{"$f":"[8]Расчетный!E40","v":759},{"$f":"[8]Расчетный!F40","v":1},{"$f":"[8]Расчетный!G40","v":"Соответствует"},{"$f":"[8]Расчетный!AF40","v":0},{"$f":"[8]Расчетный!AA40","v":0},0,{"$f":"[8]Расчетный!AM40","v":0},{"$f":"[8]Расчетный!AD40-[8]Расчетный!AK40","v":0},{"$f":"[8]Расчетный!BN40","v":1603.4},{"$f":"[8]Расчетный!BR40","v":1.0104},{"$f":"[8]Расчетный!I40","v":1.0104},{"$f":"[8]Расчетный!BX40","v":1603},{"$f":"[8]Расчетный!BL40-[8]Расчетный!BV40","v":657.9},0,0,0,0,0,0,0,0,0,0,0,0,0,0,0]
[63,3,"ОГБУЗ \"Бакчарская РБ\"",{"$f":"SUM(D49:D55)","v":3481},{"$f":"SUM(E49:E55)","v":7},{"$nulls":4},{"$f":"SUM(J49:J55)","v":1041.0999999999999},{"$f":"SUM(K49:K55)","v":427.29999999999995},null,null,null,{"$f":"SUM(O49:O55)","v":9622},{"$f":"SUM(P49:P55)","v":3949.3000000000006},{"$nulls":15},{"$f":"J48+O48+T48+Y48+AD48","v":10663.1}]
[null,null,"ФАП с. Рогалево ОГБУЗ \"Бакчарская РБ\"",{"$f":"[8]Расчетный!E42","v":60},{"$f":"[8]Расчетный!F42","v":1},{"$f":"[8]Расчетный!G42","v":"Не соответствует"},{"$f":"[8]Расчетный!AF42","v":1050.9480000000001},{"$f":"[8]Расчетный!AA42","v":1.00115},{"$f":"[8]Расчетный!I42","v":1.00115},{"$f":"[8]Расчетный!AM42","v":1041.0999999999999},{"$f":"[8]Расчетный!AD42-[8]Расчетный!AK42","v":427.29999999999995},{"$f":"[8]Расчетный!BN42","v":0},{"$f":"[8]Расчетный!BR42","v":0},0,{"$f":"[8]Расчетный!BX42","v":0},{"$f":"[8]Расчетный!BL42-[8]Расчетный!BV42","v":0},0,0,0,0,0,0,0,0,0,0,0,0,0,0,0]
[null,null,"ФП с. Чернышевка ОГБУЗ \"Бакчарская РБ\"",{"$f":"[8]Расчетный!E50","v":318},{"$f":"[8]Расчетный!F50","v":1},{"$f":"[8]Расчетный!G50","v":"Не соответствует"},{"$f":"[8]Расчетный!AF50","v":0},{"$f":"[8]Расчетный!AA50","v":0},0,{"$f":"[8]Расчетный!AM50","v":0},{"$f":"[8]Расчетный!AD50-[8]Расчетный!AK50","v":0},{"$f":"[8]Расчетный!BN50","v":2102.1},{"$f":"[8]Расчетный!BR50","v":0.72821972693972692},{"$f":"[8]Расчетный!I50","v":1.0012799999999999},{"$f":"[8]Расчетный!BX50","v":1514.7},{"$f":"[8]Расчетный!BL50-[8]Расчетный!BV50","v":621.70000000000005},0,0,0,0,0,0,0,0,0,0,0,0,0,0,0]
[null,null,"ФАП д. Вавиловка ОГБУЗ \"Бакчарская РБ\"",{"$f":"[8]Расчетный!E51","v":572},{"$f":"[8]Расчетный!F51","v":1},{"$f":"[8]Расчетный!G51","v":"Не соответствует"},{"$f":"[8]Расчетный!AF51","v":0},{"$f":"[8]Расчетный!AA51","v":0},0,{"$f":"[8]Расчетный!AM51","v":0},{"$f":"[8]Расчетный!AD51-[8]Расчетный!AK51","v":0},{"$f":"[8]Расчетный!BN51","v":2102.1},{"$f":"[8]Расчетный!BR51","v":0.73149972693972687},{"$f":"[8]Расчетный!I51","v":1.0045599999999999},{"$f":"[8]Расчетный!BX51","v":1521.5},{"$f":"[8]Расчетный!BL51-[8]Расчетный!BV51","v":624.5},0,0,0,0,0,0,0,0,0,0,0,0,0,0,0]
[null,null,"ФАП с. Поротниково ОГБУЗ \"Бакчарская РБ\"",{"$f":"[8]Расчетный!E52","v":621},{"$f":"[8]Расчетный!F52","v":1},{"$f":"[8]Расчетный!G52","v":"Не соответствует"},{"$f":"[8]Расчетный!AF52","v":0},{"$f":"[8]Расчетный!AA52","v":0},0,{"$f":"[8]Расчетный!AM52","v":0},{"$f":"[8]Расчетный!AD52-[8]Расчетный!AK52","v":0},{"$f":"[8]Расчетный!BN52","v":2102.1},{"$f":"[8]Расчетный!BR52","v":0.42895256885971172},{"$f":"[8]Расчетный!I52","v":1.00295},{"$f":"[8]Расчетный!BX52","v":892.19999999999993},{"$f":"[8]Расчетный!BL52-[8]Расчетный!BV52","v":366.19999999999993},0,0,0,0,0,0,0,0,0,0,0,0,0,0,0]
[null,null,"ФАП с. Высокий Яр ОГБУЗ \"Бакчарская РБ\"",{"$f":"[8]Расчетный!E53","v":627},{"$f":"[8]Расчетный!F53","v":1},{"$f":"[8]Расчетный!G53","v":"Соответствует"},{"$f":"[8]Расчетный!AF53","v":0},{"$f":"[8]Расчетный!AA53","v":0},0,{"$f":"[8]Расчетный!AM53","v":0},{"$f":"[8]Расчетный!AD53-[8]Расчетный!AK53","v":0},{"$f":"[8]Расчетный!BN53","v":2102.1},{"$f":"[8]Расчетный!BR53","v":1.00475},{"$f":"[8]Расчетный!I53","v":1.00475},{"$f":"[8]Расчетный!BX53","v":2089.8000000000002},{"$f":"[8]Расчетный!BL53-[8]Расчетный!BV53","v":857.7},0,0,0,0,0,0,0,0,0,0,0,0,0,0,0]
[null,null,"ФАП с. Большая Галка ОГБУЗ \"Бакчарская РБ\"",{"$f":"[8]Расчетный!E54","v":635},{"$f":"[8]Расчетный!F54","v":1},{"$f":"[8]Расчетный!G54","v":"Соответствует"},{"$f":"[8]Расчетный!AF54","v":0},{"$f":"[8]Расчетный!AA54","v":0},0,{"$f":"[8]Расчетный!AM54","v":0},{"$f":"[8]Расчетный!AD54-[8]Расчетный!AK54","v":0},{"$f":"[8]Расчетный!BN54","v":2102.1},{"$f":"[8]Расчетный!BR54","v":1},{"$f":"[8]Расчетный!I54","v":1},{"$f":"[8]Расчетный!BX54","v":2079.9000000000005},{"$f":"[8]Расчетный!BL54-[8]Расчетный!BV54","v":853.70000000000027},0,0,0,0,0,0,0,0,0,0,0,0,0,0,0]
[null,null,"ФАП п. Плотниково ОГБУЗ \"Бакчарская РБ\"",{"$f":"[8]Расчетный!E55","v":648},{"$f":"[8]Расчетный!F55","v":1},{"$f":"[8]Расчетный!G55","v":"Не соответствует"},{"$f":"[8]Расчетный!AF55","v":0},{"$f":"[8]Расчетный!AA55","v":0},0,{"$f":"[8]Расчетный!AM55","v":0},{"$f":"[8]Расчетный!AD55-[8]Расчетный!AK55","v":0},{"$f":"[8]Расчетный!BN55","v":2102.1},{"$f":"[8]Расчетный!BR55","v":0.73264972693972708},{"$f":"[8]Расчетный!I55","v":1.0057100000000001},{"$f":"[8]Расчетный!BX55","v":1523.8999999999999},{"$f":"[8]Расчетный!BL55-[8]Расчетный!BV55","v":625.49999999999989},0,0,0,0,0,0,0,0,0,0,0,0,0,0,0]
[65,4,"ОГБУЗ \"Верхнекетская РБ\"",{"$f":"SUM(D57:D64)","v":1933},{"$f":"SUM(E57:E64)","v":8},{"$nulls":4},{"$f":"SUM(J57:J64)","v":1121.2},{"$f":"SUM(K57:K64)","v":460.20000000000005},null,null,null,{"$f":"SUM(O57:O64)","v":13257.400000000001},{"$f":"SUM(P57:P64)","v":5441.3},{"$nulls":15},{"$f":"J56+O56+T56+Y56+AD56","v":14378.600000000002}]
[null,null,"ФАП п. Макзыр ОГБУЗ \"Верхнекетская РБ\" ",{"$f":"[8]Расчетный!E58","v":89},{"$f":"[8]Расчетный!F58","v":1},{"$f":"[8]Расчетный!G58","v":"Не соответствует"},{"$f":"[8]Расчетный!AF58","v":1133.0040000000001},{"$f":"[8]Расчетный!AA58","v":1.00013},{"$f":"[8]Расчетный!I58","v":1.00013},{"$f":"[8]Расчетный!AM58","v":1121.2},{"$f":"[8]Расчетный!AD58-[8]Расчетный!AK58","v":460.20000000000005},{"$f":"[8]Расчетный!BN58","v":0},{"$f":"[8]Расчетный!BR58","v":0},0,{"$f":"[8]Расчетный!BX58","v":0},{"$f":"[8]Расчетный!BL58-[8]Расчетный!BV58","v":0},0,0,0,0,0,0,0,0,0,0,0,0,0,0,0]
[null,null,"ФАП п.Полуденовка ОГБУЗ \"Верхнекетская РБ\"",{"$f":"[8]Расчетный!E59","v":120},{"$f":"[8]Расчетный!F59","v":1},{"$f":"[8]Расчетный!G59","v":"Не соответствует"},{"$f":"[8]Расчетный!AF59","v":0},{"$f":"[8]Расчетный!AA59","v":0},0,{"$f":"[8]Расчетный!AM59","v":0},{"$f":"[8]Расчетный!AD59-[8]Расчетный!AK59","v":0},{"$f":"[8]Расчетный!BN59","v":2266.1999999999998},{"$f":"[8]Расчетный!BR59","v":0.72752378254346495},{"$f":"[8]Расчетный!I59","v":1.00058},{"$f":"[8]Расчетный!BX59","v":1631.2000000000003},{"$f":"[8]Расчетный!BL59-[8]Расчетный!BV59","v":669.50000000000011},0,0,0,0,0,0,0,0,0,0,0,0,0,0,0]
[null,null,"ФАП п. Нибега ОГБУЗ \"Верхнекетская РБ\" ",{"$f":"[8]Расчетный!E60","v":128},{"$f":"[8]Расчетный!F60","v":1},{"$f":"[8]Расчетный!G60","v":"Не соответствует"},{"$f":"[8]Расчетный!AF60","v":0},{"$f":"[8]Расчетный!AA60","v":0},0,{"$f":"[8]Расчетный!AM60","v":0},{"$f":"[8]Расчетный!AD60-[8]Расчетный!AK60","v":0},{"$f":"[8]Расчетный!BN60","v":2266.1999999999998},{"$f":"[8]Расчетный!BR60","v":0.72700378254346487},{"$f":"[8]Расчетный!I60","v":1.0000599999999999},{"$f":"[8]Расчетный!BX60","v":1630},{"$f":"[8]Расчетный!BL60-[8]Расчетный!BV60","v":669},0,0,0,0,0,0,0,0,0,0,0,0,0,0,0]
[null,null,"ФАП п. Дружный ОГБУЗ \"Верхнекетская РБ\"",{"$f":"[8]Расчетный!E61","v":184},{"$f":"[8]Расчетный!F61","v":1},{"$f":"[8]Расчетный!G61","v":"Не соответствует"},{"$f":"[8]Расчетный!AF61","v":0},{"$f":"[8]Расчетный!AA61","v":0},0,{"$f":"[8]Расчетный!AM61","v":0},{"$f":"[8]Расчетный!AD61-[8]Расчетный!AK61","v":0},{"$f":"[8]Расчетный!BN61","v":2266.1999999999998},{"$f":"[8]Расчетный!BR61","v":0.86307475068396444},{"$f":"[8]Расчетный!I61","v":1},{"$f":"[8]Расчетный!BX61","v":1935.1000000000001},{"$f":"[8]Расчетный!BL61-[8]Расчетный!BV61","v":794.2},0,0,0,0,0,0,0,0,0,0,0,0,0,0,0]
[null,null,"ФАП п. Центральный ОГБУЗ \"Верхнекетская РБ\" ",{"$f":"[8]Расчетный!E62","v":211},{"$f":"[8]Расчетный!F62","v":1},{"$f":"[8]Расчетный!G62","v":"Не соответствует"},{"$f":"[8]Расчетный!AF62","v":0},{"$f":"[8]Расчетный!AA62","v":0},0,{"$f":"[8]Расчетный!AM62","v":0},{"$f":"[8]Расчетный!AD62-[8]Расчетный!AK62","v":0},{"$f":"[8]Расчетный!BN62","v":2266.1999999999998},{"$f":"[8]Расчетный!BR62","v":0.86384475068396438},{"$f":"[8]Расчетный!I62","v":1.0007699999999999},{"$f":"[8]Расчетный!BX62","v":1936.9},{"$f":"[8]Расчетный!BL62-[8]Расчетный!BV62","v":795},0,0,0,0,0,0,0,0,0,0,0,0,0,0,0]
[null,null,"ФАП п. Палочка ОГБУЗ \"Верхнекетская РБ\" ",{"$f":"[8]Расчетный!E63","v":246},{"$f":"[8]Расчетный!F63","v":1},{"$f":"[8]Расчетный!G63","v":"Не соответствует"},{"$f":"[8]Расчетный!AF63","v":0},{"$f":"[8]Расчетный!AA63","v":0},0,{"$f":"[8]Расчетный!AM63","v":0},{"$f":"[8]Расчетный!AD63-[8]Расчетный!AK63","v":0},{"$f":"[8]Расчетный!BN63","v":2266.1999999999998},{"$f":"[8]Расчетный!BR63","v":0.86397475068396434},{"$f":"[8]Расчетный!I63","v":1.0008999999999999},{"$f":"[8]Расчетный!BX63","v":1937.2},{"$f":"[8]Расчетный!BL63-[8]Расчетный!BV63","v":795.10000000000014},0,0,0,0,0,0,0,0,0,0,0,0,0,0,0]
[null,null,"ФАП п. Лисица ОГБУЗ \"Верхнекетская РБ\" ",{"$f":"[8]Расчетный!E64","v":287},{"$f":"[8]Расчетный!F64","v":1},{"$f":"[8]Расчетный!G64","v":"Не соответствует"},{"$f":"[8]Расчетный!AF64","v":0},{"$f":"[8]Расчетный!AA64","v":0},0,{"$f":"[8]Расчетный!AM64","v":0},{"$f":"[8]Расчетный!AD64-[8]Расчетный!AK64","v":0},{"$f":"[8]Расчетный!BN64","v":2266.1999999999998},{"$f":"[8]Расчетный!BR64","v":0.86384475068396438},{"$f":"[8]Расчетный!I64","v":1.0007699999999999},{"$f":"[8]Расчетный!BX64","v":1936.9},{"$f":"[8]Расчетный!BL64-[8]Расчетный!BV64","v":795},0,0,0,0,0,0,0,0,0,0,0,0,0,0,0]
[null,null,"ФАП п. Ягодное ОГБУЗ \"Верхнекетская РБ\" ",{"$f":"[8]Расчетный!E65","v":668},{"$f":"[8]Расчетный!F65","v":1},{"$f":"[8]Расчетный!G65","v":"Соответствует"},{"$f":"[8]Расчетный!AF65","v":0},{"$f":"[8]Расчетный!AA65","v":0},0,{"$f":"[8]Расчетный!AM65","v":0},{"$f":"[8]Расчетный!AD65-[8]Расчетный!AK65","v":0},{"$f":"[8]Расчетный!BN65","v":2266.1999999999998},{"$f":"[8]Расчетный!BR65","v":1.0034700000000001},{"$f":"[8]Расчетный!I65","v":1.0034700000000001},{"$f":"[8]Расчетный!BX65","v":2250.1},{"$f":"[8]Расчетный!BL65-[8]Расчетный!BV65","v":923.5},0,0,0,0,0,0,0,0,0,0,0,0,0,0,0]
[67,5,"ОГБУЗ \"Зырянская РБ\"",{"$f":"SUM(D66:D75)","v":3141},{"$f":"SUM(E66:E75)","v":10},{"$nulls":9},{"$f":"SUM(O66:O75)","v":11500.799999999997},{"$f":"SUM(P66:P75)","v":4720.3999999999996},{"$nulls":15},{"$f":"J65+O65+T65+Y65+AD65","v":11500.799999999997}]
[null,null,"ФАП с. Громышевка ОГБУЗ \"Зырянская РБ\"",{"$f":"[8]Расчетный!E69","v":144},{"$f":"[8]Расчетный!F69","v":1},{"$f":"[8]Расчетный!G69","v":"Не соответствует"},0,0,0,0,0,{"$f":"[8]Расчетный!BN69","v":1590.8},{"$f":"[8]Расчетный!BR69","v":0.72897984661805404},{"$f":"[8]Расчетный!I69","v":1.0020500000000001},{"$f":"[8]Расчетный!BX69","v":1147.5},{"$f":"[8]Расчетный!BL69-[8]Расчетный!BV69","v":471},0,0,0,0,0,0,0,0,0,0,0,0,0,0,0]
[null,null,"ФАП с. Вамболы ОГБУЗ \"Зырянская РБ\"",{"$f":"[8]Расчетный!E70","v":175},{"$f":"[8]Расчетный!F70","v":1},{"$f":"[8]Расчетный!G70","v":"Не соответствует"},0,0,0,0,0,{"$f":"[8]Расчетный!BN70","v":1590.8},{"$f":"[8]Расчетный!BR70","v":0.72923984661805397},{"$f":"[8]Расчетный!I70","v":1.00231},{"$f":"[8]Расчетный!BX70","v":1147.8000000000002},{"$f":"[8]Расчетный!BL70-[8]Расчетный!BV70","v":471.1},0,0,0,0,0,0,0,0,0,0,0,0,0,0,0]
[null,null,"ФАП с. Окунеево ОГБУЗ \"Зырянская РБ\"",{"$f":"[8]Расчетный!E71","v":185},{"$f":"[8]Расчетный!F71","v":1},{"$f":"[8]Расчетный!G71","v":"Не соответствует"},0,0,0,0,0,{"$f":"[8]Расчетный!BN71","v":1590.8},{"$f":"[8]Расчетный!BR71","v":0.72872984661805396},{"$f":"[8]Расчетный!I71","v":1.0018},{"$f":"[8]Расчетный!BX71","v":1147.0999999999999},{"$f":"[8]Расчетный!BL71-[8]Расчетный!BV71","v":470.80000000000007},0,0,0,0,0,0,0,0,0,0,0,0,0,0,0]
[null,null,"ФАП с. Туендат ОГБУЗ \"Зырянская РБ\"",{"$f":"[8]Расчетный!E72","v":194},{"$f":"[8]Расчетный!F72","v":1},{"$f":"[8]Расчетный!G72","v":"Не соответствует"},0,0,0,0,0,{"$f":"[8]Расчетный!BN72","v":1590.8},{"$f":"[8]Расчетный!BR72","v":0.72808984661805398},{"$f":"[8]Расчетный!I72","v":1.00116},{"$f":"[8]Расчетный!BX72","v":1146},{"$f":"[8]Расчетный!BL72-[8]Расчетный!BV72","v":470.40000000000009},0,0,0,0,0,0,0,0,0,0,0,0,0,0,0]
[null,null,"ФАП с. Беловодовка ОГБУЗ \"Зырянская РБ\"",{"$f":"[8]Расчетный!E73","v":197},{"$f":"[8]Расчетный!F73","v":1},{"$f":"[8]Расчетный!G73","v":"Не соответствует"},0,0,0,0,0,{"$f":"[8]Расчетный!BN73","v":1590.8},{"$f":"[8]Расчетный!BR73","v":0.72692984661805393},{"$f":"[8]Расчетный!I73","v":1},{"$f":"[8]Расчетный!BX73","v":1144.1999999999998},{"$f":"[8]Расчетный!BL73-[8]Расчетный!BV73","v":469.59999999999991},0,0,0,0,0,0,0,0,0,0,0,0,0,0,0]
[null,null,"ФАП с. Красноярка ОГБУЗ \"Зырянская РБ\"",{"$f":"[8]Расчетный!E74","v":199},{"$f":"[8]Расчетный!F74","v":1},{"$f":"[8]Расчетный!G74","v":"Не соответствует"},0,0,0,0,0,{"$f":"[8]Расчетный!BN74","v":1590.8},{"$f":"[8]Расчетный!BR74","v":0.72974984661805398},{"$f":"[8]Расчетный!I74","v":1.00282},{"$f":"[8]Расчетный!BX74","v":1148.7},{"$f":"[8]Расчетный!BL74-[8]Расчетный!BV74","v":471.5},0,0,0,0,0,0,0,0,0,0,0,0,0,0,0]
[null,null,"ФАП с. Шиняево ОГБУЗ \"Зырянская РБ\"",{"$f":"[8]Расчетный!E75","v":204},{"$f":"[8]Расчетный!F75","v":1},{"$f":"[8]Расчетный!G75","v":"Не соответствует"},0,0,0,0,0,{"$f":"[8]Расчетный!BN75","v":1590.8},{"$f":"[8]Расчетный!BR75","v":0.72994984661805395},{"$f":"[8]Расчетный!I75","v":1.00302},{"$f":"[8]Расчетный!BX75","v":1149},{"$f":"[8]Расчетный!BL75-[8]Расчетный!BV75","v":471.59999999999991},0,0,0,0,0,0,0,0,0,0,0,0,0,0,0]
[null,null,"ФАП с. Михайловка ОГБУЗ \"Зырянская РБ\"",{"$f":"[8]Расчетный!E78","v":523},{"$f":"[8]Расчетный!F78","v":1},{"$f":"[8]Расчетный!G78","v":"Не соответствует"},0,0,0,0,0,{"$f":"[8]Расчетный!BN78","v":1590.8},{"$f":"[8]Расчетный!BR78","v":0.73314984661805382},{"$f":"[8]Расчетный!I78","v":1.0062199999999999},{"$f":"[8]Расчетный!BX78","v":1153.9000000000001},{"$f":"[8]Расчетный!BL78-[8]Расчетный!BV78","v":473.6},0,0,0,0,0,0,0,0,0,0,0,0,0,0,0]
[null,null,"ФАП с. Берлинка ОГБУЗ \"Зырянская РБ\"",{"$f":"[8]Расчетный!E80","v":601},{"$f":"[8]Расчетный!F80","v":1},{"$f":"[8]Расчетный!G80","v":"Не соответствует"},0,0,0,0,0,{"$f":"[8]Расчетный!BN80","v":1590.8},{"$f":"[8]Расчетный!BR80","v":0.73590984661805392},{"$f":"[8]Расчетный!I80","v":1.00898},{"$f":"[8]Расчетный!BX80","v":1158.3},{"$f":"[8]Расчетный!BL80-[8]Расчетный!BV80","v":475.4},0,0,0,0,0,0,0,0,0,0,0,0,0,0,0]
[null,null,"ФАП п. Причулымский ОГБУЗ \"Зырянская РБ\"",{"$f":"[8]Расчетный!E81","v":719},{"$f":"[8]Расчетный!F81","v":1},{"$f":"[8]Расчетный!G81","v":"Не соответствует"},0,0,0,0,0,{"$f":"[8]Расчетный!BN81","v":1590.8},{"$f":"[8]Расчетный!BR81","v":0.73590984661805392},{"$f":"[8]Расчетный!I81","v":1.00898},{"$f":"[8]Расчетный!BX81","v":1158.3},{"$f":"[8]Расчетный!BL81-[8]Расчетный!BV81","v":475.4},0,0,0,0,0,0,0,0,0,0,0,0,0,0,0]
[69,6,"ОГБУЗ \"Каргасокская РБ\"",{"$f":"SUM(D77:D96)","v":7173},{"$f":"SUM(E77:E96)","v":20},{"$nulls":9},{"$f":"SUM(O77:O96)","v":35786.9},{"$f":"SUM(P77:P96)","v":14688.300000000001},null,null,null,{"$f":"SUM(T77:T96)","v":2103.9},{"$f":"SUM(U77:U96)","v":863.5},{"$nulls":10},{"$f":"J76+O76+T76+Y76+AD76","v":37890.800000000003}]
[null,null,"ФАП п. Восток  ОГБУЗ \"Каргасокская РБ\"",{"$f":"[8]Расчетный!E83","v":107},{"$f":"[8]Расчетный!F83","v":1},{"$f":"[8]Расчетный!G83","v":"Не соответствует"},0,0,0,0,0,{"$f":"[8]Расчетный!BN83","v":2311.6},{"$f":"[8]Расчетный!BR83","v":0.31737334313895144},{"$f":"[8]Расчетный!I83","v":1.0004500000000001},{"$f":"[8]Расчетный!BX83","v":725.8},{"$f":"[8]Расчетный!BL83-[8]Расчетный!BV83","v":297.89999999999998},{"$f":"[8]Расчетный!CY83","v":0},{"$f":"[8]Расчетный!DC83","v":0},0,{"$f":"[8]Расчетный!DI83","v":0},{"$f":"[8]Расчетный!CW83-[8]Расчетный!DG83","v":0},0,0,0,0,0,0,0,0,0,0]
[null,null,"ФАП с. Бондарка ОГБУЗ \"Каргасокская РБ\"",{"$f":"[8]Расчетный!E84","v":174},{"$f":"[8]Расчетный!F84","v":1},{"$f":"[8]Расчетный!G84","v":"Не соответствует"},0,0,0,0,0,{"$f":"[8]Расчетный!BN84","v":2311.6},{"$f":"[8]Расчетный!BR84","v":0.72893237757397478},{"$f":"[8]Расчетный!I84","v":1.0019899999999999},{"$f":"[8]Расчетный!BX84","v":1667.1999999999998},{"$f":"[8]Расчетный!BL84-[8]Расчетный!BV84","v":684.3},{"$f":"[8]Расчетный!CY84","v":0},{"$f":"[8]Расчетный!DC84","v":0},0,{"$f":"[8]Расчетный!DI84","v":0},{"$f":"[8]Расчетный!CW84-[8]Расчетный!DG84","v":0},0,0,0,0,0,0,0,0,0,0]
[null,null,"ФАП с. Новый Тевриз  ОГБУЗ \"Каргасокская РБ\"",{"$f":"[8]Расчетный!E85","v":186},{"$f":"[8]Расчетный!F85","v":1},{"$f":"[8]Расчетный!G85","v":"Не соответствует"},0,0,0,0,0,{"$f":"[8]Расчетный!BN85","v":2311.6},{"$f":"[8]Расчетный!BR85","v":0.72777237757397495},{"$f":"[8]Расчетный!I85","v":1.0008300000000001},{"$f":"[8]Расчетный!BX85","v":1664.5},{"$f":"[8]Расчетный!BL85-[8]Расчетный!BV85","v":683.2},{"$f":"[8]Расчетный!CY85","v":0},{"$f":"[8]Расчетный!DC85","v":0},0,{"$f":"[8]Расчетный!DI85","v":0},{"$f":"[8]Расчетный!CW85-[8]Расчетный!DG85","v":0},0,0,0,0,0,0,0,0,0,0]
[null,null,"ФАП д.Лозунга ОГБУЗ \"Каргасокская РБ\"",{"$f":"[8]Расчетный!E86","v":192},{"$f":"[8]Расчетный!F86","v":1},{"$f":"[8]Расчетный!G86","v":"Не соответствует"},0,0,0,0,0,{"$f":"[8]Расчетный!BN86","v":2311.6},{"$f":"[8]Расчетный!BR86","v":0.7298323775739749},{"$f":"[8]Расчетный!I86","v":1.0028900000000001},{"$f":"[8]Расчетный!BX86","v":1669.1999999999998},{"$f":"[8]Расчетный!BL86-[8]Расчетный!BV86","v":685.09999999999991},{"$f":"[8]Расчетный!CY86","v":0},{"$f":"[8]Расчетный!DC86","v":0},0,{"$f":"[8]Расчетный!DI86","v":0},{"$f":"[8]Расчетный!CW86-[8]Расчетный!DG86","v":0},0,0,0,0,0,0,0,0,0,0]
[null,null,"ФАП с. Киндал ОГБУЗ \"Каргасокская РБ\"",{"$f":"[8]Расчетный!E87","v":184},{"$f":"[8]Расчетный!F87","v":1},{"$f":"[8]Расчетный!G87","v":"Не соответствует"},0,0,0,0,0,{"$f":"[8]Расчетный!BN87","v":2311.6},{"$f":"[8]Расчетный!BR87","v":0.72752237757397487},{"$f":"[8]Расчетный!I87","v":1.00058},{"$f":"[8]Расчетный!BX87","v":1664},{"$f":"[8]Расчетный!BL87-[8]Расчетный!BV87","v":682.99999999999989},{"$f":"[8]Расчетный!CY87","v":0},{"$f":"[8]Расчетный!DC87","v":0},0,{"$f":"[8]Расчетный!DI87","v":0},{"$f":"[8]Расчетный!CW87-[8]Расчетный!DG87","v":0},0,0,0,0,0,0,0,0,0,0]
[null,null,"ФАП п. Неготка  ОГБУЗ \"Каргасокская РБ\"",{"$f":"[8]Расчетный!E88","v":224},{"$f":"[8]Расчетный!F88","v":1},{"$f":"[8]Расчетный!G88","v":"Не соответствует"},0,0,0,0,0,{"$f":"[8]Расчетный!BN88","v":2311.6},{"$f":"[8]Расчетный!BR88","v":0.72810237757397489},{"$f":"[8]Расчетный!I88","v":1.00116},{"$f":"[8]Расчетный!BX88","v":1665.3000000000002},{"$f":"[8]Расчетный!BL88-[8]Расчетный!BV88","v":683.50000000000011},{"$f":"[8]Расчетный!CY88","v":0},{"$f":"[8]Расчетный!DC88","v":0},0,{"$f":"[8]Расчетный!DI88","v":0},{"$f":"[8]Расчетный!CW88-[8]Расчетный!DG88","v":0},0,0,0,0,0,0,0,0,0,0]
[null,null,"ФАП п. Большая Грива  ОГБУЗ \"Каргасокская РБ\"",{"$f":"[8]Расчетный!E89","v":207},{"$f":"[8]Расчетный!F89","v":1},{"$f":"[8]Расчетный!G89","v":"Не соответствует"},0,0,0,0,0,{"$f":"[8]Расчетный!BN89","v":2311.6},{"$f":"[8]Расчетный!BR89","v":0.72970237757397494},{"$f":"[8]Расчетный!I89","v":1.0027600000000001},{"$f":"[8]Расчетный!BX89","v":1669},{"$f":"[8]Расчетный!BL89-[8]Расчетный!BV89","v":685},{"$f":"[8]Расчетный!CY89","v":0},{"$f":"[8]Расчетный!DC89","v":0},0,{"$f":"[8]Расчетный!DI89","v":0},{"$f":"[8]Расчетный!CW89-[8]Расчетный!DG89","v":0},0,0,0,0,0,0,0,0,0,0]
[null,null,"ФАП п. 5-й км. ОГБУЗ \"Каргасокская РБ\"",{"$f":"[8]Расчетный!E90","v":252},{"$f":"[8]Расчетный!F90","v":1},{"$f":"[8]Расчетный!G90","v":"Не соответствует"},0,0,0,0,0,{"$f":"[8]Расчетный!BN90","v":2311.6},{"$f":"[8]Расчетный!BR90","v":0.73098237757397488},{"$f":"[8]Расчетный!I90","v":1.00404},{"$f":"[8]Расчетный!BX90","v":1671.9},{"$f":"[8]Расчетный!BL90-[8]Расчетный!BV90","v":686.2},{"$f":"[8]Расчетный!CY90","v":0},{"$f":"[8]Расчетный!DC90","v":0},0,{"$f":"[8]Расчетный!DI90","v":0},{"$f":"[8]Расчетный!CW90-[8]Расчетный!DG90","v":0},0,0,0,0,0,0,0,0,0,0]
[null,null,"ФАП с. Старая Березовка  ОГБУЗ \"Каргасокская РБ\"",{"$f":"[8]Расчетный!E91","v":207},{"$f":"[8]Расчетный!F91","v":1},{"$f":"[8]Расчетный!G91","v":"Не соответствует"},0,0,0,0,0,{"$f":"[8]Расчетный!BN91","v":2311.6},{"$f":"[8]Расчетный!BR91","v":0.7282923775739748},{"$f":"[8]Расчетный!I91","v":1.00135},{"$f":"[8]Расчетный!BX91","v":1665.6999999999998},{"$f":"[8]Расчетный!BL91-[8]Расчетный!BV91","v":683.69999999999993},{"$f":"[8]Расчетный!CY91","v":0},{"$f":"[8]Расчетный!DC91","v":0},0,{"$f":"[8]Расчетный!DI91","v":0},{"$f":"[8]Расчетный!CW91-[8]Расчетный!DG91","v":0},0,0,0,0,0,0,0,0,0,0]
[null,null,"ФАП с. Сосновка ОГБУЗ \"Каргасокская РБ\"",{"$f":"[8]Расчетный!E92","v":271},{"$f":"[8]Расчетный!F92","v":1},{"$f":"[8]Расчетный!G92","v":"Не соответствует"},0,0,0,0,0,{"$f":"[8]Расчетный!BN92","v":2311.6},{"$f":"[8]Расчетный!BR92","v":0.7310523775739749},{"$f":"[8]Расчетный!I92","v":1.0041100000000001},{"$f":"[8]Расчетный!BX92","v":1672.1},{"$f":"[8]Расчетный!BL92-[8]Расчетный!BV92","v":686.3},{"$f":"[8]Расчетный!CY92","v":0},{"$f":"[8]Расчетный!DC92","v":0},0,{"$f":"[8]Расчетный!DI92","v":0},{"$f":"[8]Расчетный!CW92-[8]Расчетный!DG92","v":0},0,0,0,0,0,0,0,0,0,0]
[null,null,"ФАП с. Напас  ОГБУЗ \"Каргасокская РБ\"",{"$f":"[8]Расчетный!E93","v":272},{"$f":"[8]Расчетный!F93","v":1},{"$f":"[8]Расчетный!G93","v":"Не соответствует"},0,0,0,0,0,{"$f":"[8]Расчетный!BN93","v":2311.6},{"$f":"[8]Расчетный!BR93","v":0.7286123775739749},{"$f":"[8]Расчетный!I93","v":1.0016700000000001},{"$f":"[8]Расчетный!BX93","v":1666.5},{"$f":"[8]Расчетный!BL93-[8]Расчетный!BV93","v":683.99999999999989},{"$f":"[8]Расчетный!CY93","v":0},{"$f":"[8]Расчетный!DC93","v":0},0,{"$f":"[8]Расчетный!DI93","v":0},{"$f":"[8]Расчетный!CW93-[8]Расчетный!DG93","v":0},0,0,0,0,0,0,0,0,0,0]
[null,null,"ФАП с. Тымск  ОГБУЗ \"Каргасокская РБ\"",{"$f":"[8]Расчетный!E94","v":266},{"$f":"[8]Расчетный!F94","v":1},{"$f":"[8]Расчетный!G94","v":"Соответствует"},0,0,0,0,0,{"$f":"[8]Расчетный!BN94","v":2311.6},{"$f":"[8]Расчетный!BR94","v":1.0022500000000001},{"$f":"[8]Расчетный!I94","v":1.0022500000000001},{"$f":"[8]Расчетный!BX94","v":2292.3999999999996},{"$f":"[8]Расчетный!BL94-[8]Расчетный!BV94","v":940.89999999999986},{"$f":"[8]Расчетный!CY94","v":0},{"$f":"[8]Расчетный!DC94","v":0},0,{"$f":"[8]Расчетный!DI94","v":0},{"$f":"[8]Расчетный!CW94-[8]Расчетный!DG94","v":0},0,0,0,0,0,0,0,0,0,0]
[null,null,"ФАП п. Киевский  ОГБУЗ \"Каргасокская РБ\"",{"$f":"[8]Расчетный!E95","v":322},{"$f":"[8]Расчетный!F95","v":1},{"$f":"[8]Расчетный!G95","v":"Соответствует"},0,0,0,0,0,{"$f":"[8]Расчетный!BN95","v":2311.6},{"$f":"[8]Расчетный!BR95","v":1.0027600000000001},{"$f":"[8]Расчетный!I95","v":1.0027600000000001},{"$f":"[8]Расчетный!BX95","v":2293.5},{"$f":"[8]Расчетный!BL95-[8]Расчетный!BV95","v":941.29999999999973},{"$f":"[8]Расчетный!CY95","v":0},{"$f":"[8]Расчетный!DC95","v":0},0,{"$f":"[8]Расчетный!DI95","v":0},{"$f":"[8]Расчетный!CW95-[8]Расчетный!DG95","v":0},0,0,0,0,0,0,0,0,0,0]
[null,null,"ФАП с. Мыльджино  ОГБУЗ \"Каргасокская РБ\"",{"$f":"[8]Расчетный!E96","v":344},{"$f":"[8]Расчетный!F96","v":1},{"$f":"[8]Расчетный!G96","v":"Соответствует"},0,0,0,0,0,{"$f":"[8]Расчетный!BN96","v":2311.6},{"$f":"[8]Расчетный!BR96","v":1.0063500000000001},{"$f":"[8]Расчетный!I96","v":1.0063500000000001},{"$f":"[8]Расчетный!BX96","v":2301.7000000000003},{"$f":"[8]Расчетный!BL96-[8]Расчетный!BV96","v":944.70000000000027},{"$f":"[8]Расчетный!CY96","v":0},{"$f":"[8]Расчетный!DC96","v":0},0,{"$f":"[8]Расчетный!DI96","v":0},{"$f":"[8]Расчетный!CW96-[8]Расчетный!DG96","v":0},0,0,0,0,0,0,0,0,0,0]
[null,null,"ФАП с. Усть-Тым  ОГБУЗ \"Каргасокская РБ\"",{"$f":"[8]Расчетный!E97","v":397},{"$f":"[8]Расчетный!F97","v":1},{"$f":"[8]Расчетный!G97","v":"Соответствует"},0,0,0,0,0,{"$f":"[8]Расчетный!BN97","v":2311.6},{"$f":"[8]Расчетный!BR97","v":1.0045599999999999},{"$f":"[8]Расчетный!I97","v":1.0045599999999999},{"$f":"[8]Расчетный!BX97","v":2297.6000000000004},{"$f":"[8]Расчетный!BL97-[8]Расчетный!BV97","v":943.00000000000023},{"$f":"[8]Расчетный!CY97","v":0},{"$f":"[8]Расчетный!DC97","v":0},0,{"$f":"[8]Расчетный!DI97","v":0},{"$f":"[8]Расчетный!CW97-[8]Расчетный!DG97","v":0},0,0,0,0,0,0,0,0,0,0]
[null,null,"ФАП с. Староюгино  ОГБУЗ \"Каргасокская РБ\"",{"$f":"[8]Расчетный!E98","v":462},{"$f":"[8]Расчетный!F98","v":1},{"$f":"[8]Расчетный!G98","v":"Соответствует"},0,0,0,0,0,{"$f":"[8]Расчетный!BN98","v":2311.6},{"$f":"[8]Расчетный!BR98","v":1.0024999999999999},{"$f":"[8]Расчетный!I98","v":1.0024999999999999},{"$f":"[8]Расчетный!BX98","v":2292.8999999999996},{"$f":"[8]Расчетный!BL98-[8]Расчетный!BV98","v":941.09999999999991},{"$f":"[8]Расчетный!CY98","v":0},{"$f":"[8]Расчетный!DC98","v":0},0,{"$f":"[8]Расчетный!DI98","v":0},{"$f":"[8]Расчетный!CW98-[8]Расчетный!DG98","v":0},0,0,0,0,0,0,0,0,0,0]
[null,null,"ФАП с. Новоюгино  ОГБУЗ \"Каргасокская РБ\"",{"$f":"[8]Расчетный!E99","v":489},{"$f":"[8]Расчетный!F99","v":1},{"$f":"[8]Расчетный!G99","v":"Соответствует"},0,0,0,0,0,{"$f":"[8]Расчетный!BN99","v":2311.6},{"$f":"[8]Расчетный!BR99","v":1},{"$f":"[8]Расчетный!I99","v":1},{"$f":"[8]Расчетный!BX99","v":2287.1000000000004},{"$f":"[8]Расчетный!BL99-[8]Расчетный!BV99","v":938.7},{"$f":"[8]Расчетный!CY99","v":0},{"$f":"[8]Расчетный!DC99","v":0},0,{"$f":"[8]Расчетный!DI99","v":0},{"$f":"[8]Расчетный!CW99-[8]Расчетный!DG99","v":0},0,0,0,0,0,0,0,0,0,0]
[null,null,"ФАП с. Вертикос  ОГБУЗ \"Каргасокская РБ\"",{"$f":"[8]Расчетный!E100","v":517},{"$f":"[8]Расчетный!F100","v":1},{"$f":"[8]Расчетный!G100","v":"Соответствует"},0,0,0,0,0,{"$f":"[8]Расчетный!BN100","v":2311.6},{"$f":"[8]Расчетный!BR100","v":1.0076400000000001},{"$f":"[8]Расчетный!I100","v":1.0076400000000001},{"$f":"[8]Расчетный!BX100","v":2304.6999999999998},{"$f":"[8]Расчетный!BL100-[8]Расчетный!BV100","v":945.89999999999986},{"$f":"[8]Расчетный!CY100","v":0},{"$f":"[8]Расчетный!DC100","v":0},0,{"$f":"[8]Расчетный!DI100","v":0},{"$f":"[8]Расчетный!CW100-[8]Расчетный!DG100","v":0},0,0,0,0,0,0,0,0,0,0]
[null,null,"ФАП с. Павлово ОГБУЗ \"Каргасокская РБ\"",{"$f":"[8]Расчетный!E101","v":741},{"$f":"[8]Расчетный!F101","v":1},{"$f":"[8]Расчетный!G101","v":"Соответствует"},0,0,0,0,0,{"$f":"[8]Расчетный!BN101","v":2311.6},{"$f":"[8]Расчетный!BR101","v":1.01251},{"$f":"[8]Расчетный!I101","v":1.01251},{"$f":"[8]Расчетный!BX101","v":2315.7999999999997},{"$f":"[8]Расчетный!BL101-[8]Расчетный!BV101","v":950.49999999999977},{"$f":"[8]Расчетный!CY101","v":0},{"$f":"[8]Расчетный!DC101","v":0},0,{"$f":"[8]Расчетный!DI101","v":0},{"$f":"[8]Расчетный!CW101-[8]Расчетный!DG101","v":0},0,0,0,0,0,0,0,0,0,0]
[null,null,"ФАП Геологический ОГБУЗ \"Каргасокская РБ\"",{"$f":"[8]Расчетный!E102","v":1359},{"$f":"[8]Расчетный!F102","v":1},{"$f":"[8]Расчетный!G102","v":"Не соответствует"},0,0,0,0,0,{"$f":"[8]Расчетный!BN102","v":0},{"$f":"[8]Расчетный!BR102","v":0},0,{"$f":"[8]Расчетный!BX102","v":0},{"$f":"[8]Расчетный!BL102-[8]Расчетный!BV102","v":0},{"$f":"[8]Расчетный!CY102","v":4623.1000000000004},{"$f":"[8]Расчетный!DC102","v":0.45994261361424138},{"$f":"[8]Расчетный!I102","v":1.0068699999999999},{"$f":"[8]Расчетный!DI102","v":2103.9},{"$f":"[8]Расчетный!CW102-[8]Расчетный!DG102","v":863.5},0,0,0,0,0,0,0,0,0,0]
[71,7,"ОГАУЗ \"Кожевниковская РБ\"",{"$f":"SUM(D98:D111)","v":4561},{"$f":"SUM(E98:E111)","v":14},{"$nulls":9},{"$f":"SUM(O98:O111)","v":15850.199999999999},{"$f":"SUM(P98:P111)","v":6280.7},{"$nulls":15},{"$f":"J97+O97+T97+Y97+AD97","v":15850.199999999999}]
[null,null,"ФАП д. Аркадьево ОГАУЗ \"Кожевниковская РБ\"",{"$f":"[8]Расчетный!E105","v":124},{"$f":"[8]Расчетный!F105","v":1},{"$f":"[8]Расчетный!G105","v":"Не соответствует"},0,0,0,0,0,{"$f":"[8]Расчетный!BN105","v":1605.9},{"$f":"[8]Расчетный!BR105","v":0.72771439255246273},{"$f":"[8]Расчетный!I105","v":1.0007699999999999},{"$f":"[8]Расчетный!BX105","v":1156.3000000000002},{"$f":"[8]Расчетный!BL105-[8]Расчетный!BV105","v":474.6},0,0,0,0,0,0,0,0,0,0,0,0,0,0,0]
[null,null,"ФАП д. Сафроновка ОГАУЗ \"Кожевниковская РБ\"",{"$f":"[8]Расчетный!E106","v":152},{"$f":"[8]Расчетный!F106","v":1},{"$f":"[8]Расчетный!G106","v":"Не соответствует"},0,0,0,0,0,{"$f":"[8]Расчетный!BN106","v":1605.9},{"$f":"[8]Расчетный!BR106","v":0.7283543925524627},{"$f":"[8]Расчетный!I106","v":1.0014099999999999},{"$f":"[8]Расчетный!BX106","v":1157.3},{"$f":"[8]Расчетный!BL106-[8]Расчетный!BV106","v":475},0,0,0,0,0,0,0,0,0,0,0,0,0,0,0]
[null,null,"ФАП д. Аптала ОГАУЗ \"Кожевниковская РБ\"",{"$f":"[8]Расчетный!E107","v":200},{"$f":"[8]Расчетный!F107","v":1},{"$f":"[8]Расчетный!G107","v":"Не соответствует"},0,0,0,0,0,{"$f":"[8]Расчетный!BN107","v":1605.9},{"$f":"[8]Расчетный!BR107","v":0.72912439255246286},{"$f":"[8]Расчетный!I107","v":1.0021800000000001},{"$f":"[8]Расчетный!BX107","v":1158.5},{"$f":"[8]Расчетный!BL107-[8]Расчетный!BV107","v":475.5},0,0,0,0,0,0,0,0,0,0,0,0,0,0,0]
[null,null,"ФАП с. Тека ОГАУЗ \"Кожевниковская РБ\"",{"$f":"[8]Расчетный!E112","v":298},{"$f":"[8]Расчетный!F112","v":1},{"$f":"[8]Расчетный!G112","v":"Не соответствует"},0,0,0,0,0,{"$f":"[8]Расчетный!BN112","v":1605.9},{"$f":"[8]Расчетный!BR112","v":0.72983439255246285},{"$f":"[8]Расчетный!I112","v":1.0028900000000001},{"$f":"[8]Расчетный!BX112","v":1159.7},{"$f":"[8]Расчетный!BL112-[8]Расчетный!BV112","v":476},0,0,0,0,0,0,0,0,0,0,0,0,0,0,0]
[null,null,"ФАП с. Батурино ОГАУЗ \"Кожевниковская РБ\"",{"$f":"[8]Расчетный!E113","v":302},{"$f":"[8]Расчетный!F113","v":1},{"$f":"[8]Расчетный!G113","v":"Не соответствует"},0,0,0,0,0,{"$f":"[8]Расчетный!BN113","v":1605.9},{"$f":"[8]Расчетный!BR113","v":0.72983439255246285},{"$f":"[8]Расчетный!I113","v":1.0028900000000001},{"$f":"[8]Расчетный!BX113","v":1159.7},{"$f":"[8]Расчетный!BL113-[8]Расчетный!BV113","v":476},0,0,0,0,0,0,0,0,0,0,0,0,0,0,0]
[null,null,"ФАП д. Еловка ОГАУЗ \"Кожевниковская РБ\"",{"$f":"[8]Расчетный!E114","v":335},{"$f":"[8]Расчетный!F114","v":1},{"$f":"[8]Расчетный!G114","v":"Не соответствует"},0,0,0,0,0,{"$f":"[8]Расчетный!BN114","v":1605.9},{"$f":"[8]Расчетный!BR114","v":0.72912439255246286},{"$f":"[8]Расчетный!I114","v":1.0021800000000001},{"$f":"[8]Расчетный!BX114","v":1158.5},{"$f":"[8]Расчетный!BL114-[8]Расчетный!BV114","v":475.5},0,0,0,0,0,0,0,0,0,0,0,0,0,0,0]
[null,null,"ФАП с. Хмелевка ОГАУЗ \"Кожевниковская РБ\"",{"$f":"[8]Расчетный!E115","v":337},{"$f":"[8]Расчетный!F115","v":1},{"$f":"[8]Расчетный!G115","v":"Не соответствует"},0,0,0,0,0,{"$f":"[8]Расчетный!BN115","v":1605.9},{"$f":"[8]Расчетный!BR115","v":0.72964439255246272},{"$f":"[8]Расчетный!I115","v":1.0026999999999999},{"$f":"[8]Расчетный!BX115","v":1159.3},{"$f":"[8]Расчетный!BL115-[8]Расчетный!BV115","v":475.79999999999995},0,0,0,0,0,0,0,0,0,0,0,0,0,0,0]
[null,null,"ФАП с. Елгай ОГАУЗ \"Кожевниковская РБ\"",{"$f":"[8]Расчетный!E116","v":352},{"$f":"[8]Расчетный!F116","v":1},{"$f":"[8]Расчетный!G116","v":"Не соответствует"},0,0,0,0,0,{"$f":"[8]Расчетный!BN116","v":1605.9},{"$f":"[8]Расчетный!BR116","v":0.72983439255246285},{"$f":"[8]Расчетный!I116","v":1.0028900000000001},{"$f":"[8]Расчетный!BX116","v":1159.7},{"$f":"[8]Расчетный!BL116-[8]Расчетный!BV116","v":476},0,0,0,0,0,0,0,0,0,0,0,0,0,0,0]
[null,null,"ФАП с. Осиновка ОГАУЗ \"Кожевниковская РБ\"",{"$f":"[8]Расчетный!E117","v":355},{"$f":"[8]Расчетный!F117","v":1},{"$f":"[8]Расчетный!G117","v":"Не соответствует"},0,0,0,0,0,{"$f":"[8]Расчетный!BN117","v":1605.9},{"$f":"[8]Расчетный!BR117","v":0.73008439255246271},{"$f":"[8]Расчетный!I117","v":1.0031399999999999},{"$f":"[8]Расчетный!BX117","v":1160},{"$f":"[8]Расчетный!BL117-[8]Расчетный!BV117","v":476.1},0,0,0,0,0,0,0,0,0,0,0,0,0,0,0]
[null,null,"ФАП д. Терсалгай ОГАУЗ \"Кожевниковская РБ\"",{"$f":"[8]Расчетный!E118","v":360},{"$f":"[8]Расчетный!F118","v":1},{"$f":"[8]Расчетный!G118","v":"Не соответствует"},0,0,0,0,0,{"$f":"[8]Расчетный!BN118","v":1605.9},{"$f":"[8]Расчетный!BR118","v":0.72829439255246275},{"$f":"[8]Расчетный!I118","v":1.00135},{"$f":"[8]Расчетный!BX118","v":1157.3000000000002},{"$f":"[8]Расчетный!BL118-[8]Расчетный!BV118","v":475.00000000000011},0,0,0,0,0,0,0,0,0,0,0,0,0,0,0]
[null,null,"ФАП д. Муллова ОГАУЗ \"Кожевниковская РБ\"",{"$f":"[8]Расчетный!E119","v":421},{"$f":"[8]Расчетный!F119","v":1},{"$f":"[8]Расчетный!G119","v":"Не соответствует"},0,0,0,0,0,{"$f":"[8]Расчетный!BN119","v":1605.9},{"$f":"[8]Расчетный!BR119","v":0.72880439255246277},{"$f":"[8]Расчетный!I119","v":1.00186},{"$f":"[8]Расчетный!BX119","v":1158},{"$f":"[8]Расчетный!BL119-[8]Расчетный!BV119","v":475.30000000000007},0,0,0,0,0,0,0,0,0,0,0,0,0,0,0]
[null,null,"ФАП с. Базой ОГАУЗ \"Кожевниковская РБ\"",{"$f":"[8]Расчетный!E120","v":422},{"$f":"[8]Расчетный!F120","v":1},{"$f":"[8]Расчетный!G120","v":"Не соответствует"},0,0,0,0,0,{"$f":"[8]Расчетный!BN120","v":1605.9},{"$f":"[8]Расчетный!BR120","v":0.73162439255246281},{"$f":"[8]Расчетный!I120","v":1.00468},{"$f":"[8]Расчетный!BX120","v":1162.5},{"$f":"[8]Расчетный!BL120-[8]Расчетный!BV120","v":477.09999999999991},0,0,0,0,0,0,0,0,0,0,0,0,0,0,0]
[null,null,"ФАП с. Новопокровка ОГАУЗ \"Кожевниковская РБ\"",{"$f":"[8]Расчетный!E121","v":442},{"$f":"[8]Расчетный!F121","v":1},{"$f":"[8]Расчетный!G121","v":"Не соответствует"},0,0,0,0,0,{"$f":"[8]Расчетный!BN121","v":1605.9},{"$f":"[8]Расчетный!BR121","v":0.73085439255246287},{"$f":"[8]Расчетный!I121","v":1.0039100000000001},{"$f":"[8]Расчетный!BX121","v":780.00000000000011},{"$f":"[8]Расчетный!BL121-[8]Расчетный!BV121","v":95.300000000000068},0,0,0,0,0,0,0,0,0,0,0,0,0,0,0]
[null,null,"ФАП д. Зайцево ОГАУЗ \"Кожевниковская РБ\"",{"$f":"[8]Расчетный!E122","v":461},{"$f":"[8]Расчетный!F122","v":1},{"$f":"[8]Расчетный!G122","v":"Не соответствует"},0,0,0,0,0,{"$f":"[8]Расчетный!BN122","v":1605.9},{"$f":"[8]Расчетный!BR122","v":0.73214439255246289},{"$f":"[8]Расчетный!I122","v":1.0052000000000001},{"$f":"[8]Расчетный!BX122","v":1163.4000000000001},{"$f":"[8]Расчетный!BL122-[8]Расчетный!BV122","v":477.50000000000011},0,0,0,0,0,0,0,0,0,0,0,0,0,0,0]
[103,8,"ОГAУЗ \"Колпашевская РБ\"",{"$f":"SUM(D113:D132)","v":4082},{"$f":"SUM(E113:E132)","v":20},{"$nulls":4},{"$f":"SUM(J113:J132)","v":7749.8},{"$f":"SUM(K113:K132)","v":3126.6000000000004},null,null,null,{"$f":"SUM(O113:O132)","v":21261.3},{"$f":"SUM(P113:P132)","v":8726.0999999999985},{"$nulls":15},{"$f":"J112+O112+T112+Y112+AD112","v":29011.1}]
[null,null,"ФАП с. Иванкино ОГАУЗ \"Колпашевская РБ\"",{"$f":"[8]Расчетный!E124","v":12},{"$f":"[8]Расчетный!F124","v":1},{"$f":"[8]Расчетный!G124","v":"Не соответствует"},{"$f":"[8]Расчетный!AF124","v":1131.7416000000001},{"$f":"[8]Расчетный!AA124","v":1},{"$f":"[8]Расчетный!I124","v":1},{"$f":"[8]Расчетный!AM124","v":1119.8},{"$f":"[8]Расчетный!AD124-[8]Расчетный!AK124","v":459.59999999999991},{"$f":"[8]Расчетный!BN124","v":0},{"$f":"[8]Расчетный!BR124","v":0},0,{"$f":"[8]Расчетный!BX124","v":0},{"$f":"[8]Расчетный!BL124-[8]Расчетный!BV124","v":0},0,0,0,0,0,0,0,0,0,0,0,0,0,0,0]
[null,null,"ФАП п. Куржино ОГАУЗ \"Колпашевская РБ\"",{"$f":"[8]Расчетный!E125","v":27},{"$f":"[8]Расчетный!F125","v":1},{"$f":"[8]Расчетный!G125","v":"Не соответствует"},{"$f":"[8]Расчетный!AF125","v":1131.7416000000001},{"$f":"[8]Расчетный!AA125","v":1.0002599999999999},{"$f":"[8]Расчетный!I125","v":1.0002599999999999},{"$f":"[8]Расчетный!AM125","v":1120},{"$f":"[8]Расчетный!AD125-[8]Расчетный!AK125","v":459.70000000000005},{"$f":"[8]Расчетный!BN125","v":0},{"$f":"[8]Расчетный!BR125","v":0},0,{"$f":"[8]Расчетный!BX125","v":0},{"$f":"[8]Расчетный!BL125-[8]Расчетный!BV125","v":0},0,0,0,0,0,0,0,0,0,0,0,0,0,0,0]
[null,null,"ФАП д. Тискино ОГАУЗ \"Колпашевская РБ\"",{"$f":"[8]Расчетный!E126","v":30},{"$f":"[8]Расчетный!F126","v":1},{"$f":"[8]Расчетный!G126","v":"Не соответствует"},{"$f":"[8]Расчетный!AF126","v":1131.7416000000001},{"$f":"[8]Расчетный!AA126","v":1.0002599999999999},{"$f":"[8]Расчетный!I126","v":1.0002599999999999},{"$f":"[8]Расчетный!AM126","v":1120},{"$f":"[8]Расчетный!AD126-[8]Расчетный!AK126","v":459.70000000000005},{"$f":"[8]Расчетный!BN126","v":0},{"$f":"[8]Расчетный!BR126","v":0},0,{"$f":"[8]Расчетный!BX126","v":0},{"$f":"[8]Расчетный!BL126-[8]Расчетный!BV126","v":0},0,0,0,0,0,0,0,0,0,0,0,0,0,0,0]
[null,null,"ФАП д. Мохово ОГАУЗ \"Колпашевская РБ\"",{"$f":"[8]Расчетный!E127","v":36},{"$f":"[8]Расчетный!F127","v":1},{"$f":"[8]Расчетный!G127","v":"Не соответствует"},{"$f":"[8]Расчетный!AF127","v":1131.7416000000001},{"$f":"[8]Расчетный!AA127","v":1.00038},{"$f":"[8]Расчетный!I127","v":1.00038},{"$f":"[8]Расчетный!AM127","v":1120.3},{"$f":"[8]Расчетный!AD127-[8]Расчетный!AK127","v":459.79999999999995},{"$f":"[8]Расчетный!BN127","v":0},{"$f":"[8]Расчетный!BR127","v":0},0,{"$f":"[8]Расчетный!BX127","v":0},{"$f":"[8]Расчетный!BL127-[8]Расчетный!BV127","v":0},0,0,0,0,0,0,0,0,0,0,0,0,0,0,0]
[null,null,"ФАП д. Север ОГАУЗ \"Колпашевская РБ\"",{"$f":"[8]Расчетный!E128","v":40},{"$f":"[8]Расчетный!F128","v":1},{"$f":"[8]Расчетный!G128","v":"Не соответствует"},{"$f":"[8]Расчетный!AF128","v":1131.7416000000001},{"$f":"[8]Расчетный!AA128","v":1.0007699999999999},{"$f":"[8]Расчетный!I128","v":1.0007699999999999},{"$f":"[8]Расчетный!AM128","v":1028.7},{"$f":"[8]Расчетный!AD128-[8]Расчетный!AK128","v":368},{"$f":"[8]Расчетный!BN128","v":0},{"$f":"[8]Расчетный!BR128","v":0},0,{"$f":"[8]Расчетный!BX128","v":0},{"$f":"[8]Расчетный!BL128-[8]Расчетный!BV128","v":0},0,0,0,0,0,0,0,0,0,0,0,0,0,0,0]
[null,null,"ФАП п. Дальнее ОГАУЗ \"Колпашевская РБ\"",{"$f":"[8]Расчетный!E129","v":58},{"$f":"[8]Расчетный!F129","v":1},{"$f":"[8]Расчетный!G129","v":"Не соответствует"},{"$f":"[8]Расчетный!AF129","v":1131.7416000000001},{"$f":"[8]Расчетный!AA129","v":1.00038},{"$f":"[8]Расчетный!I129","v":1.00038},{"$f":"[8]Расчетный!AM129","v":1120.3},{"$f":"[8]Расчетный!AD129-[8]Расчетный!AK129","v":459.79999999999995},{"$f":"[8]Расчетный!BN129","v":0},{"$f":"[8]Расчетный!BR129","v":0},0,{"$f":"[8]Расчетный!BX129","v":0},{"$f":"[8]Расчетный!BL129-[8]Расчетный!BV129","v":0},0,0,0,0,0,0,0,0,0,0,0,0,0,0,0]
[null,null,"ФАП д. Сугот ОГАУЗ \"Колпашевская РБ\"",{"$f":"[8]Расчетный!E130","v":83},{"$f":"[8]Расчетный!F130","v":1},{"$f":"[8]Расчетный!G130","v":"Не соответствует"},{"$f":"[8]Расчетный!AF130","v":1131.7416000000001},{"$f":"[8]Расчетный!AA130","v":1.0007699999999999},{"$f":"[8]Расчетный!I130","v":1.0007699999999999},{"$f":"[8]Расчетный!AM130","v":1120.7},{"$f":"[8]Расчетный!AD130-[8]Расчетный!AK130","v":460},{"$f":"[8]Расчетный!BN130","v":0},{"$f":"[8]Расчетный!BR130","v":0},0,{"$f":"[8]Расчетный!BX130","v":0},{"$f":"[8]Расчетный!BL130-[8]Расчетный!BV130","v":0},0,0,0,0,0,0,0,0,0,0,0,0,0,0,0]
[null,null,"ФАП с. Старокороткино ОГАУЗ \"Колпашевская РБ\"",{"$f":"[8]Расчетный!E131","v":115},{"$f":"[8]Расчетный!F131","v":1},{"$f":"[8]Расчетный!G131","v":"Не соответствует"},{"$f":"[8]Расчетный!AF131","v":0},{"$f":"[8]Расчетный!AA131","v":0},0,{"$f":"[8]Расчетный!AM131","v":0},{"$f":"[8]Расчетный!AD131-[8]Расчетный!AK131","v":0},{"$f":"[8]Расчетный!BN131","v":2263.6999999999998},{"$f":"[8]Расчетный!BR131","v":0.72804145116402352},{"$f":"[8]Расчетный!I131","v":1.00109},{"$f":"[8]Расчетный!BX131","v":1630.6},{"$f":"[8]Расчетный!BL131-[8]Расчетный!BV131","v":669.2},0,0,0,0,0,0,0,0,0,0,0,0,0,0,0]
[null,null,"ФАП д. Белояровка ОГАУЗ \"Колпашевская РБ\"",{"$f":"[8]Расчетный!E132","v":118},{"$f":"[8]Расчетный!F132","v":1},{"$f":"[8]Расчетный!G132","v":"Не соответствует"},{"$f":"[8]Расчетный!AF132","v":0},{"$f":"[8]Расчетный!AA132","v":0},0,{"$f":"[8]Расчетный!AM132","v":0},{"$f":"[8]Расчетный!AD132-[8]Расчетный!AK132","v":0},{"$f":"[8]Расчетный!BN132","v":2263.6999999999998},{"$f":"[8]Расчетный!BR132","v":0.7274614511640235},{"$f":"[8]Расчетный!I132","v":1.00051},{"$f":"[8]Расчетный!BX132","v":1629.3000000000002},{"$f":"[8]Расчетный!BL132-[8]Расчетный!BV132","v":668.7},0,0,0,0,0,0,0,0,0,0,0,0,0,0,0]
[null,null,"ФАП с.Тогур ОГАУЗ \"Колпашевская РБ\"",{"$f":"[8]Расчетный!E133","v":125},{"$f":"[8]Расчетный!F133","v":1},{"$f":"[8]Расчетный!G133","v":"Не соответствует"},{"$f":"[8]Расчетный!AF133","v":0},{"$f":"[8]Расчетный!AA133","v":0},0,{"$f":"[8]Расчетный!AM133","v":0},{"$f":"[8]Расчетный!AD133-[8]Расчетный!AK133","v":0},{"$f":"[8]Расчетный!BN133","v":2263.6999999999998},{"$f":"[8]Расчетный!BR133","v":0.72740145116402355},{"$f":"[8]Расчетный!I133","v":1.0004500000000001},{"$f":"[8]Расчетный!BX133","v":1629.1999999999998},{"$f":"[8]Расчетный!BL133-[8]Расчетный!BV133","v":668.69999999999993},0,0,0,0,0,0,0,0,0,0,0,0,0,0,0]
[null,null,"ФАП с. Копыловка ОГАУЗ \"Колпашевская РБ\"",{"$f":"[8]Расчетный!E134","v":155},{"$f":"[8]Расчетный!F134","v":1},{"$f":"[8]Расчетный!G134","v":"Не соответствует"},{"$f":"[8]Расчетный!AF134","v":0},{"$f":"[8]Расчетный!AA134","v":0},0,{"$f":"[8]Расчетный!AM134","v":0},{"$f":"[8]Расчетный!AD134-[8]Расчетный!AK134","v":0},{"$f":"[8]Расчетный!BN134","v":2263.6999999999998},{"$f":"[8]Расчетный!BR134","v":0.72695145116402349},{"$f":"[8]Расчетный!I134","v":1},{"$f":"[8]Расчетный!BX134","v":1628.1},{"$f":"[8]Расчетный!BL134-[8]Расчетный!BV134","v":668.19999999999993},0,0,0,0,0,0,0,0,0,0,0,0,0,0,0]
[null,null,"ФАП д. Могильный Мыс ОГАУЗ \"Колпашевская РБ\"",{"$f":"[8]Расчетный!E135","v":164},{"$f":"[8]Расчетный!F135","v":1},{"$f":"[8]Расчетный!G135","v":"Не соответствует"},{"$f":"[8]Расчетный!AF135","v":0},{"$f":"[8]Расчетный!AA135","v":0},0,{"$f":"[8]Расчетный!AM135","v":0},{"$f":"[8]Расчетный!AD135-[8]Расчетный!AK135","v":0},{"$f":"[8]Расчетный!BN135","v":2263.6999999999998},{"$f":"[8]Расчетный!BR135","v":0.72695145116402349},{"$f":"[8]Расчетный!I135","v":1},{"$f":"[8]Расчетный!BX135","v":1628.1},{"$f":"[8]Расчетный!BL135-[8]Расчетный!BV135","v":668.19999999999993},0,0,0,0,0,0,0,0,0,0,0,0,0,0,0]
[null,null,"ФАП с. Новоильинка ОГАУЗ \"Колпашевская РБ\"",{"$f":"[8]Расчетный!E136","v":207},{"$f":"[8]Расчетный!F136","v":1},{"$f":"[8]Расчетный!G136","v":"Не соответствует"},{"$f":"[8]Расчетный!AF136","v":0},{"$f":"[8]Расчетный!AA136","v":0},0,{"$f":"[8]Расчетный!AM136","v":0},{"$f":"[8]Расчетный!AD136-[8]Расчетный!AK136","v":0},{"$f":"[8]Расчетный!BN136","v":2263.6999999999998},{"$f":"[8]Расчетный!BR136","v":0.72945145116402343},{"$f":"[8]Расчетный!I136","v":1.0024999999999999},{"$f":"[8]Расчетный!BX136","v":1633.8},{"$f":"[8]Расчетный!BL136-[8]Расчетный!BV136","v":670.5},0,0,0,0,0,0,0,0,0,0,0,0,0,0,0]
[null,null,"ФАП с. Озерное ОГАУЗ \"Колпашевская РБ\"",{"$f":"[8]Расчетный!E137","v":293},{"$f":"[8]Расчетный!F137","v":1},{"$f":"[8]Расчетный!G137","v":"Не соответствует"},{"$f":"[8]Расчетный!AF137","v":0},{"$f":"[8]Расчетный!AA137","v":0},0,{"$f":"[8]Расчетный!AM137","v":0},{"$f":"[8]Расчетный!AD137-[8]Расчетный!AK137","v":0},{"$f":"[8]Расчетный!BN137","v":2263.6999999999998},{"$f":"[8]Расчетный!BR137","v":0.73029145116402339},{"$f":"[8]Расчетный!I137","v":1.0033399999999999},{"$f":"[8]Расчетный!BX137","v":1635.7},{"$f":"[8]Расчетный!BL137-[8]Расчетный!BV137","v":671.30000000000007},0,0,0,0,0,0,0,0,0,0,0,0,0,0,0]
[null,null,"ФАП д. Маракса ОГАУЗ \"Колпашевская РБ\"",{"$f":"[8]Расчетный!E138","v":329},{"$f":"[8]Расчетный!F138","v":1},{"$f":"[8]Расчетный!G138","v":"Не соответствует"},{"$f":"[8]Расчетный!AF138","v":0},{"$f":"[8]Расчетный!AA138","v":0},0,{"$f":"[8]Расчетный!AM138","v":0},{"$f":"[8]Расчетный!AD138-[8]Расчетный!AK138","v":0},{"$f":"[8]Расчетный!BN138","v":2263.6999999999998},{"$f":"[8]Расчетный!BR138","v":0.73099145116402353},{"$f":"[8]Расчетный!I138","v":1.00404},{"$f":"[8]Расчетный!BX138","v":1637.2},{"$f":"[8]Расчетный!BL138-[8]Расчетный!BV138","v":672},0,0,0,0,0,0,0,0,0,0,0,0,0,0,0]
[null,null,"ФАП г.Колпашево  ОГБУЗ \"Колпашевская РБ\"",{"$f":"[8]Расчетный!E139","v":369},{"$f":"[8]Расчетный!F139","v":1},{"$f":"[8]Расчетный!G139","v":"Не соответствует"},{"$f":"[8]Расчетный!AF139","v":0},{"$f":"[8]Расчетный!AA139","v":0},0,{"$f":"[8]Расчетный!AM139","v":0},{"$f":"[8]Расчетный!AD139-[8]Расчетный!AK139","v":0},{"$f":"[8]Расчетный!BN139","v":2263.6999999999998},{"$f":"[8]Расчетный!BR139","v":0.73240145116402344},{"$f":"[8]Расчетный!I139","v":1.00545},{"$f":"[8]Расчетный!BX139","v":1640.3},{"$f":"[8]Расчетный!BL139-[8]Расчетный!BV139","v":673.19999999999993},0,0,0,0,0,0,0,0,0,0,0,0,0,0,0]
[null,null,"ФАП д. Новогорное ОГАУЗ \"Колпашевская РБ\"",{"$f":"[8]Расчетный!E140","v":396},{"$f":"[8]Расчетный!F140","v":1},{"$f":"[8]Расчетный!G140","v":"Не соответствует"},{"$f":"[8]Расчетный!AF140","v":0},{"$f":"[8]Расчетный!AA140","v":0},0,{"$f":"[8]Расчетный!AM140","v":0},{"$f":"[8]Расчетный!AD140-[8]Расчетный!AK140","v":0},{"$f":"[8]Расчетный!BN140","v":2263.6999999999998},{"$f":"[8]Расчетный!BR140","v":0.73221145116402353},{"$f":"[8]Расчетный!I140","v":1.00526},{"$f":"[8]Расчетный!BX140","v":1640},{"$f":"[8]Расчетный!BL140-[8]Расчетный!BV140","v":673.10000000000014},0,0,0,0,0,0,0,0,0,0,0,0,0,0,0]
[null,null,"ФАП пос. Большая Саровка ОГАУЗ \"Колпашевская РБ\"",{"$f":"[8]Расчетный!E141","v":410},{"$f":"[8]Расчетный!F141","v":1},{"$f":"[8]Расчетный!G141","v":"Не соответствует"},{"$f":"[8]Расчетный!AF141","v":0},{"$f":"[8]Расчетный!AA141","v":0},0,{"$f":"[8]Расчетный!AM141","v":0},{"$f":"[8]Расчетный!AD141-[8]Расчетный!AK141","v":0},{"$f":"[8]Расчетный!BN141","v":2263.6999999999998},{"$f":"[8]Расчетный!BR141","v":0.73189145116402343},{"$f":"[8]Расчетный!I141","v":1.0049399999999999},{"$f":"[8]Расчетный!BX141","v":1639.3000000000002},{"$f":"[8]Расчетный!BL141-[8]Расчетный!BV141","v":672.80000000000007},0,0,0,0,0,0,0,0,0,0,0,0,0,0,0]
[null,null,"ФАП  с. Инкино ОГАУЗ \"Колпашевская РБ\"",{"$f":"[8]Расчетный!E142","v":501},{"$f":"[8]Расчетный!F142","v":1},{"$f":"[8]Расчетный!G142","v":"Не соответствует"},{"$f":"[8]Расчетный!AF142","v":0},{"$f":"[8]Расчетный!AA142","v":0},0,{"$f":"[8]Расчетный!AM142","v":0},{"$f":"[8]Расчетный!AD142-[8]Расчетный!AK142","v":0},{"$f":"[8]Расчетный!BN142","v":2263.6999999999998},{"$f":"[8]Расчетный!BR142","v":0.73446145116402339},{"$f":"[8]Расчетный!I142","v":1.0075099999999999},{"$f":"[8]Расчетный!BX142","v":1645.1},{"$f":"[8]Расчетный!BL142-[8]Расчетный!BV142","v":675.2},0,0,0,0,0,0,0,0,0,0,0,0,0,0,0]
[null,null,"ФАП с. Новоселово ОГАУЗ \"Колпашевская РБ\"",{"$f":"[8]Расчетный!E143","v":614},{"$f":"[8]Расчетный!F143","v":1},{"$f":"[8]Расчетный!G143","v":"Не соответствует"},{"$f":"[8]Расчетный!AF143","v":0},{"$f":"[8]Расчетный!AA143","v":0},0,{"$f":"[8]Расчетный!AM143","v":0},{"$f":"[8]Расчетный!AD143-[8]Расчетный!AK143","v":0},{"$f":"[8]Расчетный!BN143","v":2263.6999999999998},{"$f":"[8]Расчетный!BR143","v":0.73427145116402348},{"$f":"[8]Расчетный!I143","v":1.00732},{"$f":"[8]Расчетный!BX143","v":1644.6},{"$f":"[8]Расчетный!BL143-[8]Расчетный!BV143","v":675},0,0,0,0,0,0,0,0,0,0,0,0,0,0,0]
[73,9,"ОГАУЗ \"Кривошеинская РБ\"",{"$f":"SUM(D134:D144)","v":3353},{"$f":"SUM(E134:E144)","v":11},{"$nulls":9},{"$f":"SUM(O134:O144)","v":16323.400000000001},{"$f":"SUM(P134:P144)","v":6699.5000000000009},{"$nulls":15},{"$f":"J133+O133+T133+Y133+AD133","v":16323.400000000001}]
[null,null,"ФАП д. Новоисламбуль ОГАУЗ \"Кривошеинская РБ\"",{"$f":"[8]Расчетный!E146","v":128},{"$f":"[8]Расчетный!F146","v":1},{"$f":"[8]Расчетный!G146","v":"Не соответствует"},{"$f":"[8]Расчетный!AF146","v":0},{"$f":"[8]Расчетный!AA146","v":0},0,{"$f":"[8]Расчетный!AM146","v":0},0,{"$f":"[8]Расчетный!BN146","v":2057.9},{"$f":"[8]Расчетный!BR146","v":0.72759466252004468},{"$f":"[8]Расчетный!I146","v":1.00064},{"$f":"[8]Расчетный!BX146","v":1481.4},{"$f":"[8]Расчетный!BL146-[8]Расчетный!BV146","v":608},0,0,0,0,0,0,0,0,0,0,0,0,0,0,0]
[null,null,"ФАП д. Вознесенка  ОГАУЗ \"Кривошеинская РБ\"",{"$f":"[8]Расчетный!E147","v":151},{"$f":"[8]Расчетный!F147","v":1},{"$f":"[8]Расчетный!G147","v":"Не соответствует"},{"$f":"[8]Расчетный!AF147","v":0},{"$f":"[8]Расчетный!AA147","v":0},0,{"$f":"[8]Расчетный!AM147","v":0},0,{"$f":"[8]Расчетный!BN147","v":2057.9},{"$f":"[8]Расчетный!BR147","v":0.7269546625200447},{"$f":"[8]Расчетный!I147","v":1},{"$f":"[8]Расчетный!BX147","v":1480.2},{"$f":"[8]Расчетный!BL147-[8]Расчетный!BV147","v":607.5},0,0,0,0,0,0,0,0,0,0,0,0,0,0,0]
[null,null,"ФАП д. Елизарьево ОГАУЗ \"Кривошеинская РБ\"",{"$f":"[8]Расчетный!E148","v":190},{"$f":"[8]Расчетный!F148","v":1},{"$f":"[8]Расчетный!G148","v":"Не соответствует"},{"$f":"[8]Расчетный!AF148","v":0},{"$f":"[8]Расчетный!AA148","v":0},0,{"$f":"[8]Расчетный!AM148","v":0},0,{"$f":"[8]Расчетный!BN148","v":2057.9},{"$f":"[8]Расчетный!BR148","v":0.72862466252004476},{"$f":"[8]Расчетный!I148","v":1.0016700000000001},{"$f":"[8]Расчетный!BX148","v":1483.6},{"$f":"[8]Расчетный!BL148-[8]Расчетный!BV148","v":608.9},0,0,0,0,0,0,0,0,0,0,0,0,0,0,0]
[null,null,"ФАП с. Белосток ОГАУЗ \"Кривошеинская РБ\"",{"$f":"[8]Расчетный!E149","v":235},{"$f":"[8]Расчетный!F149","v":1},{"$f":"[8]Расчетный!G149","v":"Не соответствует"},{"$f":"[8]Расчетный!AF149","v":0},{"$f":"[8]Расчетный!AA149","v":0},0,{"$f":"[8]Расчетный!AM149","v":0},0,{"$f":"[8]Расчетный!BN149","v":2057.9},{"$f":"[8]Расчетный!BR149","v":0.72778466252004481},{"$f":"[8]Расчетный!I149","v":1.0008300000000001},{"$f":"[8]Расчетный!BX149","v":1481.9},{"$f":"[8]Расчетный!BL149-[8]Расчетный!BV149","v":608.20000000000005},0,0,0,0,0,0,0,0,0,0,0,0,0,0,0]
[null,null,"ФАП с. Никольское ОГАУЗ \"Кривошеинская РБ\"",{"$f":"[8]Расчетный!E150","v":278},{"$f":"[8]Расчетный!F150","v":1},{"$f":"[8]Расчетный!G150","v":"Не соответствует"},{"$f":"[8]Расчетный!AF150","v":0},{"$f":"[8]Расчетный!AA150","v":0},0,{"$f":"[8]Расчетный!AM150","v":0},0,{"$f":"[8]Расчетный!BN150","v":2057.9},{"$f":"[8]Расчетный!BR150","v":0.7281746625200447},{"$f":"[8]Расчетный!I150","v":1.00122},{"$f":"[8]Расчетный!BX150","v":1482.6000000000001},{"$f":"[8]Расчетный!BL150-[8]Расчетный!BV150","v":608.50000000000011},0,0,0,0,0,0,0,0,0,0,0,0,0,0,0]
[null,null,"ФАП с. Малиновка ОГАУЗ \"Кривошеинская РБ\"",{"$f":"[8]Расчетный!E151","v":280},{"$f":"[8]Расчетный!F151","v":1},{"$f":"[8]Расчетный!G151","v":"Не соответствует"},{"$f":"[8]Расчетный!AF151","v":0},{"$f":"[8]Расчетный!AA151","v":0},0,{"$f":"[8]Расчетный!AM151","v":0},0,{"$f":"[8]Расчетный!BN151","v":2057.9},{"$f":"[8]Расчетный!BR151","v":0.72766466252004469},{"$f":"[8]Расчетный!I151","v":1.00071},{"$f":"[8]Расчетный!BX151","v":1481.6000000000001},{"$f":"[8]Расчетный!BL151-[8]Расчетный!BV151","v":608.10000000000014},0,0,0,0,0,0,0,0,0,0,0,0,0,0,0]
[null,null,"ФАП с. Петровка ОГАУЗ \"Кривошеинская РБ\"",{"$f":"[8]Расчетный!E152","v":295},{"$f":"[8]Расчетный!F152","v":1},{"$f":"[8]Расчетный!G152","v":"Не соответствует"},{"$f":"[8]Расчетный!AF152","v":0},{"$f":"[8]Расчетный!AA152","v":0},0,{"$f":"[8]Расчетный!AM152","v":0},0,{"$f":"[8]Расчетный!BN152","v":2057.9},{"$f":"[8]Расчетный!BR152","v":0.7290746625200446},{"$f":"[8]Расчетный!I152","v":1.0021199999999999},{"$f":"[8]Расчетный!BX152","v":1484.5},{"$f":"[8]Расчетный!BL152-[8]Расчетный!BV152","v":609.29999999999995},0,0,0,0,0,0,0,0,0,0,0,0,0,0,0]
[null,null,"ФАП с. Иштан ОГАУЗ \"Кривошеинская РБ\"",{"$f":"[8]Расчетный!E153","v":385},{"$f":"[8]Расчетный!F153","v":1},{"$f":"[8]Расчетный!G153","v":"Не соответствует"},{"$f":"[8]Расчетный!AF153","v":0},{"$f":"[8]Расчетный!AA153","v":0},0,{"$f":"[8]Расчетный!AM153","v":0},0,{"$f":"[8]Расчетный!BN153","v":2057.9},{"$f":"[8]Расчетный!BR153","v":0.7297146625200448},{"$f":"[8]Расчетный!I153","v":1.0027600000000001},{"$f":"[8]Расчетный!BX153","v":1485.8},{"$f":"[8]Расчетный!BL153-[8]Расчетный!BV153","v":609.79999999999995},0,0,0,0,0,0,0,0,0,0,0,0,0,0,0]
[null,null,"ФАП с. Жуково ОГАУЗ \"Кривошеинская РБ\"",{"$f":"[8]Расчетный!E154","v":390},{"$f":"[8]Расчетный!F154","v":1},{"$f":"[8]Расчетный!G154","v":"Не соответствует"},{"$f":"[8]Расчетный!AF154","v":0},{"$f":"[8]Расчетный!AA154","v":0},0,{"$f":"[8]Расчетный!AM154","v":0},0,{"$f":"[8]Расчетный!BN154","v":2057.9},{"$f":"[8]Расчетный!BR154","v":0.72958466252004461},{"$f":"[8]Расчетный!I154","v":1.0026299999999999},{"$f":"[8]Расчетный!BX154","v":1485.5},{"$f":"[8]Расчетный!BL154-[8]Расчетный!BV154","v":609.69999999999993},0,0,0,0,0,0,0,0,0,0,0,0,0,0,0]
[null,null,"ФАП с. Пудовка ОГАУЗ \"Кривошеинская РБ\"",{"$f":"[8]Расчетный!E155","v":459},{"$f":"[8]Расчетный!F155","v":1},{"$f":"[8]Расчетный!G155","v":"Не соответствует"},{"$f":"[8]Расчетный!AF155","v":0},{"$f":"[8]Расчетный!AA155","v":0},0,{"$f":"[8]Расчетный!AM155","v":0},0,{"$f":"[8]Расчетный!BN155","v":2057.9},{"$f":"[8]Расчетный!BR155","v":0.73035466252004477},{"$f":"[8]Расчетный!I155","v":1.0034000000000001},{"$f":"[8]Расчетный!BX155","v":1487.1},{"$f":"[8]Расчетный!BL155-[8]Расчетный!BV155","v":610.29999999999995},0,0,0,0,0,0,0,0,0,0,0,0,0,0,0]
[null,null,"ФАП с. Новокривошеино ОГАУЗ \"Кривошеинская РБ\"",{"$f":"[8]Расчетный!E156","v":562},{"$f":"[8]Расчетный!F156","v":1},{"$f":"[8]Расчетный!G156","v":"Не соответствует"},{"$f":"[8]Расчетный!AF156","v":0},{"$f":"[8]Расчетный!AA156","v":0},0,{"$f":"[8]Расчетный!AM156","v":0},0,{"$f":"[8]Расчетный!BN156","v":2057.9},{"$f":"[8]Расчетный!BR156","v":0.73144466252004481},{"$f":"[8]Расчетный!I156","v":1.0044900000000001},{"$f":"[8]Расчетный!BX156","v":1489.2},{"$f":"[8]Расчетный!BL156-[8]Расчетный!BV156","v":611.20000000000005},0,0,0,0,0,0,0,0,0,0,0,0,0,0,0]
[75,10,"ОГБУЗ \"Молчановская РБ\"",{"$f":"SUM(D146:D154)","v":1787},{"$f":"SUM(E146:E154)","v":9},{"$nulls":4},{"$f":"SUM(J146:J154)","v":3068.7},{"$f":"SUM(K146:K154)","v":1259.5999999999999},null,null,null,{"$f":"SUM(O146:O154)","v":9506.9},{"$f":"SUM(P146:P154)","v":3902},{"$nulls":15},{"$f":"J145+O145+T145+Y145+AD145","v":12575.599999999999}]
[null,null,"ФП д. Нижняя Федоровка ОГБУЗ \"Молчановская РБ\"",{"$f":"[8]Расчетный!E158","v":42},{"$f":"[8]Расчетный!F158","v":1},{"$f":"[8]Расчетный!G158","v":"Не соответствует"},{"$f":"[8]Расчетный!AF158","v":1033.2744},{"$f":"[8]Расчетный!AA158","v":1},{"$f":"[8]Расчетный!I158","v":1},{"$f":"[8]Расчетный!AM158","v":1022.5},{"$f":"[8]Расчетный!AD158-[8]Расчетный!AK158","v":419.70000000000005},{"$f":"[8]Расчетный!BN158","v":0},{"$f":"[8]Расчетный!BR158","v":0},0,{"$f":"[8]Расчетный!BX158","v":0},{"$f":"[8]Расчетный!BL158-[8]Расчетный!BV158","v":0},0,0,0,0,0,0,0,0,0,0,0,0,0,0,0]
[null,null,"ФП д. Верхняя Федоровка ОГБУЗ \"Молчановская РБ\"",{"$f":"[8]Расчетный!E159","v":65},{"$f":"[8]Расчетный!F159","v":1},{"$f":"[8]Расчетный!G159","v":"Не соответствует"},{"$f":"[8]Расчетный!AF159","v":1033.2744},{"$f":"[8]Расчетный!AA159","v":1.0010300000000001},{"$f":"[8]Расчетный!I159","v":1.0010300000000001},{"$f":"[8]Расчетный!AM159","v":1023.4},{"$f":"[8]Расчетный!AD159-[8]Расчетный!AK159","v":420.1},{"$f":"[8]Расчетный!BN159","v":0},{"$f":"[8]Расчетный!BR159","v":0},0,{"$f":"[8]Расчетный!BX159","v":0},{"$f":"[8]Расчетный!BL159-[8]Расчетный!BV159","v":0},0,0,0,0,0,0,0,0,0,0,0,0,0,0,0]
[null,null,"ФП с. Игреково ОГБУЗ \"Молчановская РБ\"",{"$f":"[8]Расчетный!E160","v":86},{"$f":"[8]Расчетный!F160","v":1},{"$f":"[8]Расчетный!G160","v":"Не соответствует"},{"$f":"[8]Расчетный!AF160","v":1033.2744},{"$f":"[8]Расчетный!AA160","v":1.00038},{"$f":"[8]Расчетный!I160","v":1.00038},{"$f":"[8]Расчетный!AM160","v":1022.8},{"$f":"[8]Расчетный!AD160-[8]Расчетный!AK160","v":419.79999999999995},{"$f":"[8]Расчетный!BN160","v":0},{"$f":"[8]Расчетный!BR160","v":0},0,{"$f":"[8]Расчетный!BX160","v":0},{"$f":"[8]Расчетный!BL160-[8]Расчетный!BV160","v":0},0,0,0,0,0,0,0,0,0,0,0,0,0,0,0]
[null,null,"ФП д. Майково ОГБУЗ \"Молчановская РБ\"",{"$f":"[8]Расчетный!E161","v":114},{"$f":"[8]Расчетный!F161","v":1},{"$f":"[8]Расчетный!G161","v":"Не соответствует"},{"$f":"[8]Расчетный!AF161","v":0},{"$f":"[8]Расчетный!AA161","v":0},0,{"$f":"[8]Расчетный!AM161","v":0},{"$f":"[8]Расчетный!AD161-[8]Расчетный!AK161","v":0},{"$f":"[8]Расчетный!BN161","v":2066.6999999999998},{"$f":"[8]Расчетный!BR161","v":0.72746601683843826},{"$f":"[8]Расчетный!I161","v":1.00051},{"$f":"[8]Расчетный!BX161","v":1487.5},{"$f":"[8]Расчетный!BL161-[8]Расчетный!BV161","v":610.5},0,0,0,0,0,0,0,0,0,0,0,0,0,0,0]
[null,null,"ФП с. Колбинка ОГБУЗ \"Молчановская РБ\"",{"$f":"[8]Расчетный!E162","v":124},{"$f":"[8]Расчетный!F162","v":1},{"$f":"[8]Расчетный!G162","v":"Не соответствует"},{"$f":"[8]Расчетный!AF162","v":0},{"$f":"[8]Расчетный!AA162","v":0},0,{"$f":"[8]Расчетный!AM162","v":0},{"$f":"[8]Расчетный!AD162-[8]Расчетный!AK162","v":0},{"$f":"[8]Расчетный!BN162","v":2066.6999999999998},{"$f":"[8]Расчетный!BR162","v":0.72734601683843814},{"$f":"[8]Расчетный!I162","v":1.0003899999999999},{"$f":"[8]Расчетный!BX162","v":1487.3999999999999},{"$f":"[8]Расчетный!BL162-[8]Расчетный!BV162","v":610.49999999999989},0,0,0,0,0,0,0,0,0,0,0,0,0,0,0]
[null,null,"ФП с. Гришино ОГБУЗ \"Молчановская РБ\"",{"$f":"[8]Расчетный!E163","v":127},{"$f":"[8]Расчетный!F163","v":1},{"$f":"[8]Расчетный!G163","v":"Не соответствует"},{"$f":"[8]Расчетный!AF163","v":0},{"$f":"[8]Расчетный!AA163","v":0},0,{"$f":"[8]Расчетный!AM163","v":0},{"$f":"[8]Расчетный!AD163-[8]Расчетный!AK163","v":0},{"$f":"[8]Расчетный!BN163","v":2066.6999999999998},{"$f":"[8]Расчетный!BR163","v":0.72734601683843814},{"$f":"[8]Расчетный!I163","v":1.0003899999999999},{"$f":"[8]Расчетный!BX163","v":1487.3999999999999},{"$f":"[8]Расчетный!BL163-[8]Расчетный!BV163","v":610.49999999999989},0,0,0,0,0,0,0,0,0,0,0,0,0,0,0]
[null,null,"ФП с. Соколовка ОГБУЗ \"Молчановская РБ\"",{"$f":"[8]Расчетный!E164","v":208},{"$f":"[8]Расчетный!F164","v":1},{"$f":"[8]Расчетный!G164","v":"Не соответствует"},{"$f":"[8]Расчетный!AF164","v":0},{"$f":"[8]Расчетный!AA164","v":0},0,{"$f":"[8]Расчетный!AM164","v":0},{"$f":"[8]Расчетный!AD164-[8]Расчетный!AK164","v":0},{"$f":"[8]Расчетный!BN164","v":2066.6999999999998},{"$f":"[8]Расчетный!BR164","v":0.72798601683843833},{"$f":"[8]Расчетный!I164","v":1.0010300000000001},{"$f":"[8]Расчетный!BX164","v":1488.6000000000001},{"$f":"[8]Расчетный!BL164-[8]Расчетный!BV164","v":611.00000000000011},0,0,0,0,0,0,0,0,0,0,0,0,0,0,0]
[null,null,"ФП с. Сарафановка ОГБУЗ \"Молчановская РБ\"",{"$f":"[8]Расчетный!E165","v":343},{"$f":"[8]Расчетный!F165","v":1},{"$f":"[8]Расчетный!G165","v":"Не соответствует"},{"$f":"[8]Расчетный!AF165","v":0},{"$f":"[8]Расчетный!AA165","v":0},0,{"$f":"[8]Расчетный!AM165","v":0},{"$f":"[8]Расчетный!AD165-[8]Расчетный!AK165","v":0},{"$f":"[8]Расчетный!BN165","v":2066.6999999999998},{"$f":"[8]Расчетный!BR165","v":0.73093601683843834},{"$f":"[8]Расчетный!I165","v":1.0039800000000001},{"$f":"[8]Расчетный!BX165","v":1494.7},{"$f":"[8]Расчетный!BL165-[8]Расчетный!BV165","v":613.5},0,0,0,0,0,0,0,0,0,0,0,0,0,0,0]
[null,null,"ФП с. Тунгусово ОГБУЗ \"Молчановская РБ\"",{"$f":"[8]Расчетный!E166","v":678},{"$f":"[8]Расчетный!F166","v":1},{"$f":"[8]Расчетный!G166","v":"Соответствует"},{"$f":"[8]Расчетный!AF166","v":0},{"$f":"[8]Расчетный!AA166","v":0},0,{"$f":"[8]Расчетный!AM166","v":0},{"$f":"[8]Расчетный!AD166-[8]Расчетный!AK166","v":0},{"$f":"[8]Расчетный!BN166","v":2066.6999999999998},{"$f":"[8]Расчетный!BR166","v":1.0080199999999999},{"$f":"[8]Расчетный!I166","v":1.0080199999999999},{"$f":"[8]Расчетный!BX166","v":2061.3000000000002},{"$f":"[8]Расчетный!BL166-[8]Расчетный!BV166","v":846},0,0,0,0,0,0,0,0,0,0,0,0,0,0,0]
[203,11,"ОГБУЗ \"Парабельская РБ\"",{"$f":"SUM(D156:D165)","v":3340},{"$f":"SUM(E156:E165)","v":10},{"$nulls":4},{"$f":"SUM(J156:J165)","v":1122.4000000000001},{"$f":"SUM(K156:K165)","v":460.69999999999993},null,null,null,{"$f":"SUM(O156:O165)","v":13096.8},{"$f":"SUM(P156:P165)","v":5375.4000000000005},null,null,null,{"$f":"SUM(T156:T165)","v":2063.1999999999998},{"$f":"SUM(U156:U165)","v":846.8},{"$nulls":10},{"$f":"J155+O155+T155+Y155+AD155","v":16282.399999999998}]
[null,null,"ФАП д. Новиково ОГБУЗ «Парабельская РБ»",{"$f":"[8]Расчетный!E168","v":79},{"$f":"[8]Расчетный!F168","v":1},{"$f":"[8]Расчетный!G168","v":"Не соответствует"},{"$f":"[8]Расчетный!AF168","v":1132.3728000000001},{"$f":"[8]Расчетный!AA168","v":1.0016700000000001},{"$f":"[8]Расчетный!I168","v":1.0016700000000001},{"$f":"[8]Расчетный!AM168","v":1122.4000000000001},{"$f":"[8]Расчетный!AD168-[8]Расчетный!AK168","v":460.69999999999993},{"$f":"[8]Расчетный!BN168","v":0},{"$f":"[8]Расчетный!BR168","v":0},0,{"$f":"[8]Расчетный!BX168","v":0},{"$f":"[8]Расчетный!BL168-[8]Расчетный!BV168","v":0},{"$f":"[8]Расчетный!CY168","v":0},{"$f":"[8]Расчетный!DC168","v":0},0,{"$f":"[8]Расчетный!DI168","v":0},{"$f":"[8]Расчетный!CW168-[8]Расчетный!DG168","v":0},0,0,0,0,0,0,0,0,0,0]
[null,null,"ФАП д. Талиновка ОГБУЗ «Парабельская РБ»",{"$f":"[8]Расчетный!E170","v":122},{"$f":"[8]Расчетный!F170","v":1},{"$f":"[8]Расчетный!G170","v":"Не соответствует"},{"$f":"[8]Расчетный!AF170","v":0},{"$f":"[8]Расчетный!AA170","v":0},0,{"$f":"[8]Расчетный!AM170","v":0},{"$f":"[8]Расчетный!AD170-[8]Расчетный!AK170","v":0},{"$f":"[8]Расчетный!BN170","v":2264.9},{"$f":"[8]Расчетный!BR170","v":0.72786366285487203},{"$f":"[8]Расчетный!I170","v":1.0008999999999999},{"$f":"[8]Расчетный!BX170","v":1631.1},{"$f":"[8]Расчетный!BL170-[8]Расчетный!BV170","v":669.5},{"$f":"[8]Расчетный!CY170","v":0},{"$f":"[8]Расчетный!DC170","v":0},0,{"$f":"[8]Расчетный!DI170","v":0},{"$f":"[8]Расчетный!CW170-[8]Расчетный!DG170","v":0},0,0,0,0,0,0,0,0,0,0]
[null,null,"ФАП д. Малое Нестерово ОГБУЗ «Парабельская РБ»",{"$f":"[8]Расчетный!E172","v":152},{"$f":"[8]Расчетный!F172","v":1},{"$f":"[8]Расчетный!G172","v":"Не соответствует"},{"$f":"[8]Расчетный!AF172","v":0},{"$f":"[8]Расчетный!AA172","v":0},0,{"$f":"[8]Расчетный!AM172","v":0},{"$f":"[8]Расчетный!AD172-[8]Расчетный!AK172","v":0},{"$f":"[8]Расчетный!BN172","v":2264.9},{"$f":"[8]Расчетный!BR172","v":0.72953366285487209},{"$f":"[8]Расчетный!I172","v":1.00257},{"$f":"[8]Расчетный!BX172","v":1634.8000000000002},{"$f":"[8]Расчетный!BL172-[8]Расчетный!BV172","v":671.00000000000011},{"$f":"[8]Расчетный!CY172","v":0},{"$f":"[8]Расчетный!DC172","v":0},0,{"$f":"[8]Расчетный!DI172","v":0},{"$f":"[8]Расчетный!CW172-[8]Расчетный!DG172","v":0},0,0,0,0,0,0,0,0,0,0]
[null,null,"ФАП д. Нижняя Чигара ОГБУЗ «Парабельская РБ»",{"$f":"[8]Расчетный!E173","v":173},{"$f":"[8]Расчетный!F173","v":1},{"$f":"[8]Расчетный!G173","v":"Не соответствует"},{"$f":"[8]Расчетный!AF173","v":0},{"$f":"[8]Расчетный!AA173","v":0},0,{"$f":"[8]Расчетный!AM173","v":0},{"$f":"[8]Расчетный!AD173-[8]Расчетный!AK173","v":0},{"$f":"[8]Расчетный!BN173","v":2264.9},{"$f":"[8]Расчетный!BR173","v":0.72985366285487219},{"$f":"[8]Расчетный!I173","v":1.0028900000000001},{"$f":"[8]Расчетный!BX173","v":1635.6},{"$f":"[8]Расчетный!BL173-[8]Расчетный!BV173","v":671.3},{"$f":"[8]Расчетный!CY173","v":0},{"$f":"[8]Расчетный!DC173","v":0},0,{"$f":"[8]Расчетный!DI173","v":0},{"$f":"[8]Расчетный!CW173-[8]Расчетный!DG173","v":0},0,0,0,0,0,0,0,0,0,0]
[null,null,"ФАП д. Нельмач ОГБУЗ «Парабельская РБ»",{"$f":"[8]Расчетный!E174","v":274},{"$f":"[8]Расчетный!F174","v":1},{"$f":"[8]Расчетный!G174","v":"Не соответствует"},{"$f":"[8]Расчетный!AF174","v":0},{"$f":"[8]Расчетный!AA174","v":0},0,{"$f":"[8]Расчетный!AM174","v":0},{"$f":"[8]Расчетный!AD174-[8]Расчетный!AK174","v":0},{"$f":"[8]Расчетный!BN174","v":2264.9},{"$f":"[8]Расчетный!BR174","v":0.72696366285487213},{"$f":"[8]Расчетный!I174","v":1},{"$f":"[8]Расчетный!BX174","v":1629.1},{"$f":"[8]Расчетный!BL174-[8]Расчетный!BV174","v":668.6},{"$f":"[8]Расчетный!CY174","v":0},{"$f":"[8]Расчетный!DC174","v":0},0,{"$f":"[8]Расчетный!DI174","v":0},{"$f":"[8]Расчетный!CW174-[8]Расчетный!DG174","v":0},0,0,0,0,0,0,0,0,0,0]
[null,null,"ФАП с. Старица ОГБУЗ «Парабельская РБ»",{"$f":"[8]Расчетный!E175","v":309},{"$f":"[8]Расчетный!F175","v":1},{"$f":"[8]Расчетный!G175","v":"Не соответствует"},{"$f":"[8]Расчетный!AF175","v":0},{"$f":"[8]Расчетный!AA175","v":0},0,{"$f":"[8]Расчетный!AM175","v":0},{"$f":"[8]Расчетный!AD175-[8]Расчетный!AK175","v":0},{"$f":"[8]Расчетный!BN175","v":2264.9},{"$f":"[8]Расчетный!BR175","v":0.73139366285487206},{"$f":"[8]Расчетный!I175","v":1.0044299999999999},{"$f":"[8]Расчетный!BX175","v":1639},{"$f":"[8]Расчетный!BL175-[8]Расчетный!BV175","v":672.7},{"$f":"[8]Расчетный!CY175","v":0},{"$f":"[8]Расчетный!DC175","v":0},0,{"$f":"[8]Расчетный!DI175","v":0},{"$f":"[8]Расчетный!CW175-[8]Расчетный!DG175","v":0},0,0,0,0,0,0,0,0,0,0]
[null,null,"ФАП д. Прокоп ОГБУЗ «Парабельская РБ»",{"$f":"[8]Расчетный!E176","v":309},{"$f":"[8]Расчетный!F176","v":1},{"$f":"[8]Расчетный!G176","v":"Не соответствует"},{"$f":"[8]Расчетный!AF176","v":0},{"$f":"[8]Расчетный!AA176","v":0},0,{"$f":"[8]Расчетный!AM176","v":0},{"$f":"[8]Расчетный!AD176-[8]Расчетный!AK176","v":0},{"$f":"[8]Расчетный!BN176","v":2264.9},{"$f":"[8]Расчетный!BR176","v":0.73190366285487207},{"$f":"[8]Расчетный!I176","v":1.0049399999999999},{"$f":"[8]Расчетный!BX176","v":1640.1999999999998},{"$f":"[8]Расчетный!BL176-[8]Расчетный!BV176","v":673.19999999999993},{"$f":"[8]Расчетный!CY176","v":0},{"$f":"[8]Расчетный!DC176","v":0},0,{"$f":"[8]Расчетный!DI176","v":0},{"$f":"[8]Расчетный!CW176-[8]Расчетный!DG176","v":0},0,0,0,0,0,0,0,0,0,0]
[null,null,"ФАП п. Заводской ОГБУЗ «Парабельская РБ»",{"$f":"[8]Расчетный!E177","v":343},{"$f":"[8]Расчетный!F177","v":1},{"$f":"[8]Расчетный!G177","v":"Не соответствует"},{"$f":"[8]Расчетный!AF177","v":0},{"$f":"[8]Расчетный!AA177","v":0},0,{"$f":"[8]Расчетный!AM177","v":0},{"$f":"[8]Расчетный!AD177-[8]Расчетный!AK177","v":0},{"$f":"[8]Расчетный!BN177","v":2264.9},{"$f":"[8]Расчетный!BR177","v":0.73184366285487212},{"$f":"[8]Расчетный!I177","v":1.00488},{"$f":"[8]Расчетный!BX177","v":1640},{"$f":"[8]Расчетный!BL177-[8]Расчетный!BV177","v":673.1},{"$f":"[8]Расчетный!CY177","v":0},{"$f":"[8]Расчетный!DC177","v":0},0,{"$f":"[8]Расчетный!DI177","v":0},{"$f":"[8]Расчетный!CW177-[8]Расчетный!DG177","v":0},0,0,0,0,0,0,0,0,0,0]
[null,null,"ФАП пос. Шпалозавод ОГБУЗ «Парабельская РБ»",{"$f":"[8]Расчетный!E178","v":677},{"$f":"[8]Расчетный!F178","v":1},{"$f":"[8]Расчетный!G178","v":"Не соответствует"},{"$f":"[8]Расчетный!AF178","v":0},{"$f":"[8]Расчетный!AA178","v":0},0,{"$f":"[8]Расчетный!AM178","v":0},{"$f":"[8]Расчетный!AD178-[8]Расчетный!AK178","v":0},{"$f":"[8]Расчетный!BN178","v":2264.9},{"$f":"[8]Расчетный!BR178","v":0.7349236628548721},{"$f":"[8]Расчетный!I178","v":1.00796},{"$f":"[8]Расчетный!BX178","v":1647},{"$f":"[8]Расчетный!BL178-[8]Расчетный!BV178","v":676},{"$f":"[8]Расчетный!CY178","v":0},{"$f":"[8]Расчетный!DC178","v":0},0,{"$f":"[8]Расчетный!DI178","v":0},{"$f":"[8]Расчетный!CW178-[8]Расчетный!DG178","v":0},0,0,0,0,0,0,0,0,0,0]
[null,null,"ФАП п. Кирзавод ОГБУЗ «Парабельская РБ»",{"$f":"[8]Расчетный!E179","v":902},{"$f":"[8]Расчетный!F179","v":1},{"$f":"[8]Расчетный!G179","v":"Не соответствует"},{"$f":"[8]Расчетный!AF179","v":0},{"$f":"[8]Расчетный!AA179","v":0},0,{"$f":"[8]Расчетный!AM179","v":0},{"$f":"[8]Расчетный!AD179-[8]Расчетный!AK179","v":0},{"$f":"[8]Расчетный!BN179","v":0},{"$f":"[8]Расчетный!BR179","v":0},0,{"$f":"[8]Расчетный!BX179","v":0},{"$f":"[8]Расчетный!BL179-[8]Расчетный!BV179","v":0},{"$f":"[8]Расчетный!CY179","v":4529.7},{"$f":"[8]Расчетный!DC179","v":0.46033428615581601},{"$f":"[8]Расчетный!I179","v":1.00728},{"$f":"[8]Расчетный!DI179","v":2063.1999999999998},{"$f":"[8]Расчетный!CW179-[8]Расчетный!DG179","v":846.8},0,0,0,0,0,0,0,0,0,0]
[79,12,"ОГБУЗ \"Первомайская РБ\"",{"$f":"SUM(D167:D186)","v":5423},{"$f":"SUM(E167:E186)","v":20},{"$nulls":9},{"$f":"SUM(O167:O186)","v":21643.299999999996},{"$f":"SUM(P167:P186)","v":8883.0000000000018},{"$nulls":15},{"$f":"J166+O166+T166+Y166+AD166","v":21643.299999999996}]
[null,null,"ФАП д. Сахалинка ОГБУЗ \"Первомайская РБ\"",{"$f":"[8]Расчетный!E182","v":110},{"$f":"[8]Расчетный!F182","v":1},{"$f":"[8]Расчетный!G182","v":"Не соответствует"},{"$f":"[8]Расчетный!AF182","v":0},{"$f":"[8]Расчетный!AA182","v":0},0,{"$f":"[8]Расчетный!AM182","v":0},{"$f":"[8]Расчетный!AD182-[8]Расчетный!AK182","v":0},{"$f":"[8]Расчетный!BN182","v":1605.9},{"$f":"[8]Расчетный!BR182","v":0.72765439255246278},{"$f":"[8]Расчетный!I182","v":1.00071},{"$f":"[8]Расчетный!BX182","v":1156.1000000000001},{"$f":"[8]Расчетный!BL182-[8]Расчетный!BV182","v":474.50000000000011},0,0,0,0,0,0,0,0,0,0,0,0,0,0,0]
[null,null,"ФАП д. Малиновка ОГБУЗ \"Первомайская РБ\"",{"$f":"[8]Расчетный!E183","v":119},{"$f":"[8]Расчетный!F183","v":1},{"$f":"[8]Расчетный!G183","v":"Не соответствует"},{"$f":"[8]Расчетный!AF183","v":0},{"$f":"[8]Расчетный!AA183","v":0},0,{"$f":"[8]Расчетный!AM183","v":0},{"$f":"[8]Расчетный!AD183-[8]Расчетный!AK183","v":0},{"$f":"[8]Расчетный!BN183","v":1605.9},{"$f":"[8]Расчетный!BR183","v":0.72726439255246289},{"$f":"[8]Расчетный!I183","v":1.0003200000000001},{"$f":"[8]Расчетный!BX183","v":1155.5999999999999},{"$f":"[8]Расчетный!BL183-[8]Расчетный!BV183","v":474.29999999999995},0,0,0,0,0,0,0,0,0,0,0,0,0,0,0]
[null,null,"ФАП д. Балагачево ОГБУЗ \"Первомайская РБ\"",{"$f":"[8]Расчетный!E184","v":125},{"$f":"[8]Расчетный!F184","v":1},{"$f":"[8]Расчетный!G184","v":"Не соответствует"},{"$f":"[8]Расчетный!AF184","v":0},{"$f":"[8]Расчетный!AA184","v":0},0,{"$f":"[8]Расчетный!AM184","v":0},{"$f":"[8]Расчетный!AD184-[8]Расчетный!AK184","v":0},{"$f":"[8]Расчетный!BN184","v":1605.9},{"$f":"[8]Расчетный!BR184","v":0.72771439255246273},{"$f":"[8]Расчетный!I184","v":1.0007699999999999},{"$f":"[8]Расчетный!BX184","v":1156.3000000000002},{"$f":"[8]Расчетный!BL184-[8]Расчетный!BV184","v":474.6},0,0,0,0,0,0,0,0,0,0,0,0,0,0,0]
[null,null,"ФАП с. Апсагачево ОГБУЗ \"Первомайская РБ\"",{"$f":"[8]Расчетный!E185","v":140},{"$f":"[8]Расчетный!F185","v":1},{"$f":"[8]Расчетный!G185","v":"Не соответствует"},{"$f":"[8]Расчетный!AF185","v":0},{"$f":"[8]Расчетный!AA185","v":0},0,{"$f":"[8]Расчетный!AM185","v":0},{"$f":"[8]Расчетный!AD185-[8]Расчетный!AK185","v":0},{"$f":"[8]Расчетный!BN185","v":1605.9},{"$f":"[8]Расчетный!BR185","v":0.59142183137181625},{"$f":"[8]Расчетный!I185","v":1.0014099999999999},{"$f":"[8]Расчетный!BX185","v":939.80000000000007},{"$f":"[8]Расчетный!BL185-[8]Расчетный!BV185","v":385.70000000000005},0,0,0,0,0,0,0,0,0,0,0,0,0,0,0]
[null,null,"ФАП д. Уйданово ОГБУЗ \"Первомайская РБ\"",{"$f":"[8]Расчетный!E186","v":169},{"$f":"[8]Расчетный!F186","v":1},{"$f":"[8]Расчетный!G186","v":"Не соответствует"},{"$f":"[8]Расчетный!AF186","v":0},{"$f":"[8]Расчетный!AA186","v":0},0,{"$f":"[8]Расчетный!AM186","v":0},{"$f":"[8]Расчетный!AD186-[8]Расчетный!AK186","v":0},{"$f":"[8]Расчетный!BN186","v":1605.9},{"$f":"[8]Расчетный!BR186","v":0.45429927019117006},{"$f":"[8]Расчетный!I186","v":1.00122},{"$f":"[8]Расчетный!BX186","v":721.8},{"$f":"[8]Расчетный!BL186-[8]Расчетный!BV186","v":296.2},0,0,0,0,0,0,0,0,0,0,0,0,0,0,0]
[null,null,"ФАП д. Вознесенка ОГБУЗ \"Первомайская РБ\"",{"$f":"[8]Расчетный!E187","v":203},{"$f":"[8]Расчетный!F187","v":1},{"$f":"[8]Расчетный!G187","v":"Не соответствует"},{"$f":"[8]Расчетный!AF187","v":0},{"$f":"[8]Расчетный!AA187","v":0},0,{"$f":"[8]Расчетный!AM187","v":0},{"$f":"[8]Расчетный!AD187-[8]Расчетный!AK187","v":0},{"$f":"[8]Расчетный!BN187","v":1605.9},{"$f":"[8]Расчетный!BR187","v":0.45397927019116996},{"$f":"[8]Расчетный!I187","v":1.0008999999999999},{"$f":"[8]Расчетный!BX187","v":721.3},{"$f":"[8]Расчетный!BL187-[8]Расчетный!BV187","v":296},0,0,0,0,0,0,0,0,0,0,0,0,0,0,0]
[null,null,"ФАП с. Новомариинский ОГБУЗ \"Первомайская РБ\"",{"$f":"[8]Расчетный!E188","v":224},{"$f":"[8]Расчетный!F188","v":1},{"$f":"[8]Расчетный!G188","v":"Не соответствует"},{"$f":"[8]Расчетный!AF188","v":0},{"$f":"[8]Расчетный!AA188","v":0},0,{"$f":"[8]Расчетный!AM188","v":0},{"$f":"[8]Расчетный!AD188-[8]Расчетный!AK188","v":0},{"$f":"[8]Расчетный!BN188","v":1605.9},{"$f":"[8]Расчетный!BR188","v":0.45307927019117006},{"$f":"[8]Расчетный!I188","v":1},{"$f":"[8]Расчетный!BX188","v":719.9},{"$f":"[8]Расчетный!BL188-[8]Расчетный!BV188","v":295.5},0,0,0,0,0,0,0,0,0,0,0,0,0,0,0]
[null,null,"ФАП д. Ломовицк-2 ОГБУЗ \"Первомайская РБ\"",{"$f":"[8]Расчетный!E189","v":250},{"$f":"[8]Расчетный!F189","v":1},{"$f":"[8]Расчетный!G189","v":"Не соответствует"},{"$f":"[8]Расчетный!AF189","v":0},{"$f":"[8]Расчетный!AA189","v":0},0,{"$f":"[8]Расчетный!AM189","v":0},{"$f":"[8]Расчетный!AD189-[8]Расчетный!AK189","v":0},{"$f":"[8]Расчетный!BN189","v":1605.9},{"$f":"[8]Расчетный!BR189","v":0.72976439255246284},{"$f":"[8]Расчетный!I189","v":1.00282},{"$f":"[8]Расчетный!BX189","v":1159.5},{"$f":"[8]Расчетный!BL189-[8]Расчетный!BV189","v":475.90000000000009},0,0,0,0,0,0,0,0,0,0,0,0,0,0,0]
[null,null,"ФАП д. Успенка ОГБУЗ \"Первомайская РБ\"",{"$f":"[8]Расчетный!E190","v":251},{"$f":"[8]Расчетный!F190","v":1},{"$f":"[8]Расчетный!G190","v":"Не соответствует"},{"$f":"[8]Расчетный!AF190","v":0},{"$f":"[8]Расчетный!AA190","v":0},0,{"$f":"[8]Расчетный!AM190","v":0},{"$f":"[8]Расчетный!AD190-[8]Расчетный!AK190","v":0},{"$f":"[8]Расчетный!BN190","v":1605.9},{"$f":"[8]Расчетный!BR190","v":0.72829439255246275},{"$f":"[8]Расчетный!I190","v":1.00135},{"$f":"[8]Расчетный!BX190","v":1157.3000000000002},{"$f":"[8]Расчетный!BL190-[8]Расчетный!BV190","v":475.00000000000011},0,0,0,0,0,0,0,0,0,0,0,0,0,0,0]
[null,null,"ФАП д. Калмаки ОГБУЗ \"Первомайская РБ\"",{"$f":"[8]Расчетный!E191","v":252},{"$f":"[8]Расчетный!F191","v":1},{"$f":"[8]Расчетный!G191","v":"Не соответствует"},{"$f":"[8]Расчетный!AF191","v":0},{"$f":"[8]Расчетный!AA191","v":0},0,{"$f":"[8]Расчетный!AM191","v":0},{"$f":"[8]Расчетный!AD191-[8]Расчетный!AK191","v":0},{"$f":"[8]Расчетный!BN191","v":1605.9},{"$f":"[8]Расчетный!BR191","v":0.73008439255246271},{"$f":"[8]Расчетный!I191","v":1.0031399999999999},{"$f":"[8]Расчетный!BX191","v":1160},{"$f":"[8]Расчетный!BL191-[8]Расчетный!BV191","v":476.1},0,0,0,0,0,0,0,0,0,0,0,0,0,0,0]
[null,null,"ФАП п. Узень ОГБУЗ \"Первомайская РБ\"",{"$f":"[8]Расчетный!E192","v":257},{"$f":"[8]Расчетный!F192","v":1},{"$f":"[8]Расчетный!G192","v":"Не соответствует"},{"$f":"[8]Расчетный!AF192","v":0},{"$f":"[8]Расчетный!AA192","v":0},0,{"$f":"[8]Расчетный!AM192","v":0},{"$f":"[8]Расчетный!AD192-[8]Расчетный!AK192","v":0},{"$f":"[8]Расчетный!BN192","v":1605.9},{"$f":"[8]Расчетный!BR192","v":0.45397927019116996},{"$f":"[8]Расчетный!I192","v":1.0008999999999999},{"$f":"[8]Расчетный!BX192","v":721.3},{"$f":"[8]Расчетный!BL192-[8]Расчетный!BV192","v":296},0,0,0,0,0,0,0,0,0,0,0,0,0,0,0]
[null,null,"ФАП д. Торбеево ОГБУЗ \"Первомайская РБ\"",{"$f":"[8]Расчетный!E193","v":293},{"$f":"[8]Расчетный!F193","v":1},{"$f":"[8]Расчетный!G193","v":"Не соответствует"},{"$f":"[8]Расчетный!AF193","v":0},{"$f":"[8]Расчетный!AA193","v":0},0,{"$f":"[8]Расчетный!AM193","v":0},{"$f":"[8]Расчетный!AD193-[8]Расчетный!AK193","v":0},{"$f":"[8]Расчетный!BN193","v":1605.9},{"$f":"[8]Расчетный!BR193","v":0.73220439255246283},{"$f":"[8]Расчетный!I193","v":1.00526},{"$f":"[8]Расчетный!BX193","v":1163.4000000000001},{"$f":"[8]Расчетный!BL193-[8]Расчетный!BV193","v":477.5},0,0,0,0,0,0,0,0,0,0,0,0,0,0,0]
[null,null,"ФАП с. Альмяково ОГБУЗ \"Первомайская РБ\"",{"$f":"[8]Расчетный!E194","v":300},{"$f":"[8]Расчетный!F194","v":1},{"$f":"[8]Расчетный!G194","v":"Не соответствует"},{"$f":"[8]Расчетный!AF194","v":0},{"$f":"[8]Расчетный!AA194","v":0},0,{"$f":"[8]Расчетный!AM194","v":0},{"$f":"[8]Расчетный!AD194-[8]Расчетный!AK194","v":0},{"$f":"[8]Расчетный!BN194","v":1605.9},{"$f":"[8]Расчетный!BR194","v":0.72893439255246273},{"$f":"[8]Расчетный!I194","v":1.0019899999999999},{"$f":"[8]Расчетный!BX194","v":1158.3000000000002},{"$f":"[8]Расчетный!BL194-[8]Расчетный!BV194","v":475.40000000000009},0,0,0,0,0,0,0,0,0,0,0,0,0,0,0]
[null,null,"ФАП п. Аргат-Юл ОГБУЗ \"Первомайская РБ\"",{"$f":"[8]Расчетный!E195","v":339},{"$f":"[8]Расчетный!F195","v":1},{"$f":"[8]Расчетный!G195","v":"Не соответствует"},{"$f":"[8]Расчетный!AF195","v":0},{"$f":"[8]Расчетный!AA195","v":0},0,{"$f":"[8]Расчетный!AM195","v":0},{"$f":"[8]Расчетный!AD195-[8]Расчетный!AK195","v":0},{"$f":"[8]Расчетный!BN195","v":1605.9},{"$f":"[8]Расчетный!BR195","v":0.72880439255246277},{"$f":"[8]Расчетный!I195","v":1.00186},{"$f":"[8]Расчетный!BX195","v":1158},{"$f":"[8]Расчетный!BL195-[8]Расчетный!BV195","v":475.30000000000007},0,0,0,0,0,0,0,0,0,0,0,0,0,0,0]
[null,null,"ФАП д. Крутоложное ОГБУЗ \"Первомайская РБ\"",{"$f":"[8]Расчетный!E196","v":352},{"$f":"[8]Расчетный!F196","v":1},{"$f":"[8]Расчетный!G196","v":"Не соответствует"},{"$f":"[8]Расчетный!AF196","v":0},{"$f":"[8]Расчетный!AA196","v":0},0,{"$f":"[8]Расчетный!AM196","v":0},{"$f":"[8]Расчетный!AD196-[8]Расчетный!AK196","v":0},{"$f":"[8]Расчетный!BN196","v":1605.9},{"$f":"[8]Расчетный!BR196","v":0.73041439255246288},{"$f":"[8]Расчетный!I196","v":1.0034700000000001},{"$f":"[8]Расчетный!BX196","v":1160.5999999999999},{"$f":"[8]Расчетный!BL196-[8]Расчетный!BV196","v":476.30000000000007},0,0,0,0,0,0,0,0,0,0,0,0,0,0,0]
[null,null,"ФАП с. Ежи ОГБУЗ \"Первомайская РБ\"",{"$f":"[8]Расчетный!E197","v":360},{"$f":"[8]Расчетный!F197","v":1},{"$f":"[8]Расчетный!G197","v":"Не соответствует"},{"$f":"[8]Расчетный!AF197","v":0},{"$f":"[8]Расчетный!AA197","v":0},0,{"$f":"[8]Расчетный!AM197","v":0},{"$f":"[8]Расчетный!AD197-[8]Расчетный!AK197","v":0},{"$f":"[8]Расчетный!BN197","v":1605.9},{"$f":"[8]Расчетный!BR197","v":0.73073439255246275},{"$f":"[8]Расчетный!I197","v":1.00379},{"$f":"[8]Расчетный!BX197","v":1161},{"$f":"[8]Расчетный!BL197-[8]Расчетный!BV197","v":476.5},0,0,0,0,0,0,0,0,0,0,0,0,0,0,0]
[null,null,"ФАП с. Куяново ОГБУЗ \"Первомайская РБ\"",{"$f":"[8]Расчетный!E198","v":365},{"$f":"[8]Расчетный!F198","v":1},{"$f":"[8]Расчетный!G198","v":"Не соответствует"},{"$f":"[8]Расчетный!AF198","v":0},{"$f":"[8]Расчетный!AA198","v":0},0,{"$f":"[8]Расчетный!AM198","v":0},{"$f":"[8]Расчетный!AD198-[8]Расчетный!AK198","v":0},{"$f":"[8]Расчетный!BN198","v":1605.9},{"$f":"[8]Расчетный!BR198","v":0.73137439255246273},{"$f":"[8]Расчетный!I198","v":1.0044299999999999},{"$f":"[8]Расчетный!BX198","v":1162.0999999999999},{"$f":"[8]Расчетный!BL198-[8]Расчетный!BV198","v":477},0,0,0,0,0,0,0,0,0,0,0,0,0,0,0]
[null,null,"ФАП д. Березовка ОГБУЗ \"Первомайская РБ\"",{"$f":"[8]Расчетный!E199","v":377},{"$f":"[8]Расчетный!F199","v":1},{"$f":"[8]Расчетный!G199","v":"Не соответствует"},{"$f":"[8]Расчетный!AF199","v":0},{"$f":"[8]Расчетный!AA199","v":0},0,{"$f":"[8]Расчетный!AM199","v":0},{"$f":"[8]Расчетный!AD199-[8]Расчетный!AK199","v":0},{"$f":"[8]Расчетный!BN199","v":1605.9},{"$f":"[8]Расчетный!BR199","v":0.72970439255246289},{"$f":"[8]Расчетный!I199","v":1.0027600000000001},{"$f":"[8]Расчетный!BX199","v":1159.5},{"$f":"[8]Расчетный!BL199-[8]Расчетный!BV199","v":475.89999999999986},0,0,0,0,0,0,0,0,0,0,0,0,0,0,0]
[null,null,"ФАП д. Туендат ОГБУЗ \"Первомайская РБ\"",{"$f":"[8]Расчетный!E200","v":465},{"$f":"[8]Расчетный!F200","v":1},{"$f":"[8]Расчетный!G200","v":"Не соответствует"},{"$f":"[8]Расчетный!AF200","v":0},{"$f":"[8]Расчетный!AA200","v":0},0,{"$f":"[8]Расчетный!AM200","v":0},{"$f":"[8]Расчетный!AD200-[8]Расчетный!AK200","v":0},{"$f":"[8]Расчетный!BN200","v":1605.9},{"$f":"[8]Расчетный!BR200","v":0.72694439255246279},{"$f":"[8]Расчетный!I200","v":1},{"$f":"[8]Расчетный!BX200","v":1155.0999999999999},{"$f":"[8]Расчетный!BL200-[8]Расчетный!BV200","v":474.09999999999991},0,0,0,0,0,0,0,0,0,0,0,0,0,0,0]
[null,null,"ФАП п. Орехово ОГБУЗ \"Первомайская РБ\"",{"$f":"[8]Расчетный!E201","v":472},{"$f":"[8]Расчетный!F201","v":1},{"$f":"[8]Расчетный!G201","v":"Соответствует"},{"$f":"[8]Расчетный!AF201","v":0},{"$f":"[8]Расчетный!AA201","v":0},0,{"$f":"[8]Расчетный!AM201","v":0},{"$f":"[8]Расчетный!AD201-[8]Расчетный!AK201","v":0},{"$f":"[8]Расчетный!BN201","v":1605.9},{"$f":"[8]Расчетный!BR201","v":1.00468},{"$f":"[8]Расчетный!I201","v":1.00468},{"$f":"[8]Расчетный!BX201","v":1596.4},{"$f":"[8]Расчетный!BL201-[8]Расчетный!BV201","v":655.20000000000005},0,0,0,0,0,0,0,0,0,0,0,0,0,0,0]
[81,13,"ОГБУЗ \"Тегульдетская РБ\"",{"$f":"SUM(D188:D194)","v":950},{"$f":"SUM(E188:E194)","v":7},{"$nulls":4},{"$f":"SUM(J188:J194)","v":4109},{"$f":"SUM(K188:K194)","v":1686.6},null,null,null,{"$f":"SUM(O188:O194)","v":4489.5},{"$f":"SUM(P188:P194)","v":1842.5999999999995},{"$nulls":15},{"$f":"J187+O187+T187+Y187+AD187","v":8598.5}]
[null,null,"ФП д. Озерное ОГБУЗ \"Тегульдетская РБ\"",{"$f":"[8]Расчетный!E203","v":16},{"$f":"[8]Расчетный!F203","v":1},{"$f":"[8]Расчетный!G203","v":"Не соответствует"},{"$f":"[8]Расчетный!AF203","v":1037.6928},{"$f":"[8]Расчетный!AA203","v":1},{"$f":"[8]Расчетный!I203","v":1},{"$f":"[8]Расчетный!AM203","v":1026.8},{"$f":"[8]Расчетный!AD203-[8]Расчетный!AK203","v":421.5},{"$f":"[8]Расчетный!BN203","v":0},{"$f":"[8]Расчетный!BR203","v":0},0,{"$f":"[8]Расчетный!BX203","v":0},{"$f":"[8]Расчетный!BL203-[8]Расчетный!BV203","v":0},0,0,0,0,0,0,0,0,0,0,0,0,0,0,0]
[null,null,"ФП п. Покровский Яр ОГБУЗ \"Тегульдетская РБ\"",{"$f":"[8]Расчетный!E204","v":52},{"$f":"[8]Расчетный!F204","v":1},{"$f":"[8]Расчетный!G204","v":"Не соответствует"},{"$f":"[8]Расчетный!AF204","v":1037.6928},{"$f":"[8]Расчетный!AA204","v":1},{"$f":"[8]Расчетный!I204","v":1},{"$f":"[8]Расчетный!AM204","v":1026.8},{"$f":"[8]Расчетный!AD204-[8]Расчетный!AK204","v":421.5},{"$f":"[8]Расчетный!BN204","v":0},{"$f":"[8]Расчетный!BR204","v":0},0,{"$f":"[8]Расчетный!BX204","v":0},{"$f":"[8]Расчетный!BL204-[8]Расчетный!BV204","v":0},0,0,0,0,0,0,0,0,0,0,0,0,0,0,0]
[null,null,"ФП д. Байгалы ОГБУЗ \"Тегульдетская РБ\"",{"$f":"[8]Расчетный!E205","v":50},{"$f":"[8]Расчетный!F205","v":1},{"$f":"[8]Расчетный!G205","v":"Не соответствует"},{"$f":"[8]Расчетный!AF205","v":1037.6928},{"$f":"[8]Расчетный!AA205","v":1.0002599999999999},{"$f":"[8]Расчетный!I205","v":1.0002599999999999},{"$f":"[8]Расчетный!AM205","v":1027},{"$f":"[8]Расчетный!AD205-[8]Расчетный!AK205","v":421.5},{"$f":"[8]Расчетный!BN205","v":0},{"$f":"[8]Расчетный!BR205","v":0},0,{"$f":"[8]Расчетный!BX205","v":0},{"$f":"[8]Расчетный!BL205-[8]Расчетный!BV205","v":0},0,0,0,0,0,0,0,0,0,0,0,0,0,0,0]
[null,null,"ФП д. Новошумилово ОГБУЗ \"Тегульдетская РБ\"",{"$f":"[8]Расчетный!E206","v":96},{"$f":"[8]Расчетный!F206","v":1},{"$f":"[8]Расчетный!G206","v":"Не соответствует"},{"$f":"[8]Расчетный!AF206","v":1037.6928},{"$f":"[8]Расчетный!AA206","v":1.0015400000000001},{"$f":"[8]Расчетный!I206","v":1.0015400000000001},{"$f":"[8]Расчетный!AM206","v":1028.4000000000001},{"$f":"[8]Расчетный!AD206-[8]Расчетный!AK206","v":422.1},{"$f":"[8]Расчетный!BN206","v":0},{"$f":"[8]Расчетный!BR206","v":0},0,{"$f":"[8]Расчетный!BX206","v":0},{"$f":"[8]Расчетный!BL206-[8]Расчетный!BV206","v":0},0,0,0,0,0,0,0,0,0,0,0,0,0,0,0]
[null,null,"ФП п. Четь-Конторка ОГБУЗ \"Тегульдетская РБ\"",{"$f":"[8]Расчетный!E207","v":162},{"$f":"[8]Расчетный!F207","v":1},{"$f":"[8]Расчетный!G207","v":"Не соответствует"},{"$f":"[8]Расчетный!AF207","v":0},{"$f":"[8]Расчетный!AA207","v":0},0,{"$f":"[8]Расчетный!AM207","v":0},{"$f":"[8]Расчетный!AD207-[8]Расчетный!AK207","v":0},{"$f":"[8]Расчетный!BN207","v":2075.6},{"$f":"[8]Расчетный!BR207","v":0.72769233571015601},{"$f":"[8]Расчетный!I207","v":1.0007699999999999},{"$f":"[8]Расчетный!BX207","v":1494.5},{"$f":"[8]Расчетный!BL207-[8]Расчетный!BV207","v":613.39999999999986},0,0,0,0,0,0,0,0,0,0,0,0,0,0,0]
[null,null,"ФП д. Красная Горка ОГБУЗ \"Тегульдетская РБ\"",{"$f":"[8]Расчетный!E208","v":171},{"$f":"[8]Расчетный!F208","v":1},{"$f":"[8]Расчетный!G208","v":"Не соответствует"},{"$f":"[8]Расчетный!AF208","v":0},{"$f":"[8]Расчетный!AA208","v":0},0,{"$f":"[8]Расчетный!AM208","v":0},{"$f":"[8]Расчетный!AD208-[8]Расчетный!AK208","v":0},{"$f":"[8]Расчетный!BN208","v":2075.6},{"$f":"[8]Расчетный!BR208","v":0.72846233571015617},{"$f":"[8]Расчетный!I208","v":1.0015400000000001},{"$f":"[8]Расчетный!BX208","v":1496},{"$f":"[8]Расчетный!BL208-[8]Расчетный!BV208","v":613.99999999999989},0,0,0,0,0,0,0,0,0,0,0,0,0,0,0]
[null,null,"ФП п. Белый Яр ОГБУЗ \"Тегульдетская РБ\"",{"$f":"[8]Расчетный!E209","v":403},{"$f":"[8]Расчетный!F209","v":1},{"$f":"[8]Расчетный!G209","v":"Не соответствует"},{"$f":"[8]Расчетный!AF209","v":0},{"$f":"[8]Расчетный!AA209","v":0},0,{"$f":"[8]Расчетный!AM209","v":0},{"$f":"[8]Расчетный!AD209-[8]Расчетный!AK209","v":0},{"$f":"[8]Расчетный!BN209","v":2075.6},{"$f":"[8]Расчетный!BR209","v":0.7299423357101561},{"$f":"[8]Расчетный!I209","v":1.00302},{"$f":"[8]Расчетный!BX209","v":1499},{"$f":"[8]Расчетный!BL209-[8]Расчетный!BV209","v":615.19999999999993},0,0,0,0,0,0,0,0,0,0,0,0,0,0,0]
[83,14,"ОГАУЗ \"Томская РБ\"",{"$f":"SUM(D196:D211)","v":15917},{"$f":"SUM(E196:E211)","v":16},{"$nulls":9},{"$f":"SUM(O196:O211)","v":9707.9999999999982},{"$f":"SUM(P196:P211)","v":3984.6000000000004},null,null,null,{"$f":"SUM(T196:T211)","v":8987.1999999999989},{"$f":"SUM(U196:U211)","v":3688.7999999999993},null,null,null,{"$f":"SUM(Y196:Y211)","v":1581.9},{"$f":"SUM(Z196:Z211)","v":649.29999999999995},null,null,null,{"$f":"SUM(AD196:AD211)","v":7465.2999999999993},{"$f":"SUM(AE196:AE211)","v":3064.0999999999995},{"$f":"J195+O195+T195+Y195+AD195","v":27742.399999999998}]
[null,null,"ФАП д. Лаврово ОГАУЗ \"Томская РБ\"",{"$f":"[8]Расчетный!E212","v":115},{"$f":"[8]Расчетный!F212","v":1},{"$f":"[8]Расчетный!G212","v":"Не соответствует"},0,{"$f":"[8]Расчетный!AA212","v":0},0,{"$f":"[8]Расчетный!AM212","v":0},{"$f":"[8]Расчетный!AD212-[8]Расчетный!AK212","v":0},{"$f":"[8]Расчетный!BN212","v":1604.6},{"$f":"[8]Расчетный!BR212","v":0.72794013336657126},{"$f":"[8]Расчетный!I212","v":1.0010300000000001},{"$f":"[8]Расчетный!BX212","v":1155.8},{"$f":"[8]Расчетный!BL212-[8]Расчетный!BV212","v":474.4},{"$f":"[8]Расчетный!CY212","v":0},{"$f":"[8]Расчетный!DC212","v":0},0,{"$f":"[8]Расчетный!DI212","v":0},{"$f":"[8]Расчетный!CW212-[8]Расчетный!DG212","v":0},{"$f":"[8]Расчетный!EJ212","v":0},{"$f":"[8]Расчетный!EN212","v":0},0,{"$f":"[8]Расчетный!ET212","v":0},{"$f":"[8]Расчетный!EH212-[8]Расчетный!ER212","v":0},{"$f":"[8]Расчетный!FS212","v":0},{"$f":"[8]Расчетный!FW212","v":0},0,{"$f":"[8]Расчетный!GC212","v":0},{"$f":"[8]Расчетный!FQ212-[8]Расчетный!GA212","v":0}]
[null,null,"ФАП д. Верхнее Сеченово ОГАУЗ \"Томская РБ\"",{"$f":"[8]Расчетный!E214","v":130},{"$f":"[8]Расчетный!F214","v":1},{"$f":"[8]Расчетный!G214","v":"Не соответствует"},0,{"$f":"[8]Расчетный!AA214","v":0},0,{"$f":"[8]Расчетный!AM214","v":0},{"$f":"[8]Расчетный!AD214-[8]Расчетный!AK214","v":0},{"$f":"[8]Расчетный!BN214","v":1604.6},{"$f":"[8]Расчетный!BR214","v":0.72774013336657128},{"$f":"[8]Расчетный!I214","v":1.0008300000000001},{"$f":"[8]Расчетный!BX214","v":1155.4000000000001},{"$f":"[8]Расчетный!BL214-[8]Расчетный!BV214","v":474.20000000000005},{"$f":"[8]Расчетный!CY214","v":0},{"$f":"[8]Расчетный!DC214","v":0},0,{"$f":"[8]Расчетный!DI214","v":0},{"$f":"[8]Расчетный!CW214-[8]Расчетный!DG214","v":0},{"$f":"[8]Расчетный!EJ214","v":0},{"$f":"[8]Расчетный!EN214","v":0},0,{"$f":"[8]Расчетный!ET214","v":0},{"$f":"[8]Расчетный!EH214-[8]Расчетный!ER214","v":0},{"$f":"[8]Расчетный!FS214","v":0},{"$f":"[8]Расчетный!FW214","v":0},0,{"$f":"[8]Расчетный!GC214","v":0},{"$f":"[8]Расчетный!FQ214-[8]Расчетный!GA214","v":0}]
[null,null,"ФАП д. Карбышево ОГАУЗ \"Томская РБ\"",{"$f":"[8]Расчетный!E215","v":177},{"$f":"[8]Расчетный!F215","v":1},{"$f":"[8]Расчетный!G215","v":"Не соответствует"},0,{"$f":"[8]Расчетный!AA215","v":0},0,{"$f":"[8]Расчетный!AM215","v":0},{"$f":"[8]Расчетный!AD215-[8]Расчетный!AK215","v":0},{"$f":"[8]Расчетный!BN215","v":1604.6},{"$f":"[8]Расчетный!BR215","v":0.7283901333665711},{"$f":"[8]Расчетный!I215","v":1.0014799999999999},{"$f":"[8]Расчетный!BX215","v":1156.5},{"$f":"[8]Расчетный!BL215-[8]Расчетный!BV215","v":474.70000000000005},{"$f":"[8]Расчетный!CY215","v":0},{"$f":"[8]Расчетный!DC215","v":0},0,{"$f":"[8]Расчетный!DI215","v":0},{"$f":"[8]Расчетный!CW215-[8]Расчетный!DG215","v":0},{"$f":"[8]Расчетный!EJ215","v":0},{"$f":"[8]Расчетный!EN215","v":0},0,{"$f":"[8]Расчетный!ET215","v":0},{"$f":"[8]Расчетный!EH215-[8]Расчетный!ER215","v":0},{"$f":"[8]Расчетный!FS215","v":0},{"$f":"[8]Расчетный!FW215","v":0},0,{"$f":"[8]Расчетный!GC215","v":0},{"$f":"[8]Расчетный!FQ215-[8]Расчетный!GA215","v":0}]
[null,null,"ФАП д. Кудринский Участок ОГАУЗ \"Томская РБ\"",{"$f":"[8]Расчетный!E216","v":408},{"$f":"[8]Расчетный!F216","v":1},{"$f":"[8]Расчетный!G216","v":"Не соответствует"},0,{"$f":"[8]Расчетный!AA216","v":0},0,{"$f":"[8]Расчетный!AM216","v":0},{"$f":"[8]Расчетный!AD216-[8]Расчетный!AK216","v":0},{"$f":"[8]Расчетный!BN216","v":1604.6},{"$f":"[8]Расчетный!BR216","v":0.73224013336657123},{"$f":"[8]Расчетный!I216","v":1.0053300000000001},{"$f":"[8]Расчетный!BX216","v":1162.5999999999999},{"$f":"[8]Расчетный!BL216-[8]Расчетный!BV216","v":477.20000000000005},{"$f":"[8]Расчетный!CY216","v":0},{"$f":"[8]Расчетный!DC216","v":0},0,{"$f":"[8]Расчетный!DI216","v":0},{"$f":"[8]Расчетный!CW216-[8]Расчетный!DG216","v":0},{"$f":"[8]Расчетный!EJ216","v":0},{"$f":"[8]Расчетный!EN216","v":0},0,{"$f":"[8]Расчетный!ET216","v":0},{"$f":"[8]Расчетный!EH216-[8]Расчетный!ER216","v":0},{"$f":"[8]Расчетный!FS216","v":0},{"$f":"[8]Расчетный!FW216","v":0},0,{"$f":"[8]Расчетный!GC216","v":0},{"$f":"[8]Расчетный!FQ216-[8]Расчетный!GA216","v":0}]
[null,null,"ФАП д. Борики ОГАУЗ \"Томская РБ\"",{"$f":"[8]Расчетный!E217","v":423},{"$f":"[8]Расчетный!F217","v":1},{"$f":"[8]Расчетный!G217","v":"Не соответствует"},0,{"$f":"[8]Расчетный!AA217","v":0},0,{"$f":"[8]Расчетный!AM217","v":0},{"$f":"[8]Расчетный!AD217-[8]Расчетный!AK217","v":0},{"$f":"[8]Расчетный!BN217","v":1604.6},{"$f":"[8]Расчетный!BR217","v":0.73236013336657113},{"$f":"[8]Расчетный!I217","v":1.00545},{"$f":"[8]Расчетный!BX217","v":1162.7},{"$f":"[8]Расчетный!BL217-[8]Расчетный!BV217","v":477.20000000000005},{"$f":"[8]Расчетный!CY217","v":0},{"$f":"[8]Расчетный!DC217","v":0},0,{"$f":"[8]Расчетный!DI217","v":0},{"$f":"[8]Расчетный!CW217-[8]Расчетный!DG217","v":0},{"$f":"[8]Расчетный!EJ217","v":0},{"$f":"[8]Расчетный!EN217","v":0},0,{"$f":"[8]Расчетный!ET217","v":0},{"$f":"[8]Расчетный!EH217-[8]Расчетный!ER217","v":0},{"$f":"[8]Расчетный!FS217","v":0},{"$f":"[8]Расчетный!FW217","v":0},0,{"$f":"[8]Расчетный!GC217","v":0},{"$f":"[8]Расчетный!FQ217-[8]Расчетный!GA217","v":0}]
[null,null,"ФАП д. Берёзкино ОГАУЗ \"Томская РБ\"",{"$f":"[8]Расчетный!E218","v":452},{"$f":"[8]Расчетный!F218","v":1},{"$f":"[8]Расчетный!G218","v":"Не соответствует"},0,{"$f":"[8]Расчетный!AA218","v":0},0,{"$f":"[8]Расчетный!AM218","v":0},{"$f":"[8]Расчетный!AD218-[8]Расчетный!AK218","v":0},{"$f":"[8]Расчетный!BN218","v":1604.6},{"$f":"[8]Расчетный!BR218","v":0.73121013336657115},{"$f":"[8]Расчетный!I218","v":1.0043},{"$f":"[8]Расчетный!BX218","v":1160.8999999999999},{"$f":"[8]Расчетный!BL218-[8]Расчетный!BV218","v":476.49999999999989},{"$f":"[8]Расчетный!CY218","v":0},{"$f":"[8]Расчетный!DC218","v":0},0,{"$f":"[8]Расчетный!DI218","v":0},{"$f":"[8]Расчетный!CW218-[8]Расчетный!DG218","v":0},{"$f":"[8]Расчетный!EJ218","v":0},{"$f":"[8]Расчетный!EN218","v":0},0,{"$f":"[8]Расчетный!ET218","v":0},{"$f":"[8]Расчетный!EH218-[8]Расчетный!ER218","v":0},{"$f":"[8]Расчетный!FS218","v":0},{"$f":"[8]Расчетный!FW218","v":0},0,{"$f":"[8]Расчетный!GC218","v":0},{"$f":"[8]Расчетный!FQ218-[8]Расчетный!GA218","v":0}]
[null,null,"ФАП д. Петрово ОГАУЗ \"Томская РБ\"",{"$f":"[8]Расчетный!E219","v":543},{"$f":"[8]Расчетный!F219","v":1},{"$f":"[8]Расчетный!G219","v":"Соответствует"},0,{"$f":"[8]Расчетный!AA219","v":0},0,{"$f":"[8]Расчетный!AM219","v":0},{"$f":"[8]Расчетный!AD219-[8]Расчетный!AK219","v":0},{"$f":"[8]Расчетный!BN219","v":1604.6},{"$f":"[8]Расчетный!BR219","v":1},{"$f":"[8]Расчетный!I219","v":1},{"$f":"[8]Расчетный!BX219","v":1587.7},{"$f":"[8]Расчетный!BL219-[8]Расчетный!BV219","v":651.70000000000005},{"$f":"[8]Расчетный!CY219","v":0},{"$f":"[8]Расчетный!DC219","v":0},0,{"$f":"[8]Расчетный!DI219","v":0},{"$f":"[8]Расчетный!CW219-[8]Расчетный!DG219","v":0},{"$f":"[8]Расчетный!EJ219","v":0},{"$f":"[8]Расчетный!EN219","v":0},0,{"$f":"[8]Расчетный!ET219","v":0},{"$f":"[8]Расчетный!EH219-[8]Расчетный!ER219","v":0},{"$f":"[8]Расчетный!FS219","v":0},{"$f":"[8]Расчетный!FW219","v":0},0,{"$f":"[8]Расчетный!GC219","v":0},{"$f":"[8]Расчетный!FQ219-[8]Расчетный!GA219","v":0}]
[null,null,"ФАП с. Тахтамышево ОГАУЗ \"Томская РБ\"",{"$f":"[8]Расчетный!E220","v":781},{"$f":"[8]Расчетный!F220","v":1},{"$f":"[8]Расчетный!G220","v":"Не соответствует"},0,{"$f":"[8]Расчетный!AA220","v":0},0,{"$f":"[8]Расчетный!AM220","v":0},{"$f":"[8]Расчетный!AD220-[8]Расчетный!AK220","v":0},{"$f":"[8]Расчетный!BN220","v":1604.6},{"$f":"[8]Расчетный!BR220","v":0.73467013336657117},{"$f":"[8]Расчетный!I220","v":1.00776},{"$f":"[8]Расчетный!BX220","v":1166.4000000000001},{"$f":"[8]Расчетный!BL220-[8]Расчетный!BV220","v":478.70000000000005},{"$f":"[8]Расчетный!CY220","v":0},{"$f":"[8]Расчетный!DC220","v":0},0,{"$f":"[8]Расчетный!DI220","v":0},{"$f":"[8]Расчетный!CW220-[8]Расчетный!DG220","v":0},{"$f":"[8]Расчетный!EJ220","v":0},{"$f":"[8]Расчетный!EN220","v":0},0,{"$f":"[8]Расчетный!ET220","v":0},{"$f":"[8]Расчетный!EH220-[8]Расчетный!ER220","v":0},{"$f":"[8]Расчетный!FS220","v":0},{"$f":"[8]Расчетный!FW220","v":0},0,{"$f":"[8]Расчетный!GC220","v":0},{"$f":"[8]Расчетный!FQ220-[8]Расчетный!GA220","v":0}]
[null,null,"ФАП д. Поросино ОГАУЗ \"Томская РБ\"",{"$f":"[8]Расчетный!E221","v":1081},{"$f":"[8]Расчетный!F221","v":1},{"$f":"[8]Расчетный!G221","v":"Не соответствует"},0,{"$f":"[8]Расчетный!AA221","v":0},0,{"$f":"[8]Расчетный!AM221","v":0},{"$f":"[8]Расчетный!AD221-[8]Расчетный!AK221","v":0},{"$f":"[8]Расчетный!BN221","v":0},{"$f":"[8]Расчетный!BR221","v":0},0,{"$f":"[8]Расчетный!BX221","v":0},{"$f":"[8]Расчетный!BL221-[8]Расчетный!BV221","v":0},{"$f":"[8]Расчетный!CY221","v":3209.1},{"$f":"[8]Расчетный!DC221","v":0.45854537378081084},{"$f":"[8]Расчетный!I221","v":1.00549},{"$f":"[8]Расчетный!DI221","v":1456},{"$f":"[8]Расчетный!CW221-[8]Расчетный!DG221","v":597.59999999999991},{"$f":"[8]Расчетный!EJ221","v":0},{"$f":"[8]Расчетный!EN221","v":0},0,{"$f":"[8]Расчетный!ET221","v":0},{"$f":"[8]Расчетный!EH221-[8]Расчетный!ER221","v":0},{"$f":"[8]Расчетный!FS221","v":0},{"$f":"[8]Расчетный!FW221","v":0},0,{"$f":"[8]Расчетный!GC221","v":0},{"$f":"[8]Расчетный!FQ221-[8]Расчетный!GA221","v":0}]
[null,null,"ФАП с. Калтай ОГАУЗ \"Томская РБ\"",{"$f":"[8]Расчетный!E222","v":1104},{"$f":"[8]Расчетный!F222","v":1},{"$f":"[8]Расчетный!G222","v":"Не соответствует"},0,{"$f":"[8]Расчетный!AA222","v":0},0,{"$f":"[8]Расчетный!AM222","v":0},{"$f":"[8]Расчетный!AD222-[8]Расчетный!AK222","v":0},{"$f":"[8]Расчетный!BN222","v":0},{"$f":"[8]Расчетный!BR222","v":0},0,{"$f":"[8]Расчетный!BX222","v":0},{"$f":"[8]Расчетный!BL222-[8]Расчетный!BV222","v":0},{"$f":"[8]Расчетный!CY222","v":3209.1},{"$f":"[8]Расчетный!DC222","v":0.45780537378081088},{"$f":"[8]Расчетный!I222","v":1.00475},{"$f":"[8]Расчетный!DI222","v":1453.7},{"$f":"[8]Расчетный!CW222-[8]Расчетный!DG222","v":596.70000000000005},{"$f":"[8]Расчетный!EJ222","v":0},{"$f":"[8]Расчетный!EN222","v":0},0,{"$f":"[8]Расчетный!ET222","v":0},{"$f":"[8]Расчетный!EH222-[8]Расчетный!ER222","v":0},{"$f":"[8]Расчетный!FS222","v":0},{"$f":"[8]Расчетный!FW222","v":0},0,{"$f":"[8]Расчетный!GC222","v":0},{"$f":"[8]Расчетный!FQ222-[8]Расчетный!GA222","v":0}]
[null,null,"ФАП д. Кандинка ОГАУЗ \"Томская РБ\"",{"$f":"[8]Расчетный!E223","v":1117},{"$f":"[8]Расчетный!F223","v":1},{"$f":"[8]Расчетный!G223","v":"Не соответствует"},0,{"$f":"[8]Расчетный!AA223","v":0},0,{"$f":"[8]Расчетный!AM223","v":0},{"$f":"[8]Расчетный!AD223-[8]Расчетный!AK223","v":0},{"$f":"[8]Расчетный!BN223","v":0},{"$f":"[8]Расчетный!BR223","v":0},0,{"$f":"[8]Расчетный!BX223","v":0},{"$f":"[8]Расчетный!BL223-[8]Расчетный!BV223","v":0},{"$f":"[8]Расчетный!CY223","v":3209.1},{"$f":"[8]Расчетный!DC223","v":0.72693278489296076},{"$f":"[8]Расчетный!I223","v":1},{"$f":"[8]Расчетный!DI223","v":2308.1999999999998},{"$f":"[8]Расчетный!CW223-[8]Расчетный!DG223","v":947.39999999999986},{"$f":"[8]Расчетный!EJ223","v":0},{"$f":"[8]Расчетный!EN223","v":0},0,{"$f":"[8]Расчетный!ET223","v":0},{"$f":"[8]Расчетный!EH223-[8]Расчетный!ER223","v":0},{"$f":"[8]Расчетный!FS223","v":0},{"$f":"[8]Расчетный!FW223","v":0},0,{"$f":"[8]Расчетный!GC223","v":0},{"$f":"[8]Расчетный!FQ223-[8]Расчетный!GA223","v":0}]
[null,null,"ФАП д. Черная Речка ОГАУЗ \"Томская РБ\"",{"$f":"[8]Расчетный!E224","v":1240},{"$f":"[8]Расчетный!F224","v":1},{"$f":"[8]Расчетный!G224","v":"Не соответствует"},0,{"$f":"[8]Расчетный!AA224","v":0},0,{"$f":"[8]Расчетный!AM224","v":0},{"$f":"[8]Расчетный!AD224-[8]Расчетный!AK224","v":0},{"$f":"[8]Расчетный!BN224","v":0},{"$f":"[8]Расчетный!BR224","v":0},0,{"$f":"[8]Расчетный!BX224","v":0},{"$f":"[8]Расчетный!BL224-[8]Расчетный!BV224","v":0},{"$f":"[8]Расчетный!CY224","v":3209.1},{"$f":"[8]Расчетный!DC224","v":0.72693278489296076},{"$f":"[8]Расчетный!I224","v":1},{"$f":"[8]Расчетный!DI224","v":2308.1999999999998},{"$f":"[8]Расчетный!CW224-[8]Расчетный!DG224","v":947.39999999999986},{"$f":"[8]Расчетный!EJ224","v":0},{"$f":"[8]Расчетный!EN224","v":0},0,{"$f":"[8]Расчетный!ET224","v":0},{"$f":"[8]Расчетный!EH224-[8]Расчетный!ER224","v":0},{"$f":"[8]Расчетный!FS224","v":0},{"$f":"[8]Расчетный!FW224","v":0},0,{"$f":"[8]Расчетный!GC224","v":0},{"$f":"[8]Расчетный!FQ224-[8]Расчетный!GA224","v":0}]
[null,null,"ФАП д. Нелюбино ОГАУЗ \"Томская РБ\"",{"$f":"[8]Расчетный!E225","v":1361},{"$f":"[8]Расчетный!F225","v":1},{"$f":"[8]Расчетный!G225","v":"Не соответствует"},0,{"$f":"[8]Расчетный!AA225","v":0},0,{"$f":"[8]Расчетный!AM225","v":0},{"$f":"[8]Расчетный!AD225-[8]Расчетный!AK225","v":0},{"$f":"[8]Расчетный!BN225","v":0},{"$f":"[8]Расчетный!BR225","v":0},0,{"$f":"[8]Расчетный!BX225","v":0},{"$f":"[8]Расчетный!BL225-[8]Расчетный!BV225","v":0},{"$f":"[8]Расчетный!CY225","v":3209.1},{"$f":"[8]Расчетный!DC225","v":0.46014537378081088},0,{"$f":"[8]Расчетный!DI225","v":1461.1},{"$f":"[8]Расчетный!CW225-[8]Расчетный!DG225","v":599.69999999999993},{"$f":"[8]Расчетный!EJ225","v":0},{"$f":"[8]Расчетный!EN225","v":0},0,{"$f":"[8]Расчетный!ET225","v":0},{"$f":"[8]Расчетный!EH225-[8]Расчетный!ER225","v":0},{"$f":"[8]Расчетный!FS225","v":0},{"$f":"[8]Расчетный!FW225","v":0},0,{"$f":"[8]Расчетный!GC225","v":0},{"$f":"[8]Расчетный!FQ225-[8]Расчетный!GA225","v":0}]
[null,null,"ФАП с. Зоркальцево ОГАУЗ \"Томская РБ\"",{"$f":"[8]Расчетный!E226","v":1722},{"$f":"[8]Расчетный!F226","v":1},{"$f":"[8]Расчетный!G226","v":"Не соответствует"},0,{"$f":"[8]Расчетный!AA226","v":0},0,{"$f":"[8]Расчетный!AM226","v":0},{"$f":"[8]Расчетный!AD226-[8]Расчетный!AK226","v":0},{"$f":"[8]Расчетный!BN226","v":0},{"$f":"[8]Расчетный!BR226","v":0},0,{"$f":"[8]Расчетный!BX226","v":0},{"$f":"[8]Расчетный!BL226-[8]Расчетный!BV226","v":0},{"$f":"[8]Расчетный!CY226","v":0},{"$f":"[8]Расчетный!DC226","v":0},0,{"$f":"[8]Расчетный!DI226","v":0},{"$f":"[8]Расчетный!CW226-[8]Расчетный!DG226","v":0},{"$f":"[8]Расчетный!EJ226","v":3791},{"$f":"[8]Расчетный!EN226","v":0.42172804537061465},{"$f":"[8]Расчетный!I226","v":1.00722},{"$f":"[8]Расчетный!ET226","v":1581.9},{"$f":"[8]Расчетный!EH226-[8]Расчетный!ER226","v":649.29999999999995},{"$f":"[8]Расчетный!FS226","v":0},{"$f":"[8]Расчетный!FW226","v":0},0,{"$f":"[8]Расчетный!GC226","v":0},{"$f":"[8]Расчетный!FQ226-[8]Расчетный!GA226","v":0}]
[null,null,"ФАП с. Кафтанчиково ОГАУЗ \"Томская РБ\"",{"$f":"[8]Расчетный!E227","v":2287},{"$f":"[8]Расчетный!F227","v":1},{"$f":"[8]Расчетный!G227","v":"Не соответствует"},0,{"$f":"[8]Расчетный!AA227","v":0},0,{"$f":"[8]Расчетный!AM227","v":0},{"$f":"[8]Расчетный!AD227-[8]Расчетный!AK227","v":0},{"$f":"[8]Расчетный!BN227","v":0},{"$f":"[8]Расчетный!BR227","v":0},0,{"$f":"[8]Расчетный!BX227","v":0},{"$f":"[8]Расчетный!BL227-[8]Расчетный!BV227","v":0},{"$f":"[8]Расчетный!CY227","v":0},{"$f":"[8]Расчетный!DC227","v":0},0,{"$f":"[8]Расчетный!DI227","v":0},{"$f":"[8]Расчетный!CW227-[8]Расчетный!DG227","v":0},{"$f":"[8]Расчетный!EJ227","v":0},{"$f":"[8]Расчетный!EN227","v":0},0,{"$f":"[8]Расчетный!ET227","v":0},{"$f":"[8]Расчетный!EH227-[8]Расчетный!ER227","v":0},{"$f":"[8]Расчетный!FS227","v":4928.3},{"$f":"[8]Расчетный!FW227","v":0.88273846965485048},{"$f":"[8]Расчетный!I227","v":1},{"$f":"[8]Расчетный!GC227","v":4304.3999999999996},{"$f":"[8]Расчетный!FQ227-[8]Расчетный!GA227","v":1766.6999999999998}]
[null,null,"ФАП с. Дзержинское ОГАУЗ \"Томская РБ\"",{"$f":"[8]Расчетный!E228","v":2976},{"$f":"[8]Расчетный!F228","v":1},{"$f":"[8]Расчетный!G228","v":"Не соответствует"},0,{"$f":"[8]Расчетный!AA228","v":0},0,{"$f":"[8]Расчетный!AM228","v":0},{"$f":"[8]Расчетный!AD228-[8]Расчетный!AK228","v":0},{"$f":"[8]Расчетный!BN228","v":0},{"$f":"[8]Расчетный!BR228","v":0},0,{"$f":"[8]Расчетный!BX228","v":0},{"$f":"[8]Расчетный!BL228-[8]Расчетный!BV228","v":0},{"$f":"[8]Расчетный!CY228","v":0},{"$f":"[8]Расчетный!DC228","v":0},0,{"$f":"[8]Расчетный!DI228","v":0},{"$f":"[8]Расчетный!CW228-[8]Расчетный!DG228","v":0},{"$f":"[8]Расчетный!EJ228","v":0},{"$f":"[8]Расчетный!EN228","v":0},0,{"$f":"[8]Расчетный!ET228","v":0},{"$f":"[8]Расчетный!EH228-[8]Расчетный!ER228","v":0},{"$f":"[8]Расчетный!FS228","v":4928.3},{"$f":"[8]Расчетный!FW228","v":0.64821540896455165},{"$f":"[8]Расчетный!I228","v":1},{"$f":"[8]Расчетный!GC228","v":3160.8999999999996},{"$f":"[8]Расчетный!FQ228-[8]Расчетный!GA228","v":1297.3999999999999}]
[275,15,"ОГАУЗ \"Моряковская УБ им. В.С.Демьянова\"",{"$f":"SUM(D213:D215)","v":802},{"$f":"SUM(E213:E215)","v":3},{"$nulls":4},{"$f":"SUM(J213:J215)","v":794.3},{"$f":"SUM(K213:K215)","v":326},null,null,null,{"$f":"SUM(O213:O215)","v":2315.1},{"$f":"SUM(P213:P215)","v":950.19999999999993},{"$nulls":15},{"$f":"J212+O212+T212+Y212+AD212","v":3109.3999999999996}]
[null,null,"ФАП д. Козюлино ОГАУЗ \"Моряковская УБ\"",{"$f":"[8]Расчетный!E230","v":43},{"$f":"[8]Расчетный!F230","v":1},{"$f":"[8]Расчетный!G230","v":"Не соответствует"},{"$f":"[8]Расчетный!AF230","v":802.25519999999995},{"$f":"[8]Расчетный!I230","v":1.00064},{"$f":"H213","v":1.00064},{"$f":"[8]Расчетный!AM230","v":794.3},{"$f":"[8]Расчетный!AD230-[8]Расчетный!AK230","v":326},{"$f":"[8]Расчетный!BN230","v":0},{"$f":"[8]Расчетный!BR230","v":0},0,{"$f":"[8]Расчетный!BX230","v":0},{"$f":"[8]Расчетный!BL230-[8]Расчетный!BV230","v":0},0,0,0,0,0,0,0,0,0,0,0,0,0,0,0]
[null,null,"ФАП с. Половинка ОГАУЗ \"Моряковская УБ\"",{"$f":"[8]Расчетный!E231","v":179},{"$f":"[8]Расчетный!F231","v":1},{"$f":"[8]Расчетный!G231","v":"Не соответствует"},{"$f":"[8]Расчетный!AF231","v":0},0,{"$f":"H214","v":0},{"$f":"[8]Расчетный!AM231","v":0},{"$f":"[8]Расчетный!AD231-[8]Расчетный!AK231","v":0},{"$f":"[8]Расчетный!BN231","v":1604.6},{"$f":"[8]Расчетный!BR231","v":0.72787013336657125},{"$f":"[8]Расчетный!I231","v":1.0009600000000001},{"$f":"[8]Расчетный!BX231","v":1155.5999999999999},{"$f":"[8]Расчетный!BL231-[8]Расчетный!BV231","v":474.30000000000007},0,0,0,0,0,0,0,0,0,0,0,0,0,0,0]
[null,null,"ФАП с. Губино ОГАУЗ \"Моряковская УБ\"",{"$f":"[8]Расчетный!E232","v":580},{"$f":"[8]Расчетный!F232","v":1},{"$f":"[8]Расчетный!G232","v":"Не соответствует"},{"$f":"[8]Расчетный!AF232","v":0},0,0,{"$f":"[8]Расчетный!AM232","v":0},{"$f":"[8]Расчетный!AD232-[8]Расчетный!AK232","v":0},{"$f":"[8]Расчетный!BN232","v":1604.6},{"$f":"[8]Расчетный!BR232","v":0.73025013336657107},{"$f":"[8]Расчетный!I232","v":1.0033399999999999},{"$f":"[8]Расчетный!BX232","v":1159.5},{"$f":"[8]Расчетный!BL232-[8]Расчетный!BV232","v":475.89999999999986},0,0,0,0,0,0,0,0,0,0,0,0,0,0,0]
[232,16,"ОГБУЗ \"Лоскутовская РП\"",{"$f":"SUM(D217:D228)","v":10662},{"$f":"SUM(E217:E228)","v":12},{"$nulls":9},{"$f":"SUM(O217:O228)","v":6964.9000000000015},{"$f":"SUM(P217:P228)","v":2858.7},null,null,null,{"$f":"SUM(T217:T228)","v":7578.3000000000011},{"$f":"SUM(U217:U228)","v":3033.1},null,null,null,{"$f":"SUM(Y217:Y228)","v":1135.3},{"$f":"SUM(Z217:Z228)","v":466},{"$nulls":5},{"$f":"J216+O216+T216+Y216+AD216","v":15678.500000000002}]
[null,null,"ФАП с. Яр ОГАУЗ \"Лоскутовская РП\"",{"$f":"[8]Расчетный!E234","v":302},{"$f":"[8]Расчетный!F234","v":1},{"$f":"[8]Расчетный!G234","v":"Не соответствует"},0,0,0,0,0,{"$f":"[8]Расчетный!BN234","v":1604.6},{"$f":"[8]Расчетный!BR234","v":0.72819013336657112},{"$f":"[8]Расчетный!I234","v":1.0012799999999999},{"$f":"[8]Расчетный!BX234","v":1156.1000000000001},{"$f":"[8]Расчетный!BL234-[8]Расчетный!BV234","v":474.50000000000011},{"$f":"[8]Расчетный!CY234","v":0},{"$f":"[8]Расчетный!DC234","v":0},0,{"$f":"[8]Расчетный!DI234","v":0},{"$f":"[8]Расчетный!CW234-[8]Расчетный!DG234","v":0},0,0,0,0,0,0,0,0,0,0]
[null,null,"ФАП д. Белоусово ОГАУЗ \"Лоскутовская РП\"",{"$f":"[8]Расчетный!E235","v":343},{"$f":"[8]Расчетный!F235","v":1},{"$f":"[8]Расчетный!G235","v":"Не соответствует"},0,0,0,0,0,{"$f":"[8]Расчетный!BN235","v":1604.6},{"$f":"[8]Расчетный!BR235","v":0.7300501333665711},{"$f":"[8]Расчетный!I235","v":1.0031399999999999},{"$f":"[8]Расчетный!BX235","v":1159},{"$f":"[8]Расчетный!BL235-[8]Расчетный!BV235","v":475.69999999999993},{"$f":"[8]Расчетный!CY235","v":0},{"$f":"[8]Расчетный!DC235","v":0},0,{"$f":"[8]Расчетный!DI235","v":0},{"$f":"[8]Расчетный!CW235-[8]Расчетный!DG235","v":0},0,0,0,0,0,0,0,0,0,0]
[null,null,"ФАП с. Петухово ОГАУЗ \"Лоскутовская РП\"",{"$f":"[8]Расчетный!E236","v":536},{"$f":"[8]Расчетный!F236","v":1},{"$f":"[8]Расчетный!G236","v":"Не соответствует"},0,0,0,0,0,{"$f":"[8]Расчетный!BN236","v":1604.6},{"$f":"[8]Расчетный!BR236","v":0.7312701333665711},{"$f":"[8]Расчетный!I236","v":1.0043599999999999},{"$f":"[8]Расчетный!BX236","v":1161},{"$f":"[8]Расчетный!BL236-[8]Расчетный!BV236","v":476.5},{"$f":"[8]Расчетный!CY236","v":0},{"$f":"[8]Расчетный!DC236","v":0},0,{"$f":"[8]Расчетный!DI236","v":0},{"$f":"[8]Расчетный!CW236-[8]Расчетный!DG236","v":0},0,0,0,0,0,0,0,0,0,0]
[null,null,"ФАП с. Вершинино ОГАУЗ \"Лоскутовская РП\"",{"$f":"[8]Расчетный!E237","v":703},{"$f":"[8]Расчетный!F237","v":1},{"$f":"[8]Расчетный!G237","v":"Не соответствует"},0,0,0,0,0,{"$f":"[8]Расчетный!BN237","v":1604.6},{"$f":"[8]Расчетный!BR237","v":0.73192013336657114},{"$f":"[8]Расчетный!I237","v":1.00501},{"$f":"[8]Расчетный!BX237","v":1162.0999999999999},{"$f":"[8]Расчетный!BL237-[8]Расчетный!BV237","v":477},{"$f":"[8]Расчетный!CY237","v":0},{"$f":"[8]Расчетный!DC237","v":0},0,{"$f":"[8]Расчетный!DI237","v":0},{"$f":"[8]Расчетный!CW237-[8]Расчетный!DG237","v":0},0,0,0,0,0,0,0,0,0,0]
[null,null,"ФАП о/л \"Восход\" ОГАУЗ \"Лоскутовская РП\"",{"$f":"[8]Расчетный!E238","v":848},{"$f":"[8]Расчетный!F238","v":1},{"$f":"[8]Расчетный!G238","v":"Не соответствует"},0,0,0,0,0,{"$f":"[8]Расчетный!BN238","v":1604.6},{"$f":"[8]Расчетный!BR238","v":0.73358013336657113},{"$f":"[8]Расчетный!I238","v":1.00667},{"$f":"[8]Расчетный!BX238","v":1164.5999999999999},{"$f":"[8]Расчетный!BL238-[8]Расчетный!BV238","v":478},{"$f":"[8]Расчетный!CY238","v":0},{"$f":"[8]Расчетный!DC238","v":0},0,{"$f":"[8]Расчетный!DI238","v":0},{"$f":"[8]Расчетный!CW238-[8]Расчетный!DG238","v":0},0,0,0,0,0,0,0,0,0,0]
[null,null,"ФАП п. Басандайка ОГАУЗ \"Лоскутовская РП\"",{"$f":"[8]Расчетный!E239","v":852},{"$f":"[8]Расчетный!F239","v":1},{"$f":"[8]Расчетный!G239","v":"Не соответствует"},0,0,0,0,0,{"$f":"[8]Расчетный!BN239","v":1604.6},{"$f":"[8]Расчетный!BR239","v":0.73198013336657108},{"$f":"[8]Расчетный!I239","v":1.0050699999999999},{"$f":"[8]Расчетный!BX239","v":1162.0999999999999},{"$f":"[8]Расчетный!BL239-[8]Расчетный!BV239","v":477},{"$f":"[8]Расчетный!CY239","v":0},{"$f":"[8]Расчетный!DC239","v":0},0,{"$f":"[8]Расчетный!DI239","v":0},{"$f":"[8]Расчетный!CW239-[8]Расчетный!DG239","v":0},0,0,0,0,0,0,0,0,0,0]
[null,null,"ФАП д. Коларово ОГАУЗ \"Лоскутовская РП\"",{"$f":"[8]Расчетный!E240","v":959},{"$f":"[8]Расчетный!F240","v":1},{"$f":"[8]Расчетный!G240","v":"Не соответствует"},0,0,0,0,0,{"$f":"[8]Расчетный!BN240","v":0},{"$f":"[8]Расчетный!BR240","v":0},0,{"$f":"[8]Расчетный!BX240","v":0},{"$f":"[8]Расчетный!BL240-[8]Расчетный!BV240","v":0},{"$f":"[8]Расчетный!CY240","v":3209.1},{"$f":"[8]Расчетный!DC240","v":0.25186462310305063},{"$f":"[8]Расчетный!I240","v":1.0038199999999999},{"$f":"[8]Расчетный!DI240","v":734.1},{"$f":"[8]Расчетный!CW240-[8]Расчетный!DG240","v":262.60000000000002},0,0,0,0,0,0,0,0,0,0]
[null,null,"ФАП с. Батурино ОГАУЗ \"Лоскутовская РП\"",{"$f":"[8]Расчетный!E241","v":960},{"$f":"[8]Расчетный!F241","v":1},{"$f":"[8]Расчетный!G241","v":"Не соответствует"},0,0,0,0,0,{"$f":"[8]Расчетный!BN241","v":0},{"$f":"[8]Расчетный!BR241","v":0},0,{"$f":"[8]Расчетный!BX241","v":0},{"$f":"[8]Расчетный!BL241-[8]Расчетный!BV241","v":0},{"$f":"[8]Расчетный!CY241","v":3209.1},{"$f":"[8]Расчетный!DC241","v":0.25202462310305079},{"$f":"[8]Расчетный!I241","v":1.0039800000000001},{"$f":"[8]Расчетный!DI241","v":734.6},{"$f":"[8]Расчетный!CW241-[8]Расчетный!DG241","v":262.8},0,0,0,0,0,0,0,0,0,0]
[null,null,"ФАП п. Аэропорт ОГАУЗ \"Лоскутовская РП\"",{"$f":"[8]Расчетный!E242","v":1001},{"$f":"[8]Расчетный!F242","v":1},{"$f":"[8]Расчетный!G242","v":"Не соответствует"},0,0,0,0,0,{"$f":"[8]Расчетный!BN242","v":0},{"$f":"[8]Расчетный!BR242","v":0},0,{"$f":"[8]Расчетный!BX242","v":0},{"$f":"[8]Расчетный!BL242-[8]Расчетный!BV242","v":0},{"$f":"[8]Расчетный!CY242","v":3209.1},{"$f":"[8]Расчетный!DC242","v":0.59520966002929188},{"$f":"[8]Расчетный!I242","v":1.0052000000000001},{"$f":"[8]Расчетный!DI242","v":1889.9},{"$f":"[8]Расчетный!CW242-[8]Расчетный!DG242","v":775.7},0,0,0,0,0,0,0,0,0,0]
[null,null,"ФАП с. Лучаново ОГАУЗ \"Лоскутовская РП\"",{"$f":"[8]Расчетный!E243","v":1066},{"$f":"[8]Расчетный!F243","v":1},{"$f":"[8]Расчетный!G243","v":"Не соответствует"},0,0,0,0,0,{"$f":"[8]Расчетный!BN243","v":0},{"$f":"[8]Расчетный!BR243","v":0},0,{"$f":"[8]Расчетный!BX243","v":0},{"$f":"[8]Расчетный!BL243-[8]Расчетный!BV243","v":0},{"$f":"[8]Расчетный!CY243","v":3209.1},{"$f":"[8]Расчетный!DC243","v":0.73437278489296065},{"$f":"[8]Расчетный!I243","v":1.0074399999999999},{"$f":"[8]Расчетный!DI243","v":2331.8000000000002},{"$f":"[8]Расчетный!CW243-[8]Расчетный!DG243","v":957.09999999999991},0,0,0,0,0,0,0,0,0,0]
[null,null,"ФАП с. Межениновка ОГАУЗ \"Лоскутовская РП\"",{"$f":"[8]Расчетный!E244","v":1195},{"$f":"[8]Расчетный!F244","v":1},{"$f":"[8]Расчетный!G244","v":"Не соответствует"},0,0,0,0,0,{"$f":"[8]Расчетный!BN244","v":0},{"$f":"[8]Расчетный!BR244","v":0},0,{"$f":"[8]Расчетный!BX244","v":0},{"$f":"[8]Расчетный!BL244-[8]Расчетный!BV244","v":0},{"$f":"[8]Расчетный!CY244","v":3209.1},{"$f":"[8]Расчетный!DC244","v":0.59456966002929168},{"$f":"[8]Расчетный!I244","v":1.0045599999999999},{"$f":"[8]Расчетный!DI244","v":1887.9},{"$f":"[8]Расчетный!CW244-[8]Расчетный!DG244","v":774.90000000000009},0,0,0,0,0,0,0,0,0,0]
[null,null,"ФАП п. Мирный ОГАУЗ \"Лоскутовская РП\"",{"$f":"[8]Расчетный!E245","v":1897},{"$f":"[8]Расчетный!F245","v":1},{"$f":"[8]Расчетный!G245","v":"Не соответствует"},0,0,0,0,0,{"$f":"[8]Расчетный!BN245","v":0},{"$f":"[8]Расчетный!BR245","v":0},0,{"$f":"[8]Расчетный!BX245","v":0},{"$f":"[8]Расчетный!BL245-[8]Расчетный!BV245","v":0},{"$f":"[8]Расчетный!CY245","v":0},{"$f":"[8]Расчетный!DC245","v":0},0,{"$f":"[8]Расчетный!DI245","v":0},{"$f":"[8]Расчетный!CW245-[8]Расчетный!DG245","v":0},{"$f":"[8]Расчетный!EJ245","v":3791},{"$f":"[8]Расчетный!EN245","v":0.30263666051173826},{"$f":"[8]Расчетный!I245","v":1.0053799999999999},{"$f":"[8]Расчетный!ET245","v":1135.3},{"$f":"[8]Расчетный!EH245-[8]Расчетный!ER245","v":466},0,0,0,0,0]
[231,17,"ОГАУЗ \"Светленская РБ\"",{"$f":"SUM(D230:D246)","v":11649},{"$f":"SUM(E230:E246)","v":17},{"$nulls":9},{"$f":"SUM(O230:O246)","v":12550.7},{"$f":"SUM(P230:P246)","v":5151.5},null,null,null,{"$f":"SUM(T230:T246)","v":5833.2999999999993},{"$f":"SUM(U230:U246)","v":2394.2999999999997},{"$nulls":8},{"$f":"SUM(AD230:AD246)","v":4708.3999999999996},{"$f":"SUM(AE230:AE246)","v":1932.4999999999998},{"$f":"J229+O229+T229+Y229+AD229","v":23092.400000000001}]
[null,null,"ФАП с. Сухоречье ОГАУЗ \"Светленская РБ\"",{"$f":"[8]Расчетный!E249","v":130},{"$f":"[8]Расчетный!F249","v":1},{"$f":"[8]Расчетный!G249","v":"Не соответствует"},0,0,0,0,0,{"$f":"[8]Расчетный!BN249","v":1604.6},{"$f":"[8]Расчетный!BR249","v":0.72832013336657109},{"$f":"[8]Расчетный!I249","v":1.0014099999999999},{"$f":"[8]Расчетный!BX249","v":1156.3},{"$f":"[8]Расчетный!BL249-[8]Расчетный!BV249","v":474.59999999999991},{"$f":"[8]Расчетный!CY249","v":0},{"$f":"[8]Расчетный!DC249","v":0},0,{"$f":"[8]Расчетный!DI249","v":0},{"$f":"[8]Расчетный!CW249-[8]Расчетный!DG249","v":0},0,0,0,0,0,{"$f":"[8]Расчетный!FS249","v":0},{"$f":"[8]Расчетный!FW249","v":0},0,{"$f":"[8]Расчетный!GC249","v":0},{"$f":"[8]Расчетный!FQ249-[8]Расчетный!GA249","v":0}]
[null,null,"ФАП д. Перовка ОГАУЗ \"Светленская РБ\"",{"$f":"[8]Расчетный!E250","v":118},{"$f":"[8]Расчетный!F250","v":1},{"$f":"[8]Расчетный!G250","v":"Не соответствует"},0,0,0,0,0,{"$f":"[8]Расчетный!BN250","v":1604.6},{"$f":"[8]Расчетный!BR250","v":0.72781013336657108},{"$f":"[8]Расчетный!I250","v":1.0008999999999999},{"$f":"[8]Расчетный!BX250","v":1155.5},{"$f":"[8]Расчетный!BL250-[8]Расчетный!BV250","v":474.29999999999995},{"$f":"[8]Расчетный!CY250","v":0},{"$f":"[8]Расчетный!DC250","v":0},0,{"$f":"[8]Расчетный!DI250","v":0},{"$f":"[8]Расчетный!CW250-[8]Расчетный!DG250","v":0},0,0,0,0,0,{"$f":"[8]Расчетный!FS250","v":0},{"$f":"[8]Расчетный!FW250","v":0},0,{"$f":"[8]Расчетный!GC250","v":0},{"$f":"[8]Расчетный!FQ250-[8]Расчетный!GA250","v":0}]
[null,null,"ФАП д. Подломск ОГАУЗ \"Светленская РБ\"",{"$f":"[8]Расчетный!E251","v":123},{"$f":"[8]Расчетный!F251","v":1},{"$f":"[8]Расчетный!G251","v":"Не соответствует"},0,0,0,0,0,{"$f":"[8]Расчетный!BN251","v":1604.6},{"$f":"[8]Расчетный!BR251","v":0.31793140845070433},{"$f":"[8]Расчетный!I251","v":1.0010300000000001},{"$f":"[8]Расчетный!BX251","v":504.8},{"$f":"[8]Расчетный!BL251-[8]Расчетный!BV251","v":207.2},{"$f":"[8]Расчетный!CY251","v":0},{"$f":"[8]Расчетный!DC251","v":0},0,{"$f":"[8]Расчетный!DI251","v":0},{"$f":"[8]Расчетный!CW251-[8]Расчетный!DG251","v":0},0,0,0,0,0,{"$f":"[8]Расчетный!FS251","v":0},{"$f":"[8]Расчетный!FW251","v":0},0,{"$f":"[8]Расчетный!GC251","v":0},{"$f":"[8]Расчетный!FQ251-[8]Расчетный!GA251","v":0}]
[null,null,"ФАП с. Новоархангельское ОГАУЗ \"Светленская РБ\"",{"$f":"[8]Расчетный!E252","v":241},{"$f":"[8]Расчетный!F252","v":1},{"$f":"[8]Расчетный!G252","v":"Не соответствует"},0,0,0,0,0,{"$f":"[8]Расчетный!BN252","v":1604.6},{"$f":"[8]Расчетный!BR252","v":0.7296101333665711},{"$f":"[8]Расчетный!I252","v":1.0026999999999999},{"$f":"[8]Расчетный!BX252","v":1158.3999999999999},{"$f":"[8]Расчетный!BL252-[8]Расчетный!BV252","v":475.49999999999989},{"$f":"[8]Расчетный!CY252","v":0},{"$f":"[8]Расчетный!DC252","v":0},0,{"$f":"[8]Расчетный!DI252","v":0},{"$f":"[8]Расчетный!CW252-[8]Расчетный!DG252","v":0},0,0,0,0,0,{"$f":"[8]Расчетный!FS252","v":0},{"$f":"[8]Расчетный!FW252","v":0},0,{"$f":"[8]Расчетный!GC252","v":0},{"$f":"[8]Расчетный!FQ252-[8]Расчетный!GA252","v":0}]
[null,null,"ФАП д. Халдеево ОГАУЗ \"Светленская РБ\"",{"$f":"[8]Расчетный!E253","v":256},{"$f":"[8]Расчетный!F253","v":1},{"$f":"[8]Расчетный!G253","v":"Не соответствует"},0,0,0,0,0,{"$f":"[8]Расчетный!BN253","v":1604.6},{"$f":"[8]Расчетный!BR253","v":0.72973013336657122},{"$f":"[8]Расчетный!I253","v":1.00282},{"$f":"[8]Расчетный!BX253","v":1158.5},{"$f":"[8]Расчетный!BL253-[8]Расчетный!BV253","v":475.5},{"$f":"[8]Расчетный!CY253","v":0},{"$f":"[8]Расчетный!DC253","v":0},0,{"$f":"[8]Расчетный!DI253","v":0},{"$f":"[8]Расчетный!CW253-[8]Расчетный!DG253","v":0},0,0,0,0,0,{"$f":"[8]Расчетный!FS253","v":0},{"$f":"[8]Расчетный!FW253","v":0},0,{"$f":"[8]Расчетный!GC253","v":0},{"$f":"[8]Расчетный!FQ253-[8]Расчетный!GA253","v":0}]
[null,null,"ФАП д. Аркашево ОГАУЗ \"Светленская РБ\"",{"$f":"[8]Расчетный!E254","v":296},{"$f":"[8]Расчетный!F254","v":1},{"$f":"[8]Расчетный!G254","v":"Не соответствует"},0,0,0,0,0,{"$f":"[8]Расчетный!BN254","v":1604.6},{"$f":"[8]Расчетный!BR254","v":0.73185013336657112},{"$f":"[8]Расчетный!I254","v":1.0049399999999999},{"$f":"[8]Расчетный!BX254","v":1161.8999999999999},{"$f":"[8]Расчетный!BL254-[8]Расчетный!BV254","v":476.89999999999986},{"$f":"[8]Расчетный!CY254","v":0},{"$f":"[8]Расчетный!DC254","v":0},0,{"$f":"[8]Расчетный!DI254","v":0},{"$f":"[8]Расчетный!CW254-[8]Расчетный!DG254","v":0},0,0,0,0,0,{"$f":"[8]Расчетный!FS254","v":0},{"$f":"[8]Расчетный!FW254","v":0},0,{"$f":"[8]Расчетный!GC254","v":0},{"$f":"[8]Расчетный!FQ254-[8]Расчетный!GA254","v":0}]
[null,null,"ФАП д. Ново-Михайловка ОГАУЗ \"Светленская РБ\"",{"$f":"[8]Расчетный!E255","v":305},{"$f":"[8]Расчетный!F255","v":1},{"$f":"[8]Расчетный!G255","v":"Не соответствует"},0,0,0,0,0,{"$f":"[8]Расчетный!BN255","v":1604.6},{"$f":"[8]Расчетный!BR255","v":0.73185013336657112},{"$f":"[8]Расчетный!I255","v":1.0049399999999999},{"$f":"[8]Расчетный!BX255","v":1161.8999999999999},{"$f":"[8]Расчетный!BL255-[8]Расчетный!BV255","v":476.89999999999986},{"$f":"[8]Расчетный!CY255","v":0},{"$f":"[8]Расчетный!DC255","v":0},0,{"$f":"[8]Расчетный!DI255","v":0},{"$f":"[8]Расчетный!CW255-[8]Расчетный!DG255","v":0},0,0,0,0,0,{"$f":"[8]Расчетный!FS255","v":0},{"$f":"[8]Расчетный!FW255","v":0},0,{"$f":"[8]Расчетный!GC255","v":0},{"$f":"[8]Расчетный!FQ255-[8]Расчетный!GA255","v":0}]
[null,null,"ФАП д. Мазалово ОГАУЗ \"Светленская РБ\"",{"$f":"[8]Расчетный!E256","v":293},{"$f":"[8]Расчетный!F256","v":1},{"$f":"[8]Расчетный!G256","v":"Не соответствует"},0,0,0,0,0,{"$f":"[8]Расчетный!BN256","v":1604.6},{"$f":"[8]Расчетный!BR256","v":0.72973013336657122},{"$f":"[8]Расчетный!I256","v":1.00282},{"$f":"[8]Расчетный!BX256","v":1158.5},{"$f":"[8]Расчетный!BL256-[8]Расчетный!BV256","v":475.5},{"$f":"[8]Расчетный!CY256","v":0},{"$f":"[8]Расчетный!DC256","v":0},0,{"$f":"[8]Расчетный!DI256","v":0},{"$f":"[8]Расчетный!CW256-[8]Расчетный!DG256","v":0},0,0,0,0,0,{"$f":"[8]Расчетный!FS256","v":0},{"$f":"[8]Расчетный!FW256","v":0},0,{"$f":"[8]Расчетный!GC256","v":0},{"$f":"[8]Расчетный!FQ256-[8]Расчетный!GA256","v":0}]
[null,null,"ФАП п. Заречный ОГАУЗ \"Светленская РБ\"",{"$f":"[8]Расчетный!E257","v":502},{"$f":"[8]Расчетный!F257","v":1},{"$f":"[8]Расчетный!G257","v":"Не соответствует"},0,0,0,0,0,{"$f":"[8]Расчетный!BN257","v":1604.6},{"$f":"[8]Расчетный!BR257","v":0.73423013336657117},{"$f":"[8]Расчетный!I257","v":1.00732},{"$f":"[8]Расчетный!BX257","v":1165.7},{"$f":"[8]Расчетный!BL257-[8]Расчетный!BV257","v":478.5},{"$f":"[8]Расчетный!CY257","v":0},{"$f":"[8]Расчетный!DC257","v":0},0,{"$f":"[8]Расчетный!DI257","v":0},{"$f":"[8]Расчетный!CW257-[8]Расчетный!DG257","v":0},0,0,0,0,0,{"$f":"[8]Расчетный!FS257","v":0},{"$f":"[8]Расчетный!FW257","v":0},0,{"$f":"[8]Расчетный!GC257","v":0},{"$f":"[8]Расчетный!FQ257-[8]Расчетный!GA257","v":0}]
[null,null,"ФАП с. Наумовка ОГАУЗ \"Светленская РБ\"",{"$f":"[8]Расчетный!E258","v":378},{"$f":"[8]Расчетный!F258","v":1},{"$f":"[8]Расчетный!G258","v":"Не соответствует"},0,0,0,0,0,{"$f":"[8]Расчетный!BN258","v":1604.6},{"$f":"[8]Расчетный!BR258","v":0.73294013336657116},{"$f":"[8]Расчетный!I258","v":1.00603},{"$f":"[8]Расчетный!BX258","v":1163.6999999999998},{"$f":"[8]Расчетный!BL258-[8]Расчетный!BV258","v":477.59999999999991},{"$f":"[8]Расчетный!CY258","v":0},{"$f":"[8]Расчетный!DC258","v":0},0,{"$f":"[8]Расчетный!DI258","v":0},{"$f":"[8]Расчетный!CW258-[8]Расчетный!DG258","v":0},0,0,0,0,0,{"$f":"[8]Расчетный!FS258","v":0},{"$f":"[8]Расчетный!FW258","v":0},0,{"$f":"[8]Расчетный!GC258","v":0},{"$f":"[8]Расчетный!FQ258-[8]Расчетный!GA258","v":0}]
[null,null,"ФАП с. Александровское ОГАУЗ \"Светленская РБ\"",{"$f":"[8]Расчетный!E259","v":817},{"$f":"[8]Расчетный!F259","v":1},{"$f":"[8]Расчетный!G259","v":"Соответствует"},0,0,0,0,0,{"$f":"[8]Расчетный!BN259","v":1604.6},{"$f":"[8]Расчетный!BR259","v":1.0112300000000001},{"$f":"[8]Расчетный!I259","v":1.0112300000000001},{"$f":"[8]Расчетный!BX259","v":1605.5},{"$f":"[8]Расчетный!BL259-[8]Расчетный!BV259","v":658.99999999999989},{"$f":"[8]Расчетный!CY259","v":0},{"$f":"[8]Расчетный!DC259","v":0},0,{"$f":"[8]Расчетный!DI259","v":0},{"$f":"[8]Расчетный!CW259-[8]Расчетный!DG259","v":0},0,0,0,0,0,{"$f":"[8]Расчетный!FS259","v":0},{"$f":"[8]Расчетный!FW259","v":0},0,{"$f":"[8]Расчетный!GC259","v":0},{"$f":"[8]Расчетный!FQ259-[8]Расчетный!GA259","v":0}]
[null,null,"ФАП с. Семилужки ОГАУЗ \"Светленская РБ\"",{"$f":"[8]Расчетный!E260","v":919},{"$f":"[8]Расчетный!F260","v":1},{"$f":"[8]Расчетный!G260","v":"Не соответствует"},0,0,0,0,0,{"$f":"[8]Расчетный!BN260","v":0},{"$f":"[8]Расчетный!BR260","v":0},0,{"$f":"[8]Расчетный!BX260","v":0},{"$f":"[8]Расчетный!BL260-[8]Расчетный!BV260","v":0},{"$f":"[8]Расчетный!CY260","v":3209.1},{"$f":"[8]Расчетный!DC260","v":0.45950537378081091},{"$f":"[8]Расчетный!I260","v":1.0064500000000001},{"$f":"[8]Расчетный!DI260","v":1459.1},{"$f":"[8]Расчетный!CW260-[8]Расчетный!DG260","v":598.9},0,0,0,0,0,{"$f":"[8]Расчетный!FS260","v":0},{"$f":"[8]Расчетный!FW260","v":0},0,{"$f":"[8]Расчетный!GC260","v":0},{"$f":"[8]Расчетный!FQ260-[8]Расчетный!GA260","v":0}]
[null,null,"ФАП с. Итатка ОГАУЗ \"Светленская РБ\"",{"$f":"[8]Расчетный!E261","v":931},{"$f":"[8]Расчетный!F261","v":1},{"$f":"[8]Расчетный!G261","v":"Не соответствует"},0,0,0,0,0,{"$f":"[8]Расчетный!BN261","v":0},{"$f":"[8]Расчетный!BR261","v":0},0,{"$f":"[8]Расчетный!BX261","v":0},{"$f":"[8]Расчетный!BL261-[8]Расчетный!BV261","v":0},{"$f":"[8]Расчетный!CY261","v":3209.1},{"$f":"[8]Расчетный!DC261","v":0.45767537378081091},{"$f":"[8]Расчетный!I261","v":1.0046200000000001},{"$f":"[8]Расчетный!DI261","v":1453.1999999999998},{"$f":"[8]Расчетный!CW261-[8]Расчетный!DG261","v":596.49999999999989},0,0,0,0,0,{"$f":"[8]Расчетный!FS261","v":0},{"$f":"[8]Расчетный!FW261","v":0},0,{"$f":"[8]Расчетный!GC261","v":0},{"$f":"[8]Расчетный!FQ261-[8]Расчетный!GA261","v":0}]
[null,null,"ФАП д. Воронино ОГАУЗ \"Светленская РБ\"",{"$f":"[8]Расчетный!E262","v":1053},{"$f":"[8]Расчетный!F262","v":1},{"$f":"[8]Расчетный!G262","v":"Не соответствует"},0,0,0,0,0,{"$f":"[8]Расчетный!BN262","v":0},{"$f":"[8]Расчетный!BR262","v":0},0,{"$f":"[8]Расчетный!BX262","v":0},{"$f":"[8]Расчетный!BL262-[8]Расчетный!BV262","v":0},{"$f":"[8]Расчетный!CY262","v":3209.1},{"$f":"[8]Расчетный!DC262","v":0.46011537378081091},{"$f":"[8]Расчетный!I262","v":1.0070600000000001},{"$f":"[8]Расчетный!DI262","v":1461.1},{"$f":"[8]Расчетный!CW262-[8]Расчетный!DG262","v":599.70000000000005},0,0,0,0,0,{"$f":"[8]Расчетный!FS262","v":0},{"$f":"[8]Расчетный!FW262","v":0},0,{"$f":"[8]Расчетный!GC262","v":0},{"$f":"[8]Расчетный!FQ262-[8]Расчетный!GA262","v":0}]
[null,null,"ФАП пос. Молодежный ОГАУЗ \"Светленская РБ\"",{"$f":"[8]Расчетный!E263","v":1142},{"$f":"[8]Расчетный!F263","v":1},{"$f":"[8]Расчетный!G263","v":"Не соответствует"},0,0,0,0,0,{"$f":"[8]Расчетный!BN263","v":0},{"$f":"[8]Расчетный!BR263","v":0},0,{"$f":"[8]Расчетный!BX263","v":0},{"$f":"[8]Расчетный!BL263-[8]Расчетный!BV263","v":0},{"$f":"[8]Расчетный!CY263","v":3209.1},{"$f":"[8]Расчетный!DC263","v":0.45976537378081084},{"$f":"[8]Расчетный!I263","v":1.00671},{"$f":"[8]Расчетный!DI263","v":1459.9},{"$f":"[8]Расчетный!CW263-[8]Расчетный!DG263","v":599.19999999999993},0,0,0,0,0,{"$f":"[8]Расчетный!FS263","v":0},{"$f":"[8]Расчетный!FW263","v":0},0,{"$f":"[8]Расчетный!GC263","v":0},{"$f":"[8]Расчетный!FQ263-[8]Расчетный!GA263","v":0}]
[null,null,"ФАП п. Рассвет ОГАУЗ \"Светленская РБ\"",{"$f":"[8]Расчетный!E264","v":2026},{"$f":"[8]Расчетный!F264","v":1},{"$f":"[8]Расчетный!G264","v":"Не соответствует"},0,0,0,0,0,{"$f":"[8]Расчетный!BN264","v":0},{"$f":"[8]Расчетный!BR264","v":0},0,{"$f":"[8]Расчетный!BX264","v":0},{"$f":"[8]Расчетный!BL264-[8]Расчетный!BV264","v":0},{"$f":"[8]Расчетный!CY264","v":0},{"$f":"[8]Расчетный!DC264","v":0},0,{"$f":"[8]Расчетный!DI264","v":0},{"$f":"[8]Расчетный!CW264-[8]Расчетный!DG264","v":0},0,0,0,0,0,{"$f":"[8]Расчетный!FS264","v":4928.3},{"$f":"[8]Расчетный!FW264","v":0.42440427814865178},{"$f":"[8]Расчетный!I264","v":1.0098800000000001},{"$f":"[8]Расчетный!GC264","v":2069.5},{"$f":"[8]Расчетный!FQ264-[8]Расчетный!GA264","v":849.39999999999986}]
[null,null,"ФАП с. Малиновка ОГАУЗ \"Светленская РБ\"",{"$f":"[8]Расчетный!E265","v":2119},{"$f":"[8]Расчетный!F265","v":1},{"$f":"[8]Расчетный!G265","v":"Не соответствует"},0,0,0,0,0,{"$f":"[8]Расчетный!BN265","v":0},{"$f":"[8]Расчетный!BR265","v":0},0,{"$f":"[8]Расчетный!BX265","v":0},{"$f":"[8]Расчетный!BL265-[8]Расчетный!BV265","v":0},{"$f":"[8]Расчетный!CY265","v":0},{"$f":"[8]Расчетный!DC265","v":0},0,{"$f":"[8]Расчетный!DI265","v":0},{"$f":"[8]Расчетный!CW265-[8]Расчетный!DG265","v":0},0,0,0,0,0,{"$f":"[8]Расчетный!FS265","v":4928.3},{"$f":"[8]Расчетный!FW265","v":0.54118580849380116},{"$f":"[8]Расчетный!I265","v":1.0094000000000001},{"$f":"[8]Расчетный!GC265","v":2638.8999999999996},{"$f":"[8]Расчетный!FQ265-[8]Расчетный!GA265","v":1083.0999999999999}]
[85,18,"ОГБУЗ \"Чаинская РБ\"",{"$f":"SUM(D248:D258)","v":2366},{"$f":"SUM(E248:E258)","v":11},{"$nulls":9},{"$f":"SUM(O248:O258)","v":17784.399999999998},{"$f":"SUM(P248:P258)","v":7299.3000000000011},{"$nulls":15},{"$f":"J247+O247+T247+Y247+AD247","v":17784.399999999998}]
[null,null,"ФАП с. Чемондаевка ОГБУЗ «Чаинская РБ»",{"$f":"[8]Расчетный!E269","v":105},{"$f":"[8]Расчетный!F269","v":1},{"$f":"[8]Расчетный!G269","v":"Не соответствует"},0,0,0,0,0,{"$f":"[8]Расчетный!BN269","v":2243.5},{"$f":"[8]Расчетный!BR269","v":0.7275845063516827},{"$f":"[8]Расчетный!I269","v":1.00064},{"$f":"[8]Расчетный!BX269","v":1615.1000000000001},{"$f":"[8]Расчетный!BL269-[8]Расчетный!BV269","v":662.90000000000009},0,0,0,0,0,0,0,0,0,0,0,0,0,0,0]
[null,null,"ФАП с. Третья Тига ОГБУЗ «Чаинская РБ»",{"$f":"[8]Расчетный!E270","v":110},{"$f":"[8]Расчетный!F270","v":1},{"$f":"[8]Расчетный!G270","v":"Не соответствует"},0,0,0,0,0,{"$f":"[8]Расчетный!BN270","v":2243.5},{"$f":"[8]Расчетный!BR270","v":0.72777450635168284},{"$f":"[8]Расчетный!I270","v":1.0008300000000001},{"$f":"[8]Расчетный!BX270","v":1615.5},{"$f":"[8]Расчетный!BL270-[8]Расчетный!BV270","v":663},0,0,0,0,0,0,0,0,0,0,0,0,0,0,0]
[null,null,"ФАП с. Сухой Лог ОГБУЗ «Чаинская РБ»",{"$f":"[8]Расчетный!E271","v":124},{"$f":"[8]Расчетный!F271","v":1},{"$f":"[8]Расчетный!G271","v":"Не соответствует"},0,0,0,0,0,{"$f":"[8]Расчетный!BN271","v":2243.5},{"$f":"[8]Расчетный!BR271","v":0.7279045063516828},{"$f":"[8]Расчетный!I271","v":1.0009600000000001},{"$f":"[8]Расчетный!BX271","v":1615.8},{"$f":"[8]Расчетный!BL271-[8]Расчетный!BV271","v":663.19999999999993},0,0,0,0,0,0,0,0,0,0,0,0,0,0,0]
[null,null,"ФАП с. Ермиловка ОГБУЗ «Чаинская РБ»",{"$f":"[8]Расчетный!E272","v":146},{"$f":"[8]Расчетный!F272","v":1},{"$f":"[8]Расчетный!G272","v":"Не соответствует"},0,0,0,0,0,{"$f":"[8]Расчетный!BN272","v":2243.5},{"$f":"[8]Расчетный!BR272","v":0.7275845063516827},{"$f":"[8]Расчетный!I272","v":1.00064},{"$f":"[8]Расчетный!BX272","v":1615.1000000000001},{"$f":"[8]Расчетный!BL272-[8]Расчетный!BV272","v":662.90000000000009},0,0,0,0,0,0,0,0,0,0,0,0,0,0,0]
[null,null,"ФАП с. Чаинск ОГБУЗ «Чаинская РБ»",{"$f":"[8]Расчетный!E274","v":199},{"$f":"[8]Расчетный!F274","v":1},{"$f":"[8]Расчетный!G274","v":"Не соответствует"},0,0,0,0,0,{"$f":"[8]Расчетный!BN274","v":2243.5},{"$f":"[8]Расчетный!BR274","v":0.72919450635168281},{"$f":"[8]Расчетный!I274","v":1.0022500000000001},{"$f":"[8]Расчетный!BX274","v":1618.6},{"$f":"[8]Расчетный!BL274-[8]Расчетный!BV274","v":664.30000000000007},0,0,0,0,0,0,0,0,0,0,0,0,0,0,0]
[null,null,"ФАП с. Гришкино ОГБУЗ «Чаинская РБ»",{"$f":"[8]Расчетный!E276","v":216},{"$f":"[8]Расчетный!F276","v":1},{"$f":"[8]Расчетный!G276","v":"Не соответствует"},0,0,0,0,0,{"$f":"[8]Расчетный!BN276","v":2243.5},{"$f":"[8]Расчетный!BR276","v":0.72803450635168276},{"$f":"[8]Расчетный!I276","v":1.00109},{"$f":"[8]Расчетный!BX276","v":1616.1},{"$f":"[8]Расчетный!BL276-[8]Расчетный!BV276","v":663.30000000000007},0,0,0,0,0,0,0,0,0,0,0,0,0,0,0]
[null,null,"ФАП с. Нижняя Тига ОГБУЗ «Чаинская РБ»",{"$f":"[8]Расчетный!E277","v":217},{"$f":"[8]Расчетный!F277","v":1},{"$f":"[8]Расчетный!G277","v":"Не соответствует"},0,0,0,0,0,{"$f":"[8]Расчетный!BN277","v":2243.5},{"$f":"[8]Расчетный!BR277","v":0.7291245063516828},{"$f":"[8]Расчетный!I277","v":1.0021800000000001},{"$f":"[8]Расчетный!BX277","v":1618.5},{"$f":"[8]Расчетный!BL277-[8]Расчетный!BV277","v":664.3},0,0,0,0,0,0,0,0,0,0,0,0,0,0,0]
[null,null,"ФАП с. Новоколомино ОГБУЗ «Чаинская РБ»",{"$f":"[8]Расчетный!E278","v":227},{"$f":"[8]Расчетный!F278","v":1},{"$f":"[8]Расчетный!G278","v":"Не соответствует"},0,0,0,0,0,{"$f":"[8]Расчетный!BN278","v":2243.5},{"$f":"[8]Расчетный!BR278","v":0.7288045063516827},{"$f":"[8]Расчетный!I278","v":1.00186},{"$f":"[8]Расчетный!BX278","v":1617.7999999999997},{"$f":"[8]Расчетный!BL278-[8]Расчетный!BV278","v":663.99999999999989},0,0,0,0,0,0,0,0,0,0,0,0,0,0,0]
[null,null,"ФАП с. Гореловка ОГБУЗ «Чаинская РБ»",{"$f":"[8]Расчетный!E279","v":293},{"$f":"[8]Расчетный!F279","v":1},{"$f":"[8]Расчетный!G279","v":"Не соответствует"},0,0,0,0,0,{"$f":"[8]Расчетный!BN279","v":2243.5},{"$f":"[8]Расчетный!BR279","v":0.72861450635168279},{"$f":"[8]Расчетный!I279","v":1.0016700000000001},{"$f":"[8]Расчетный!BX279","v":1617.3000000000002},{"$f":"[8]Расчетный!BL279-[8]Расчетный!BV279","v":663.80000000000007},0,0,0,0,0,0,0,0,0,0,0,0,0,0,0]
[null,null,"ФАП с. Леботёр ОГБУЗ «Чаинская РБ»",{"$f":"[8]Расчетный!E280","v":334},{"$f":"[8]Расчетный!F280","v":1},{"$f":"[8]Расчетный!G280","v":"Не соответствует"},0,0,0,0,0,{"$f":"[8]Расчетный!BN280","v":2243.5},{"$f":"[8]Расчетный!BR280","v":0.73021450635168283},{"$f":"[8]Расчетный!I280","v":1.0032700000000001},{"$f":"[8]Расчетный!BX280","v":1620.9},{"$f":"[8]Расчетный!BL280-[8]Расчетный!BV280","v":665.30000000000007},0,0,0,0,0,0,0,0,0,0,0,0,0,0,0]
[null,null,"ФАП с. Варгатёр ОГБУЗ «Чаинская РБ»",{"$f":"[8]Расчетный!E281","v":395},{"$f":"[8]Расчетный!F281","v":1},{"$f":"[8]Расчетный!G281","v":"Не соответствует"},0,0,0,0,0,{"$f":"[8]Расчетный!BN281","v":2243.5},{"$f":"[8]Расчетный!BR281","v":0.72694450635168273},{"$f":"[8]Расчетный!I281","v":1},{"$f":"[8]Расчетный!BX281","v":1613.6999999999998},{"$f":"[8]Расчетный!BL281-[8]Расчетный!BV281","v":662.3},0,0,0,0,0,0,0,0,0,0,0,0,0,0,0]
[87,19,"ОГАУЗ \"Шегарская РБ\"",{"$f":"SUM(D260:D274)","v":6001},{"$f":"SUM(E260:E274)","v":15},{"$nulls":4},{"$f":"SUM(J260:J274)","v":776},{"$f":"SUM(K260:K274)","v":318.49999999999994},null,null,null,{"$f":"SUM(O260:O274)","v":14709.399999999998},{"$f":"SUM(P260:P274)","v":6037.7000000000007},null,null,null,{"$f":"SUM(T260:T274)","v":1424.1},{"$f":"SUM(U260:U274)","v":584.5},{"$nulls":10},{"$f":"J259+O259+T259+Y259+AD259","v":16909.499999999996}]
[null,null,"ФАП с.Подоба ОГАУЗ \"Шегарская РБ\"",{"$f":"[8]Расчетный!E283","v":81},{"$f":"[8]Расчетный!F283","v":1},{"$f":"[8]Расчетный!G283","v":"Не соответствует"},{"$f":"[8]Расчетный!AF283","v":783.95040000000006},{"$f":"[8]Расчетный!AA283","v":1.0002599999999999},{"$f":"[8]Расчетный!I283","v":1.0002599999999999},{"$f":"[8]Расчетный!AM283","v":776},{"$f":"[8]Расчетный!AD283-[8]Расчетный!AK283","v":318.49999999999994},{"$f":"[8]Расчетный!BN283","v":0},{"$f":"[8]Расчетный!BR283","v":0},0,{"$f":"[8]Расчетный!BX283","v":0},{"$f":"[8]Расчетный!BL283-[8]Расчетный!BV283","v":0},0,0,0,0,0,0,0,0,0,0,0,0,0,0,0]
[null,null,"ФАП с.Федораевка ОГАУЗ \"Шегарская РБ\"",{"$f":"[8]Расчетный!E284","v":132},{"$f":"[8]Расчетный!F284","v":1},{"$f":"[8]Расчетный!G284","v":"Не соответствует"},0,0,0,0,0,{"$f":"[8]Расчетный!BN284","v":1568},{"$f":"[8]Расчетный!BR284","v":0.72755326530612241},{"$f":"[8]Расчетный!I284","v":1.00064},{"$f":"[8]Расчетный!BX284","v":1128.8},{"$f":"[8]Расчетный!BL284-[8]Расчетный!BV284","v":463.29999999999995},0,0,0,0,0,0,0,0,0,0,0,0,0,0,0]
[null,null,"ФАП с. Батурино ОГБУЗ \"Шегарская РБ\"",{"$f":"[8]Расчетный!E285","v":140},{"$f":"[8]Расчетный!F285","v":1},{"$f":"[8]Расчетный!G285","v":"Не соответствует"},0,0,0,0,0,{"$f":"[8]Расчетный!BN285","v":1568},{"$f":"[8]Расчетный!BR285","v":0.72781326530612234},{"$f":"[8]Расчетный!I285","v":1.0008999999999999},{"$f":"[8]Расчетный!BX285","v":1129.2000000000003},{"$f":"[8]Расчетный!BL285-[8]Расчетный!BV285","v":463.50000000000011},0,0,0,0,0,0,0,0,0,0,0,0,0,0,0]
[null,null,"ФАП с. Гынгазово ОГБУЗ \"Шегарская РБ\"",{"$f":"[8]Расчетный!E286","v":234},{"$f":"[8]Расчетный!F286","v":1},{"$f":"[8]Расчетный!G286","v":"Не соответствует"},0,0,0,0,0,{"$f":"[8]Расчетный!BN286","v":1568},{"$f":"[8]Расчетный!BR286","v":0.72851326530612248},{"$f":"[8]Расчетный!I286","v":1.0016},{"$f":"[8]Расчетный!BX286","v":1130.2},{"$f":"[8]Расчетный!BL286-[8]Расчетный!BV286","v":463.90000000000009},0,0,0,0,0,0,0,0,0,0,0,0,0,0,0]
[null,null,"ФАП с. Новоильинка ОГБУЗ \"Шегарская РБ\"",{"$f":"[8]Расчетный!E287","v":234},{"$f":"[8]Расчетный!F287","v":1},{"$f":"[8]Расчетный!G287","v":"Не соответствует"},0,0,0,0,0,{"$f":"[8]Расчетный!BN287","v":1568},{"$f":"[8]Расчетный!BR287","v":0.72794326530612252},{"$f":"[8]Расчетный!I287","v":1.0010300000000001},{"$f":"[8]Расчетный!BX287","v":1129.3999999999999},{"$f":"[8]Расчетный!BL287-[8]Расчетный!BV287","v":463.59999999999991},0,0,0,0,0,0,0,0,0,0,0,0,0,0,0]
[null,null,"ФАП д. Татьяновка ОГБУЗ \"Шегарская РБ\"",{"$f":"[8]Расчетный!E288","v":255},{"$f":"[8]Расчетный!F288","v":1},{"$f":"[8]Расчетный!G288","v":"Не соответствует"},0,0,0,0,0,{"$f":"[8]Расчетный!BN288","v":1568},{"$f":"[8]Расчетный!BR288","v":0.72896326530612254},{"$f":"[8]Расчетный!I288","v":1.0020500000000001},{"$f":"[8]Расчетный!BX288","v":1131},{"$f":"[8]Расчетный!BL288-[8]Расчетный!BV288","v":464.19999999999993},0,0,0,0,0,0,0,0,0,0,0,0,0,0,0]
[null,null,"ФАП с. Вознесенка ОГБУЗ \"Шегарская РБ\"",{"$f":"[8]Расчетный!E289","v":275},{"$f":"[8]Расчетный!F289","v":1},{"$f":"[8]Расчетный!G289","v":"Не соответствует"},0,0,0,0,0,{"$f":"[8]Расчетный!BN289","v":1568},{"$f":"[8]Расчетный!BR289","v":0.72877326530612241},{"$f":"[8]Расчетный!I289","v":1.00186},{"$f":"[8]Расчетный!BX289","v":1130.6999999999998},{"$f":"[8]Расчетный!BL289-[8]Расчетный!BV289","v":464.09999999999991},0,0,0,0,0,0,0,0,0,0,0,0,0,0,0]
[null,null,"ФАП с.Киреевск ОГАУЗ \"Шегарская РБ\"",{"$f":"[8]Расчетный!E290","v":350},{"$f":"[8]Расчетный!F290","v":1},{"$f":"[8]Расчетный!G290","v":"Не соответствует"},0,0,0,0,0,{"$f":"[8]Расчетный!BN290","v":1568},{"$f":"[8]Расчетный!BR290","v":0.72794326530612252},{"$f":"[8]Расчетный!I290","v":1.0010300000000001},{"$f":"[8]Расчетный!BX290","v":1129.3999999999999},{"$f":"[8]Расчетный!BL290-[8]Расчетный!BV290","v":463.59999999999991},0,0,0,0,0,0,0,0,0,0,0,0,0,0,0]
[null,null,"ФАП с. Малобрагино ОГБУЗ \"Шегарская РБ\"",{"$f":"[8]Расчетный!E291","v":400},{"$f":"[8]Расчетный!F291","v":1},{"$f":"[8]Расчетный!G291","v":"Не соответствует"},0,0,0,0,0,{"$f":"[8]Расчетный!BN291","v":1568},{"$f":"[8]Расчетный!BR291","v":0.72877326530612241},{"$f":"[8]Расчетный!I291","v":1.00186},{"$f":"[8]Расчетный!BX291","v":1130.6999999999998},{"$f":"[8]Расчетный!BL291-[8]Расчетный!BV291","v":464.09999999999991},0,0,0,0,0,0,0,0,0,0,0,0,0,0,0]
[null,null,"ФАП с. Бабарыкино ОГБУЗ \"Шегарская РБ\"",{"$f":"[8]Расчетный!E292","v":478},{"$f":"[8]Расчетный!F292","v":1},{"$f":"[8]Расчетный!G292","v":"Не соответствует"},0,0,0,0,0,{"$f":"[8]Расчетный!BN292","v":1568},{"$f":"[8]Расчетный!BR292","v":0.73044326530612247},{"$f":"[8]Расчетный!I292","v":1.00353},{"$f":"[8]Расчетный!BX292","v":1133.3000000000002},{"$f":"[8]Расчетный!BL292-[8]Расчетный!BV292","v":465.20000000000005},0,0,0,0,0,0,0,0,0,0,0,0,0,0,0]
[null,null,"ФАП с. Монастырка ОГБУЗ \"Шегарская РБ\"",{"$f":"[8]Расчетный!E293","v":533},{"$f":"[8]Расчетный!F293","v":1},{"$f":"[8]Расчетный!G293","v":"Не соответствует"},0,0,0,0,0,{"$f":"[8]Расчетный!BN293","v":1568},{"$f":"[8]Расчетный!BR293","v":0.73063326530612238},{"$f":"[8]Расчетный!I293","v":1.0037199999999999},{"$f":"[8]Расчетный!BX293","v":1133.5999999999999},{"$f":"[8]Расчетный!BL293-[8]Расчетный!BV293","v":465.30000000000007},0,0,0,0,0,0,0,0,0,0,0,0,0,0,0]
[null,null,"ФАП с. Маркелово ОГБУЗ \"Шегарская РБ\"",{"$f":"[8]Расчетный!E294","v":550},{"$f":"[8]Расчетный!F294","v":1},{"$f":"[8]Расчетный!G294","v":"Не соответствует"},0,0,0,0,0,{"$f":"[8]Расчетный!BN294","v":1568},{"$f":"[8]Расчетный!BR294","v":0.73121326530612241},{"$f":"[8]Расчетный!I294","v":1.0043},{"$f":"[8]Расчетный!BX294","v":1134.5},{"$f":"[8]Расчетный!BL294-[8]Расчетный!BV294","v":465.69999999999993},0,0,0,0,0,0,0,0,0,0,0,0,0,0,0]
[null,null,"ФАП с. Анастасьевка ОГБУЗ \"Шегарская РБ\"",{"$f":"[8]Расчетный!E295","v":588},{"$f":"[8]Расчетный!F295","v":1},{"$f":"[8]Расчетный!G295","v":"Не соответствует"},0,0,0,0,0,{"$f":"[8]Расчетный!BN295","v":1568},{"$f":"[8]Расчетный!BR295","v":0.73108326530612244},{"$f":"[8]Расчетный!I295","v":1.00417},{"$f":"[8]Расчетный!BX295","v":1134.3000000000002},{"$f":"[8]Расчетный!BL295-[8]Расчетный!BV295","v":465.60000000000014},0,0,0,0,0,0,0,0,0,0,0,0,0,0,0]
[null,null,"ФАП с. Каргала ОГБУЗ \"Шегарская РБ\"",{"$f":"[8]Расчетный!E296","v":672},{"$f":"[8]Расчетный!F296","v":1},{"$f":"[8]Расчетный!G296","v":"Не соответствует"},0,0,0,0,0,{"$f":"[8]Расчетный!BN296","v":1568},{"$f":"[8]Расчетный!BR296","v":0.73115326530612246},{"$f":"[8]Расчетный!I296","v":1.00424},{"$f":"[8]Расчетный!BX296","v":1134.3000000000002},{"$f":"[8]Расчетный!BL296-[8]Расчетный!BV296","v":465.6},0,0,0,0,0,0,0,0,0,0,0,0,0,0,0]
[null,null,"ФАП с. Вороновка ОГБУЗ \"Шегарская РБ\"",{"$f":"[8]Расчетный!E297","v":1079},{"$f":"[8]Расчетный!F297","v":1},{"$f":"[8]Расчетный!G297","v":"Не соответствует"},0,0,0,0,0,{"$f":"[8]Расчетный!BN297","v":0},{"$f":"[8]Расчетный!BR297","v":0},0,{"$f":"[8]Расчетный!BX297","v":0},{"$f":"[8]Расчетный!BL297-[8]Расчетный!BV297","v":0},{"$f":"[8]Расчетный!CY297","v":3135.9},{"$f":"[8]Расчетный!DC297","v":0.45897567205586914},{"$f":"[8]Расчетный!I297","v":1.0059},{"$f":"[8]Расчетный!DI297","v":1424.1},{"$f":"[8]Расчетный!CW297-[8]Расчетный!DG297","v":584.5},0,0,0,0,0,0,0,0,0,0]
[354,20,"ФГБУ СибФНКЦ ФМБА России",{"$f":"SUM(D276)","v":542},{"$f":"SUM(E276)","v":1},{"$nulls":9},{"$f":"SUM(O276)","v":1267},{"$f":"SUM(P276)","v":519.99999999999989},{"$nulls":15},{"$f":"J275+O275+T275+Y275+AD275","v":1267}]
[null,null,"ФАП п. Орловка ФГБУ СибФНКЦ ФМБА России",{"$f":"[8]Расчетный!E299","v":542},{"$f":"[8]Расчетный!F299","v":1},{"$f":"[8]Расчетный!G299","v":"Не соответствует"},0,0,0,0,0,{"$f":"[8]Расчетный!BN299","v":1743.5},{"$f":"[8]Расчетный!BR299","v":0.73443859191281902},{"$f":"[8]Расчетный!I299","v":1.0075099999999999},{"$f":"[8]Расчетный!BX299","v":1267},{"$f":"[8]Расчетный!BL299-[8]Расчетный!BV299","v":519.99999999999989},0,0,0,0,0,0,0,0,0,0,0,0,0,0,0]
[null,21,"ИТОГО ФАП:",{"$f":"D23+D27+D48+D56+D65+D76+D97+D112+D133+D145+D155+D166+D187+D195+D212+D216+D229+D247+D259+D275","v":92963},{"$f":"E23+E27+E48+E56+E65+E76+E97+E112+E133+E145+E155+E166+E187+E195+E212+E216+E229+E247+E259+E275","v":234},{"$nulls":4},{"$f":"J23+J27+J48+J56+J65+J76+J97+J112+J133+J145+J155+J166+J187+J195+J212+J216+J229+J247+J259+J275","v":22958.5},{"$f":"K23+K27+K48+K56+K65+K76+K97+K112+K133+K145+K155+K166+K187+K195+K212+K216+K229+K247+K259+K275","v":9369.1999999999989},null,null,null,{"$f":"O23+O27+O48+O56+O65+O76+O97+O112+O133+O145+O155+O166+O187+O195+O212+O216+O229+O247+O259+O275","v":259391.69999999998},{"$f":"P23+P27+P48+P56+P65+P76+P97+P112+P133+P145+P155+P166+P187+P195+P212+P216+P229+P247+P259+P275","v":106239},null,null,null,{"$f":"T23+T27+T48+T56+T65+T76+T97+T112+T133+T145+T155+T166+T187+T195+T212+T216+T229+T247+T259+T275","v":27989.999999999996},{"$f":"U23+U27+U48+U56+U65+U76+U97+U112+U133+U145+U155+U166+U187+U195+U212+U216+U229+U247+U259+U275","v":11410.999999999998},null,null,null,{"$f":"Y23+Y27+Y48+Y56+Y65+Y76+Y97+Y112+Y133+Y145+Y155+Y166+Y187+Y195+Y212+Y216+Y229+Y247+Y259+Y275","v":2717.2},{"$f":"Z23+Z27+Z48+Z56+Z65+Z76+Z97+Z112+Z133+Z145+Z155+Z166+Z187+Z195+Z212+Z216+Z229+Z247+Z259+Z275","v":1115.3},null,null,null,{"$f":"AD23+AD27+AD48+AD56+AD65+AD76+AD97+AD112+AD133+AD145+AD155+AD166+AD187+AD195+AD212+AD216+AD229+AD247+AD259+AD275","v":12173.699999999999},{"$f":"AE23+AE27+AE48+AE56+AE65+AE76+AE97+AE112+AE133+AE145+AE155+AE166+AE187+AE195+AE212+AE216+AE229+AE247+AE259+AE275","v":4996.5999999999995},{"$f":"AF23+AF27+AF48+AF56+AF65+AF76+AF97+AF112+AF133+AF145+AF155+AF166+AF187+AF195+AF212+AF216+AF229+AF247+AF259+AF275","v":325231.10000000003}]

{"sheet":"Приложение № 5","index":5,"n_rows":41,"n_cols":10,"rows_kept":41,"cut":false,"hidden":false,"merged":[]}
["_Оглавление_"]
[null,{"$f":"MID(CELL(\"filename\",A2),SEARCH(\"]\",CELL(\"filename\",A2))+1,31)","v":"Приложение № 5"}]
[null,{"$f":"'Приложение № 3'!B3","v":"к Дополнительному соглашению № 6"}]
[null,{"$f":"_Оглавление_!A3","v":"от 05.06.2024"}]
[null,"к Тарифному соглашению"]
[null,"на оплату медицинской помощи "]
[null,"по ОМС на территории Томской области на 2024 год "]
[null,"от 05.02.2024"]
[]
[null,"Приложение № 38"]
[null,"к  Тарифному соглашению"]
[null,"на оплату медицинской помощи"]
[null,"по ОМС на территории Томской области на 2024 год"]
[null,"от 05.02.2024"]
[]
[null,"Тарифы на оплату  скорой медицинской помощи , по подушевому нормативу финансирования, оказываемой медицинскими организациями, участвующими в реализации территориальной программы обязательного медицинского страхования Томской области, с 01.06.2024"]
[]
[]
[null,"Код МО","Наименование МО","Среднемесячное количество лиц, обслуживаемых медицинскими организациями, оказывающими скорую медицинскую помощь, по состоянию на 01.05.2024","Базовый подушевой норматив на одно застрахованное лицо (руб. в месяц)","Коэффициент половозрастного состава","Коэффициент уровня расходов медицинских организаций (особенности плотности населения, транспортной доступности, климатических и географических особенностей, размер медицинской организации)","Коэффициент достижения целевых показателей уровня заработной платы медицинских работников, установленных «дорожными картами» развития здравоохранения в субъекте Российской Федерации","Коэффициент дифференциации по территориям оказания медицинской помощи","Дифференцированный подушевой норматив финансирования скорой медицинской помощи, руб. в месяц,  (гр.  8= гр.3*гр.4*гр.5*гр.6*гр.7)"]
[null,null,1,2,3,4,5,6,7,8]
[null,61,"ОГАУЗ \"Александровская РБ\"",{"$f":"VLOOKUP(B21,[9]Расчет!$A$5:$E$25,5,0)","v":7330},78,0.99751999999999996,1,1,1.8149999999999999,{"$f":"ROUND(E21*F21*G21*H21*I21,2)","v":141.22}]
[null,59,"ОГБУЗ \"Асиновская РБ\"",{"$f":"VLOOKUP(B22,[9]Расчет!$A$5:$E$25,5,0)","v":34878},78,0.99838000000000005,1,1,1.27,{"$f":"ROUND(E22*F22*G22*H22*I22,2)","v":98.9}]
[null,63,"ОГБУЗ \"Бакчарская РБ\"",{"$f":"VLOOKUP(B23,[9]Расчет!$A$5:$E$25,5,0)","v":14465},78,0.98214000000000001,1,1,1.665,127.55]
[null,65,"ОГБУЗ \"Верхнекетская РБ\"",{"$f":"VLOOKUP(B24,[9]Расчет!$A$5:$E$25,5,0)","v":14456},78,1.01065,1,1,1.7949999999999999,141.5]
[null,67,"ОГБУЗ \"Зырянская РБ\"",{"$f":"VLOOKUP(B25,[9]Расчет!$A$5:$E$25,5,0)","v":12690},78,1.0053700000000001,1,1,1.26,98.81]
[null,69,"ОГБУЗ \"Каргасокская РБ\"",{"$f":"VLOOKUP(B26,[9]Расчет!$A$5:$E$25,5,0)","v":19491},78,0.99741000000000002,1,1,1.831,142.44999999999999]
[null,71,"ОГАУЗ \"Кожевниковская РБ\"",{"$f":"VLOOKUP(B27,[9]Расчет!$A$5:$E$25,5,0)","v":18789},78,1.01207,1,1,1.272,100.41]
[null,103,"ОГАУЗ \"Колпашевская РБ\"",{"$f":"VLOOKUP(B28,[9]Расчет!$A$5:$E$25,5,0)","v":38168},78,1.02773,1,1,1.7929999999999999,143.72999999999999]
[null,73,"ОГАУЗ \"Кривошеинская РБ\"",{"$f":"VLOOKUP(B29,[9]Расчет!$A$5:$E$25,5,0)","v":12096},78,1.02393,1,1,1.63,130.18]
[null,75,"ОГБУЗ \"Молчановская РБ\"",{"$f":"VLOOKUP(B30,[9]Расчет!$A$5:$E$25,5,0)","v":12361},78,1.0122800000000001,1,1,1.637,129.25]
[null,275,"ОГАУЗ \"Моряковская УБ им.В.С.Демьянова\"",{"$f":"VLOOKUP(B31,[9]Расчет!$A$5:$E$25,5,0)","v":4955},78,1.04298,1,1,1.2709999999999999,103.4]
[null,203,"ОГБУЗ \"Парабельская РБ\"",{"$f":"VLOOKUP(B32,[9]Расчет!$A$5:$E$25,5,0)","v":11956},78,0.99575999999999998,1,1,1.794,139.34]
[null,79,"ОГБУЗ \"Первомайская РБ\"",{"$f":"VLOOKUP(B33,[9]Расчет!$A$5:$E$25,5,0)","v":17225},78,0.99490999999999996,1,1,1.272,98.71]
[null,231,"ОГАУЗ \"Светленская РБ\"",{"$f":"VLOOKUP(B34,[9]Расчет!$A$5:$E$25,5,0)","v":33199},78,1.0017199999999999,1,1,1.2709999999999999,99.31]
[null,115,"ОГАУЗ \"Стрежевская ГБ\"",{"$f":"VLOOKUP(B35,[9]Расчет!$A$5:$E$25,5,0)","v":35639},78,0.9476,1,1,1.7649999999999999,130.46]
[null,81,"ОГБУЗ \"Тегульдетская РБ\"",{"$f":"VLOOKUP(B36,[9]Расчет!$A$5:$E$25,5,0)","v":6359},78,0.99302000000000001,1,1,1.6439999999999999,127.34]
[null,83,"ОГАУЗ \"Томская РБ\"",{"$f":"VLOOKUP(B37,[9]Расчет!$A$5:$E$25,5,0)","v":50374},78,1.0112099999999999,1,1,1.2709999999999999,100.25]
[null,85,"ОГБУЗ \"Чаинская РБ\"",{"$f":"VLOOKUP(B38,[9]Расчет!$A$5:$E$25,5,0)","v":10314},78,1.02129,1,1,1.7769999999999999,141.56]
[null,87,"ОГАУЗ \"Шегарская РБ\"",{"$f":"VLOOKUP(B39,[9]Расчет!$A$5:$E$25,5,0)","v":17167},78,1.0502899999999999,1,1,1.242,101.75]
[null,321,"ОГАУЗ \"Станция скорой медицинской помощи\"",{"$f":"VLOOKUP(B40,[9]Расчет!$A$5:$E$25,5,0)","v":534299},78,0.9869,1,1.3265,1.274,130.09]
[null,354,"ФГБУ СибФНКЦ ФМБА России",{"$f":"VLOOKUP(B41,[9]Расчет!$A$5:$E$25,5,0)","v":101478},78,1.05745,1,1,1.381,113.91]