{"text_format":"2","workbook":"xlsx","n_sheets":5,"sheets":["ФОТ (общий ФОТ) ","Коэф. по ФОТ (2)","СМП 2017  (2)","Коэф. плотности","СМП 2023 "],"not_rendered":{"charts":0,"images":1,"macros":0,"external_links":1,"defined_names":25,"comments":0,"pivot_tables":0},"unopened":[],"bounds":{"document_bytes":16777216,"sheet_cells":100000,"run_cost":"one","rows_first":2000,"rows_last":500,"rows_between":2000,"halvings":0,"cell_chars":16384,"cell_head_chars":4096},"cells_cut":0,"cells_raw":0,"read":"whole","date_system":"1900"}

{"sheet":"ФОТ (общий ФОТ) ","index":0,"n_rows":15,"n_cols":9,"rows_kept":15,"cut":false,"hidden":true,"merged":[[0,0,0,4],[1,0,1,4],[2,0,2,5],[2,7,2,8],[3,2,3,3],[3,4,4,4],[3,5,3,6],[3,7,3,8]]}
[]
[]
[]
["№ п.п.","Наименование МО","Фонд оплаты труда, учитывающий достижение целевых показателей уровня заработной платы медицинских работников, установленных региональной \"дорожной картой\"",null,"ИТОГО ФОТ на 2016 год","ФОТ  на 2014 год",null,"ФОТ  на 2015 год"]
[null,null,"рассчёт МО по тарификации","стимулирующие",null,"утверждено","разница с 2016 годом","утверждено","разница с 2016 годом"]
[1,2,3,4,5,7,8,7,8]
[1,"МОГБУЗ \"Станция скорой медицинской помощи\"",{"$f":"E7-D7","v":126088.4},10011.6,136100,null,null,124990.68,{"$f":"E7-H7","v":11109.320000000007}]
[2,"МОГБУЗ \"Ольская РБ\"",{"$f":"E8-D8","v":11871.6},1328.4,13200,13087.74,{"$f":"E8-F8","v":112.26000000000022},16618.05,{"$f":"E8-H8","v":-3418.0499999999993}]
[3,"МОГБУЗ \"Омсукчанская РБ\"",7406.2,793.8,8200,6268.79,{"$f":"E9-F9","v":1931.21},7399.73,{"$f":"E9-H9","v":800.27000000000044}]
[4,"МОГБУЗ \"Среднеканская РБ\"",5713,567,6280,5537.02,742.97999999999956,6279.38,0.61999999999989086]
[5,"МОГБУЗ \"Сусуманская РБ\"",13812.4,1587.6,15400,14066.11,1333.8899999999994,{"$f":"SUM(F11:G11)","v":15400},0]
[6,"МОГБУЗ \"Тенькинская РБ\"",14011.8,988.2,15000,11068.87,3931.1299999999992,14992.52,7.4799999999995634]
[7,"МОГБУЗ \"Хасынская РБ\"",10733,567,11300,12576.16,-1276.1599999999999,8695.68,2604.3199999999997]
[8,"МОГБУЗ \"Ягоднинская РБ\"",13272.2,1927.8,15200,15392.08,-192.07999999999993,10470.85,4729.1499999999996]
[null,"ИТОГО ",{"$f":"SUM(C7:C14)","v":202908.6},{"$f":"SUM(D7:D14)","v":17771.400000000001},{"$f":"SUM(E7:E14)","v":220680}]

{"sheet":"Коэф. по ФОТ (2)","index":1,"n_rows":16,"n_cols":7,"rows_kept":16,"cut":false,"hidden":true,"merged":[[0,0,0,6],[1,0,1,5],[2,0,2,6],[2,7,2,8],[3,0,5,0],[3,1,5,1],[3,2,5,2],[3,3,5,3],[3,4,5,4],[3,5,5,5]]}
["РАСЧЁТ"]
["КОЭФФИЦИЕНТОВ ДИФФЕРЕНЦИАЦИИ УЧИТЫВАЮЩЕГО ДОСТИЖЕНИЕ ЦЕЛЕВЫХ ПОКАЗАТЕЛЕЙ УРОВНЯ ЗАРАБОТНОЙ ПЛАТЫ МЕДИЦИНСКИХ РАБОТНИКОВ, УСТАНОВЛЕННЫХ РЕГИОНАЛЬНОЙ \"ДОРОЖНОЙ КАРТОЙ\""]
[]
["№ п.п.","Наименование МО","Численность обслуживаемых, застрахованных лиц  на 01.01.16 (чел.)","Фонд оплаты труда, учитывающий достижение целевых показателей уровня заработной платы медицинских работников, установленных региональной \"дорожной картой\"","Фонд оплаты труда, рассчитанный по подушевому нормативу","Коэффициент дифференциации, учитывающий достижение целевых показателей уровня заработной платы медицинских работников, установленных региональной \"дорожной картой\" (КДЗП)"]
[]
[]
[1,2,3,4,5,6]
[1,"МОГБУЗ \"Станция скорой медицинской помощи\"",{"$f":"#REF!","v":{"$error":"#REF!"}},135661.70000000001,{"$f":"ROUND($D$16/$C$16*C8,2)","v":{"$error":"#REF!"}},{"$f":"ROUND(D8/E8,3)","v":{"$error":"#REF!"}},135661.70000000001]
[2,"МОГБУЗ \"Ольская РБ\"",{"$f":"#REF!","v":{"$error":"#REF!"}},13000,{"$f":"ROUND($D$16/$C$16*C9,2)","v":{"$error":"#REF!"}},{"$f":"ROUND(D9/E9,3)","v":{"$error":"#REF!"}},15000]
[3,"МОГБУЗ \"Омсукчанская РБ\"",{"$f":"#REF!","v":{"$error":"#REF!"}},8700,{"$error":"#REF!"},{"$error":"#REF!"},8500]
[4,"МОГБУЗ \"Среднеканская РБ\"",{"$f":"#REF!","v":{"$error":"#REF!"}},6300,{"$error":"#REF!"},{"$error":"#REF!"},6600]
[5,"МОГБУЗ \"Сусуманская РБ\"",{"$f":"#REF!","v":{"$error":"#REF!"}},16000,{"$error":"#REF!"},{"$error":"#REF!"},16500]
[6,"МОГБУЗ \"Тенькинская РБ\"",{"$f":"#REF!","v":{"$error":"#REF!"}},11000,{"$error":"#REF!"},{"$error":"#REF!"},15000]
[7,"МОГБУЗ \"Хасынская РБ\"",{"$f":"#REF!","v":{"$error":"#REF!"}},9000,{"$error":"#REF!"},{"$error":"#REF!"},11300]
[8,"МОГБУЗ \"Ягоднинская РБ\"",{"$f":"#REF!","v":{"$error":"#REF!"}},14000,{"$error":"#REF!"},{"$error":"#REF!"},15660]
[null,"ИТОГО Магаданская область (без Северо-Эвенского района)",{"$f":"SUM(C8:C15)","v":{"$error":"#REF!"}},{"$f":"SUM(D8:D15)","v":213661.7},{"$f":"SUM(E8:E15)","v":{"$error":"#REF!"}}]

{"sheet":"СМП 2017  (2)","index":2,"n_rows":20,"n_cols":25,"rows_kept":20,"cut":false,"hidden":true,"merged":[[7,12,15,12],[9,13,10,13],[11,13,12,13],[13,13,14,13],[9,10,10,10],[9,11,10,11],[11,10,12,10],[11,11,12,11],[13,10,14,10],[13,11,14,11],[7,10,8,10],[7,11,8,11],[7,13,8,13],[5,17,5,18],[0,10,0,16],[1,10,1,16],[2,2,2,14],[3,1,5,1],[3,2,5,2],[3,3,5,3],[3,4,5,4],[3,5,5,5],[3,6,3,10],[3,11,4,11],[3,12,4,12],[3,13,4,13],[3,14,4,14],[3,15,4,15],[3,16,4,16]]}
[]
[]
[null,null,"Объем финансового обеспечения  медицинских организаций, оказывающих скорую медицинскую помощь с 01.01.2017 года",{"$nulls":13},"для расчётов"]
[null,"№ п.п.","Наименование МО","Объемы по нормативу ТПОМС (0,327)","Подушевой норматив финасирования \nСМП                                в месяц","Численность прикрепленных, застрахованных лиц                                              на 01.04.16 (чел.)","Коэффициенты дифференциации",{"$nulls":4},"Дифференцированны подушевой норматив финасирования \nСМП  для i группы","Поправочный коэффициент","Фактический дифференцированный подушевой норматив финансирования \nСМП  для i группы","Объем финансового обеспечения  медицинской организации, оказывающей СМП по подушевому финансированию с 01.01.2017г.","Объем финансового обеспечения  медицинской организации, оказывающей СМП по подушевому финансированию","для расчёта ПК"]
[{"$nulls":6},"По половозрастной структуре","По уровню ФОТ","По плотности населения","Интегрированный коэфициент","Средневзвешенное значение Кдинт"]
[{"$nulls":6},"КДПВС","КДЗП","КДПН","КДИНТ","СКД интi","Дпнi","ПК","ФДпнi","в месяц","на год",null,"не удалять - участвует в расчётах"]
[null,1,2,null,3,4,5,6,7,8,9,10,11,12,13,14]
[1343001,1,"МОГБУЗ \"Станция скорой медицинской помощи\"",6765,{"$f":"ROUND(313620790/'СМП 2017  (2)'!F16/12,2)","v":{"$error":"#REF!"}},{"$f":"#REF!","v":{"$error":"#REF!"}},{"$f":"#REF!","v":{"$error":"#REF!"}},{"$f":"'Коэф. по ФОТ (2)'!F8","v":{"$error":"#REF!"}},{"$f":"'Коэф. плотности'!F8","v":{"$error":"#REF!"}},{"$f":"G8*H8*I8","v":{"$error":"#REF!"}},{"$f":"S9/U9","v":{"$error":"#REF!"}},{"$f":"ROUND(E8*K8,2)","v":{"$error":"#REF!"}},{"$f":"ROUND(Q16/Q17,9)","v":{"$error":"#REF!"}},{"$f":"L8/M8","v":{"$error":"#REF!"}},{"$f":"ROUND(F8*$N$8,2)","v":{"$error":"#REF!"}},{"$f":"ROUND(O8*12,2)","v":{"$error":"#REF!"}},{"$f":"ROUND($L$8*F8,2)","v":{"$error":"#REF!"}},{"$f":"E8*F8*J8","v":{"$error":"#REF!"}},null,{"$f":"E8*F8","v":{"$error":"#REF!"}},null,182955.86,null,{"$f":"P8-'СМП 2023 '!M13","v":{"$error":"#REF!"}},{"$f":"P8/#REF!","v":{"$error":"#REF!"}}]
[null,2,"МОГБУЗ \"Хасынская РБ\"",20230,{"$f":"E12","v":{"$error":"#REF!"}},{"$f":"#REF!","v":{"$error":"#REF!"}},{"$f":"#REF!","v":{"$error":"#REF!"}},{"$f":"'Коэф. по ФОТ (2)'!F14","v":{"$error":"#REF!"}},{"$f":"'Коэф. плотности'!F14","v":{"$error":"#REF!"}},{"$f":"G9*H9*I9","v":{"$error":"#REF!"}},{"$nulls":4},{"$f":"ROUND(F9*$N$8,2)","v":{"$error":"#REF!"}},{"$error":"#REF!"},{"$f":"ROUND(L8*F9,2)","v":{"$error":"#REF!"}},{"$error":"#REF!"},{"$f":"R9+R8","v":{"$error":"#REF!"}},{"$f":"E9*F9","v":{"$error":"#REF!"}},{"$f":"T9+T8","v":{"$error":"#REF!"}},15230.61,null,{"$f":"P9-'СМП 2023 '!#REF!","v":{"$error":"#REF!"}},{"$f":"P9/#REF!","v":{"$error":"#REF!"}}]
[null,4,"МОГБУЗ \"Ольская РБ\"",7000,{"$f":"E8","v":{"$error":"#REF!"}},{"$f":"#REF!","v":{"$error":"#REF!"}},{"$f":"#REF!","v":{"$error":"#REF!"}},{"$f":"'Коэф. по ФОТ (2)'!F9","v":{"$error":"#REF!"}},{"$f":"'Коэф. плотности'!F9","v":{"$error":"#REF!"}},{"$f":"G10*H10*I10","v":{"$error":"#REF!"}},{"$f":"S11/U11","v":{"$error":"#REF!"}},{"$f":"ROUND(E8*K10,2)","v":{"$error":"#REF!"}},null,{"$f":"L10/M8","v":{"$error":"#REF!"}},{"$f":"ROUND(F10*$N$10,2)","v":{"$error":"#REF!"}},{"$error":"#REF!"},{"$f":"ROUND(L10*F10,2)","v":{"$error":"#REF!"}},{"$error":"#REF!"},null,{"$f":"E10*F10","v":{"$error":"#REF!"}},null,20070.490000000002,null,{"$f":"P10-'СМП 2023 '!#REF!","v":{"$error":"#REF!"}},{"$f":"P10/#REF!","v":{"$error":"#REF!"}}]
[null,3,"МОГБУЗ \"Ягоднинская РБ\"",9000,{"$f":"E9","v":{"$error":"#REF!"}},{"$f":"#REF!","v":{"$error":"#REF!"}},{"$f":"#REF!","v":{"$error":"#REF!"}},{"$f":"'Коэф. по ФОТ (2)'!F15","v":{"$error":"#REF!"}},{"$f":"'Коэф. плотности'!F15","v":{"$error":"#REF!"}},{"$error":"#REF!"},{"$nulls":4},{"$f":"ROUND(F11*$N$10,2)","v":{"$error":"#REF!"}},{"$error":"#REF!"},{"$f":"ROUND($L$10*F11,2)","v":{"$error":"#REF!"}},{"$error":"#REF!"},{"$f":"R11+R10","v":{"$error":"#REF!"}},{"$f":"E11*F11","v":{"$error":"#REF!"}},{"$f":"T11+T10","v":{"$error":"#REF!"}},20756.27,null,{"$f":"P11-'СМП 2023 '!#REF!","v":{"$error":"#REF!"}},{"$f":"P11/#REF!","v":{"$error":"#REF!"}}]
[null,5,"МОГБУЗ \"Омсукчанская РБ\"",5000,{"$f":"E10","v":{"$error":"#REF!"}},{"$f":"#REF!","v":{"$error":"#REF!"}},{"$f":"#REF!","v":{"$error":"#REF!"}},{"$f":"'Коэф. по ФОТ (2)'!F10","v":{"$error":"#REF!"}},{"$f":"'Коэф. плотности'!F10","v":{"$error":"#REF!"}},{"$f":"G12*H12*I12","v":{"$error":"#REF!"}},{"$f":"S13/U13","v":{"$error":"#REF!"}},{"$f":"ROUND(E10*K12,2)","v":{"$error":"#REF!"}},null,{"$f":"L12/M8","v":{"$error":"#REF!"}},{"$f":"ROUND(F12*$N$12,2)","v":{"$error":"#REF!"}},{"$f":"ROUND(O12*12,2)","v":{"$error":"#REF!"}},{"$f":"ROUND(L12*F12,2)","v":{"$error":"#REF!"}},{"$f":"E12*F12*J12","v":{"$error":"#REF!"}},null,{"$f":"E12*F12","v":{"$error":"#REF!"}},null,10722.07,null,{"$f":"P12-'СМП 2023 '!#REF!","v":{"$error":"#REF!"}},{"$f":"P12/#REF!","v":{"$error":"#REF!"}}]
[null,7,"МОГБУЗ \"Сусуманская РБ\"",14000,{"$f":"E14","v":{"$error":"#REF!"}},{"$f":"#REF!","v":{"$error":"#REF!"}},{"$f":"#REF!","v":{"$error":"#REF!"}},{"$f":"'Коэф. по ФОТ (2)'!F12","v":{"$error":"#REF!"}},{"$f":"'Коэф. плотности'!F12","v":{"$error":"#REF!"}},{"$f":"G13*H13*I13","v":{"$error":"#REF!"}},{"$nulls":4},{"$f":"ROUND(F13*$N$12,2)","v":{"$error":"#REF!"}},{"$f":"ROUND(O13*12,2)","v":{"$error":"#REF!"}},{"$f":"ROUND(L12*F13,2)","v":{"$error":"#REF!"}},{"$f":"E13*F13*J13","v":{"$error":"#REF!"}},{"$f":"R13+R12","v":{"$error":"#REF!"}},{"$f":"E13*F13","v":{"$error":"#REF!"}},{"$f":"T13+T12","v":{"$error":"#REF!"}},21574.400000000001,null,{"$f":"P13-'СМП 2023 '!#REF!","v":{"$error":"#REF!"}},{"$f":"P13/#REF!","v":{"$error":"#REF!"}}]
[1340004,6,"МОГБУЗ \"Среднеканская РБ\"",13300,{"$f":"E12","v":{"$error":"#REF!"}},{"$f":"#REF!","v":{"$error":"#REF!"}},{"$f":"#REF!","v":{"$error":"#REF!"}},{"$f":"'Коэф. по ФОТ (2)'!F11","v":{"$error":"#REF!"}},{"$f":"'Коэф. плотности'!F11","v":{"$error":"#REF!"}},{"$error":"#REF!"},{"$f":"S15/U15","v":{"$error":"#REF!"}},{"$f":"ROUND(E12*K14,2)","v":{"$error":"#REF!"}},null,{"$f":"L14/M8","v":{"$error":"#REF!"}},{"$f":"ROUND(F14*$N$14,2)","v":{"$error":"#REF!"}},{"$error":"#REF!"},{"$f":"ROUND(L14*F14,2)","v":{"$error":"#REF!"}},{"$error":"#REF!"},null,{"$f":"E14*F14","v":{"$error":"#REF!"}},null,7997.75,null,{"$f":"P14-'СМП 2023 '!#REF!","v":{"$error":"#REF!"}},{"$f":"P14/#REF!","v":{"$error":"#REF!"}}]
[1340011,8,"МОГБУЗ \"Тенькинская РБ\"",6000,{"$f":"E13","v":{"$error":"#REF!"}},{"$f":"#REF!","v":{"$error":"#REF!"}},{"$f":"#REF!","v":{"$error":"#REF!"}},{"$f":"'Коэф. по ФОТ (2)'!F13","v":{"$error":"#REF!"}},{"$f":"'Коэф. плотности'!F13","v":{"$error":"#REF!"}},{"$error":"#REF!"},{"$nulls":4},{"$f":"ROUND(F15*$N$14,2)","v":{"$error":"#REF!"}},{"$error":"#REF!"},{"$f":"ROUND(F15*L14,2)","v":{"$error":"#REF!"}},{"$error":"#REF!"},{"$f":"R15+R14","v":{"$error":"#REF!"}},{"$f":"E15*F15","v":{"$error":"#REF!"}},{"$f":"T15+T14","v":{"$error":"#REF!"}},20483.75,null,{"$f":"P15-'СМП 2023 '!#REF!","v":{"$error":"#REF!"}},{"$f":"P15/#REF!","v":{"$error":"#REF!"}}]
[null,null,"ИТОГО Магаданская область (без Северо-Эвенского района)",443213,null,{"$f":"SUM(F8:F15)","v":{"$error":"#REF!"}},{"$nulls":8},{"$f":"SUM(O8:O15)","v":{"$error":"#REF!"}},{"$f":"SUM(P8:P15)","v":{"$error":"#REF!"}},{"$f":"SUM(Q8:Q15)","v":{"$error":"#REF!"}},{"$error":"#REF!"},null,{"$f":"E16*F16","v":{"$error":"#REF!"}},null,{"$f":"SUM(V8:V15)","v":299791.19999999995}]
[{"$nulls":4},{"$f":"310832010+57678300","v":368510310},{"$f":"E17/F16","v":{"$error":"#REF!"}},{"$nulls":8},{"$f":"Q17-O16","v":{"$error":"#REF!"}},{"$f":"E17","v":368510310},{"$f":"P17/12","v":30709192.5},null,{"$f":"'СМП 2017  (2)'!S13","v":{"$error":"#REF!"}},null,{"$f":"'СМП 2017  (2)'!U13","v":{"$error":"#REF!"}}]
[{"$nulls":15},{"$f":"P17-P16","v":{"$error":"#REF!"}}]
[{"$nulls":4},310832.01,"за 2016 год",{"$nulls":9},{"$f":"P17/#REF!","v":{"$error":"#REF!"}}]
[{"$nulls":15},{"$f":"P19/12","v":{"$error":"#REF!"}}]

{"sheet":"Коэф. плотности","index":3,"n_rows":32,"n_cols":6,"rows_kept":32,"cut":false,"hidden":true,"merged":[[0,0,0,5],[19,0,21,0],[19,1,21,1],[19,2,21,2],[19,3,21,3],[19,4,21,4],[19,5,21,5],[1,0,1,5],[2,0,2,6],[2,7,2,8],[3,0,5,0],[3,1,5,1],[3,2,5,2],[3,3,5,3],[3,4,5,4],[3,5,5,5]]}
["РАСЧЁТ"]
["КОЭФФИЦИЕНТА ПЛОТНОСТИ НАСЕЛЕНИЯ"]
[]
["№ п.п.","Наименование МО","Численность обслуживаемых, застрахованных лиц  на 01.01.16 (чел.)","Кол-во вызовов","Фонд оплаты труда, рассчитанный по подушевому нормативу","Коэффициент дифференциации, учитывающий достижение целевых показателей уровня заработной платы медицинских работников, установленных региональной \"дорожной картой\" (КДЗП)"]
[]
[]
[1,2,3,4,5,6]
[1,"МОГБУЗ \"Станция скорой медицинской помощи\"",{"$f":"#REF!","v":{"$error":"#REF!"}},26482,{"$f":"D8/C8","v":{"$error":"#REF!"}},{"$f":"ROUND(E8/$E$16,3)","v":{"$error":"#REF!"}}]
[2,"МОГБУЗ \"Ольская РБ\"",{"$f":"#REF!","v":{"$error":"#REF!"}},4277,{"$f":"D9/C9","v":{"$error":"#REF!"}},{"$f":"ROUND(E9/$E$16,3)","v":{"$error":"#REF!"}}]
[3,"МОГБУЗ \"Омсукчанская РБ\"",{"$f":"#REF!","v":{"$error":"#REF!"}},2304,{"$error":"#REF!"},{"$error":"#REF!"}]
[4,"МОГБУЗ \"Среднеканская РБ\"",{"$f":"#REF!","v":{"$error":"#REF!"}},1151,{"$error":"#REF!"},{"$error":"#REF!"}]
[5,"МОГБУЗ \"Сусуманская РБ\"",{"$f":"#REF!","v":{"$error":"#REF!"}},3144,{"$error":"#REF!"},{"$error":"#REF!"}]
[6,"МОГБУЗ \"Тенькинская РБ\"",{"$f":"#REF!","v":{"$error":"#REF!"}},2245,{"$error":"#REF!"},{"$error":"#REF!"}]
[7,"МОГБУЗ \"Хасынская РБ\"",{"$f":"#REF!","v":{"$error":"#REF!"}},2145,{"$error":"#REF!"},{"$error":"#REF!"}]
[8,"МОГБУЗ \"Ягоднинская РБ\"",{"$f":"#REF!","v":{"$error":"#REF!"}},4454,{"$error":"#REF!"},{"$error":"#REF!"}]
[null,"ИТОГО Магаданская область (без Северо-Эвенского района)",{"$f":"SUM(C8:C15)","v":{"$error":"#REF!"}},{"$f":"SUM(D8:D15)","v":46202},{"$error":"#REF!"}]
[{"$nulls":4},3]
[]
[]
["№ п.п.","Наименование МО","Численность обслуживаемых, застрахованных лиц  на 01.01.16 (чел.)","Кол-во вызовов","Фонд оплаты труда, рассчитанный по подушевому нормативу","Коэффициент дифференциации, учитывающий достижение целевых показателей уровня заработной платы медицинских работников, установленных региональной \"дорожной картой\" (КДЗП)"]
[]
[]
[1,2,3,4,5,6]
[1,"МОГБУЗ \"Станция скорой медицинской помощи\"",{"$f":"#REF!","v":{"$error":"#REF!"}},82.04,null,{"$f":"ROUND(E24/$E$16,3)","v":{"$error":"#REF!"}}]
[2,"МОГБУЗ \"Ольская РБ\"",{"$f":"#REF!","v":{"$error":"#REF!"}},0.13,null,{"$f":"ROUND(E25/$E$16,3)","v":{"$error":"#REF!"}}]
[3,"МОГБУЗ \"Омсукчанская РБ\"",{"$f":"#REF!","v":{"$error":"#REF!"}},0.09,null,{"$error":"#REF!"}]
[4,"МОГБУЗ \"Среднеканская РБ\"",{"$f":"#REF!","v":{"$error":"#REF!"}},0.03,null,{"$error":"#REF!"}]
[5,"МОГБУЗ \"Сусуманская РБ\"",{"$f":"#REF!","v":{"$error":"#REF!"}},0.17,null,{"$error":"#REF!"}]
[6,"МОГБУЗ \"Тенькинская РБ\"",{"$f":"#REF!","v":{"$error":"#REF!"}},0.13,null,{"$error":"#REF!"}]
[7,"МОГБУЗ \"Хасынская РБ\"",{"$f":"#REF!","v":{"$error":"#REF!"}},0.38,null,{"$error":"#REF!"}]
[8,"МОГБУЗ \"Ягоднинская РБ\"",{"$f":"#REF!","v":{"$error":"#REF!"}},0.28999999999999998,null,{"$error":"#REF!"}]
[null,"ИТОГО Магаданская область (без Северо-Эвенского района)",{"$f":"SUM(C24:C31)","v":{"$error":"#REF!"}},0.32,{"$f":"D32/C32","v":{"$error":"#REF!"}}]

{"sheet":"СМП 2023 ","index":4,"n_rows":14,"n_cols":13,"rows_kept":14,"cut":false,"hidden":false,"merged":[[12,9,13,9],[8,9,9,9],[8,11,9,11],[8,12,9,12],[8,10,9,10],[8,3,9,3],[6,1,6,3],[0,11,0,12],[2,11,2,12],[5,1,5,12],[3,11,3,12],[1,10,1,12],[7,1,7,12],[8,8,9,8],[8,5,8,7],[8,1,10,1],[8,2,10,2],[8,4,10,4]]}
[{"$nulls":11},"Приложение № 4"]
[{"$nulls":10},"к Дополнительному соглашению № 4"]
[{"$nulls":11},"от \"19\" июля 2023 года"]
[]
[]
[null,"Объем финансового обеспечения  медицинских организаций, оказывающих скорую медицинскую помощь за счёт средств обязательного медицинского страхования в 2023 году                                                                                                                                                                                                                                                                                    (вступает в силу с 01 мая 2023 года)"]
[]
[null,"Таблица 1"]
[null,"№ п.п.","Наименование МО","Подушевой норматив финасирования \nСМП                          (на месяц)","Численность прикрепленных, застрахованных лиц                                              на 01.05.2023 (чел.)","Коэффициенты, принимающие участие в расчете дифференцированных подушевых нормативов финансирования для медицинских организаций ",null,null,"Дифференцированны подушевой норматив финасирования \nСМП  для i группы","Поправочный коэффициент","Фактический дифференцированный подушевой норматив финансирования \nСМП  для i группы","Ежемесячный объем финансового обеспечения  медицинской организации, оказывающей СМП по подушевому финансированию с 01.05.2023","Объем финансового обеспечения  медицинской организации, оказывающей СМП по подушевому финансированию"]
[{"$nulls":5},"коэффициент половозрастного состава","коэффициент уровня расходов медицинских организаций (особенности плотности населения, транспортной доступности, климатических и географических особенностей, размер медицинской организации) ","коэффициент достижения целевых показателей уровня заработной платы медицинских работников, установленных «дорожными картами» развития здравоохранения в субъекте РФ"]
[null,null,null,"ПНБАЗ",null,"КДПВ","КДур","КДПН","Дпнi","ПК","ФДпнi","в месяц","на год"]
[null,1,2,3,4,5,6,7,8,9,10,11,12]
[1343001,1,"МОГБУЗ \"Станция скорой медицинской помощи\"",282.42147745731683,105357,1.0016499999999999,1.0149999999999999,1,287.15907373583769,0.96655487916760419,277.555004,29242362.559999999,350161767.04000002]
[null,2,"ГБУЗ \"Магаданская областная больница\"",282.42147745731683,26299,0.99373,1.113,1,312.36422330534299,null,301.91716400000001,7940119.5,95498633.879999995]