{"text_format":"2","workbook":"xlsx","n_sheets":12,"sheets":["Коэф плотности населения","АМП 2018 (+ санкции)","АМП 2018 (ДШО +роддом 991,43)","АМП 2018 (ДШО в подушевой)","АМП 2017 (терапевты)  (без пло)","1. АМП_без Акуш и Стомат","2. АМП_Акушерств","3. АМП_Стоматология","тарифы (с плот.) (2)","тарифы (с плот.)","тарифы (без плотн) (2)","тарифы (без плотн)"],"not_rendered":{"charts":0,"images":1,"macros":0,"external_links":1,"defined_names":50,"comments":4,"pivot_tables":0},"unopened":[],"bounds":{"document_bytes":16777216,"sheet_cells":100000,"run_cost":"one","rows_first":2000,"rows_last":500,"rows_between":2000,"halvings":0,"cell_chars":16384,"cell_head_chars":4096},"cells_cut":0,"cells_raw":0,"read":"whole","date_system":"1900"}

{"sheet":"Коэф плотности населения","index":0,"n_rows":20,"n_cols":6,"rows_kept":20,"cut":false,"hidden":true,"merged":[[0,0,0,5],[1,0,1,5],[2,0,2,6],[2,7,2,8],[3,0,5,0],[3,1,5,1],[3,2,5,2],[3,3,5,3],[3,4,5,4],[3,5,5,5]]}
["РАСЧЁТ"]
["КОЭФФИЦИЕНТА ПЛОТНОСТИ НАСЕЛЕНИЯ"]
[]
["№ п.п.","Наименование МО","Численность обслуживаемых, застрахованных лиц  на 01.12.17 (чел.)","Кол-во посещений","норматив объёмов на душу населения","Коэффициент плотности населения"]
[]
[]
[1,2,3,4,5,6]
[1,"ГБУЗ \"Магаданская областная детская больница\""]
[1,"МОГБУЗ \"Поликлиника № 1\""]
[2,"МОГБУЗ \"Поликлиника № 2\""]
[3,"МОГБУЗ \"Поликлиника № 3\""]
[4,"МОГБУЗ \"МСЧ \"Авиамедицина\"\""]
[5,"МОГБУЗ \"Ольская РБ\""]
[6,"МОГБУЗ \"Омсукчанская РБ\""]
[7,"МОГБУЗ \"Среднеканская РБ\""]
[8,"МОГБУЗ \"Сусуманская РБ\""]
[9,"МОГБУЗ \"Тенькинская РБ\""]
[10,"МОГАУЗ \"Хасынская РБ\""]
[11,"МОГБУЗ \"Ягоднинская РБ\""]
[null,"ИТОГО Магаданская область (без Северо-Эвенского района)",{"$f":"SUM(C8:C19)","v":0},{"$f":"SUM(D8:D19)","v":0},{"$f":"D20/C20","v":{"$error":"#DIV/0!"}}]

{"sheet":"АМП 2018 (+ санкции)","index":1,"n_rows":27,"n_cols":44,"rows_kept":27,"cut":false,"hidden":true,"merged":[[0,14,0,17],[1,14,1,17],[2,2,2,15],[3,1,6,1],[3,2,6,2],[3,3,5,3],[3,4,5,4],[3,5,3,11],[3,12,5,12],[3,13,5,13],[4,5,5,5],[4,6,5,6],[4,7,4,9],[4,10,5,10],[4,11,5,11],[9,41,13,41],[16,11,19,11],[16,12,19,12],[16,14,19,14],[4,19,6,19],[6,20,6,21],[6,37,6,38],[8,11,13,11],[8,12,13,12],[8,13,19,13],[8,14,13,14],[3,14,5,14],[3,15,5,15],[3,16,5,16],[3,17,5,17]]}
[]
[]
[null,null,"Предельный объем финансового обеспечения   медицинской организаций, имеющих прикрепленное население на 2018 год                                                                                                                                                              (за исключением медицинской помощи по акушерству и гинекологии и стоматологической медицинской помощи) + стационар         ",{"$nulls":14},"для расчётов"]
[null,"№ п.п.","Наименование МО","Подушевой норматив финасирования \nАМП                             на месяц","Численность прикрепленных, застрахованных лиц                                              на 01.03.18 (чел.)","Коэффициенты дифференциации",{"$nulls":6},"Дифференцированны подушевой норматив финасирования \nАМП  для i группы","Поправочный коэффициент","Фактический дифференцированный подушевой норматив финансирования \nАМП","Размер финансового обеспечения  медицинской организации, оказывающей АМП по подушевому финансированию                        на месяц","Предельный размер финансового обеспечения  медицинской организации, оказывающей АМП по подушевому финансированию                        на год","для расчёта ПК"]
[{"$nulls":5},"По половозрастной структуре","Коэффициент плотности населения","По уровню расходов на содержание отдельных структурных подразделений ",null,null,"Интегрированный коэффициент","Средневзвешенное значение Кдинт",{"$nulls":7},"разница в финансировании за 5 мес."]
[{"$nulls":7},"АМП","дневной стационар","круглсуточный стационар"]
[null,null,null,"Пн БАЗ","Чз ПР","КДПВС","КДПН","КДсп(АМП)","КДсп(ДС)","КДсп(КС)","КДИНТ","СКД интi","Дпнi","ПК","ФДПнi","ФОМЕС","ФОПРЕД",null,null,null,"не удалять - участвует в расчётах",{"$nulls":12},"СУММА НА ГОД",null,null,null,"разица с ежемесяным финансированием с марта 2018",null,null,null,"должно быть"," - переместить в круглосутку"," - переместить в дневной"]
[null,1,2,3,4,5,6,7,null,null,7,8,9,10,11,12]
[1343001,1,"ГБУЗ \"Магаданская областная детская больница\"",{"$f":"D23/'АМП 2018 (+ санкции)'!E22/3","v":{"$error":"#REF!"}},{"$f":"#REF!","v":{"$error":"#REF!"}},{"$f":"#REF!","v":{"$error":"#REF!"}},{"$f":"ROUND(1/1.2,2)","v":0.83},1.5227999999999999,1,1,{"$f":"F9*G9*H9*J9*I9","v":{"$error":"#REF!"}},{"$f":"V14/X14","v":{"$error":"#REF!"}},{"$f":"D9*L9","v":{"$error":"#REF!"}},{"$f":"R22/R23","v":{"$error":"#REF!"}},{"$f":"M9/N9","v":{"$error":"#REF!"}},{"$f":"ROUND($O$9*E9,2)","v":{"$error":"#REF!"}},{"$f":"ROUND(P9*3,2)","v":{"$error":"#REF!"}},{"$f":"$M$9*E9","v":{"$error":"#REF!"}},{"$f":"10475186.09*3","v":31425558.27},{"$f":"Q9-S9","v":{"$error":"#REF!"}},{"$f":"D9*E9*K9","v":{"$error":"#REF!"}},null,{"$f":"D9*E9","v":{"$error":"#REF!"}},null,null,127133453.40000001,125434123.44,{"$f":"AA9-Z9","v":-1699329.9600000083},{"$f":"Z9-Q9","v":{"$error":"#REF!"}},null,10594454.450000001,{"$f":"P9-AE9","v":{"$error":"#REF!"}},{"$f":"ROUND(AF9*10/1000,3)","v":{"$error":"#REF!"}},{"$f":"ROUND(Q9/1000,2)","v":{"$error":"#REF!"}},null,null,null,10474961.01,{"$f":"P9-AL9","v":{"$error":"#REF!"}},{"$f":"AM9*3","v":{"$error":"#REF!"}},{"$f":"ROUND(AN9/1000,2)-0.02","v":{"$error":"#REF!"}},21888.75,{"$f":"AP9-AO9-3366.39+7.05","v":{"$error":"#REF!"}},{"$f":"3366.39-7.05","v":3359.3399999999997}]
[null,2,"МОГБУЗ \"Ольская РБ\"",{"$f":"$D$18","v":{"$error":"#REF!"}},{"$f":"#REF!","v":{"$error":"#REF!"}},{"$f":"#REF!","v":{"$error":"#REF!"}},{"$f":"ROUND(1/0.95,2)","v":1.05},1.0397000000000001,1,1,{"$f":"F10*G10*H10*J10*I10","v":{"$error":"#REF!"}},{"$nulls":4},{"$f":"ROUND($O$9*E10,2)","v":{"$error":"#REF!"}},{"$f":"ROUND(P10*3,2)","v":{"$error":"#REF!"}},{"$error":"#REF!"},{"$f":"4876887.05*3","v":14630661.149999999},{"$f":"Q10-S10","v":{"$error":"#REF!"}},{"$error":"#REF!"},null,{"$error":"#REF!"},null,null,59031736.560000002,58242688.560000002,{"$f":"AA10-Z10","v":-789048},{"$f":"Z10-Q10","v":{"$error":"#REF!"}},null,4919311.38,{"$f":"P10-AE10","v":{"$error":"#REF!"}},{"$f":"ROUND(AF10*10/1000,3)","v":{"$error":"#REF!"}},{"$f":"ROUND(Q10/1000,2)","v":{"$error":"#REF!"}},null,null,null,4876782.2699999996,{"$f":"P10-AL10","v":{"$error":"#REF!"}},{"$f":"AM10*3","v":{"$error":"#REF!"}},{"$f":"ROUND(AN10/1000,2)","v":{"$error":"#REF!"}},null,{"$f":"-AO10+1000","v":{"$error":"#REF!"}},-1000]
[null,4,"МОГБУЗ \"Среднеканская РБ\"",{"$error":"#REF!"},{"$f":"#REF!","v":{"$error":"#REF!"}},{"$f":"#REF!","v":{"$error":"#REF!"}},{"$f":"ROUND(1/0.95,2)","v":1.05},1.0572999999999999,1,1,{"$error":"#REF!"},{"$nulls":4},{"$error":"#REF!"},{"$error":"#REF!"},{"$error":"#REF!"},{"$f":"1567117.87*3","v":4701353.6100000003},{"$error":"#REF!"},{"$error":"#REF!"},null,{"$error":"#REF!"},null,null,19019287.68,18765066.359999999,-254221.3200000003,{"$error":"#REF!"},null,1584940.64,{"$error":"#REF!"},{"$error":"#REF!"},{"$error":"#REF!"},null,null,null,1567084.2,{"$error":"#REF!"},{"$error":"#REF!"},{"$error":"#REF!"},null,{"$f":"-AO11","v":{"$error":"#REF!"}}]
[null,5,"МОГБУЗ \"Ягоднинская РБ\"",{"$error":"#REF!"},{"$f":"#REF!","v":{"$error":"#REF!"}},{"$f":"#REF!","v":{"$error":"#REF!"}},1.05,1.0339,1,1,{"$error":"#REF!"},{"$nulls":4},{"$f":"ROUND($O$9*E12,2)","v":{"$error":"#REF!"}},{"$error":"#REF!"},{"$error":"#REF!"},{"$f":"5014878.65*3","v":15044635.950000001},{"$error":"#REF!"},{"$error":"#REF!"},null,{"$error":"#REF!"},null,null,61306918.079999998,60487458.840000004,-819459.23999999464,{"$error":"#REF!"},null,5108909.84,{"$error":"#REF!"},{"$error":"#REF!"},{"$f":"ROUND(Q12/1000,2)-0.01","v":{"$error":"#REF!"}},null,null,null,5014770.9000000004,{"$error":"#REF!"},{"$error":"#REF!"},{"$error":"#REF!"},null,{"$f":"-AO12+1000","v":{"$error":"#REF!"}},-1000]
[null,6,"МОГБУЗ \"Омсукчанская РБ\"",{"$error":"#REF!"},{"$f":"#REF!","v":{"$error":"#REF!"}},{"$f":"#REF!","v":{"$error":"#REF!"}},1.05,1,1,1,{"$error":"#REF!"},{"$nulls":4},{"$error":"#REF!"},{"$error":"#REF!"},{"$error":"#REF!"},{"$f":"2732436.67*3","v":8197310.0099999998},{"$error":"#REF!"},{"$error":"#REF!"},null,{"$error":"#REF!"},null,null,33248395.800000001,32803980.960000001,-444414.83999999985,{"$error":"#REF!"},null,2770699.65,{"$error":"#REF!"},{"$error":"#REF!"},{"$f":"ROUND(Q13/1000,2)-0.01","v":{"$error":"#REF!"}},null,null,null,2732377.96,{"$error":"#REF!"},{"$error":"#REF!"},{"$error":"#REF!"},null,{"$f":"-AO13+1000","v":{"$error":"#REF!"}},-1000]
[null,8,"МОГАУЗ \"Хасынская РБ\"",{"$error":"#REF!"},{"$f":"#REF!","v":{"$error":"#REF!"}},{"$f":"#REF!","v":{"$error":"#REF!"}},1.05,1.0364,1,1,{"$error":"#REF!"},{"$nulls":4},{"$f":"ROUND($O$9*E14,2)","v":{"$error":"#REF!"}},{"$error":"#REF!"},{"$error":"#REF!"},{"$f":"4078362.11*3","v":12235086.33},{"$error":"#REF!"},{"$f":"D14*E14*K14","v":{"$error":"#REF!"}},{"$f":"SUM(U9:U14)","v":{"$error":"#REF!"}},{"$f":"D14*E14","v":{"$error":"#REF!"}},{"$f":"SUM(W9:W14)","v":{"$error":"#REF!"}},null,49654299.240000002,48990594.719999999,{"$f":"AA14-Z14","v":-663704.52000000328},{"$f":"Z14-Q14","v":{"$error":"#REF!"}},null,4137858.27,{"$f":"P14-AE14","v":{"$error":"#REF!"}},{"$f":"ROUND(AF14*10/1000,3)","v":{"$error":"#REF!"}},{"$f":"ROUND(Q14/1000,2)","v":{"$error":"#REF!"}},null,null,null,4078274.49,{"$f":"P14-AL14","v":{"$error":"#REF!"}},{"$error":"#REF!"},{"$error":"#REF!"},null,{"$f":"-AO14","v":{"$error":"#REF!"}}]
[null,3,"МОГБУЗ \"Сусуманская РБ\"",{"$error":"#REF!"},{"$f":"#REF!","v":{"$error":"#REF!"}},{"$f":"#REF!","v":{"$error":"#REF!"}},1.05,1,1,4.5325100000000003,{"$error":"#REF!"},{"$f":"U15/W15","v":{"$error":"#REF!"}},{"$f":"D15*L15","v":{"$error":"#REF!"}},null,{"$f":"M15/$N$9","v":{"$error":"#REF!"}},{"$f":"ROUND($O$15*E15,2)","v":{"$error":"#REF!"}},{"$error":"#REF!"},{"$f":"$M$15*E15","v":{"$error":"#REF!"}},{"$f":"4172724.02*3+45910270+4051780","v":62480222.060000002},{"$f":"Q15-S15","v":{"$error":"#REF!"}},{"$f":"D15*E15*K15","v":{"$error":"#REF!"}},null,{"$f":"D15*E15","v":{"$error":"#REF!"}},null,null,50951767.560000002,50270720.520000003,{"$f":"AA15-Z15","v":-681047.03999999911},{"$f":"Z15-Q15","v":{"$error":"#REF!"}},null,4245980.6399999997,{"$f":"P15-AE15","v":{"$error":"#REF!"}},{"$f":"ROUND(AF15*10/1000,3)","v":{"$error":"#REF!"}},{"$f":"ROUND(Q15/1000,2)","v":{"$error":"#REF!"}},null,null,null,13355615.890000001,{"$f":"P15-AL15","v":{"$error":"#REF!"}},{"$error":"#REF!"},{"$error":"#REF!"}]
[null,7,"МОГБУЗ \"Тенькинская РБ\"",{"$error":"#REF!"},{"$f":"#REF!","v":{"$error":"#REF!"}},{"$f":"#REF!","v":{"$error":"#REF!"}},1.05,1.0707,1.1736,4.3826700000000001,{"$error":"#REF!"},{"$f":"U16/W16","v":{"$error":"#REF!"}},{"$f":"D16*L16","v":{"$error":"#REF!"}},null,{"$f":"M16/$N$9","v":{"$error":"#REF!"}},{"$f":"ROUND($O$16*E16,2)+0.01","v":{"$error":"#REF!"}},{"$error":"#REF!"},{"$f":"$M$16*E16","v":{"$error":"#REF!"}},{"$f":"2362598.88*3+30046440+7258420+757830","v":45150486.640000001},{"$error":"#REF!"},{"$error":"#REF!"},null,{"$error":"#REF!"},null,null,28698032.760000002,28314440.399999999,-383592.36000000313,{"$error":"#REF!"},null,2391502.73,{"$error":"#REF!"},{"$error":"#REF!"},{"$error":"#REF!"},null,null,null,9822671.6400000006,{"$error":"#REF!"},{"$error":"#REF!"},{"$error":"#REF!"}]
[null,9,"МОГБУЗ \"МСЧ \"Авиамедицина\"\"",{"$f":"D14","v":{"$error":"#REF!"}},{"$f":"#REF!","v":{"$error":"#REF!"}},{"$f":"#REF!","v":{"$error":"#REF!"}},1.05,1,1,1,{"$error":"#REF!"},{"$f":"V20/X20","v":{"$error":"#REF!"}},{"$f":"ROUND(D18*L17,2)","v":{"$error":"#REF!"}},null,{"$f":"M17/N9","v":{"$error":"#REF!"}},{"$f":"ROUND($O$17*E17,2)","v":{"$error":"#REF!"}},{"$error":"#REF!"},{"$f":"$M$17*E17","v":{"$error":"#REF!"}},{"$f":"1020725.2*3","v":3062175.5999999996},{"$error":"#REF!"},{"$f":"D17*E17*K17","v":{"$error":"#REF!"}},null,{"$error":"#REF!"},{"$nulls":14},1020757.92,{"$error":"#REF!"},{"$error":"#REF!"},{"$f":"ROUND(AN17/1000,2)","v":{"$error":"#REF!"}},null,null,{"$f":"-AO17","v":{"$error":"#REF!"}}]
[null,10,"МОГБУЗ \"Поликлиника № 1\"",{"$f":"$D$9","v":{"$error":"#REF!"}},{"$f":"#REF!","v":{"$error":"#REF!"}},{"$f":"#REF!","v":{"$error":"#REF!"}},{"$f":"$G$9","v":0.83},1.2854000000000001,1,1,{"$error":"#REF!"},{"$nulls":4},{"$f":"ROUND($O$17*E18,2)","v":{"$error":"#REF!"}},{"$error":"#REF!"},{"$f":"$M$17*E18","v":{"$error":"#REF!"}},{"$f":"8330355.19*3","v":24991065.57},{"$error":"#REF!"},{"$error":"#REF!"},null,{"$error":"#REF!"},null,null,100292892.36,102544500.36,2251608,{"$error":"#REF!"},null,8357741.0300000003,{"$error":"#REF!"},{"$error":"#REF!"},{"$error":"#REF!"},null,null,null,8330622.2199999997,{"$error":"#REF!"},{"$error":"#REF!"},{"$f":"ROUND(AN18/1000,2)","v":{"$error":"#REF!"}},null,null,{"$f":"-AO18","v":{"$error":"#REF!"}}]
[null,11,"МОГБУЗ \"Поликлиника № 2\"",{"$f":"$D$18","v":{"$error":"#REF!"}},{"$f":"#REF!","v":{"$error":"#REF!"}},{"$f":"#REF!","v":{"$error":"#REF!"}},{"$f":"$G$9","v":0.83},1.2199,1,1,{"$error":"#REF!"},{"$nulls":4},{"$error":"#REF!"},{"$error":"#REF!"},{"$error":"#REF!"},{"$f":"7095244.85*3","v":21285734.549999997},{"$error":"#REF!"},{"$error":"#REF!"},null,{"$error":"#REF!"},null,null,85606912.799999997,87528815.760000005,1921902.9600000083,{"$error":"#REF!"},null,7133909.4000000004,{"$error":"#REF!"},{"$error":"#REF!"},{"$error":"#REF!"},null,null,null,7095472.2800000003,{"$error":"#REF!"},{"$error":"#REF!"},{"$f":"ROUND(AN19/1000,2)","v":{"$error":"#REF!"}},null,null,{"$error":"#REF!"}]
[null,12,"МОГБУЗ \"Поликлиника № 3\"",{"$f":"$D$18","v":{"$error":"#REF!"}},{"$f":"#REF!","v":{"$error":"#REF!"}},{"$f":"#REF!","v":{"$error":"#REF!"}},{"$f":"$G$9","v":0.83},1,1,1,{"$error":"#REF!"},{"$nulls":4},{"$error":"#REF!"},{"$error":"#REF!"},{"$error":"#REF!"},{"$f":"4735365.42*3","v":14206096.26},{"$error":"#REF!"},{"$error":"#REF!"},{"$f":"SUM(U17:U20)","v":{"$error":"#REF!"}},{"$error":"#REF!"},{"$f":"SUM(W17:W20)","v":{"$error":"#REF!"}},null,57262841.039999999,58548410.399999999,1285569.3599999994,{"$error":"#REF!"},null,4771903.41,{"$error":"#REF!"},{"$error":"#REF!"},{"$error":"#REF!"},null,null,null,4735517.22,{"$error":"#REF!"},{"$error":"#REF!"},{"$f":"ROUND(AN20/1000,2)","v":{"$error":"#REF!"}},null,null,{"$error":"#REF!"}]
[1340011,{"$nulls":19},0,null,{"$f":"D16*E16","v":{"$error":"#REF!"}},{"$nulls":8},0,{"$nulls":8},{"$f":"SUM(AO9:AO20)","v":{"$error":"#REF!"}},"Роддом ",971.43]
[null,null,"ИТОГО Магаданская область (без Северо-Эвенского района)",null,{"$f":"SUM(E9:E20)","v":{"$error":"#REF!"}},{"$nulls":10},{"$f":"SUM(P9:P20)","v":{"$error":"#REF!"}},{"$f":"SUM(Q9:Q21)","v":{"$error":"#REF!"}},{"$f":"SUM(R9:R20)","v":{"$error":"#REF!"}},null,null,{"$f":"SUM(U18:U21)","v":{"$error":"#REF!"}},null,{"$f":"SUM(W18:W21)","v":{"$error":"#REF!"}},{"$nulls":7},57040720,{"$error":"#REF!"},{"$f":"SUM(AG9:AG21)","v":{"$error":"#REF!"}},{"$f":"SUM(AH9:AH21)","v":{"$error":"#REF!"}},{"$nulls":6},{"$f":"21888.75+971.43","v":22860.18},null,{"$f":"SUM(AQ9:AR21)","v":{"$error":"#REF!"}}]
[null,null,null,{"$f":"365524540/5*3+21888750+971430+5191060","v":247365964},{"$nulls":4},1.1733899999999999,4.1041299999999996,{"$nulls":5},{"$f":"D23/3","v":82455321.333333328},null,{"$f":"D23/3","v":82455321.333333328},{"$nulls":13},{"$f":"AF22*10","v":{"$error":"#REF!"}},{"$nulls":7},{"$f":"(AN15+AN16)/1000","v":{"$error":"#REF!"}},{"$f":"AO22-AO21","v":{"$error":"#REF!"}}]
[null,null,null,{"$f":"D23-Q22","v":{"$error":"#REF!"}},{"$nulls":11},{"$f":"P23-P22","v":{"$error":"#REF!"}},{"$nulls":23},5191.0600000000004]
[null,null,null,{"$f":"56461882*5+30046440+7047170","v":319403020},{"$nulls":4},1.1673,4.1078599999999996,{"$nulls":6},{"$f":"Q23/#REF!","v":{"$error":"#REF!"}},{"$nulls":22},{"$f":"AN24-AN23","v":{"$error":"#REF!"}}]
[{"$nulls":7},1.2854000000000001,{"$nulls":8},{"$f":"Q25/12","v":{"$error":"#REF!"}}]
[{"$nulls":7},1.2199]

{"sheet":"АМП 2018 (ДШО +роддом 991,43)","index":2,"n_rows":27,"n_cols":44,"rows_kept":27,"cut":false,"hidden":true,"merged":[[9,41,13,41],[16,11,19,11],[16,12,19,12],[16,14,19,14],[4,19,6,19],[6,20,6,21],[6,37,6,38],[8,11,13,11],[8,12,13,12],[8,13,19,13],[8,14,13,14],[3,14,5,14],[3,15,5,15],[3,16,5,16],[3,17,5,17],[0,14,0,17],[1,14,1,17],[2,2,2,15],[3,1,6,1],[3,2,6,2],[3,3,5,3],[3,4,5,4],[3,5,3,11],[3,12,5,12],[3,13,5,13],[4,5,5,5],[4,6,5,6],[4,7,4,9],[4,10,5,10],[4,11,5,11]]}
[]
[]
[null,null,"Предельный объем финансового обеспечения   медицинской организаций, имеющих прикрепленное население на 2018 год                                                                                                                                                              (за исключением медицинской помощи по акушерству и гинекологии и стоматологической медицинской помощи) + стационар         ",{"$nulls":14},"для расчётов"]
[null,"№ п.п.","Наименование МО","Подушевой норматив финасирования \nАМП                             на месяц","Численность прикрепленных, застрахованных лиц                                              на 01.03.18 (чел.)","Коэффициенты дифференциации",{"$nulls":6},"Дифференцированны подушевой норматив финасирования \nАМП  для i группы","Поправочный коэффициент","Фактический дифференцированный подушевой норматив финансирования \nАМП","Размер финансового обеспечения  медицинской организации, оказывающей АМП по подушевому финансированию                        на месяц","Предельный размер финансового обеспечения  медицинской организации, оказывающей АМП по подушевому финансированию                        на год","для расчёта ПК"]
[{"$nulls":5},"По половозрастной структуре","Коэффициент плотности населения","По уровню расходов на содержание отдельных структурных подразделений ",null,null,"Интегрированный коэффициент","Средневзвешенное значение Кдинт",{"$nulls":7},"разница в финансировании за 5 мес."]
[{"$nulls":7},"АМП","дневной стационар","круглсуточный стационар"]
[null,null,null,"Пн БАЗ","Чз ПР","КДПВС","КДПН","КДсп(АМП)","КДсп(ДС)","КДсп(КС)","КДИНТ","СКД интi","Дпнi","ПК","ФДПнi","ФОМЕС","ФОПРЕД",null,null,null,"не удалять - участвует в расчётах",{"$nulls":12},"СУММА НА ГОД",null,null,null,"разица с ежемесяным финансированием с марта 2018",null,null,null,"должно быть"," - переместить в круглосутку"," - переместить в дневной"]
[null,1,2,3,4,5,6,7,null,null,7,8,9,10,11,12]
[1343001,1,"ГБУЗ \"Магаданская областная детская больница\"",{"$f":"D23/'АМП 2018 (ДШО +роддом 991,43)'!E22/3","v":{"$error":"#REF!"}},{"$f":"#REF!","v":{"$error":"#REF!"}},{"$f":"#REF!","v":{"$error":"#REF!"}},{"$f":"ROUND(1/1.2,2)","v":0.83},1.5227999999999999,1,1,{"$f":"F9*G9*H9*J9*I9","v":{"$error":"#REF!"}},{"$f":"V14/X14","v":{"$error":"#REF!"}},{"$f":"D9*L9","v":{"$error":"#REF!"}},{"$f":"R22/R23","v":{"$error":"#REF!"}},{"$f":"M9/N9","v":{"$error":"#REF!"}},{"$f":"ROUND($O$9*E9,2)","v":{"$error":"#REF!"}},{"$f":"ROUND(P9*3,2)","v":{"$error":"#REF!"}},{"$f":"$M$9*E9","v":{"$error":"#REF!"}},{"$f":"10475186.09*5","v":52375930.450000003},{"$f":"Q9-S9","v":{"$error":"#REF!"}},{"$f":"D9*E9*K9","v":{"$error":"#REF!"}},null,{"$f":"D9*E9","v":{"$error":"#REF!"}},null,null,127133453.40000001,125434123.44,{"$f":"AA9-Z9","v":-1699329.9600000083},{"$f":"Z9-Q9","v":{"$error":"#REF!"}},null,10594454.450000001,{"$f":"P9-AE9","v":{"$error":"#REF!"}},{"$f":"ROUND(AF9*10/1000,3)","v":{"$error":"#REF!"}},{"$f":"ROUND(Q9/1000,2)","v":{"$error":"#REF!"}},null,null,null,10474961.01,{"$f":"P9-AL9","v":{"$error":"#REF!"}},{"$f":"AM9*3","v":{"$error":"#REF!"}},{"$f":"ROUND(AN9/1000,2)","v":{"$error":"#REF!"}},21888.75,{"$f":"AP9-AO9","v":{"$error":"#REF!"}}]
[null,2,"МОГБУЗ \"Ольская РБ\"",{"$f":"$D$18","v":{"$error":"#REF!"}},{"$f":"#REF!","v":{"$error":"#REF!"}},{"$f":"#REF!","v":{"$error":"#REF!"}},{"$f":"ROUND(1/0.95,2)","v":1.05},1.0397000000000001,1,1,{"$f":"F10*G10*H10*J10*I10","v":{"$error":"#REF!"}},{"$nulls":4},{"$f":"ROUND($O$9*E10,2)","v":{"$error":"#REF!"}},{"$f":"ROUND(P10*3,2)","v":{"$error":"#REF!"}},{"$error":"#REF!"},{"$f":"4876887.05*5","v":24384435.25},{"$f":"Q10-S10","v":{"$error":"#REF!"}},{"$error":"#REF!"},null,{"$error":"#REF!"},null,null,59031736.560000002,58242688.560000002,{"$f":"AA10-Z10","v":-789048},{"$f":"Z10-Q10","v":{"$error":"#REF!"}},null,4919311.38,{"$f":"P10-AE10","v":{"$error":"#REF!"}},{"$f":"ROUND(AF10*10/1000,3)","v":{"$error":"#REF!"}},{"$f":"ROUND(Q10/1000,2)","v":{"$error":"#REF!"}},null,null,null,4876782.2699999996,{"$f":"P10-AL10","v":{"$error":"#REF!"}},{"$f":"AM10*3","v":{"$error":"#REF!"}},{"$error":"#REF!"},null,{"$f":"-AO10","v":{"$error":"#REF!"}}]
[null,4,"МОГБУЗ \"Среднеканская РБ\"",{"$error":"#REF!"},{"$f":"#REF!","v":{"$error":"#REF!"}},{"$f":"#REF!","v":{"$error":"#REF!"}},{"$f":"ROUND(1/0.95,2)","v":1.05},1.0572999999999999,1,1,{"$error":"#REF!"},{"$nulls":4},{"$error":"#REF!"},{"$error":"#REF!"},{"$error":"#REF!"},{"$f":"1567117.87*5","v":7835589.3500000006},{"$error":"#REF!"},{"$error":"#REF!"},null,{"$error":"#REF!"},null,null,19019287.68,18765066.359999999,-254221.3200000003,{"$error":"#REF!"},null,1584940.64,{"$error":"#REF!"},{"$error":"#REF!"},{"$error":"#REF!"},null,null,null,1567084.2,{"$error":"#REF!"},{"$error":"#REF!"},{"$error":"#REF!"},null,{"$f":"-AO11","v":{"$error":"#REF!"}}]
[null,5,"МОГБУЗ \"Ягоднинская РБ\"",{"$error":"#REF!"},{"$f":"#REF!","v":{"$error":"#REF!"}},{"$f":"#REF!","v":{"$error":"#REF!"}},1.05,1.0339,1,1,{"$error":"#REF!"},{"$nulls":4},{"$error":"#REF!"},{"$error":"#REF!"},{"$error":"#REF!"},{"$f":"5014878.65*5","v":25074393.25},{"$error":"#REF!"},{"$error":"#REF!"},null,{"$error":"#REF!"},null,null,61306918.079999998,60487458.840000004,-819459.23999999464,{"$error":"#REF!"},null,5108909.84,{"$error":"#REF!"},{"$error":"#REF!"},{"$f":"ROUND(Q12/1000,2)-0.01","v":{"$error":"#REF!"}},null,null,null,5014770.9000000004,{"$error":"#REF!"},{"$error":"#REF!"},{"$error":"#REF!"},null,{"$error":"#REF!"}]
[null,6,"МОГБУЗ \"Омсукчанская РБ\"",{"$error":"#REF!"},{"$f":"#REF!","v":{"$error":"#REF!"}},{"$f":"#REF!","v":{"$error":"#REF!"}},1.05,1,1,1,{"$error":"#REF!"},{"$nulls":4},{"$error":"#REF!"},{"$error":"#REF!"},{"$error":"#REF!"},{"$f":"2732436.67*5","v":13662183.35},{"$error":"#REF!"},{"$error":"#REF!"},null,{"$error":"#REF!"},null,null,33248395.800000001,32803980.960000001,-444414.83999999985,{"$error":"#REF!"},null,2770699.65,{"$error":"#REF!"},{"$error":"#REF!"},{"$f":"ROUND(Q13/1000,2)-0.01","v":{"$error":"#REF!"}},null,null,null,2732377.96,{"$error":"#REF!"},{"$error":"#REF!"},{"$error":"#REF!"},null,{"$error":"#REF!"}]
[null,8,"МОГАУЗ \"Хасынская РБ\"",{"$error":"#REF!"},{"$f":"#REF!","v":{"$error":"#REF!"}},{"$f":"#REF!","v":{"$error":"#REF!"}},1.05,1.0364,1,1,{"$error":"#REF!"},{"$nulls":4},{"$error":"#REF!"},{"$error":"#REF!"},{"$error":"#REF!"},{"$f":"4078362.11*5","v":20391810.550000001},{"$error":"#REF!"},{"$f":"D14*E14*K14","v":{"$error":"#REF!"}},{"$f":"SUM(U9:U14)","v":{"$error":"#REF!"}},{"$f":"D14*E14","v":{"$error":"#REF!"}},{"$f":"SUM(W9:W14)","v":{"$error":"#REF!"}},null,49654299.240000002,48990594.719999999,{"$f":"AA14-Z14","v":-663704.52000000328},{"$f":"Z14-Q14","v":{"$error":"#REF!"}},null,4137858.27,{"$f":"P14-AE14","v":{"$error":"#REF!"}},{"$f":"ROUND(AF14*10/1000,3)","v":{"$error":"#REF!"}},{"$f":"ROUND(Q14/1000,2)","v":{"$error":"#REF!"}},null,null,null,4078274.49,{"$f":"P14-AL14","v":{"$error":"#REF!"}},{"$error":"#REF!"},{"$error":"#REF!"},null,{"$error":"#REF!"}]
[null,3,"МОГБУЗ \"Сусуманская РБ\"",{"$error":"#REF!"},{"$f":"#REF!","v":{"$error":"#REF!"}},{"$f":"#REF!","v":{"$error":"#REF!"}},1.05,1,1,4.1276000000000002,{"$error":"#REF!"},{"$f":"U15/W15","v":{"$error":"#REF!"}},{"$f":"D15*L15","v":{"$error":"#REF!"}},null,{"$f":"M15/$N$9","v":{"$error":"#REF!"}},{"$f":"ROUND($O$15*E15,2)","v":{"$error":"#REF!"}},{"$error":"#REF!"},{"$f":"$M$15*E15","v":{"$error":"#REF!"}},{"$f":"4172724.02*5+45910270","v":66773890.100000001},{"$f":"Q15-S15","v":{"$error":"#REF!"}},{"$f":"D15*E15*K15","v":{"$error":"#REF!"}},null,{"$f":"D15*E15","v":{"$error":"#REF!"}},null,null,50951767.560000002,50270720.520000003,{"$f":"AA15-Z15","v":-681047.03999999911},{"$f":"Z15-Q15","v":{"$error":"#REF!"}},null,4245980.6399999997,{"$f":"P15-AE15","v":{"$error":"#REF!"}},{"$f":"ROUND(AF15*10/1000,3)","v":{"$error":"#REF!"}},{"$f":"ROUND(Q15/1000,2)","v":{"$error":"#REF!"}},null,null,null,13355615.890000001,{"$f":"P15-AL15","v":{"$error":"#REF!"}},{"$error":"#REF!"},{"$error":"#REF!"}]
[null,7,"МОГБУЗ \"Тенькинская РБ\"",{"$error":"#REF!"},{"$f":"#REF!","v":{"$error":"#REF!"}},{"$f":"#REF!","v":{"$error":"#REF!"}},1.05,1.0707,1.1736,4.2016999999999998,{"$error":"#REF!"},{"$f":"U16/W16","v":{"$error":"#REF!"}},{"$f":"D16*L16","v":{"$error":"#REF!"}},null,{"$f":"M16/$N$9","v":{"$error":"#REF!"}},{"$f":"ROUND($O$16*E16,2)","v":{"$error":"#REF!"}},{"$error":"#REF!"},{"$f":"$M$16*E16","v":{"$error":"#REF!"}},{"$f":"2362598.88*5+30046440+7258420","v":49117854.399999999},{"$error":"#REF!"},{"$error":"#REF!"},null,{"$error":"#REF!"},null,null,28698032.760000002,28314440.399999999,-383592.36000000313,{"$error":"#REF!"},null,2391502.73,{"$error":"#REF!"},{"$error":"#REF!"},{"$error":"#REF!"},null,null,null,9822671.6400000006,{"$error":"#REF!"},{"$error":"#REF!"},{"$error":"#REF!"}]
[null,9,"МОГБУЗ \"МСЧ \"Авиамедицина\"\"",{"$f":"D14","v":{"$error":"#REF!"}},{"$f":"#REF!","v":{"$error":"#REF!"}},{"$f":"#REF!","v":{"$error":"#REF!"}},1.05,1,1,1,{"$error":"#REF!"},{"$f":"V20/X20","v":{"$error":"#REF!"}},{"$f":"ROUND(D18*L17,2)","v":{"$error":"#REF!"}},null,{"$f":"M17/N9","v":{"$error":"#REF!"}},{"$f":"ROUND($O$17*E17,2)","v":{"$error":"#REF!"}},{"$error":"#REF!"},{"$f":"$M$17*E17","v":{"$error":"#REF!"}},{"$f":"1020725.2*5","v":5103626},{"$error":"#REF!"},{"$f":"D17*E17*K17","v":{"$error":"#REF!"}},null,{"$error":"#REF!"},{"$nulls":14},1020757.92,{"$error":"#REF!"},{"$error":"#REF!"},{"$f":"ROUND(AN17/1000,2)","v":{"$error":"#REF!"}},null,null,{"$f":"-AO17","v":{"$error":"#REF!"}}]
[null,10,"МОГБУЗ \"Поликлиника № 1\"",{"$f":"$D$9","v":{"$error":"#REF!"}},{"$f":"#REF!","v":{"$error":"#REF!"}},{"$f":"#REF!","v":{"$error":"#REF!"}},{"$f":"$G$9","v":0.83},1.2854000000000001,1,1,{"$error":"#REF!"},{"$nulls":4},{"$f":"ROUND($O$17*E18,2)","v":{"$error":"#REF!"}},{"$error":"#REF!"},{"$f":"$M$17*E18","v":{"$error":"#REF!"}},{"$f":"8330355.19*5","v":41651775.950000003},{"$error":"#REF!"},{"$error":"#REF!"},null,{"$error":"#REF!"},null,null,100292892.36,102544500.36,2251608,{"$error":"#REF!"},null,8357741.0300000003,{"$error":"#REF!"},{"$error":"#REF!"},{"$error":"#REF!"},null,null,null,8330622.2199999997,{"$error":"#REF!"},{"$error":"#REF!"},{"$f":"ROUND(AN18/1000,2)","v":{"$error":"#REF!"}},null,null,{"$f":"-AO18","v":{"$error":"#REF!"}}]
[null,11,"МОГБУЗ \"Поликлиника № 2\"",{"$f":"$D$18","v":{"$error":"#REF!"}},{"$f":"#REF!","v":{"$error":"#REF!"}},{"$f":"#REF!","v":{"$error":"#REF!"}},{"$f":"$G$9","v":0.83},1.2199,1,1,{"$error":"#REF!"},{"$nulls":4},{"$error":"#REF!"},{"$error":"#REF!"},{"$error":"#REF!"},{"$f":"7095244.85*5","v":35476224.25},{"$error":"#REF!"},{"$error":"#REF!"},null,{"$error":"#REF!"},null,null,85606912.799999997,87528815.760000005,1921902.9600000083,{"$error":"#REF!"},null,7133909.4000000004,{"$error":"#REF!"},{"$error":"#REF!"},{"$error":"#REF!"},null,null,null,7095472.2800000003,{"$error":"#REF!"},{"$error":"#REF!"},{"$f":"ROUND(AN19/1000,2)","v":{"$error":"#REF!"}},null,null,{"$error":"#REF!"}]
[null,12,"МОГБУЗ \"Поликлиника № 3\"",{"$f":"$D$18","v":{"$error":"#REF!"}},{"$f":"#REF!","v":{"$error":"#REF!"}},{"$f":"#REF!","v":{"$error":"#REF!"}},{"$f":"$G$9","v":0.83},1,1,1,{"$error":"#REF!"},{"$nulls":4},{"$error":"#REF!"},{"$error":"#REF!"},{"$error":"#REF!"},{"$f":"4735365.42*5","v":23676827.100000001},{"$error":"#REF!"},{"$error":"#REF!"},{"$f":"SUM(U17:U20)","v":{"$error":"#REF!"}},{"$error":"#REF!"},{"$f":"SUM(W17:W20)","v":{"$error":"#REF!"}},null,57262841.039999999,58548410.399999999,1285569.3599999994,{"$error":"#REF!"},null,4771903.41,{"$error":"#REF!"},{"$error":"#REF!"},{"$error":"#REF!"},null,null,null,4735517.22,{"$error":"#REF!"},{"$error":"#REF!"},{"$f":"ROUND(AN20/1000,2)","v":{"$error":"#REF!"}},null,null,{"$error":"#REF!"}]
[1340011,{"$nulls":19},0,null,{"$f":"D16*E16","v":{"$error":"#REF!"}},{"$nulls":8},0,{"$nulls":8},{"$f":"SUM(AO9:AO20)","v":{"$error":"#REF!"}},"Роддом ",991.43]
[null,null,"ИТОГО Магаданская область (без Северо-Эвенского района)",null,{"$f":"SUM(E9:E20)","v":{"$error":"#REF!"}},{"$nulls":10},{"$f":"SUM(P9:P20)","v":{"$error":"#REF!"}},{"$f":"SUM(Q9:Q21)","v":{"$error":"#REF!"}},{"$f":"SUM(R9:R20)","v":{"$error":"#REF!"}},null,null,{"$f":"SUM(U18:U21)","v":{"$error":"#REF!"}},null,{"$f":"SUM(W18:W21)","v":{"$error":"#REF!"}},{"$nulls":7},57040720,{"$error":"#REF!"},{"$f":"SUM(AG9:AG21)","v":{"$error":"#REF!"}},{"$f":"SUM(AH9:AH21)","v":{"$error":"#REF!"}},{"$nulls":6},{"$f":"21888.75+991.43","v":22880.18},null,{"$f":"SUM(AQ9:AR21)","v":{"$error":"#REF!"}}]
[null,null,null,{"$f":"365524540/5*3+21888750+991430","v":242194904},{"$nulls":4},1.1733899999999999,4.1041299999999996,{"$nulls":5},{"$f":"D23/3","v":80731634.666666672},null,{"$f":"D23/3","v":80731634.666666672},{"$nulls":13},{"$f":"AF22*10","v":{"$error":"#REF!"}},{"$nulls":8},{"$f":"AO22-AO21","v":{"$error":"#REF!"}}]
[null,null,null,{"$f":"D23-Q22","v":{"$error":"#REF!"}},{"$nulls":11},{"$f":"P23-P22","v":{"$error":"#REF!"}}]
[null,null,null,{"$f":"56461882*5+30046440+7047170","v":319403020},{"$nulls":4},1.1673,4.1078599999999996,{"$nulls":6},{"$f":"Q23/#REF!","v":{"$error":"#REF!"}}]
[{"$nulls":7},1.2854000000000001,{"$nulls":8},{"$f":"Q25/12","v":{"$error":"#REF!"}}]
[{"$nulls":7},1.2199]

{"sheet":"АМП 2018 (ДШО в подушевой)","index":3,"n_rows":27,"n_cols":43,"rows_kept":27,"cut":false,"hidden":true,"merged":[[9,40,13,40],[4,19,6,19],[6,20,6,21],[6,37,6,38],[8,11,13,11],[8,12,13,12],[8,13,19,13],[8,14,13,14],[16,11,19,11],[16,12,19,12],[16,14,19,14],[3,14,5,14],[3,15,5,15],[3,16,5,16],[3,17,5,17],[0,14,0,17],[1,14,1,17],[2,2,2,15],[3,1,6,1],[3,2,6,2],[3,3,5,3],[3,4,5,4],[3,5,3,11],[3,12,5,12],[3,13,5,13],[4,5,5,5],[4,6,5,6],[4,7,4,9],[4,10,5,10],[4,11,5,11]]}
[]
[]
[null,null,"Предельный объем финансового обеспечения   медицинской организаций, имеющих прикрепленное население на 2018 год                                                                                                                                                              (за исключением медицинской помощи по акушерству и гинекологии и стоматологической медицинской помощи) + стационар         ",{"$nulls":14},"для расчётов"]
[null,"№ п.п.","Наименование МО","Подушевой норматив финасирования \nАМП                             на месяц","Численность прикрепленных, застрахованных лиц                                              на 01.03.18 (чел.)","Коэффициенты дифференциации",{"$nulls":6},"Дифференцированны подушевой норматив финасирования \nАМП  для i группы","Поправочный коэффициент","Фактический дифференцированный подушевой норматив финансирования \nАМП","Размер финансового обеспечения  медицинской организации, оказывающей АМП по подушевому финансированию                        на месяц","Предельный размер финансового обеспечения  медицинской организации, оказывающей АМП по подушевому финансированию                        на год","для расчёта ПК"]
[{"$nulls":5},"По половозрастной структуре","Коэффициент плотности населения","По уровню расходов на содержание отдельных структурных подразделений ",null,null,"Интегрированный коэффициент","Средневзвешенное значение Кдинт",{"$nulls":7},"разница в финансировании за 5 мес."]
[{"$nulls":7},"АМП","дневной стационар","круглсуточный стационар"]
[null,null,null,"Пн БАЗ","Чз ПР","КДПВС","КДПН","КДсп(АМП)","КДсп(ДС)","КДсп(КС)","КДИНТ","СКД интi","Дпнi","ПК","ФДПнi","ФОМЕС","ФОПРЕД",null,null,null,"не удалять - участвует в расчётах",{"$nulls":12},"СУММА НА ГОД",null,null,null,"разица с ежемесяным финансированием с марта 2018",null,null,"должно быть"]
[null,1,2,3,4,5,6,7,null,null,7,8,9,10,11,12]
[1343001,1,"ГБУЗ \"Магаданская областная детская больница\"",{"$f":"D23/'АМП 2018 (ДШО в подушевой)'!E22/3","v":{"$error":"#REF!"}},{"$f":"#REF!","v":{"$error":"#REF!"}},{"$f":"#REF!","v":{"$error":"#REF!"}},{"$f":"ROUND(1/1.2,2)","v":0.83},1.5227999999999999,1,1,{"$f":"F9*G9*H9*J9*I9","v":{"$error":"#REF!"}},{"$f":"V14/X14","v":{"$error":"#REF!"}},{"$f":"D9*L9","v":{"$error":"#REF!"}},{"$f":"R22/R23","v":{"$error":"#REF!"}},{"$f":"M9/N9","v":{"$error":"#REF!"}},{"$f":"ROUND($O$9*E9,2)","v":{"$error":"#REF!"}},{"$f":"ROUND(P9*3,2)","v":{"$error":"#REF!"}},{"$f":"$M$9*E9","v":{"$error":"#REF!"}},{"$f":"10475186.09*5","v":52375930.450000003},{"$f":"Q9-S9","v":{"$error":"#REF!"}},{"$f":"D9*E9*K9","v":{"$error":"#REF!"}},null,{"$f":"D9*E9","v":{"$error":"#REF!"}},null,null,127133453.40000001,125434123.44,{"$f":"AA9-Z9","v":-1699329.9600000083},{"$f":"Z9-Q9","v":{"$error":"#REF!"}},null,10594454.450000001,{"$f":"P9-AE9","v":{"$error":"#REF!"}},{"$f":"ROUND(AF9*10/1000,3)","v":{"$error":"#REF!"}},{"$f":"ROUND(Q9/1000,2)","v":{"$error":"#REF!"}},null,null,null,10474961.01,{"$f":"P9-AL9","v":{"$error":"#REF!"}},{"$f":"AM9*3","v":{"$error":"#REF!"}},21888750,{"$f":"AO9-AN9","v":{"$error":"#REF!"}}," - переместить в круглосутку"]
[null,2,"МОГБУЗ \"Ольская РБ\"",{"$f":"$D$18","v":{"$error":"#REF!"}},{"$f":"#REF!","v":{"$error":"#REF!"}},{"$f":"#REF!","v":{"$error":"#REF!"}},{"$f":"ROUND(1/0.95,2)","v":1.05},1.0397000000000001,1,1,{"$f":"F10*G10*H10*J10*I10","v":{"$error":"#REF!"}},{"$nulls":4},{"$f":"ROUND($O$9*E10,2)","v":{"$error":"#REF!"}},{"$f":"ROUND(P10*3,2)","v":{"$error":"#REF!"}},{"$error":"#REF!"},{"$f":"4876887.05*5","v":24384435.25},{"$f":"Q10-S10","v":{"$error":"#REF!"}},{"$error":"#REF!"},null,{"$error":"#REF!"},null,null,59031736.560000002,58242688.560000002,{"$f":"AA10-Z10","v":-789048},{"$f":"Z10-Q10","v":{"$error":"#REF!"}},null,4919311.38,{"$f":"P10-AE10","v":{"$error":"#REF!"}},{"$f":"ROUND(AF10*10/1000,3)","v":{"$error":"#REF!"}},{"$f":"ROUND(Q10/1000,2)","v":{"$error":"#REF!"}},null,null,null,4876782.2699999996,{"$f":"P10-AL10","v":{"$error":"#REF!"}},{"$f":"AM10*3","v":{"$error":"#REF!"}},"снять с круглосутки"]
[null,4,"МОГБУЗ \"Среднеканская РБ\"",{"$error":"#REF!"},{"$f":"#REF!","v":{"$error":"#REF!"}},{"$f":"#REF!","v":{"$error":"#REF!"}},{"$f":"ROUND(1/0.95,2)","v":1.05},1.0572999999999999,1,1,{"$error":"#REF!"},{"$nulls":4},{"$error":"#REF!"},{"$error":"#REF!"},{"$error":"#REF!"},{"$f":"1567117.87*5","v":7835589.3500000006},{"$error":"#REF!"},{"$error":"#REF!"},null,{"$error":"#REF!"},null,null,19019287.68,18765066.359999999,-254221.3200000003,{"$error":"#REF!"},null,1584940.64,{"$error":"#REF!"},{"$error":"#REF!"},{"$error":"#REF!"},null,null,null,1567084.2,{"$error":"#REF!"},{"$error":"#REF!"}]
[null,5,"МОГБУЗ \"Ягоднинская РБ\"",{"$error":"#REF!"},{"$f":"#REF!","v":{"$error":"#REF!"}},{"$f":"#REF!","v":{"$error":"#REF!"}},1.05,1.0339,1,1,{"$error":"#REF!"},{"$nulls":4},{"$error":"#REF!"},{"$error":"#REF!"},{"$error":"#REF!"},{"$f":"5014878.65*5","v":25074393.25},{"$error":"#REF!"},{"$error":"#REF!"},null,{"$error":"#REF!"},null,null,61306918.079999998,60487458.840000004,-819459.23999999464,{"$error":"#REF!"},null,5108909.84,{"$error":"#REF!"},{"$error":"#REF!"},{"$f":"ROUND(Q12/1000,2)-0.01","v":{"$error":"#REF!"}},null,null,null,5014770.9000000004,{"$error":"#REF!"},{"$error":"#REF!"}]
[null,6,"МОГБУЗ \"Омсукчанская РБ\"",{"$error":"#REF!"},{"$f":"#REF!","v":{"$error":"#REF!"}},{"$f":"#REF!","v":{"$error":"#REF!"}},1.05,1,1,1,{"$error":"#REF!"},{"$nulls":4},{"$error":"#REF!"},{"$error":"#REF!"},{"$error":"#REF!"},{"$f":"2732436.67*5","v":13662183.35},{"$error":"#REF!"},{"$error":"#REF!"},null,{"$error":"#REF!"},null,null,33248395.800000001,32803980.960000001,-444414.83999999985,{"$error":"#REF!"},null,2770699.65,{"$error":"#REF!"},{"$error":"#REF!"},{"$f":"ROUND(Q13/1000,2)-0.01","v":{"$error":"#REF!"}},null,null,null,2732377.96,{"$error":"#REF!"},{"$error":"#REF!"}]
[null,8,"МОГАУЗ \"Хасынская РБ\"",{"$error":"#REF!"},{"$f":"#REF!","v":{"$error":"#REF!"}},{"$f":"#REF!","v":{"$error":"#REF!"}},1.05,1.0364,1,1,{"$error":"#REF!"},{"$nulls":4},{"$error":"#REF!"},{"$error":"#REF!"},{"$error":"#REF!"},{"$f":"4078362.11*5","v":20391810.550000001},{"$error":"#REF!"},{"$f":"D14*E14*K14","v":{"$error":"#REF!"}},{"$f":"SUM(U9:U14)","v":{"$error":"#REF!"}},{"$f":"D14*E14","v":{"$error":"#REF!"}},{"$f":"SUM(W9:W14)","v":{"$error":"#REF!"}},null,49654299.240000002,48990594.719999999,{"$f":"AA14-Z14","v":-663704.52000000328},{"$f":"Z14-Q14","v":{"$error":"#REF!"}},null,4137858.27,{"$f":"P14-AE14","v":{"$error":"#REF!"}},{"$f":"ROUND(AF14*10/1000,3)","v":{"$error":"#REF!"}},{"$f":"ROUND(Q14/1000,2)","v":{"$error":"#REF!"}},null,null,null,4078274.49,{"$f":"P14-AL14","v":{"$error":"#REF!"}},{"$error":"#REF!"}]
[null,3,"МОГБУЗ \"Сусуманская РБ\"",{"$error":"#REF!"},{"$f":"#REF!","v":{"$error":"#REF!"}},{"$f":"#REF!","v":{"$error":"#REF!"}},1.05,1,1,4.1514499999999996,{"$error":"#REF!"},{"$f":"U15/W15","v":{"$error":"#REF!"}},{"$f":"D15*L15","v":{"$error":"#REF!"}},null,{"$f":"M15/$N$9","v":{"$error":"#REF!"}},{"$f":"ROUND($O$15*E15,2)","v":{"$error":"#REF!"}},{"$error":"#REF!"},{"$f":"$M$15*E15","v":{"$error":"#REF!"}},{"$f":"4172724.02*5+45910270","v":66773890.100000001},{"$f":"Q15-S15","v":{"$error":"#REF!"}},{"$f":"D15*E15*K15","v":{"$error":"#REF!"}},null,{"$f":"D15*E15","v":{"$error":"#REF!"}},null,null,50951767.560000002,50270720.520000003,{"$f":"AA15-Z15","v":-681047.03999999911},{"$f":"Z15-Q15","v":{"$error":"#REF!"}},null,4245980.6399999997,{"$f":"P15-AE15","v":{"$error":"#REF!"}},{"$f":"ROUND(AF15*10/1000,3)","v":{"$error":"#REF!"}},{"$f":"ROUND(Q15/1000,2)","v":{"$error":"#REF!"}},null,null,null,13355615.890000001,{"$f":"P15-AL15","v":{"$error":"#REF!"}},{"$error":"#REF!"}]
[null,7,"МОГБУЗ \"Тенькинская РБ\"",{"$error":"#REF!"},{"$f":"#REF!","v":{"$error":"#REF!"}},{"$f":"#REF!","v":{"$error":"#REF!"}},1.05,1.0707,1.1734,4.2266500000000002,{"$error":"#REF!"},{"$f":"U16/W16","v":{"$error":"#REF!"}},{"$f":"D16*L16","v":{"$error":"#REF!"}},null,{"$f":"M16/$N$9","v":{"$error":"#REF!"}},{"$f":"ROUND($O$16*E16,2)","v":{"$error":"#REF!"}},{"$error":"#REF!"},{"$f":"$M$16*E16","v":{"$error":"#REF!"}},{"$f":"2362598.88*5+30046440+7258420","v":49117854.399999999},{"$error":"#REF!"},{"$error":"#REF!"},null,{"$error":"#REF!"},null,null,28698032.760000002,28314440.399999999,-383592.36000000313,{"$error":"#REF!"},null,2391502.73,{"$error":"#REF!"},{"$error":"#REF!"},{"$error":"#REF!"},null,null,null,9822671.6400000006,{"$error":"#REF!"},{"$error":"#REF!"}]
[null,9,"МОГБУЗ \"МСЧ \"Авиамедицина\"\"",{"$f":"D14","v":{"$error":"#REF!"}},{"$f":"#REF!","v":{"$error":"#REF!"}},{"$f":"#REF!","v":{"$error":"#REF!"}},1.05,1,1,1,{"$error":"#REF!"},{"$f":"V20/X20","v":{"$error":"#REF!"}},{"$f":"ROUND(D18*L17,2)","v":{"$error":"#REF!"}},null,{"$f":"M17/N9","v":{"$error":"#REF!"}},{"$f":"ROUND($O$17*E17,2)","v":{"$error":"#REF!"}},{"$error":"#REF!"},{"$f":"$M$17*E17","v":{"$error":"#REF!"}},{"$f":"1020725.2*5","v":5103626},{"$error":"#REF!"},{"$f":"D17*E17*K17","v":{"$error":"#REF!"}},null,{"$error":"#REF!"},{"$nulls":14},1020757.92,{"$error":"#REF!"},{"$error":"#REF!"}]
[null,10,"МОГБУЗ \"Поликлиника № 1\"",{"$f":"$D$9","v":{"$error":"#REF!"}},{"$f":"#REF!","v":{"$error":"#REF!"}},{"$f":"#REF!","v":{"$error":"#REF!"}},{"$f":"$G$9","v":0.83},1.2854000000000001,1,1,{"$error":"#REF!"},{"$nulls":4},{"$f":"ROUND($O$17*E18,2)","v":{"$error":"#REF!"}},{"$error":"#REF!"},{"$f":"$M$17*E18","v":{"$error":"#REF!"}},{"$f":"8330355.19*5","v":41651775.950000003},{"$error":"#REF!"},{"$error":"#REF!"},null,{"$error":"#REF!"},null,null,100292892.36,102544500.36,2251608,{"$error":"#REF!"},null,8357741.0300000003,{"$error":"#REF!"},{"$error":"#REF!"},{"$error":"#REF!"},null,null,null,8330622.2199999997,{"$error":"#REF!"},{"$error":"#REF!"}]
[null,11,"МОГБУЗ \"Поликлиника № 2\"",{"$f":"$D$18","v":{"$error":"#REF!"}},{"$f":"#REF!","v":{"$error":"#REF!"}},{"$f":"#REF!","v":{"$error":"#REF!"}},{"$f":"$G$9","v":0.83},1.2199,1,1,{"$error":"#REF!"},{"$nulls":4},{"$error":"#REF!"},{"$error":"#REF!"},{"$error":"#REF!"},{"$f":"7095244.85*5","v":35476224.25},{"$error":"#REF!"},{"$error":"#REF!"},null,{"$error":"#REF!"},null,null,85606912.799999997,87528815.760000005,1921902.9600000083,{"$error":"#REF!"},null,7133909.4000000004,{"$error":"#REF!"},{"$error":"#REF!"},{"$error":"#REF!"},null,null,null,7095472.2800000003,{"$error":"#REF!"},{"$error":"#REF!"}]
[null,12,"МОГБУЗ \"Поликлиника № 3\"",{"$f":"$D$18","v":{"$error":"#REF!"}},{"$f":"#REF!","v":{"$error":"#REF!"}},{"$f":"#REF!","v":{"$error":"#REF!"}},{"$f":"$G$9","v":0.83},1,1,1,{"$error":"#REF!"},{"$nulls":4},{"$error":"#REF!"},{"$error":"#REF!"},{"$error":"#REF!"},{"$f":"4735365.42*5","v":23676827.100000001},{"$error":"#REF!"},{"$error":"#REF!"},{"$f":"SUM(U17:U20)","v":{"$error":"#REF!"}},{"$error":"#REF!"},{"$f":"SUM(W17:W20)","v":{"$error":"#REF!"}},null,57262841.039999999,58548410.399999999,1285569.3599999994,{"$error":"#REF!"},null,4771903.41,{"$error":"#REF!"},{"$error":"#REF!"},{"$error":"#REF!"},null,null,null,4735517.22,{"$error":"#REF!"},{"$error":"#REF!"}]
[1340011,{"$nulls":19},0,null,{"$f":"D16*E16","v":{"$error":"#REF!"}},{"$nulls":8},0]
[null,null,"ИТОГО Магаданская область (без Северо-Эвенского района)",null,{"$f":"SUM(E9:E20)","v":{"$error":"#REF!"}},{"$nulls":10},{"$f":"SUM(P9:P20)","v":{"$error":"#REF!"}},{"$f":"SUM(Q9:Q21)","v":{"$error":"#REF!"}},{"$f":"SUM(R9:R20)","v":{"$error":"#REF!"}},null,null,{"$f":"SUM(U18:U21)","v":{"$error":"#REF!"}},null,{"$f":"SUM(W18:W21)","v":{"$error":"#REF!"}},{"$nulls":7},57040720,{"$error":"#REF!"},{"$f":"SUM(AG9:AG21)","v":{"$error":"#REF!"}},{"$f":"SUM(AH9:AH21)","v":{"$error":"#REF!"}}]
[null,null,null,{"$f":"365524540/5*3+21888750","v":241203474},{"$nulls":4},1.1733899999999999,4.1041299999999996,{"$nulls":5},{"$f":"D23/3","v":80401158},null,{"$f":"D23/3","v":80401158},{"$nulls":13},{"$f":"AF22*10","v":{"$error":"#REF!"}}]
[null,null,null,{"$f":"D23-Q22","v":{"$error":"#REF!"}},{"$nulls":11},{"$f":"P23-P22","v":{"$error":"#REF!"}}]
[null,null,null,{"$f":"56461882*5+30046440+7047170","v":319403020},{"$nulls":4},1.1673,4.1078599999999996,{"$nulls":6},{"$f":"Q23/#REF!","v":{"$error":"#REF!"}}]
[{"$nulls":7},1.2854000000000001,{"$nulls":8},{"$f":"Q25/12","v":{"$error":"#REF!"}}]
[{"$nulls":7},1.2199]

{"sheet":"АМП 2017 (терапевты)  (без пло)","index":4,"n_rows":22,"n_cols":21,"rows_kept":22,"cut":false,"hidden":true,"merged":[[3,1,5,1],[3,2,5,2],[3,3,4,3],[3,4,4,4],[3,5,3,9],[3,15,4,15],[5,17,5,18],[0,12,0,15],[1,12,1,15],[2,2,2,13],[3,10,4,10],[3,11,4,11],[7,9,14,9],[15,9,18,9],[3,12,4,12],[3,13,4,13],[3,14,4,14],[7,10,14,10],[15,10,18,10],[7,11,18,11],[7,12,14,12],[15,12,18,12]]}
[]
[]
[null,null,"Предельный объем финансового обеспечения   медицинской организаций, имеющих прикрепленное население на 2017 год                                                                     (врачи-терапевты участковые, врачи-педиатры участковые, врачи общей практики)",{"$nulls":12},"для расчётов"]
[null,"№ п.п.","Наименование МО","Подушевой норматив финасирования \nАМП                             на месяц","Численность прикрепленных, застрахованных лиц                                              на 01.01.17 (чел.)","Коэффициенты дифференциации",{"$nulls":4},"Дифференцированны подушевой норматив финасирования \nАМП  для i группы","Поправочный коэффициент","Фактический дифференцированный подушевой норматив финансирования \nАМП","Размер финансового обеспечения  медицинской организации, оказывающей АМП по подушевому финансированию                        на месяц","Предельный размер финансового обеспечения  медицинской организации, оказывающей АМП по подушевому финансированию                        на год","для расчёта ПК"]
[{"$nulls":5},"По половозрастной структуре","Коэффициент плотности населения","По уровню расходов на содержание отдельных структурных подразделений","Интегрированный коэффициент","Средневзвешенное значение Кдинт"]
[null,null,null,"Пн БАЗ","Чз ПР","КДПВС","КДПН","КДсп","КДИНТ","СКД интi","Дпнi","ПК","ФДПнi","ФОМЕС","ФОПРЕД",null,null,"не удалять - участвует в расчётах"]
[null,1,2,3,4,5,6,7,7,8,9,10,11,12]
[1343001,null,"ГБУЗ \"Магаданская областная детская больница\"",{"$f":"D21/'АМП 2017 (терапевты)  (без пло)'!E20/9","v":{"$error":"#REF!"}},{"$f":"#REF!","v":{"$error":"#REF!"}},{"$f":"#REF!","v":{"$error":"#REF!"}},1,1,{"$f":"F8*G8*H8","v":{"$error":"#REF!"}},{"$f":"S15/U15","v":{"$error":"#REF!"}},{"$f":"ROUND(D8*J8,2)","v":{"$error":"#REF!"}},{"$f":"P20/P21","v":{"$error":"#REF!"}},{"$f":"K8/L8","v":{"$error":"#REF!"}},{"$f":"ROUND($M$8*E8,2)","v":{"$error":"#REF!"}},{"$f":"ROUND(N8*9,2)","v":{"$error":"#REF!"}},{"$f":"E8*$K$8","v":{"$error":"#REF!"}},{"$f":"O8/(E8*D8)","v":{"$error":"#REF!"}},{"$f":"D8*E8*I8","v":{"$error":"#REF!"}},null,{"$f":"D8*E8","v":{"$error":"#REF!"}}]
[null,null,"МОГАУЗ \"Хасынская РБ\"",{"$f":"$D$16","v":{"$error":"#REF!"}},{"$f":"#REF!","v":{"$error":"#REF!"}},{"$f":"#REF!","v":{"$error":"#REF!"}},1,1,{"$error":"#REF!"},{"$nulls":4},{"$f":"ROUND($M$8*E9,2)","v":{"$error":"#REF!"}},{"$f":"ROUND(N9*9,2)","v":{"$error":"#REF!"}},{"$f":"E9*$K$8","v":{"$error":"#REF!"}},{"$f":"O9/(E9*D9)","v":{"$error":"#REF!"}},{"$f":"D9*E9*I9","v":{"$error":"#REF!"}},null,{"$f":"D9*E9","v":{"$error":"#REF!"}}]
[null,null,"МОГБУЗ \"Ольская РБ\"",{"$error":"#REF!"},{"$f":"#REF!","v":{"$error":"#REF!"}},{"$f":"#REF!","v":{"$error":"#REF!"}},1,1,{"$error":"#REF!"},{"$nulls":4},{"$error":"#REF!"},{"$error":"#REF!"},{"$error":"#REF!"},{"$error":"#REF!"},{"$error":"#REF!"},null,{"$error":"#REF!"}]
[null,null,"МОГБУЗ \"Среднеканская РБ\"",{"$error":"#REF!"},{"$f":"#REF!","v":{"$error":"#REF!"}},{"$f":"#REF!","v":{"$error":"#REF!"}},1,1,{"$error":"#REF!"},{"$nulls":4},{"$error":"#REF!"},{"$error":"#REF!"},{"$error":"#REF!"},{"$error":"#REF!"},{"$error":"#REF!"},null,{"$error":"#REF!"}]
[null,null,"МОГБУЗ \"Ягоднинская РБ\"",{"$error":"#REF!"},{"$f":"#REF!","v":{"$error":"#REF!"}},{"$f":"#REF!","v":{"$error":"#REF!"}},1,1,{"$error":"#REF!"},{"$nulls":4},{"$error":"#REF!"},{"$error":"#REF!"},{"$error":"#REF!"},{"$error":"#REF!"},{"$error":"#REF!"},null,{"$error":"#REF!"}]
[null,null,"МОГБУЗ \"Омсукчанская РБ\"",{"$error":"#REF!"},{"$f":"#REF!","v":{"$error":"#REF!"}},{"$f":"#REF!","v":{"$error":"#REF!"}},1,1,{"$error":"#REF!"},{"$nulls":4},{"$error":"#REF!"},{"$error":"#REF!"},{"$error":"#REF!"},{"$error":"#REF!"},{"$error":"#REF!"},null,{"$error":"#REF!"}]
[null,null,"МОГБУЗ \"Сусуманская РБ\"",{"$error":"#REF!"},{"$f":"#REF!","v":{"$error":"#REF!"}},{"$f":"#REF!","v":{"$error":"#REF!"}},1,1,{"$error":"#REF!"},{"$nulls":4},{"$error":"#REF!"},{"$error":"#REF!"},{"$error":"#REF!"},{"$error":"#REF!"},{"$error":"#REF!"},null,{"$error":"#REF!"}]
[null,null,"МОГБУЗ \"Тенькинская РБ\"",{"$error":"#REF!"},{"$f":"#REF!","v":{"$error":"#REF!"}},{"$f":"#REF!","v":{"$error":"#REF!"}},1,1,{"$error":"#REF!"},{"$nulls":4},{"$error":"#REF!"},{"$error":"#REF!"},{"$error":"#REF!"},{"$error":"#REF!"},{"$error":"#REF!"},{"$f":"SUM(R8:R15)","v":{"$error":"#REF!"}},{"$error":"#REF!"},{"$f":"SUM(T8:T15)","v":{"$error":"#REF!"}}]
[null,null,"МОГБУЗ \"Поликлиника № 1\"",{"$f":"$D$8","v":{"$error":"#REF!"}},{"$f":"#REF!","v":{"$error":"#REF!"}},{"$f":"#REF!","v":{"$error":"#REF!"}},1,1,{"$f":"F16*G16*H16","v":{"$error":"#REF!"}},{"$f":"S19/U19","v":{"$error":"#REF!"}},{"$f":"ROUND(D16*J16,2)","v":{"$error":"#REF!"}},null,{"$f":"K16/L8","v":{"$error":"#REF!"}},{"$f":"ROUND($M$16*E16,2)","v":{"$error":"#REF!"}},{"$error":"#REF!"},{"$f":"E16*$K$16","v":{"$error":"#REF!"}},{"$error":"#REF!"},{"$error":"#REF!"},null,{"$error":"#REF!"}]
[null,null,"МОГБУЗ \"Поликлиника № 2\"",{"$f":"$D$16","v":{"$error":"#REF!"}},{"$f":"#REF!","v":{"$error":"#REF!"}},{"$f":"#REF!","v":{"$error":"#REF!"}},1,1,{"$error":"#REF!"},{"$nulls":4},{"$f":"ROUND($M$16*E17,2)","v":{"$error":"#REF!"}},{"$error":"#REF!"},{"$f":"E17*$K$16","v":{"$error":"#REF!"}},{"$error":"#REF!"},{"$error":"#REF!"},null,{"$error":"#REF!"}]
[null,null,"МОГБУЗ \"Поликлиника № 3\"",{"$f":"$D$16","v":{"$error":"#REF!"}},{"$f":"#REF!","v":{"$error":"#REF!"}},{"$f":"#REF!","v":{"$error":"#REF!"}},1,1,{"$error":"#REF!"},{"$nulls":4},{"$f":"ROUND($M$16*E18,2)+0.01","v":{"$error":"#REF!"}},{"$error":"#REF!"},{"$error":"#REF!"},{"$error":"#REF!"},{"$error":"#REF!"},null,{"$error":"#REF!"}]
[null,null,"МОГБУЗ \"МСЧ \"Авиамедицина\"\"",{"$f":"$D$16","v":{"$error":"#REF!"}},{"$f":"#REF!","v":{"$error":"#REF!"}},{"$f":"#REF!","v":{"$error":"#REF!"}},1,1,{"$f":"F19*G19*H19","v":{"$error":"#REF!"}},{"$nulls":4},{"$error":"#REF!"},{"$error":"#REF!"},{"$error":"#REF!"},{"$f":"O19/(E19*D19)","v":{"$error":"#REF!"}},{"$f":"D19*E19*I19","v":{"$error":"#REF!"}},{"$f":"SUM(R16:R19)","v":{"$error":"#REF!"}},{"$f":"D19*E19","v":{"$error":"#REF!"}},{"$f":"SUM(T16:T19)","v":{"$error":"#REF!"}}]
[null,null,"ИТОГО Магаданская область (без Северо-Эвенского района)",null,{"$f":"SUM(E8:E19)","v":{"$error":"#REF!"}},{"$nulls":8},{"$f":"SUM(N8:N19)","v":{"$error":"#REF!"}},{"$f":"SUM(O8:O19)","v":{"$error":"#REF!"}},{"$f":"SUM(P8:P19)","v":{"$error":"#REF!"}},{"$f":"O20/(E20*D20)*1000","v":{"$error":"#REF!"}},{"$f":"SUM(R16:R19)","v":{"$error":"#REF!"}},null,{"$f":"SUM(T16:T19)","v":{"$error":"#REF!"}}]
[null,null,null,272365810,{"$nulls":9},{"$f":"D21/9","v":30262867.777777776},null,{"$f":"D21/9","v":30262867.777777776}]
[null,null,null,{"$f":"D21-O20","v":{"$error":"#REF!"}},{"$nulls":9},{"$f":"N21-N20","v":{"$error":"#REF!"}},{"$f":"D21-O20","v":{"$error":"#REF!"}}]

{"sheet":"1. АМП_без Акуш и Стомат","index":5,"n_rows":15,"n_cols":14,"rows_kept":15,"cut":false,"hidden":false,"merged":[[11,10,14,10],[0,11,0,13],[1,11,1,13],[2,11,2,13],[7,12,8,12],[7,13,8,13],[6,2,6,13],[5,2,5,13],[4,2,4,13],[3,11,3,13],[7,1,9,1],[7,2,9,2],[7,9,8,9],[7,10,8,10],[7,11,8,11],[7,5,7,8],[7,3,8,3],[7,4,8,4]]}
[{"$nulls":11},"Приложение № 5"]
[{"$nulls":11},"к Дополнительному соглашению № 4"]
[{"$nulls":11},"от \"19\" июля 2023 года"]
[]
[null,null,"Объём финансового обеспечения медицинских организаций, оказывающих амбулаторную медицинскую помощь (за исключением профилей \"Акушерство и гинекология\" и \"Стоматология\"), имеющих прикрепившихся лиц     "]
[null,null,"на 2023 год (вступает в действие с 01 июля 2023 года)"]
[null,null,"Таблица 1"]
[null,"№ п/п","Наименование МО","Базовый (средний) подушевой норматив финансирования на месяц, рублей","Численность прикрепленных, застрахованных лиц                                              на 01.07.2023 (чел.)","Коэффициенты ",null,null,null,"Дифференцированны подушевой норматив финасирования \nАМП (за исключением профилей \"Акушерство и гинекология\" и \"Стоматология\") для i группы                      (рублей)","Поправочный коэффициент","Фактический дифференцированный подушевой норматив финансирования                  \nАМП  (за исключением профилей \"Акушерство и гинекология\" и \"Стоматология\")        для i группы                    (рублей)","Размер финансового обеспечения  медицинской организации, оказывающей АМП (за исключением профилей \"Акушерство и гинекология\" и \"Стоматология\") по подушевому финансированию,  без учёта выплат по показателям результативности,                     на месяц                                                  с 01.07.2023г.            (рублей)","Размер финансового обеспечения  медицинской организации, оказывающей АМП (за исключением профилей \"Акушерство и гинекология\" и \"Стоматология\") по подушевому финансированию без учёта выплат по показателям результативности,                          на год               (рублей)"]
[{"$nulls":5},"Коэффициент половозрастного состава","Коэффициент дифференциации на прикрепившихся к медицинской организации лиц с учетом наличия подразделений, расположенных в сельской местности, отдаленных территориях, поселках городского типа и малых городах с численностью населения до 50 тысяч человек, и расходов на их содержание и оплату труда персонала","Коэффициент уровня расходов медицинских организаций (особенности плотности населения, транспортной доступности, климатических и географических особенностей, площади медицинской организации)","Коэффициент достижения целевых показателей уровня заработной платы медицинских работников, предусмотренного \"дорожными картами\" развития здравоохранения в субъекте Российской Федерации"]
[null,null,null,"ПНБАЗ","ЧЗПР","КДПВ","КДот","КДУР","КДЗП","ДПНi","ПК","ФДПнi","ФОМЕС","ФОгод"]
[null,1,2,3,4,5,6,7,8,9,10,11,12,13]
[null,1,"ГБУЗ \"Магаданская областная детская больница\"","-","-","-","-","-","-","-",0.95440746546771904,"-","-",190509479.94]
[1343001,2,"ГБУЗ \"Магаданский областной центр охраны материнства и детства\"",724.87962556006414,19062,2.0226000000000002,1,1,0.89144000000000001,1306.9772060895766,null,1247.3888030000001,23777725.359999999,142666352.16]
[null,3,"ГБУЗ \"Магаданская областная больница\"",724.87962556006414,40339,1.1614,1.113,1,1.25098,1172.1771349533067,null,1118.734608,45128635.350000001,516435074.07999998]
[null,4,"МОГБУЗ \"Городская поликлиника\"",724.87962556006414,71918,0.94030000000000002,1,1,0.56181000000000003,382.93211847647643,null,365.47327300000001,26284106.850000001,271941132.88]

{"sheet":"2. АМП_Акушерств","index":6,"n_rows":14,"n_cols":14,"rows_kept":14,"cut":false,"hidden":false,"merged":[[5,2,5,13],[0,11,0,13],[1,11,1,13],[2,11,2,13],[3,11,3,13],[4,2,4,13],[7,13,8,13],[11,10,13,10],[6,2,6,13],[7,1,9,1],[7,2,9,2],[7,3,8,3],[7,4,8,4],[7,5,7,8],[7,9,8,9],[7,10,8,10],[7,11,8,11],[7,12,8,12]]}
[{"$nulls":11},{"$f":"'1. АМП_без Акуш и Стомат'!L1:N1","v":"Приложение № 5"}]
[{"$nulls":11},{"$f":"'1. АМП_без Акуш и Стомат'!L2:N2","v":"к Дополнительному соглашению № 4"}]
[{"$nulls":11},{"$f":"'1. АМП_без Акуш и Стомат'!L3:N3","v":"от \"19\" июля 2023 года"}]
[]
[null,null,"Объём финансового обеспечения медицинских организаций, оказывающих амбулаторную медицинскую помощь по профилю \"Акушерство и гинекология\", имеющих прикрепившихся лиц     "]
[null,null,{"$f":"'1. АМП_без Акуш и Стомат'!C6:N6","v":"на 2023 год (вступает в действие с 01 июля 2023 года)"}]
[null,null,"Таблица 2"]
[null,"№ п/п","Наименование МО","Базовый (средний) подушевой норматив финансирования на месяц, рублей","Численность прикрепленных, застрахованных лиц                                              на 01.07.2023 (чел.)","Коэффициенты ",null,null,null,"Дифференцированны подушевой норматив финасирования \nАМП  для i группы по профилю \"Акушерсвто и гинекология\"                      (рублей)","Поправочный коэффициент","Фактический дифференцированный подушевой норматив финансирования                  \nАМП по профилю \"Акушерсвто и гинекология\"                               (рублей)","Размер финансового обеспечения  медицинской организации, оказывающей АМП по профилю \"Акушерсвто и гинекология\",  имеющих прикреившихся лиц (без учёта выплат по показателям результативности),                     на месяц                                                  с 01.07.2023г.            (рублей)","Размер финансового обеспечения  медицинской организации, оказывающей АМП по профилю \"Акушерсвто и гинекология\",  имеющих прикреившихся лиц (без учёта выплат по показателям результативности),                          на год               (рублей)"]
[{"$nulls":5},"Коэффициент половозрастного состава","Коэффициент дифференциации на прикрепившихся к медицинской организации лиц с учетом наличия подразделений, расположенных в сельской местности, отдаленных территориях, поселках городского типа и малых городах с численностью населения до 50 тысяч человек, и расходов на их содержание и оплату труда персонала","Коэффициент уровня расходов медицинских организаций (особенности плотности населения, транспортной доступности, климатических и географических особенностей, площади медицинской организации)","Коэффициент достижения целевых показателей уровня заработной платы медицинских работников, предусмотренного \"дорожными картами\" развития здравоохранения в субъекте Российской Федерации"]
[null,null,null,"ПНБАЗ/А","ЧЗПР","КДПВ","КДот","КДУР","КДЗП","ДПНi/А","ПК","ФДПнi/А","ФОМЕС/А","ФОгод/А"]
[null,1,2,3,4,5,6,7,8,9,10,11,12,13]
[null,1,"ГБУЗ \"Магаданский областной центр охраны материнства и детства\"",135.68492207116449,45039,1.2501,1,1,1,169.61972108116274,0.76896755323429278,130.432062,5874529.6399999997,35247177.840000004]
[null,2,"ГБУЗ \"Магаданская областная больница\"",135.68492207116449,20112,1.2694000000000001,1.113,1,1,191.70138380585263,null,147.41214400000001,2964753.04,42865210.700000003]
[null,3,"МОГБУЗ \"Городская поликлиника\"",135.68492207116449,1275,1.3059000000000001,1,1,1,177.19093973273371,null,136.25408300000001,173723.96,2485646.34]

{"sheet":"3. АМП_Стоматология","index":7,"n_rows":13,"n_cols":14,"rows_kept":13,"cut":false,"hidden":false,"merged":[[5,2,5,13],[0,11,0,13],[1,11,1,13],[2,11,2,13],[3,11,3,13],[4,2,4,13],[7,13,8,13],[11,10,12,10],[6,2,6,13],[7,1,9,1],[7,2,9,2],[7,3,8,3],[7,4,8,4],[7,5,7,8],[7,9,8,9],[7,10,8,10],[7,11,8,11],[7,12,8,12]]}
[{"$nulls":11},{"$f":"'1. АМП_без Акуш и Стомат'!L1:N1","v":"Приложение № 5"}]
[{"$nulls":11},{"$f":"'1. АМП_без Акуш и Стомат'!L2:N2","v":"к Дополнительному соглашению № 4"}]
[{"$nulls":11},{"$f":"'1. АМП_без Акуш и Стомат'!L3:N3","v":"от \"19\" июля 2023 года"}]
[]
[null,null,"Объём финансового обеспечения медицинских организаций, оказывающих амбулаторную медицинскую помощь по профилю \"Стоматология\", имеющих прикрепившихся лиц     "]
[null,null,"на 2023 год (вступает в действие с 01 июля 2023 года)"]
[null,null,"Таблица 3"]
[null,"№ п/п","Наименование МО","Базовый (средний) подушевой норматив финансирования на месяц, рублей","Численность прикрепленных, застрахованных лиц                                              на 01.07.2023 (чел.)","Коэффициенты ",null,null,null,"Дифференцированны подушевой норматив финасирования \nАМП  для i группы по профилю \"Стоматология\"                      (рублей)","Поправочный коэффициент","Фактический дифференцированный подушевой норматив финансирования                  \nАМП по профилю \"Стоматология\"                               (рублей)","Размер финансового обеспечения  медицинской организации, оказывающей по профилю \"Стоматология\", имеющих прикреившихся лиц (без учёта выплат по показателям результативности),                     на месяц                                                  с 01.07.2023г.            (рублей)","Размер финансового обеспечения  медицинской организации, оказывающей АМП по профилю \"Стоматология\", имеющих прикреившихся лиц (без учёта выплат по показателям результативности),                          на год               (рублей)"]
[{"$nulls":5},"Коэффициент половозрастного состава","Коэффициент дифференциации на прикрепившихся к медицинской организации лиц с учетом наличия подразделений, расположенных в сельской местности, отдаленных территориях, поселках городского типа и малых городах с численностью населения до 50 тысяч человек, и расходов на их содержание и оплату труда персонала","Коэффициент уровня расходов медицинских организаций (особенности плотности населения, транспортной доступности, климатических и географических особенностей, площади медицинской организации)","Коэффициент достижения целевых показателей уровня заработной платы медицинских работников, предусмотренного \"дорожными картами\" развития здравоохранения в субъекте Российской Федерации"]
[null,null,null,"ПНБАЗ/С","ЧЗПР","КДПВ","КДот","КДУР","КДЗП","ДПНi/С","ПК","ФДПнi/С","ФОМЕС/С","ФОгод/С"]
[null,1,2,3,4,5,6,7,8,9,10,11,12,13]
[null,1,"ГБУЗ \"Магаданская областная больница\"",222.83698234763278,40339,1.2472000000000001,1.113,1,1,309.32750251935596,0.78292616859999997,242.18059600000001,9769323.0600000005,117107976.28]
[null,2,"МОГБУЗ \"Городская поликлиника\"",222.83698234763278,90980,1.2281,1,1,1,273.66609802112782,null,214.26034999999999,19493406.640000001,239862824.88]

{"sheet":"тарифы (с плот.) (2)","index":8,"n_rows":20,"n_cols":15,"rows_kept":20,"cut":false,"hidden":true,"merged":[[0,2,2,8],[3,1,5,1],[3,2,5,2],[3,3,5,3],[3,4,5,4],[3,5,5,5],[3,6,5,6],[3,7,4,8],[16,7,18,7],[16,8,18,8],[10,7,11,7],[10,8,11,8],[7,7,9,7],[7,8,9,8],[12,7,15,7],[12,8,15,8]]}
[null,null,"РАСЧЕТ ГРУППОВЫХ ТАРИФОВ НА ПОСЕЩЕНИЕ, ОБРАЩЕНИЕ ВРАЧА-ТЕРАПЕВТА (УЧАСТКОВОГО), ВРАЧА ОБЩЕЙ ПРАКТИКИ  НА 2017 ГОД"]
[]
[]
[null,"№ п.п.","Наименование МО","Объемы по нормативу ТПОМС (0,327)","Кол-во посещений","Объем финансового обеспечения  медицинской организации, оказывающей СМП по подушевому финансированию на год","Тариф для МО","Средневзвешенный тариф для группы"]
[]
[{"$nulls":7},"ПОСЕЩЕНИЯ С ПРОФ.ЦЕЛЬЮ","ОБРАЩЕНИЯ ПО ЗАБОЛЕВАНИЮ"]
[null,1,2,null,3,4,5,6,7]
[null,null,"МОГБУЗ \"Поликлиника № 1\"",null,{"$f":"'Коэф плотности населения'!D9","v":0},{"$f":"#REF!","v":{"$error":"#REF!"}},{"$f":"F8/E8","v":{"$error":"#REF!"}},{"$f":"K10/L10","v":{"$error":"#REF!"}},{"$f":"ROUND(H8*2.9,2)","v":{"$error":"#REF!"}},{"$f":"G8*E8","v":{"$error":"#REF!"}},null,null,{"$f":"E8*$H$8","v":{"$error":"#REF!"}},{"$f":"M8-F8","v":{"$error":"#REF!"}},-1549861.6712386534]
[null,null,"МОГБУЗ \"Поликлиника № 2\"",null,{"$f":"'Коэф плотности населения'!D10","v":0},{"$f":"#REF!","v":{"$error":"#REF!"}},{"$error":"#REF!"},null,null,{"$f":"G9*E9","v":{"$error":"#REF!"}},null,null,{"$f":"E9*$H$8","v":{"$error":"#REF!"}},{"$f":"M9-F9","v":{"$error":"#REF!"}},-68940.685691401362]
[null,null,"МОГБУЗ \"Поликлиника № 3\"",null,{"$f":"'Коэф плотности населения'!D11","v":0},{"$f":"#REF!","v":{"$error":"#REF!"}},{"$error":"#REF!"},null,null,{"$error":"#REF!"},{"$f":"SUM(J8:J10)","v":{"$error":"#REF!"}},{"$f":"SUM(E8:E10)","v":0},{"$error":"#REF!"},{"$error":"#REF!"},-1288891.3587453254]
[null,null,"МОГБУЗ \"МСЧ \"Авиамедицина\"\"",null,{"$f":"'Коэф плотности населения'!D12","v":0},{"$f":"#REF!","v":{"$error":"#REF!"}},{"$f":"F11/E11","v":{"$error":"#REF!"}},{"$f":"K12/L12","v":{"$error":"#REF!"}},null,{"$error":"#REF!"},null,null,{"$f":"E11*$H$11","v":{"$error":"#REF!"}},{"$error":"#REF!"},2270037.0865723444]
[null,null,"МОГБУЗ \"Хасынская РБ\"",20230,{"$f":"'Коэф плотности населения'!D18","v":0},{"$f":"#REF!","v":{"$error":"#REF!"}},{"$f":"F12/E12","v":{"$error":"#REF!"}},null,null,{"$error":"#REF!"},{"$f":"J12+J11","v":{"$error":"#REF!"}},{"$f":"E11+E12","v":0},{"$f":"E12*$H$11","v":{"$error":"#REF!"}},{"$error":"#REF!"},637656.62910304405]
[null,null,"ГБУЗ \"Магаданская областная детская больница\"",null,{"$f":"'Коэф плотности населения'!D8","v":0},{"$f":"#REF!","v":{"$error":"#REF!"}},{"$f":"F13/E13","v":{"$error":"#REF!"}},{"$f":"K16/L16","v":{"$error":"#REF!"}},{"$f":"ROUND(H13*2.9,2)","v":{"$error":"#REF!"}},{"$f":"G13*E13","v":{"$error":"#REF!"}},null,null,{"$f":"E13*$H$13","v":{"$error":"#REF!"}},{"$error":"#REF!"},6108091.3356327191]
[null,null,"МОГБУЗ \"Ольская РБ\"",7000,{"$f":"'Коэф плотности населения'!D13","v":0},{"$f":"#REF!","v":{"$error":"#REF!"}},{"$f":"F14/E14","v":{"$error":"#REF!"}},null,null,{"$f":"G14*E14","v":{"$error":"#REF!"}},null,null,{"$f":"E14*$H$13","v":{"$error":"#REF!"}},{"$error":"#REF!"},194059.70955812186]
[null,null,"МОГБУЗ \"Сусуманская РБ\"",14000,{"$f":"'Коэф плотности населения'!D16","v":0},{"$f":"#REF!","v":{"$error":"#REF!"}},{"$f":"F15/E15","v":{"$error":"#REF!"}},null,null,{"$error":"#REF!"},null,null,{"$f":"E15*$H$13","v":{"$error":"#REF!"}},{"$error":"#REF!"},-257213.76103419811]
[null,null,"МОГБУЗ \"Ягоднинская РБ\"",9000,{"$f":"'Коэф плотности населения'!D19","v":0},{"$f":"#REF!","v":{"$error":"#REF!"}},{"$error":"#REF!"},null,null,{"$error":"#REF!"},{"$f":"SUM(J13:J16)","v":{"$error":"#REF!"}},{"$f":"SUM(E13:E16)","v":0},{"$f":"E16*$H$13","v":{"$error":"#REF!"}},{"$error":"#REF!"},-910502.60344523843]
[null,null,"МОГБУЗ \"Среднеканская РБ\"",13300,{"$f":"'Коэф плотности населения'!D15","v":0},{"$f":"#REF!","v":{"$error":"#REF!"}},{"$f":"F17/E17","v":{"$error":"#REF!"}},{"$f":"K19/L19","v":{"$error":"#REF!"}},{"$f":"ROUND(H17*2.9,2)","v":{"$error":"#REF!"}},{"$f":"G17*E17","v":{"$error":"#REF!"}},null,null,{"$f":"E17*$H$17","v":{"$error":"#REF!"}},{"$f":"M17-F17","v":{"$error":"#REF!"}},-976490.97865300253]
[1343005,null,"МОГБУЗ \"Омсукчанская РБ\"",5000,{"$f":"'Коэф плотности населения'!D14","v":0},{"$f":"#REF!","v":{"$error":"#REF!"}},{"$error":"#REF!"},null,null,{"$error":"#REF!"},null,null,{"$f":"E18*$H$17","v":{"$error":"#REF!"}},{"$error":"#REF!"},-2411700.7547968309]
[1340011,null,"МОГБУЗ \"Тенькинская РБ\"",6000,{"$f":"'Коэф плотности населения'!D17","v":0},{"$f":"#REF!","v":{"$error":"#REF!"}},{"$error":"#REF!"},null,null,{"$error":"#REF!"},{"$f":"SUM(J17:J19)","v":{"$error":"#REF!"}},{"$f":"SUM(E17:E19)","v":0},{"$error":"#REF!"},{"$error":"#REF!"},-1746242.9472615626]
[null,null,"ИТОГО Магаданская область (без Северо-Эвенского района)",443213,{"$f":"SUM(E8:E19)","v":0},{"$f":"SUM(F8:F19)","v":{"$error":"#REF!"}}]

{"sheet":"тарифы (с плот.)","index":9,"n_rows":22,"n_cols":14,"rows_kept":22,"cut":false,"hidden":true,"merged":[[3,1,5,1],[3,2,5,2],[3,3,5,3],[3,4,5,4],[3,5,5,5],[12,7,14,7],[12,8,14,8],[15,7,18,7],[15,8,18,8],[7,8,9,8],[0,2,2,8],[3,6,5,6],[3,7,4,8],[10,7,11,7],[10,8,11,8],[7,7,9,7]]}
[null,null,"РАСЧЕТ ГРУППОВЫХ ТАРИФОВ НА ПОСЕЩЕНИЕ, ОБРАЩЕНИЕ ВРАЧА-СПЕЦИАЛИСТА НА 2018 ГОД"]
[]
[]
[null,"№ п.п.","Наименование МО","Объемы по нормативу ТПОМС (0,327)","Кол-во посещений","Объем финансового обеспечения  медицинской организации, оказывающей СМП по подушевому финансированию на год","Тариф для МО","Средневзвешенный тариф для группы"]
[]
[{"$nulls":7},"ПОСЕЩЕНИЯ С ПРОФ.ЦЕЛЬЮ","ОБРАЩЕНИЯ ПО ЗАБОЛЕВАНИЮ"]
[null,1,2,null,3,4,5,6,7]
[null,null,"МОГБУЗ \"Поликлиника № 1\"",null,110061,{"$f":"#REF!","v":{"$error":"#REF!"}},{"$f":"F8/E8","v":{"$error":"#REF!"}},{"$f":"ROUND(K10/L10,2)","v":{"$error":"#REF!"}},{"$f":"ROUND(H8*2.9,2)","v":{"$error":"#REF!"}},{"$f":"G8*E8","v":{"$error":"#REF!"}},null,null,{"$f":"$H$8*E8","v":{"$error":"#REF!"}},{"$f":"M8-F8","v":{"$error":"#REF!"}}]
[null,null,"МОГБУЗ \"Поликлиника № 3\"",null,58585,{"$f":"#REF!","v":{"$error":"#REF!"}},{"$f":"F9/E9","v":{"$error":"#REF!"}},{"$nulls":5},{"$f":"$H$8*E9","v":{"$error":"#REF!"}},{"$f":"M9-F9","v":{"$error":"#REF!"}}]
[null,null,"МОГБУЗ \"Ягоднинская РБ\"",9000,62572,{"$f":"#REF!","v":{"$error":"#REF!"}},{"$error":"#REF!"},null,null,null,{"$f":"F10+F9+F8","v":{"$error":"#REF!"}},{"$f":"E10+E9+E8","v":231218},{"$error":"#REF!"},{"$error":"#REF!"}]
[null,null,"МОГБУЗ \"МСЧ \"Авиамедицина\"\"",null,18461,{"$f":"#REF!","v":{"$error":"#REF!"}},{"$error":"#REF!"},{"$f":"ROUND(K11/L11,2)","v":{"$error":"#REF!"}},{"$f":"ROUND(H11*2.9,2)","v":{"$error":"#REF!"}},{"$f":"G11*E11","v":{"$error":"#REF!"}},{"$f":"F11+F12","v":{"$error":"#REF!"}},{"$f":"E11+E12","v":181202},{"$f":"$H$11*E11","v":{"$error":"#REF!"}},{"$f":"M11-F11","v":{"$error":"#REF!"}}]
[null,null,"ГБУЗ \"Магаданская областная детская больница\"",null,162741,{"$f":"#REF!","v":{"$error":"#REF!"}},{"$error":"#REF!"},null,null,{"$f":"G12*E12","v":{"$error":"#REF!"}},null,null,{"$f":"$H$11*E12","v":{"$error":"#REF!"}},{"$f":"M12-F12","v":{"$error":"#REF!"}}]
[null,null,"МОГБУЗ \"Ольская РБ\"",7000,52985,{"$f":"#REF!","v":{"$error":"#REF!"}},{"$error":"#REF!"},{"$f":"ROUND(K14/L14,2)","v":{"$error":"#REF!"}},{"$f":"ROUND(H13*2.9,2)","v":{"$error":"#REF!"}},{"$f":"G13*E13","v":{"$error":"#REF!"}},null,null,{"$f":"$H$13*E13","v":{"$error":"#REF!"}},{"$error":"#REF!"}]
[null,null,"МОГБУЗ \"Сусуманская РБ\"",14000,48246,{"$f":"#REF!","v":{"$error":"#REF!"}},{"$error":"#REF!"},null,null,{"$error":"#REF!"},{"$f":"F14+F13+F15","v":{"$error":"#REF!"}},{"$f":"E14+E13+E15","v":175965},{"$f":"$H$13*E14","v":{"$error":"#REF!"}},{"$error":"#REF!"}]
[null,null,"МОГБУЗ \"Поликлиника № 2\"",null,74734,{"$f":"#REF!","v":{"$error":"#REF!"}},{"$f":"F15/E15","v":{"$error":"#REF!"}},null,null,{"$f":"G15*E15","v":{"$error":"#REF!"}},null,null,{"$f":"$H$13*E15","v":{"$error":"#REF!"}},{"$f":"M15-F15","v":{"$error":"#REF!"}}]
[null,null,"МОГБУЗ \"Среднеканская РБ\"",13300,14187,{"$f":"#REF!","v":{"$error":"#REF!"}},{"$error":"#REF!"},{"$f":"ROUND(K19/L19,2)","v":{"$error":"#REF!"}},{"$f":"ROUND(H16*2.9,2)","v":{"$error":"#REF!"}},{"$f":"G16*E16","v":{"$error":"#REF!"}},null,null,{"$f":"$H$16*E16","v":{"$error":"#REF!"}},{"$error":"#REF!"}]
[null,null,"МОГАУЗ \"Хасынская РБ\"",20230,35289,{"$f":"#REF!","v":{"$error":"#REF!"}},{"$f":"F17/E17","v":{"$error":"#REF!"}},null,null,{"$f":"G17*E17","v":{"$error":"#REF!"}},null,null,{"$f":"$H$16*E17","v":{"$error":"#REF!"}},{"$f":"M17-F17","v":{"$error":"#REF!"}}]
[1343005,null,"МОГБУЗ \"Омсукчанская РБ\"",5000,23081,{"$f":"#REF!","v":{"$error":"#REF!"}},{"$error":"#REF!"},null,null,{"$error":"#REF!"},null,null,{"$error":"#REF!"},{"$error":"#REF!"}]
[1340011,null,"МОГБУЗ \"Тенькинская РБ\"",6000,20821,{"$f":"#REF!","v":{"$error":"#REF!"}},{"$error":"#REF!"},null,null,{"$error":"#REF!"},{"$f":"SUM(J16:J19)","v":{"$error":"#REF!"}},{"$f":"SUM(E16:E19)","v":93378},{"$error":"#REF!"},{"$error":"#REF!"}]
[null,null,"ИТОГО Магаданская область (без Северо-Эвенского района)",443213,{"$f":"SUM(E8:E19)","v":681763},{"$f":"SUM(F8:F19)","v":{"$error":"#REF!"}}]
[{"$nulls":4},681263]
[{"$nulls":4},{"$f":"E21-E20","v":-500}]

{"sheet":"тарифы (без плотн) (2)","index":10,"n_rows":24,"n_cols":16,"rows_kept":24,"cut":false,"hidden":true,"merged":[[3,1,5,1],[3,2,5,2],[3,3,5,3],[3,4,5,4],[3,5,5,5],[7,7,14,7],[7,8,14,8],[15,7,18,7],[15,8,18,8],[0,2,2,8],[3,6,5,6],[3,7,4,8]]}
[null,null,"РАСЧЕТ ГРУППОВЫХ ТАРИФОВ НА ПОСЕЩЕНИЕ, ОБРАЩЕНИЕ ВРАЧА-ТЕРАПЕВТА (УЧАСТКОВОГО), ВРАЧА ОБЩЕЙ ПРАКТИКИ  НА 2017 ГОД"]
[]
[]
[null,"№ п.п.","Наименование МО","Объемы по нормативу ТПОМС (0,327)","Кол-во посещений","Объем финансового обеспечения  медицинской организации, оказывающей СМП по подушевому финансированию на год","Тариф для МО","Средневзвешенный тариф для группы"]
[]
[{"$nulls":7},"ПОСЕЩЕНИЯ С ПРОФ.ЦЕЛЬЮ","ОБРАЩЕНИЯ ПО ЗАБОЛЕВАНИЮ"]
[null,1,2,null,5,7,8,9,10]
[null,1,"ГБУЗ \"Магаданская областная детская больница\"",null,{"$f":"'Коэф плотности населения'!D8","v":0},{"$f":"'АМП 2017 (терапевты)  (без пло)'!O8","v":{"$error":"#REF!"}},{"$f":"F8/E8","v":{"$error":"#REF!"}},{"$f":"K15/L15","v":{"$error":"#REF!"}},{"$f":"ROUND(H8*2.9,2)","v":{"$error":"#REF!"}},{"$f":"E8*G8","v":{"$error":"#REF!"}},null,null,null,{"$f":"E8*$H$8","v":{"$error":"#REF!"}},{"$f":"N8-F8","v":{"$error":"#REF!"}},{"$f":"E8*1.437","v":0}]
[null,5,"МОГБУЗ \"Хасынская РБ\"",20230,{"$f":"'Коэф плотности населения'!D18","v":0},{"$f":"'АМП 2017 (терапевты)  (без пло)'!O9","v":{"$error":"#REF!"}},{"$f":"F9/E9","v":{"$error":"#REF!"}},null,null,{"$f":"E9*G9","v":{"$error":"#REF!"}},null,null,null,{"$f":"E9*$H$8","v":{"$error":"#REF!"}},{"$f":"N9-F9","v":{"$error":"#REF!"}},{"$f":"E9*1.437","v":0}]
[null,6,"МОГБУЗ \"Ольская РБ\"",7000,{"$f":"'Коэф плотности населения'!D13","v":0},{"$f":"'АМП 2017 (терапевты)  (без пло)'!O10","v":{"$error":"#REF!"}},{"$error":"#REF!"},null,null,{"$error":"#REF!"},null,null,null,{"$error":"#REF!"},{"$error":"#REF!"},0]
[null,7,"МОГБУЗ \"Среднеканская РБ\"",13300,{"$f":"'Коэф плотности населения'!D15","v":0},{"$f":"'АМП 2017 (терапевты)  (без пло)'!O11","v":{"$error":"#REF!"}},{"$error":"#REF!"},null,null,{"$error":"#REF!"},null,null,null,{"$error":"#REF!"},{"$error":"#REF!"},0]
[null,8,"МОГБУЗ \"Ягоднинская РБ\"",9000,{"$f":"'Коэф плотности населения'!D19","v":0},{"$f":"'АМП 2017 (терапевты)  (без пло)'!O12","v":{"$error":"#REF!"}},{"$error":"#REF!"},null,null,{"$error":"#REF!"},null,null,null,{"$error":"#REF!"},{"$error":"#REF!"},0]
[null,9,"МОГБУЗ \"Омсукчанская РБ\"",5000,{"$f":"'Коэф плотности населения'!D14","v":0},{"$f":"'АМП 2017 (терапевты)  (без пло)'!O13","v":{"$error":"#REF!"}},{"$error":"#REF!"},null,null,{"$error":"#REF!"},null,null,null,{"$error":"#REF!"},{"$error":"#REF!"},0]
[null,11,"МОГБУЗ \"Сусуманская РБ\"",14000,{"$f":"'Коэф плотности населения'!D16","v":0},{"$f":"'АМП 2017 (терапевты)  (без пло)'!O14","v":{"$error":"#REF!"}},{"$error":"#REF!"},null,null,{"$error":"#REF!"},null,null,null,{"$error":"#REF!"},{"$error":"#REF!"},0]
[null,11,"МОГБУЗ \"Тенькинская РБ\"",6000,{"$f":"'Коэф плотности населения'!D17","v":0},{"$f":"'АМП 2017 (терапевты)  (без пло)'!O15","v":{"$error":"#REF!"}},{"$error":"#REF!"},null,null,{"$error":"#REF!"},{"$f":"SUM(J8:J15)","v":{"$error":"#REF!"}},{"$f":"SUM(E8:E15)","v":0},null,{"$error":"#REF!"},{"$error":"#REF!"},0]
[null,2,"МОГБУЗ \"Поликлиника № 1\"",null,{"$f":"'Коэф плотности населения'!D9","v":0},{"$f":"'АМП 2017 (терапевты)  (без пло)'!O16","v":{"$error":"#REF!"}},{"$error":"#REF!"},{"$f":"K19/L19","v":{"$error":"#REF!"}},{"$f":"ROUND(H16*2.9,2)","v":{"$error":"#REF!"}},{"$error":"#REF!"},null,null,null,{"$f":"E16*$H$16","v":{"$error":"#REF!"}},{"$error":"#REF!"},{"$f":"E16*0.607","v":0}]
[null,3,"МОГБУЗ \"Поликлиника № 2\"",null,{"$f":"'Коэф плотности населения'!D10","v":0},{"$f":"'АМП 2017 (терапевты)  (без пло)'!O17","v":{"$error":"#REF!"}},{"$error":"#REF!"},null,null,{"$error":"#REF!"},null,null,null,{"$f":"E17*$H$16","v":{"$error":"#REF!"}},{"$error":"#REF!"},{"$f":"E17*0.607","v":0}]
[null,4,"МОГБУЗ \"Поликлиника № 3\"",null,{"$f":"'Коэф плотности населения'!D11","v":0},{"$f":"'АМП 2017 (терапевты)  (без пло)'!O18","v":{"$error":"#REF!"}},{"$error":"#REF!"},null,null,{"$error":"#REF!"},null,null,null,{"$error":"#REF!"},{"$error":"#REF!"},0]
[1340004,10,"МОГБУЗ \"МСЧ \"Авиамедицина\"\"",null,{"$f":"'Коэф плотности населения'!D12","v":0},{"$f":"'АМП 2017 (терапевты)  (без пло)'!O19","v":{"$error":"#REF!"}},{"$error":"#REF!"},null,null,{"$error":"#REF!"},{"$f":"SUM(J16:J19)","v":{"$error":"#REF!"}},{"$f":"SUM(E16:E19)","v":0},null,{"$error":"#REF!"},{"$error":"#REF!"},0]
[null,null,"ИТОГО Магаданская область (без Северо-Эвенского района)",443213,{"$f":"SUM(E8:E19)","v":0},{"$f":"SUM(F8:F19)","v":{"$error":"#REF!"}},null,null,null,0,{"$nulls":5},{"$f":"SUM(P8:P19)","v":0}]
[{"$nulls":5},{"$f":"F20/E20","v":{"$error":"#REF!"}},null,{"$f":"H8/H16","v":{"$error":"#REF!"}},{"$nulls":7},{"$f":"P20/E20","v":{"$error":"#DIV/0!"}}]
[{"$nulls":15},{"$f":"F20/(E20*P21)","v":{"$error":"#REF!"}}]
[{"$nulls":15},{"$f":"P22*'АМП 2017 (терапевты)  (без пло)'!J8","v":{"$error":"#REF!"}}]
[{"$nulls":15},{"$f":"P22*'АМП 2017 (терапевты)  (без пло)'!J16","v":{"$error":"#REF!"}}]

{"sheet":"тарифы (без плотн)","index":11,"n_rows":20,"n_cols":15,"rows_kept":20,"cut":false,"hidden":true,"merged":[[0,2,2,8],[3,1,5,1],[3,2,5,2],[3,3,5,3],[3,4,5,4],[3,5,5,5],[3,6,5,6],[3,7,4,8],[15,7,18,7],[15,8,18,8],[7,7,11,7],[7,8,11,8],[12,7,14,7],[12,8,14,8]]}
[null,null,"РАСЧЕТ ГРУППОВЫХ ТАРИФОВ НА ПОСЕЩЕНИЕ, ОБРАЩЕНИЕ ВРАЧА-ТЕРАПЕВТА (УЧАСТКОВОГО), ВРАЧА ОБЩЕЙ ПРАКТИКИ  НА 2017 ГОД"]
[]
[]
[null,"№ п.п.","Наименование МО","Объемы по нормативу ТПОМС (0,327)","Кол-во посещений","Объем финансового обеспечения  медицинской организации, оказывающей СМП по подушевому финансированию на год","Тариф для МО","Средневзвешенный тариф для группы"]
[]
[{"$nulls":7},"ПОСЕЩЕНИЯ С ПРОФ.ЦЕЛЬЮ","ОБРАЩЕНИЯ ПО ЗАБОЛЕВАНИЮ"]
[null,1,2,null,5,7,8,9,10]
[null,1,"ГБУЗ \"Магаданская областная детская больница\"",null,{"$f":"'Коэф плотности населения'!D8","v":0},{"$f":"'АМП 2017 (терапевты)  (без пло)'!O8","v":{"$error":"#REF!"}},{"$f":"F8/E8","v":{"$error":"#REF!"}},{"$f":"K12/L12","v":{"$error":"#REF!"}},null,{"$f":"E8*G8","v":{"$error":"#REF!"}},null,null,null,{"$f":"E8*$H$8","v":{"$error":"#REF!"}},{"$f":"N8-F8","v":{"$error":"#REF!"}}]
[null,2,"МОГБУЗ \"Поликлиника № 1\"",null,{"$f":"'Коэф плотности населения'!D9","v":0},{"$f":"'АМП 2017 (терапевты)  (без пло)'!O16","v":{"$error":"#REF!"}},{"$f":"F9/E9","v":{"$error":"#REF!"}},null,null,{"$f":"E9*G9","v":{"$error":"#REF!"}},null,null,null,{"$f":"E9*$H$8","v":{"$error":"#REF!"}},{"$f":"N9-F9","v":{"$error":"#REF!"}}]
[null,3,"МОГБУЗ \"Поликлиника № 2\"",null,{"$f":"'Коэф плотности населения'!D10","v":0},{"$f":"'АМП 2017 (терапевты)  (без пло)'!O17","v":{"$error":"#REF!"}},{"$error":"#REF!"},null,null,{"$error":"#REF!"},null,null,null,{"$error":"#REF!"},{"$error":"#REF!"}]
[null,4,"МОГБУЗ \"Поликлиника № 3\"",null,{"$f":"'Коэф плотности населения'!D11","v":0},{"$f":"'АМП 2017 (терапевты)  (без пло)'!O18","v":{"$error":"#REF!"}},{"$error":"#REF!"},null,null,{"$error":"#REF!"},null,null,null,{"$error":"#REF!"},{"$error":"#REF!"}]
[null,10,"МОГБУЗ \"МСЧ \"Авиамедицина\"\"",null,{"$f":"'Коэф плотности населения'!D12","v":0},{"$f":"'АМП 2017 (терапевты)  (без пло)'!O19","v":{"$error":"#REF!"}},{"$error":"#REF!"},null,null,{"$error":"#REF!"},{"$f":"SUM(J8:J12)","v":{"$error":"#REF!"}},{"$f":"SUM(E8:E12)","v":0},null,{"$error":"#REF!"},{"$error":"#REF!"}]
[null,6,"МОГБУЗ \"Ольская РБ\"",7000,{"$f":"'Коэф плотности населения'!D13","v":0},{"$f":"'АМП 2017 (терапевты)  (без пло)'!O10","v":{"$error":"#REF!"}},{"$error":"#REF!"},{"$f":"K15/L15","v":{"$error":"#REF!"}},null,{"$error":"#REF!"},null,null,null,{"$f":"E13*$H$13","v":{"$error":"#REF!"}},{"$error":"#REF!"}]
[null,8,"МОГБУЗ \"Ягоднинская РБ\"",9000,{"$f":"'Коэф плотности населения'!D19","v":0},{"$f":"'АМП 2017 (терапевты)  (без пло)'!O12","v":{"$error":"#REF!"}},{"$error":"#REF!"},null,null,{"$error":"#REF!"},null,null,null,{"$f":"E14*$H$13","v":{"$error":"#REF!"}},{"$error":"#REF!"}]
[null,11,"МОГБУЗ \"Сусуманская РБ\"",14000,{"$f":"'Коэф плотности населения'!D16","v":0},{"$f":"'АМП 2017 (терапевты)  (без пло)'!O14","v":{"$error":"#REF!"}},{"$error":"#REF!"},null,null,{"$error":"#REF!"},{"$f":"SUM(J13:J15)","v":{"$error":"#REF!"}},{"$f":"SUM(E13:E15)","v":0},null,{"$error":"#REF!"},{"$error":"#REF!"}]
[null,5,"МОГБУЗ \"Хасынская РБ\"",20230,{"$f":"'Коэф плотности населения'!D18","v":0},{"$f":"'АМП 2017 (терапевты)  (без пло)'!O9","v":{"$error":"#REF!"}},{"$error":"#REF!"},{"$f":"K19/L19","v":{"$error":"#REF!"}},null,{"$error":"#REF!"},null,null,null,{"$f":"E16*$H$16","v":{"$error":"#REF!"}},{"$f":"N16-F16","v":{"$error":"#REF!"}}]
[null,7,"МОГБУЗ \"Среднеканская РБ\"",13300,{"$f":"'Коэф плотности населения'!D15","v":0},{"$f":"'АМП 2017 (терапевты)  (без пло)'!O11","v":{"$error":"#REF!"}},{"$error":"#REF!"},null,null,{"$error":"#REF!"},null,null,null,{"$f":"E17*$H$16","v":{"$error":"#REF!"}},{"$error":"#REF!"}]
[null,9,"МОГБУЗ \"Омсукчанская РБ\"",5000,{"$f":"'Коэф плотности населения'!D14","v":0},{"$f":"'АМП 2017 (терапевты)  (без пло)'!O13","v":{"$error":"#REF!"}},{"$error":"#REF!"},null,null,{"$error":"#REF!"},null,null,null,{"$error":"#REF!"},{"$error":"#REF!"}]
[null,11,"МОГБУЗ \"Тенькинская РБ\"",6000,{"$f":"'Коэф плотности населения'!D17","v":0},{"$f":"'АМП 2017 (терапевты)  (без пло)'!O15","v":{"$error":"#REF!"}},{"$error":"#REF!"},null,null,{"$error":"#REF!"},{"$f":"SUM(J16:J19)","v":{"$error":"#REF!"}},{"$f":"SUM(E16:E19)","v":0},null,{"$error":"#REF!"},{"$error":"#REF!"}]
[null,null,"ИТОГО Магаданская область (без Северо-Эвенского района)",443213,{"$f":"SUM(E8:E19)","v":0},{"$f":"SUM(F8:F19)","v":{"$error":"#REF!"}},null,null,null,{"$f":"E20*G20","v":0}]