{"text_format":"2","workbook":"xlsx","n_sheets":8,"sheets":["РАЗДЕЛ 1(АМП)","РАЗДЕЛ 2 (КС)","РАЗДЕЛ 3 (ДС)","РАЗДЕЛ 4 (СМП) ","Раздел 5а (МУ)","Раздел 5б (МУ) -стоматолог","Раздел6-МУ для силовых структур","тм"],"not_rendered":{"charts":0,"images":0,"macros":0,"external_links":0,"defined_names":17,"comments":0,"pivot_tables":0},"unopened":[],"bounds":{"document_bytes":16777216,"sheet_cells":100000,"run_cost":"one","rows_first":2000,"rows_last":500,"rows_between":2000,"halvings":0,"cell_chars":16384,"cell_head_chars":4096},"cells_cut":0,"cells_raw":0,"read":"whole","date_system":"1900"}

{"sheet":"РАЗДЕЛ 1(АМП)","index":0,"n_rows":59,"n_cols":4,"rows_kept":59,"cut":false,"hidden":false,"merged":[[40,0,40,3],[47,0,47,3],[25,0,25,3],[57,0,57,3],[39,0,39,3],[55,0,55,3],[27,0,27,3],[31,0,31,3],[23,0,23,3],[0,0,0,3],[5,0,5,3],[12,0,12,3],[13,0,13,3],[1,0,1,3],[2,0,2,3],[7,0,7,3],[9,0,9,3],[3,2,3,3]]}
["Приложение № 1"]
["к Дополнительному соглашению № 4"]
["от \"19\" июля 2023 года"]
[]
[]
["Тарифы на оплату  медицинских услуг, оказываемых медицинскими организациями,  работающими в системе обязательного медицинского  страхования Магаданской области, предоставляемых в рамках базовой  программы обязательного медицинского страхования на 2023 год"]
[]
["вступают в действие с \"01\" июля 2023 года                                                                                                               "]
[]
["РАЗДЕЛ 1. АМБУЛАТОРНАЯ МЕДИЦИНСКАЯ ПОМОЩЬ"]
["Применяется способ оплаты (код по классификатору V010)","Наименование врачебной специальности","Применяется для целей посещения (код по классификатору V025)","Стоимость единицы объёма,                                                                                                                                                              рублей"]
[1,2,"3",4]
["1.1. СТОИМОСТЬ ЕДИНИЦЫ ОБЪЁМА МЕДИЦИНСКОЙ ПОМОЩИ  ДЛЯ МЕДИЦИНСКИХ ОРГАНИЗАЦИЙ   I УРОВНЯ:   "]
["1.1.1. ТАРИФЫ НА ОПЛАТУ ЕДИНИЦЫ ОБЪЁМА АМБУЛАТОРНОЙ  МЕДИЦИНСКОЙ ПОМОЩИ, ОКАЗЫВАЕМОЙ ВРАЧАМИ-СПЕЦИАЛИСТАМИ, СРЕДНИМ МЕДИЦИНСИМ ПЕРСОНАЛОМ ВЕДУЩИМ САМОСТОЯТЕЛЬНЫЙ ПРИЁМ, ДЛЯ МЕДИЦИНСКИХ ОРГАНИЗАЦИЙ ФИНАНСИРУЕМЫХ ПО ПОДУШЕВОМУ НОРМАТИВУ ФИНАНСИРОВАНИЯ НА ПРИКРЕПИВШИХСЯ ЛИЦ  С УЧЁТОМ ПОКАЗАТЕЛЕЙ РЕЗУЛЬТАТИВНОСТИ (ВКЛЮЧАЯ ПОКАЗАТЕЛИ ОБЪЁМА МЕДИЦИНСКОЙ ПОМОЩИ)  (В ПОДУШЕВОЙ НОРМАТИВ НЕ ВКЛЮЧАЮТСЯ: ПРОФИЛАКТИЧЕСКИЕ МЕДИЦИНСКИЕ ОСМОТРЫ И ДИСПАНСЕРИЗАЦИИ, ДИСПАНСЕРНОЕ НАБЛЮДЕНИЕ, САМОСТОЯТЕЛЬНЫЕ МЕДИЦИНСКИЕ УСЛУГИ,ПОМОЩЬ, МЕДИЦИНСКАЯ ПОМОЩЬОКАЗАННАЯ НЕ ПРИКРЕПЛЕННОМУ НАСЕЛЕНИЮ МОБИЛЬНЫМИ МЕДИЦИНСКИМИ БРИГАДАМИ):"]
[31,"средняя стоимость одного посещения с профилактической и иной целью","1.0, 1.2, 2.1, 2.5, 2.6",1024.56]
[31,"средняя стоимость одного обращения по заболеванию","3.0",5385.26]
[31,"Диспансерное наблюдение детского населения (комплексное посещение)","1.3",4485.7700000000004]
[31,"средняя стоимость посещения по неотложной медицинской помощи","1.1",2870.18]
[31,"стоматологическая медицинская помощь"," 1.0, 1.1,1.3, 2.1, 2.2, 2.6, 3.0","раздел 5б"]
[28,"самостоятельные медицинские услуги","3.0","раздел 5а"]
[30,"профилактические медицинские осмотры, в том числе в рамках диспансеризации  (комплексное посещение)","2.1, 2.2","Приложения № 9-13"]
[30,"Диспансерное наблюдение взрослого населения (комплексное посещение)","1.3",4485.7700000000004]
[30,"Медицинская реабилитация (комплексное посещение)","3.0",70387.62]
["КОМПЛЕКСНОЕ ОБСЛЕДОВАНИЕ В ЦЕНТРЕ ЗДОРОВЬЯ"]
[31," для взрослых","2.3",4536.87]
[" ДИНАМИЧЕСКОЕ НАБЛЮДЕНИЕ В ЦЕНТРЕ ЗДОРОВЬЯ"]
[31," для взрослых","2.6",1805.21]
["ШКОЛА САХАРНОГО ДИАБЕТА"]
[30,"Взрослые с сахарным диабетом 1 типа","2.6",4801.75]
[30,"Взрослые с сахарным диабетом 2 типа","2.6",3974.85]
[30,"Дети и подростки с сахарным диабетом","2.6",6295.92]
["МОБИЛЬНЫЕ МЕДИЦИНСКИЕ БРИГАДЫ \n(ТАРИФ БЕЗ УЧЕТА ПОВЫШАЮЩЕГО КОЭФФИЦИЕНТА - 1,2)"]
[29,"Детская хирургия","1.0, 1.2, 2.1, 2.5, 2.6",840.31]
[29,"Детская урология-адрология","1.0, 1.2, 2.1, 2.5, 2.6",679.96]
[29,"Детская эндокринология","1.0, 1.2, 2.1, 2.5, 2.6",1622.72]
[29,"Отоларингология","1.0, 1.2, 2.1, 2.5, 2.6",654.88]
[29,"Офтальмология","1.0, 1.2, 2.1, 2.5, 2.6",561.38]
[29,"Травматология и ортопедия","1.0, 1.2, 2.1, 2.5, 2.6",840.31]
[28,"стоматологическая медицинская помощь"," 1.0, 1.1,1.3, 2.1, 2.2, 2.6, 3.0","раздел 5б"]
["1.1.2. СТОИМОСТЬ ЕДИНИЦЫ ОБЪЁМА МЕДИЦИНСКОЙ ПОМОЩИ ДЛЯ МЕДИЦИНСКИХ ОРГАНИЗАЦИЙ                         НЕ ИМЕЮЩИХ ПРИКРЕПЛЕННОЕ НАСЕЛЕНИЕ:     "]
["СТОИМОСТЬ ОДНОГО ПОСЕЩЕНИЯ С ПРОФИЛАКТИЧЕСКОЙ И ИНОЙ ЦЕЛЬЮ:"]
[29,"Акушерство-гинекология","1.0, 1.2, 2.1, 2.5, 2.6",1101.08]
[29,"Урология","1.0, 1.2, 2.1, 2.5, 2.6",679.96]
[29,"Хирургия","1.0, 1.2, 2.1, 2.5, 2.6",840.31]
[29,"Колопроктология","1.0, 1.2, 2.1, 2.5, 2.6",840.31]
[29,"Отоларингология","1.0, 1.2, 2.1, 2.5, 2.6",654.88]
[29,"Детская урология-адрология","1.0, 1.2, 2.1, 2.5, 2.6",679.96]
[" СТОИМОСТЬ ОДНОГО ОБРАЩЕНИЯ ПО ПОВОДУ ЗАБОЛЕВАНИЯ:"]
[30,"Акушерство-гинекология","3.0",5787.49]
[30,"Урология","3.0",3573.98]
[30,"Хирургия","3.0",4416.83]
[30,"Колопроктология","3.0",4416.83]
[30,"Отоларингология","3.0",3442.15]
[30,"Детская урология-адрология","3.0",3573.98]
[28,"Самостоятельные медицинские услуги","3.0","раздел 5а"]
[" СТОИМОСТЬ ОДНОГО КОМПЛЕКСНОГО ПОСЕЩЕНИЯ:"]
[30,"Медицинская реабилитация (комплексное посещение)","3.0",70387.62]
["1.1.2.2. СТОМАТОЛОГИЧЕСКАЯ МЕДИЦИНСКАЯ ПОМОЩЬ"]
[28,"стоматологическая медицинская помощь"," 1.0, 1.1,1.3, 2.1, 2.2, 2.6, 3.0","раздел 5б"]

{"sheet":"РАЗДЕЛ 2 (КС)","index":1,"n_rows":433,"n_cols":36,"rows_kept":433,"cut":false,"hidden":false,"merged":[[2,0,4,0],[2,1,4,1],[2,2,4,2],[2,3,4,3],[1,1,1,6],[2,4,2,6]]}
[]
[null,"РАЗДЕЛ 2. СТАЦИОНАРНАЯ МЕДИЦИНСКАЯ ПОМОЩЬ ПО  КСГ"]
["Код профиля","Профиль ","КСГ","Наименование  группы заболеваний (КСГ)","Стоимость законченного случая лечения по уровням оказания медицинской помощи, рублей                                               ",{"$nulls":24},"Условия оказания медпомощи","Тип посещения","Взрослый профлиь","Тариф","Детский профиль","Код МО (здесь не нужен!)","Длительность стационара"]
[]
[{"$nulls":4}," I УРОВНЬ "," II УРОВНЬ "," III УРОВНЬ "]
[1,2,3,4,5,6,7]
[1,"Акушерское дело","st01.001","Беременность без патологии, дородовая госпитализация в отделение сестринского ухода",null,54421.83]
[2,"Акушерство и гинекология","st02.001","Осложнения, связанные с беременностью",null,148800.18]
[2,"Акушерство и гинекология","st02.002","Беременность, закончившаяся абортивным исходом",null,42666.720000000001]
[2,"Акушерство и гинекология","st02.003","Родоразрешение",null,156800.19]
[2,"Акушерство и гинекология","st02.004","Кесарево сечение",null,161600.19]
[2,"Акушерство и гинекология","st02.005","Осложнения послеродового периода",null,118400.14]
[2,"Акушерство и гинекология","st02.006","Послеродовой сепсис",null,489143.44]
[2,"Акушерство и гинекология","st02.007","Воспалительные болезни женских половых органов",null,113600.14]
[2,"Акушерство и гинекология","st02.008","Доброкачественные новообразования, новообразования in situ, неопределенного и неизвестного характера женских половых органов",null,142400.17000000001]
[2,"Акушерство и гинекология","st02.009","Другие болезни, врожденные аномалии, повреждения женских половых органов",null,73600.09]
[2,"Акушерство и гинекология","st02.010","Операции на женских половых органах (уровень 1)",null,62400.07]
[2,"Акушерство и гинекология","st02.011","Операции на женских половых органах (уровень 2)",null,92800.11]
[2,"Акушерство и гинекология","st02.012","Операции на женских половых органах (уровень 3)",null,178285.93]
[2,"Акушерство и гинекология","st02.013","Операции на женских половых органах (уровень 4)",null,352000.42]
[2,"Акушерство и гинекология","st02.014","Слинговые операции при недержании мочи",null,269995.28999999998]
[3,"Аллергология и иммунология","st03.001","Нарушения с вовлечением иммунного механизма",null,516572.04]
[3,"Аллергология и иммунология","st03.002","Ангионевротический отек, анафилактический шок",null,29387.79]
[4,"Гастроэнтерология","st04.001","Язва желудка и двенадцатиперстной кишки",null,96870.86]
[4,"Гастроэнтерология","st04.002","Воспалительные заболевания кишечника",null,229714.56]
[4,"Гастроэнтерология","st04.003","Болезни печени, невирусные (уровень 1)",null,98285.83]
[4,"Гастроэнтерология","st04.004","Болезни печени, невирусные (уровень 2)",null,138285.88]
[4,"Гастроэнтерология","st04.005","Болезни поджелудочной железы",null,99428.69]
[4,"Гастроэнтерология","st04.006","Панкреатит с синдромом органной дисфункции",null,478857.71]
[5,"Гематология","st05.001","Анемии (уровень 1)",null,107428.7]
[5,"Гематология","st05.002","Анемии (уровень 2)",null,608000.72]
[5,"Гематология","st05.003","Нарушения свертываемости крови",null,514286.33]
[5,"Гематология","st05.004","Другие болезни крови и кроветворных органов (уровень 1)",null,124571.58]
[5,"Гематология","st05.005","Другие болезни крови и кроветворных органов (уровень 2)",null,515429.18]
[5,"Гематология","st05.008","Лекарственная терапия при доброкачественных заболеваниях крови и пузырном заносе",null,234285.99]
[6,"Дерматовенерология","st06.004","Лечение дерматозов с применением наружной терапии",null,35895.42]
[6,"Дерматовенерология","st06.005","Лечение дерматозов с применением наружной терапии, физиотерапии, плазмафереза",null,157104.66]
[6,"Дерматовенерология","st06.006","Лечение дерматозов с применением наружной и системной терапии",null,238316.84]
[6,"Дерматовенерология","st06.007","Лечение дерматозов с применением наружной терапии и фототерапии",null,322081.09000000003]
[7,"Детская кардиология","st07.001","Врожденные аномалии сердечно-сосудистой системы, дети",null,210285.96]
[8,"Детская онкология","st08.001","Лекарственная терапия при злокачественных новообразованиях других локализаций (кроме лимфоидной и кроветворной тканей), дети",null,499429.17]
[8,"Детская онкология","st08.002","Лекарственная терапия при остром лейкозе, дети",null,893715.35]
[8,"Детская онкология","st08.003","Лекарственная терапия при других злокачественных новообразованиях лимфоидной и кроветворной тканей, дети",null,649143.63]
[9,"Детская урология-андрология","st09.001","Операции на мужских половых органах, дети (уровень 1)",null,155200.18]
[9,"Детская урология-андрология","st09.002","Операции на мужских половых органах, дети (уровень 2)",null,177600.21]
[9,"Детская урология-андрология","st09.003","Операции на мужских половых органах, дети (уровень 3)",null,300190.83]
[9,"Детская урология-андрология","st09.004","Операции на мужских половых органах, дети (уровень 4)",null,423619.55]
[9,"Детская урология-андрология","st09.005","Операции на почке и мочевыделительной системе, дети (уровень 1)",null,184000.22]
[9,"Детская урология-андрология","st09.006","Операции на почке и мочевыделительной системе, дети (уровень 2)",null,195200.23]
[9,"Детская урология-андрология","st09.007","Операции на почке и мочевыделительной системе, дети (уровень 3)",null,284800.34000000003]
[9,"Детская урология-андрология","st09.008","Операции на почке и мочевыделительной системе, дети (уровень 4)",null,339809.93]
[9,"Детская урология-андрология","st09.009","Операции на почке и мочевыделительной системе, дети (уровень 5)",null,359619.48]
[9,"Детская урология-андрология","st09.010","Операции на почке и мочевыделительной системе, дети (уровень 6)",null,652191.25]
[10,"Детская хирургия","st10.001","Детская хирургия (уровень 1)",null,472000.56]
[10,"Детская хирургия","st10.002","Детская хирургия (уровень 2)",null,852801.01]
[10,"Детская хирургия","st10.003","Аппендэктомия, дети (уровень 1)",null,117333.47]
[10,"Детская хирургия","st10.004","Аппендэктомия, дети (уровень 2)",null,155200.18]
[10,"Детская хирургия","st10.005","Операции по поводу грыж, дети (уровень 1)",null,134095.4]
[10,"Детская хирургия","st10.006","Операции по поводу грыж, дети (уровень 2)",null,168000.2]
[10,"Детская хирургия","st10.007","Операции по поводу грыж, дети (уровень 3)",null,200000.24]
[11,"Детская эндокринология","st11.001","Сахарный диабет, дети",null,172571.63]
[11,"Детская эндокринология","st11.002","Заболевания гипофиза, дети",null,258286.02]
[11,"Детская эндокринология","st11.003","Другие болезни эндокринной системы, дети (уровень 1)",null,157714.47]
[11,"Детская эндокринология","st11.004","Другие болезни эндокринной системы, дети (уровень 2)",null,322286.09999999998]
[12,"Инфекционные болезни","st12.001","Кишечные инфекции, взрослые",null,66285.789999999994]
[12,"Инфекционные болезни","st12.002","Кишечные инфекции, дети",null,70857.23]
[12,"Инфекционные болезни","st12.003","Вирусный гепатит острый",null,160000.19]
[12,"Инфекционные болезни","st12.004","Вирусный гепатит хронический",null,145143.03]
[12,"Инфекционные болезни","st12.005","Сепсис, взрослые",null,356571.85]
[12,"Инфекционные болезни","st12.006","Сепсис, дети",null,515429.18]
[12,"Инфекционные болезни","st12.007","Сепсис с синдромом органной дисфункции",null,822858.12]
[12,"Инфекционные болезни","st12.008","Другие инфекционные и паразитарные болезни, взрослые",null,134857.29999999999]
[12,"Инфекционные болезни","st12.009","Другие инфекционные и паразитарные болезни, дети",null,112000.13]
[12,"Инфекционные болезни","st12.010","Респираторные инфекции верхних дыхательных путей с осложнениями, взрослые",null,40000.050000000003]
[12,"Инфекционные болезни","st12.011","Респираторные инфекции верхних дыхательных путей, дети",null,57142.93]
[12,"Инфекционные болезни","st12.012","Грипп, вирус гриппа идентифицирован",null,114285.85]
[12,"Инфекционные болезни","st12.013","Грипп и пневмония с синдромом органной дисфункции",null,502857.74]
[12,"Инфекционные болезни","st12.014","Клещевой энцефалит",null,262857.46000000002]
[12,"Инфекционные болезни","st12.015","Коронавирусная инфекция COVID-19 (уровень 1)",null,201985.57]
[12,"Инфекционные болезни","st12.016","Коронавирусная инфекция COVID-19 (уровень 2)",null,334436.37]
[12,"Инфекционные болезни","st12.017","Коронавирусная инфекция COVID-19 (уровень 3)",null,515748.33]
[12,"Инфекционные болезни","st12.018","Коронавирусная инфекция COVID-19 (уровень 4)",null,1153963.76]
[12,"Инфекционные болезни","st12.019","Коронавирусная инфекция COVID-19 (долечивание)",null,236571.71]
[13,"Кардиология","st13.001","Нестабильная стенокардия, инфаркт миокарда, легочная эмболия (уровень 1)",null,162285.91,193197.51]
[13,"Кардиология","st13.002","Нестабильная стенокардия, инфаркт миокарда, легочная эмболия (уровень 2)",null,321143.24,382313.38]
[13,"Кардиология","st13.004","Нарушения ритма и проводимости (уровень 1)",null,128000.15,152381.13]
[13,"Кардиология","st13.005","Нарушения ритма и проводимости (уровень 2)",null,229714.56,273469.71000000002]
[13,"Кардиология","st13.006","Эндокардит, миокардит, перикардит, кардиомиопатии (уровень 1)",null,162285.91,193197.51]
[13,"Кардиология","st13.007","Эндокардит, миокардит, перикардит, кардиомиопатии (уровень 2)",null,272000.32,323809.90999999997]
[13,"Кардиология","st13.008","Инфаркт миокарда, легочная эмболия, лечение с применением тромболитической терапии (уровень 1)",null,184000.22,219047.88]
[13,"Кардиология","st13.009","Инфаркт миокарда, легочная эмболия, лечение с применением тромболитической терапии (уровень 2)",null,341714.69,406803.20000000001]
[13,"Кардиология","st13.010","Инфаркт миокарда, легочная эмболия, лечение с применением тромболитической терапии (уровень 3)",null,404571.91,481633.23]
[14,"Колопроктология","st14.001","Операции на кишечнике и анальной области (уровень 1)",null,91428.68]
[14,"Колопроктология","st14.002","Операции на кишечнике и анальной области (уровень 2)",null,198857.38]
[14,"Колопроктология","st14.003","Операции на кишечнике и анальной области (уровень 3)",null,284571.77]
[15,"Неврология","st15.001","Воспалительные заболевания ЦНС, взрослые",null,112000.13]
[15,"Неврология","st15.002","Воспалительные заболевания ЦНС, дети",null,177143.07]
[15,"Неврология","st15.003","Дегенеративные болезни нервной системы",null,96000.11]
[15,"Неврология","st15.004","Демиелинизирующие болезни нервной системы",null,152000.18]
[15,"Неврология","st15.005","Эпилепсия, судороги (уровень 1)",null,104489.92]
[15,"Неврология","st15.007","Расстройства периферической нервной системы",null,116571.57]
[15,"Неврология","st15.008","Неврологические заболевания, лечение с применением ботулотоксина (уровень 1)",null,155646.44]
[15,"Неврология","st15.009","Неврологические заболевания, лечение с применением ботулотоксина (уровень 2)",null,229660.14]
[15,"Неврология","st15.010","Другие нарушения нервной системы (уровень 1)",null,84571.53]
[15,"Неврология","st15.011","Другие нарушения нервной системы (уровень 2)",null,113142.99]
[15,"Неврология","st15.012","Транзиторные ишемические приступы, сосудистые мозговые синдромы",null,131428.73000000001]
[15,"Неврология","st15.013","Кровоизлияние в мозг",null,322286.09999999998]
[15,"Неврология","st15.014","Инфаркт мозга (уровень 1)",null,288000.34000000003]
[15,"Неврология","st15.015","Инфаркт мозга (уровень 2)",null,356571.85]
[15,"Неврология","st15.016","Инфаркт мозга (уровень 3)",null,515429.18]
[15,"Неврология","st15.017","Другие цереброваскулярные болезни",null,93714.4]
[15,"Неврология","st15.018","Эпилепсия, судороги (уровень 2)",null,262857.46000000002]
[15,"Неврология","st15.019","Эпилепсия (уровень 3)",null,361143.29]
[15,"Неврология","st15.020","Эпилепсия (уровень 4)",null,553143.52]
[16,"Нейрохирургия","st16.001","Паралитические синдромы, травма спинного мозга (уровень 1)",null,112000.13]
[16,"Нейрохирургия","st16.002","Паралитические синдромы, травма спинного мозга (уровень 2)",null,170285.92]
[16,"Нейрохирургия","st16.003","Дорсопатии, спондилопатии, остеопатии",null,74013.69]
[16,"Нейрохирургия","st16.004","Травмы позвоночника",null,115428.71]
[16,"Нейрохирургия","st16.005","Сотрясение головного мозга",null,43537.47]
[16,"Нейрохирургия","st16.006","Переломы черепа, внутричерепная травма",null,176000.21]
[16,"Нейрохирургия","st16.007","Операции на центральной нервной системе и головном мозге (уровень 1)",null,472000.56]
[16,"Нейрохирургия","st16.008","Операции на центральной нервной системе и головном мозге (уровень 2)",null,665143.65]
[16,"Нейрохирургия","st16.009","Операции на периферической нервной системе (уровень 1)",null,161143.04999999999]
[16,"Нейрохирургия","st16.010","Операции на периферической нервной системе (уровень 2)",null,238367.63]
[16,"Нейрохирургия","st16.011","Операции на периферической нервной системе (уровень 3)",null,263401.67]
[16,"Нейрохирургия","st16.012","Доброкачественные новообразования нервной системы",null,116571.57]
[17,"Неонатология","st17.001","Малая масса тела при рождении, недоношенность",null,673600.8]
[17,"Неонатология","st17.002","Крайне малая масса тела при рождении, крайняя незрелость",null,2500802.9700000002]
[17,"Неонатология","st17.003","Лечение новорожденных с тяжелой патологией с применением аппаратных методов поддержки или замещения витальных функций",null,1184001.4099999999]
[17,"Неонатология","st17.004","Геморрагические и гемолитические нарушения у новорожденных",null,307200.37]
[17,"Неонатология","st17.005","Другие нарушения, возникшие в перинатальном периоде (уровень 1)",null,222400.26]
[17,"Неонатология","st17.006","Другие нарушения, возникшие в перинатальном периоде (уровень 2)",null,302400.36]
[17,"Неонатология","st17.007","Другие нарушения, возникшие в перинатальном периоде (уровень 3)",null,409600.49]
[18,"Нефрология (без диализа)","st18.001","Почечная недостаточность",null,189714.51]
[18,"Нефрология (без диализа)","st18.002","Формирование, имплантация, реконструкция, удаление, смена доступа для диализа",null,208000.25]
[18,"Нефрология (без диализа)","st18.003","Гломерулярные болезни",null,195428.8]
[19,"Онкология","st19.001","Операции на женских половых органах при злокачественных новообразованиях (уровень 1)",null,275428.90000000002]
[19,"Онкология","st19.002","Операции на женских половых органах при злокачественных новообразованиях (уровень 2)",null,459429.12]
[19,"Онкология","st19.003","Операции на женских половых органах при злокачественных новообразованиях (уровень 3)",null,558857.81000000006]
[19,"Онкология","st19.004","Операции на кишечнике и анальной области при злокачественных новообразованиях (уровень 1)",null,348571.84]
[19,"Онкология","st19.005","Операции на кишечнике и анальной области при злокачественных новообразованиях (уровень 2)",null,606857.86]
[19,"Онкология","st19.006","Операции при злокачественных новообразованиях почки и мочевыделительной системы (уровень 1)",null,189714.51]
[19,"Онкология","st19.007","Операции при злокачественных новообразованиях почки и мочевыделительной системы (уровень 2)",null,316571.81]
[19,"Онкология","st19.008","Операции при злокачественных новообразованиях почки и мочевыделительной системы (уровень 3)",null,493714.87]
[19,"Онкология","st19.009","Операции при злокачественных новообразованиях кожи (уровень 1)",null,147428.75]
[19,"Онкология","st19.010","Операции при злокачественных новообразованиях кожи (уровень 2)",null,177143.07]
[19,"Онкология","st19.011","Операции при злокачественных новообразованиях кожи (уровень 3)",null,304000.36]
[19,"Онкология","st19.012","Операции при злокачественном новообразовании щитовидной железы (уровень 1)",null,261714.6]
[19,"Онкология","st19.013","Операции при злокачественном новообразовании щитовидной железы (уровень 2)",null,284571.77]
[19,"Онкология","st19.014","Мастэктомия, другие операции при злокачественном новообразовании молочной железы (уровень 1)",null,318857.52]
[19,"Онкология","st19.015","Мастэктомия, другие операции при злокачественном новообразовании молочной железы (уровень 2)",null,451429.11]
[19,"Онкология","st19.016","Операции при злокачественном новообразовании желчного пузыря, желчных протоков и поджелудочной железы (уровень 1)",null,272000.32]
[19,"Онкология","st19.017","Операции при злокачественном новообразовании желчного пузыря, желчных протоков и поджелудочной железы (уровень 2)",null,507429.17]
[19,"Онкология","st19.018","Операции при злокачественном новообразовании пищевода, желудка (уровень 1)",null,248000.29]
[19,"Онкология","st19.019","Операции при злокачественном новообразовании пищевода, желудка (уровень 2)",null,392000.47]
[19,"Онкология","st19.020","Операции при злокачественном новообразовании пищевода, желудка (уровень 3)",null,488000.58]
[19,"Онкология","st19.021","Другие операции при злокачественном новообразовании брюшной полости",null,418286.21]
[19,"Онкология","st19.022","Операции на органе слуха, придаточных пазухах носа и верхних дыхательных путях при злокачественных новообразованиях",null,321143.24]
[19,"Онкология","st19.023","Операции на нижних дыхательных путях и легочной ткани при злокачественных новообразованиях (уровень 1)",null,390857.61]
[19,"Онкология","st19.024","Операции на нижних дыхательных путях и легочной ткани при злокачественных новообразованиях (уровень 2)",null,606857.86]
[19,"Онкология","st19.025","Операции при злокачественных новообразованиях мужских половых органов (уровень 1)",null,326857.53000000003]
[19,"Онкология","st19.026","Операции при злокачественных новообразованиях мужских половых органов (уровень 2)",null,492572.01]
[19,"Онкология","st19.123","Прочие операции при ЗНО (уровень 1)",null,60241.18]
[19,"Онкология","st19.124","Прочие операции при ЗНО (уровень 2)",null,185066.02]
[19,"Онкология","st19.037","Фебрильная нейтропения, агранулоцитоз вследствие проведения лекарственной терапии злокачественных новообразований",null,334857.53999999998]
[19,"Онкология","st19.038","Установка, замена порт-системы (катетера) для лекарственной терапии злокачественных новообразований",null,141714.45000000001]
[19,"Онкология","st19.075","Лучевая терапия (уровень 1)",null,90285.82]
[19,"Онкология","st19.076","Лучевая терапия (уровень 2)",null,130285.87]
[19,"Онкология","st19.077","Лучевая терапия (уровень 3)",null,281143.19]
[19,"Онкология","st19.078","Лучевая терапия (уровень 4)",null,286857.48]
[19,"Онкология","st19.079","Лучевая терапия (уровень 5)",null,322286.09999999998]
[19,"Онкология","st19.080","Лучевая терапия (уровень 6)",null,515429.18]
[19,"Онкология","st19.081","Лучевая терапия (уровень 7)",null,556572.09]
[19,"Онкология","st19.082","Лучевая терапия (уровень 8)",null,1662859.12]
[19,"Онкология","st19.084","Лучевая терапия в сочетании с лекарственной терапией (уровень 2)",null,391219.03]
[19,"Онкология","st19.085","Лучевая терапия в сочетании с лекарственной терапией (уровень 3)",null,458704.8]
[19,"Онкология","st19.086","Лучевая терапия в сочетании с лекарственной терапией (уровень 4)",null,605311.48]
[19,"Онкология","st19.087","Лучевая терапия в сочетании с лекарственной терапией (уровень 5)",null,687711.52]
[19,"Онкология","st19.088","Лучевая терапия в сочетании с лекарственной терапией (уровень 6)",null,656884.47]
[19,"Онкология","st19.089","Лучевая терапия в сочетании с лекарственной терапией (уровень 7)",null,867037.91]
[19,"Онкология","st19.090","ЗНО лимфоидной и кроветворной тканей без специального противоопухолевого лечения (уровень 1)",null,48000.06]
[19,"Онкология","st19.091","ЗНО лимфоидной и кроветворной тканей без специального противоопухолевого лечения (уровень 2)",null,182857.36]
[19,"Онкология","st19.092","ЗНО лимфоидной и кроветворной тканей без специального противоопухолевого лечения (уровень 3)",null,384000.46]
[19,"Онкология","st19.093","ЗНО лимфоидной и кроветворной тканей без специального противоопухолевого лечения (уровень 4)",null,685715.1]
[19,"Онкология","st19.094","ЗНО лимфоидной и кроветворной тканей, лекарственная терапия, взрослые (уровень 1)",null,159847.67000000001]
[19,"Онкология","st19.095","ЗНО лимфоидной и кроветворной тканей, лекарственная терапия, взрослые (уровень 2)",null,399619.17]
[19,"Онкология","st19.096","ЗНО лимфоидной и кроветворной тканей, лекарственная терапия, взрослые (уровень 3)",null,758301.74]
[19,"Онкология","st19.097","ЗНО лимфоидной и кроветворной тканей, лекарственная терапия с применением отдельных препаратов (по перечню), взрослые (уровень 1)",null,208893.78]
[19,"Онкология","st19.098","ЗНО лимфоидной и кроветворной тканей, лекарственная терапия с применением отдельных препаратов (по перечню), взрослые (уровень 2)",null,467252.36]
[19,"Онкология","st19.099","ЗНО лимфоидной и кроветворной тканей, лекарственная терапия с применением отдельных препаратов (по перечню), взрослые (уровень 3)",null,788841.94]
[19,"Онкология","st19.100","ЗНО лимфоидной и кроветворной тканей, лекарственная терапия с применением отдельных препаратов (по перечню), взрослые (уровень 4)",null,500731.42]
[19,"Онкология","st19.101","ЗНО лимфоидной и кроветворной тканей, лекарственная терапия с применением отдельных препаратов (по перечню), взрослые (уровень 5)",null,792435.49]
[19,"Онкология","st19.102","ЗНО лимфоидной и кроветворной тканей, лекарственная терапия с применением отдельных препаратов (по перечню), взрослые (уровень 6)",null,1128415.23]
[19,"Онкология","st19.103","Лучевые повреждения",null,301714.64]
[19,"Онкология","st19.104","Эвисцерация малого таза при лучевых повреждениях",null,2257145.54]
[19,"Онкология","st19.122","Посттрансплантационный период после пересадки костного мозга",null,1743013.01]
[19,"Онкология","st19.125","Лекарственная терапия при злокачественных новообразованиях (кроме лимфоидной и кроветворной тканей), взрослые (уровень 1)",null,30098.17]
[19,"Онкология","st19.126","Лекарственная терапия при злокачественных новообразованиях (кроме лимфоидной и кроветворной тканей), взрослые (уровень 2)",null,49260.09]
[19,"Онкология","st19.127","Лекарственная терапия при злокачественных новообразованиях (кроме лимфоидной и кроветворной тканей), взрослые (уровень 3)",null,52656.95]
[19,"Онкология","st19.128","Лекарственная терапия при злокачественных новообразованиях (кроме лимфоидной и кроветворной тканей), взрослые (уровень 4)",null,79746.84]
[19,"Онкология","st19.129","Лекарственная терапия при злокачественных новообразованиях (кроме лимфоидной и кроветворной тканей), взрослые (уровень 5)",null,108906.89]
[19,"Онкология","st19.130","Лекарственная терапия при злокачественных новообразованиях (кроме лимфоидной и кроветворной тканей), взрослые (уровень 6)",null,94631.7]
[19,"Онкология","st19.131","Лекарственная терапия при злокачественных новообразованиях (кроме лимфоидной и кроветворной тканей), взрослые (уровень 7)",null,124648.77]
[19,"Онкология","st19.132","Лекарственная терапия при злокачественных новообразованиях (кроме лимфоидной и кроветворной тканей), взрослые (уровень 8)",null,149718.35999999999]
[19,"Онкология","st19.133","Лекарственная терапия при злокачественных новообразованиях (кроме лимфоидной и кроветворной тканей), взрослые (уровень 9)",null,168387.95]
[19,"Онкология","st19.134","Лекарственная терапия при злокачественных новообразованиях (кроме лимфоидной и кроветворной тканей), взрослые (уровень 10)",null,174246.24]
[19,"Онкология","st19.135","Лекарственная терапия при злокачественных новообразованиях (кроме лимфоидной и кроветворной тканей), взрослые (уровень 11)",null,198869.41]
[19,"Онкология","st19.136","Лекарственная терапия при злокачественных новообразованиях (кроме лимфоидной и кроветворной тканей), взрослые (уровень 12)",null,245009.8]
[19,"Онкология","st19.137","Лекарственная терапия при злокачественных новообразованиях (кроме лимфоидной и кроветворной тканей), взрослые (уровень 13)",null,289382.53000000003]
[19,"Онкология","st19.138","Лекарственная терапия при злокачественных новообразованиях (кроме лимфоидной и кроветворной тканей), взрослые (уровень 14)",null,343985.01]
[19,"Онкология","st19.139","Лекарственная терапия при злокачественных новообразованиях (кроме лимфоидной и кроветворной тканей), взрослые (уровень 15)",null,440860.66]
[19,"Онкология","st19.140","Лекарственная терапия при злокачественных новообразованиях (кроме лимфоидной и кроветворной тканей), взрослые (уровень 16)",null,518435.5]
[19,"Онкология","st19.141","Лекарственная терапия при злокачественных новообразованиях (кроме лимфоидной и кроветворной тканей), взрослые (уровень 17)",null,630901.11]
[19,"Онкология","st19.142","Лекарственная терапия при злокачественных новообразованиях (кроме лимфоидной и кроветворной тканей), взрослые (уровень 18)",null,831052.03]
[19,"Онкология","st19.143","Лекарственная терапия при злокачественных новообразованиях (кроме лимфоидной и кроветворной тканей), взрослые (уровень 19)",null,1104659.3600000001]
[20,"Оториноларингология","st20.001","Доброкачественные новообразования, новообразования in situ уха, горла, носа, полости рта",null,75428.66]
[20,"Оториноларингология","st20.002","Средний отит, мастоидит, нарушения вестибулярной функции",null,53714.35]
[20,"Оториноларингология","st20.003","Другие болезни уха",null,69714.37]
[20,"Оториноларингология","st20.004","Другие болезни и врожденные аномалии верхних дыхательных путей, симптомы и признаки, относящиеся к органам дыхания, нарушения речи",null,81142.95]
[20,"Оториноларингология","st20.005","Операции на органе слуха, придаточных пазухах носа и верхних дыхательных путях (уровень 1)",null,96000.11]
[20,"Оториноларингология","st20.006","Операции на органе слуха, придаточных пазухах носа и верхних дыхательных путях (уровень 2)",null,104000.12]
[20,"Оториноларингология","st20.007","Операции на органе слуха, придаточных пазухах носа и верхних дыхательных путях (уровень 3)",null,125714.44]
[20,"Оториноларингология","st20.008","Операции на органе слуха, придаточных пазухах носа и верхних дыхательных путях (уровень 4)",null,146938.95000000001]
[20,"Оториноларингология","st20.009","Операции на органе слуха, придаточных пазухах носа и верхних дыхательных путях (уровень 5)",null,213333.59]
[20,"Оториноларингология","st20.010","Замена речевого процессора",null,937954.85]
[21,"Офтальмология","st21.001","Операции на органе зрения (уровень 1)",null,56000.07]
[21,"Офтальмология","st21.002","Операции на органе зрения (уровень 2)",null,90285.82]
[21,"Офтальмология","st21.003","Операции на органе зрения (уровень 3)",null,122285.86]
[21,"Офтальмология","st21.004","Операции на органе зрения (уровень 4)",null,129523.96]
[21,"Офтальмология","st21.005","Операции на органе зрения (уровень 5)",null,241143.14]
[21,"Офтальмология","st21.006","Операции на органе зрения (уровень 6)",null,358095.66]
[21,"Офтальмология","st21.007","Болезни глаза",null,58285.78]
[21,"Офтальмология","st21.008","Травмы глаза",null,75428.66]
[21,"Офтальмология","st21.009","Операции на органе зрения (факоэмульсификация с имплантацией ИОЛ)",null,52088.57]
[22,"Педиатрия","st22.001","Нарушения всасывания, дети",null,126857.29]
[22,"Педиатрия","st22.002","Другие болезни органов пищеварения, дети",null,44571.48]
[22,"Педиатрия","st22.003","Воспалительные артропатии, спондилопатии, дети",null,211428.82]
[22,"Педиатрия","st22.004","Врожденные аномалии головного и спинного мозга, дети",null,242286]
[23,"Пульмонология","st23.001","Другие болезни органов дыхания",null,97142.97]
[23,"Пульмонология","st23.002","Интерстициальные болезни легких, врожденные аномалии развития легких, бронхо-легочная дисплазия, дети",null,283428.90999999997]
[23,"Пульмонология","st23.003","Доброкачественные новообразования, новообразования in situ органов дыхания, других и неуточненных органов грудной клетки",null,104000.12]
[23,"Пульмонология","st23.004","Пневмония, плеврит, другие болезни плевры",null,146285.89000000001]
[23,"Пульмонология","st23.005","Астма, взрослые",null,126857.29]
[23,"Пульмонология","st23.006","Астма, дети",null,142857.31]
[24,"Ревматология","st24.001","Системные поражения соединительной ткани",null,203428.81]
[24,"Ревматология","st24.002","Артропатии и спондилопатии",null,190857.37]
[24,"Ревматология","st24.003","Ревматические болезни сердца (уровень 1)",null,99428.69]
[24,"Ревматология","st24.004","Ревматические болезни сердца (уровень 2)",null,179428.78]
[25,"Сердечно-сосудистая хирургия","st25.001","Флебит и тромбофлебит, варикозное расширение вен нижних конечностей",null,97142.97,115646.39999999999]
[25,"Сердечно-сосудистая хирургия","st25.002","Другие болезни, врожденные аномалии вен",null,150857.32,179592.05]
[25,"Сердечно-сосудистая хирургия","st25.003","Болезни артерий, артериол и капилляров",null,120000.14,142857.31]
[25,"Сердечно-сосудистая хирургия","st25.004","Диагностическое обследование сердечно-сосудистой системы",null,115428.71,137415.13]
[25,"Сердечно-сосудистая хирургия","st25.005","Операции на сердце и коронарных сосудах (уровень 1)",null,241143.14,287075.17]
[25,"Сердечно-сосудистая хирургия","st25.006","Операции на сердце и коронарных сосудах (уровень 2)",null,453714.83,540136.69999999995]
[25,"Сердечно-сосудистая хирургия","st25.007","Операции на сердце и коронарных сосудах (уровень 3)",null,492572.01,586395.26]
[25,"Сердечно-сосудистая хирургия","st25.008","Операции на сосудах (уровень 1)",null,137143.01999999999,163265.5]
[25,"Сердечно-сосудистая хирургия","st25.009","Операции на сосудах (уровень 2)",null,270857.46999999997,322449.36]
[25,"Сердечно-сосудистая хирургия","st25.010","Операции на сосудах (уровень 3)",null,472000.56,561905.43000000005]
[25,"Сердечно-сосудистая хирургия","st25.011","Операции на сосудах (уровень 4)",null,694857.97,827211.87]
[25,"Сердечно-сосудистая хирургия","st25.012","Операции на сосудах (уровень 5)",null,813715.25,968708.64]
[26,"Стоматология детская","st26.001","Болезни полости рта, слюнных желез и челюстей, врожденные аномалии лица и шеи, дети",null,90285.82]
[27,"Терапия","st27.001","Болезни пищевода, гастрит, дуоденит, другие болезни желудка и двенадцатиперстной кишки",null,64435.45]
[27,"Терапия","st27.002","Новообразования доброкачественные, in situ, неопределенного и неуточненного характера органов пищеварения",null,63085.79]
[27,"Терапия","st27.003","Болезни желчного пузыря",null,62693.95]
[27,"Терапия","st27.004","Другие болезни органов пищеварения, взрослые",null,53942.92]
[27,"Терапия","st27.005","Гипертоническая болезнь в стадии обострения",null,60952.45]
[27,"Терапия","st27.006","Стенокардия (кроме нестабильной), хроническая ишемическая болезнь сердца (уровень 1)",null,67918.45]
[27,"Терапия","st27.007","Стенокардия (кроме нестабильной), хроническая ишемическая болезнь сердца (уровень 2)",null,155428.76]
[27,"Терапия","st27.008","Другие болезни сердца (уровень 1)",null,71314.37]
[27,"Терапия","st27.009","Другие болезни сердца (уровень 2)",null,140800.17000000001]
[27,"Терапия","st27.010","Бронхит необструктивный, симптомы и признаки, относящиеся к органам дыхания",null,65306.2]
[27,"Терапия","st27.011","ХОБЛ, эмфизема, бронхоэктатическая болезнь",null,81371.53]
[27,"Терапия","st27.012","Отравления и другие воздействия внешних причин",null,48457.2]
[27,"Терапия","st27.013","Отравления и другие воздействия внешних причин с синдромом органной дисфункции",null,372114.73]
[27,"Терапия","st27.014","Госпитализация в диагностических целях с постановкой/ подтверждением диагноза злокачественного новообразования",null,91428.68]
[28,"Торакальная хирургия","st28.001","Гнойные состояния нижних дыхательных путей",null,234285.99]
[28,"Торакальная хирургия","st28.002","Операции на нижних дыхательных путях и легочной ткани, органах средостения (уровень 1)",null,176000.21]
[28,"Торакальная хирургия","st28.003","Операции на нижних дыхательных путях и легочной ткани, органах средостения (уровень 2)",null,219428.83]
[28,"Торакальная хирургия","st28.004","Операции на нижних дыхательных путях и легочной ткани, органах средостения (уровень 3)",null,278639.78999999998]
[28,"Торакальная хирургия","st28.005","Операции на нижних дыхательных путях и легочной ткани, органах средостения (уровень 4)",null,448435.91]
[29,"Травматология и ортопедия","st29.001","Приобретенные и врожденные костно-мышечные деформации",null,113142.99,134694.04]
[29,"Травматология и ортопедия","st29.002","Переломы шейки бедра и костей таза",null,165442.37,165442.37]
[29,"Травматология и ортопедия","st29.003","Переломы бедренной кости, другие травмы области бедра и тазобедренного сустава",null,75102.13,75102.13]
[29,"Травматология и ортопедия","st29.004","Переломы, вывихи, растяжения области грудной клетки, верхней конечности и стопы",null,60952.45,60952.45]
[29,"Травматология и ортопедия","st29.005","Переломы, вывихи, растяжения области колена и голени",null,80544.31,80544.31]
[29,"Травматология и ортопедия","st29.006","Множественные переломы, травматические ампутации, размозжения и последствия травм",null,164571.62,195918.6]
[29,"Травматология и ортопедия","st29.007","Тяжелая множественная и сочетанная травма (политравма)",null,808000.96,961905.91]
[29,"Травматология и ортопедия","st29.008","Эндопротезирование суставов",null,509714.89,606803.43999999994]
[29,"Травматология и ортопедия","st29.009","Операции на костно-мышечной системе и суставах (уровень 1)",null,90285.82,107483.12]
[29,"Травматология и ортопедия","st29.010","Операции на костно-мышечной системе и суставах (уровень 2)",null,106285.84,126530.76]
[29,"Травматология и ортопедия","st29.011","Операции на костно-мышечной системе и суставах (уровень 3)",null,156571.60999999999,186394.78]
[29,"Травматология и ортопедия","st29.012","Операции на костно-мышечной системе и суставах (уровень 4)",null,263401.67,263401.67]
[29,"Травматология и ортопедия","st29.013","Операции на костно-мышечной системе и суставах (уровень 5)",null,342857.55,342857.55]
[30,"Урология","st30.001","Тубулоинтерстициальные болезни почек, другие болезни мочевой системы",null,98285.83]
[30,"Урология","st30.002","Камни мочевой системы; симптомы, относящиеся к мочевой системе",null,56000.07]
[30,"Урология","st30.003","Доброкачественные новообразования, новообразования in situ, неопределенного и неизвестного характера мочевых органов и мужских половых органов",null,73142.94]
[30,"Урология","st30.004","Болезни предстательной железы",null,79455.88]
[30,"Урология","st30.005","Другие болезни, врожденные аномалии, повреждения мочевой системы и мужских половых органов",null,76571.520000000004]
[30,"Урология","st30.006","Операции на мужских половых органах, взрослые (уровень 1)",null,137143.01999999999]
[30,"Урология","st30.007","Операции на мужских половых органах, взрослые (уровень 2)",null,162285.91]
[30,"Урология","st30.008","Операции на мужских половых органах, взрослые (уровень 3)",null,251428.87]
[30,"Урология","st30.009","Операции на мужских половых органах, взрослые (уровень 4)",null,339592.24]
[30,"Урология","st30.010","Операции на почке и мочевыделительной системе, взрослые (уровень 1)",null,123428.72]
[30,"Урология","st30.011","Операции на почке и мочевыделительной системе, взрослые (уровень 2)",null,128000.15]
[30,"Урология","st30.012","Операции на почке и мочевыделительной системе, взрослые (уровень 3)",null,185143.08]
[30,"Урология","st30.013","Операции на почке и мочевыделительной системе, взрослые (уровень 4)",null,222857.41]
[30,"Урология","st30.014","Операции на почке и мочевыделительной системе, взрослые (уровень 5)",null,244571.72]
[30,"Урология","st30.015","Операции на почке и мочевыделительной системе, взрослые (уровень 6)",null,449524.34]
[31,"Хирургия","st31.001","Болезни лимфатических сосудов и лимфатических узлов",null,69714.37]
[31,"Хирургия","st31.002","Операции на коже, подкожной клетчатке, придатках кожи (уровень 1)",null,59864.02]
[31,"Хирургия","st31.003","Операции на коже, подкожной клетчатке, придатках кожи (уровень 2)",null,81142.95]
[31,"Хирургия","st31.004","Операции на коже, подкожной клетчатке, придатках кожи (уровень 3)",null,157714.47]
[31,"Хирургия","st31.005","Операции на коже, подкожной клетчатке, придатках кожи (уровень 4)",null,275428.90000000002]
[31,"Хирургия","st31.006","Операции на органах кроветворения и иммунной системы (уровень 1)",null,163428.76999999999]
[31,"Хирургия","st31.007","Операции на органах кроветворения и иммунной системы (уровень 2)",null,209143.11]
[31,"Хирургия","st31.008","Операции на органах кроветворения и иммунной системы (уровень 3)",null,246857.44]
[31,"Хирургия","st31.009","Операции на эндокринных железах кроме гипофиза (уровень 1)",null,197007.04]
[31,"Хирургия","st31.010","Операции на эндокринных железах кроме гипофиза (уровень 2)",null,290612.59000000003]
[31,"Хирургия","st31.011","Болезни молочной железы, новообразования молочной железы доброкачественные, in situ, неопределенного и неизвестного характера",null,83428.67]
[31,"Хирургия","st31.012","Артрозы, другие поражения суставов, болезни мягких тканей",null,82721.19]
[31,"Хирургия","st31.013","Остеомиелит (уровень 1)",null,276571.76]
[31,"Хирургия","st31.014","Остеомиелит (уровень 2)",null,401143.33]
[31,"Хирургия","st31.015","Остеомиелит (уровень 3)",null,459429.12]
[31,"Хирургия","st31.016","Доброкачественные новообразования костно-мышечной системы и соединительной ткани",null,96000.11]
[31,"Хирургия","st31.017","Доброкачественные новообразования, новообразования in situ кожи, жировой ткани и другие болезни кожи",null,57142.93]
[31,"Хирургия","st31.018","Открытые раны, поверхностные, другие и неуточненные травмы",null,40272.160000000003]
[31,"Хирургия","st31.019","Операции на молочной железе (кроме злокачественных новообразований)",null,136000.16]
[32,"Хирургия (абдоминальная)","st32.001","Операции на желчном пузыре и желчевыводящих путях (уровень 1)",null,131428.73000000001]
[32,"Хирургия (абдоминальная)","st32.002","Операции на желчном пузыре и желчевыводящих путях (уровень 2)",null,163428.76999999999]
[32,"Хирургия (абдоминальная)","st32.003","Операции на желчном пузыре и желчевыводящих путях (уровень 3)",null,342857.55]
[32,"Хирургия (абдоминальная)","st32.004","Операции на желчном пузыре и желчевыводящих путях (уровень 4)",null,468027.77]
[32,"Хирургия (абдоминальная)","st32.005","Операции на печени и поджелудочной железе (уровень 1)",null,276571.76]
[32,"Хирургия (абдоминальная)","st32.006","Операции на печени и поджелудочной железе (уровень 2)",null,307428.94]
[32,"Хирургия (абдоминальная)","st32.007","Панкреатит, хирургическое лечение",null,470857.7]
[32,"Хирургия (абдоминальная)","st32.008","Операции на пищеводе, желудке, двенадцатиперстной кишке (уровень 1)",null,132571.59]
[32,"Хирургия (абдоминальная)","st32.009","Операции на пищеводе, желудке, двенадцатиперстной кишке (уровень 2)",null,222857.41]
[32,"Хирургия (абдоминальная)","st32.010","Операции на пищеводе, желудке, двенадцатиперстной кишке (уровень 3)",null,267755.42]
[32,"Хирургия (абдоминальная)","st32.011","Аппендэктомия, взрослые (уровень 1)",null,79455.88]
[32,"Хирургия (абдоминальная)","st32.012","Аппендэктомия, взрослые (уровень 2)",null,99047.74]
[32,"Хирургия (абдоминальная)","st32.013","Операции по поводу грыж, взрослые (уровень 1)",null,93605.55]
[32,"Хирургия (абдоминальная)","st32.014","Операции по поводу грыж, взрослые (уровень 2)",null,134966.15]
[32,"Хирургия (абдоминальная)","st32.015","Операции по поводу грыж, взрослые (уровень 3)",null,193741.73]
[32,"Хирургия (абдоминальная)","st32.019","Операции по поводу грыж, взрослые (уровень 4)",null,640000.76]
[32,"Хирургия (абдоминальная)","st32.016","Другие операции на органах брюшной полости (уровень 1)",null,129143.01]
[32,"Хирургия (абдоминальная)","st32.017","Другие операции на органах брюшной полости (уровень 2)",null,136000.16]
[32,"Хирургия (абдоминальная)","st32.018","Другие операции на органах брюшной полости (уровень 3)",null,243428.86]
[33,"Хирургия (комбустиология)","st33.001","Отморожения (уровень 1)",null,133714.44]
[33,"Хирургия (комбустиология)","st33.002","Отморожения (уровень 2)",null,332571.82]
[33,"Хирургия (комбустиология)","st33.003","Ожоги (уровень 1)",null,138285.88]
[33,"Хирургия (комбустиология)","st33.004","Ожоги (уровень 2)",null,232000.28]
[33,"Хирургия (комбустиология)","st33.005","Ожоги (уровень 3)",null,404571.91]
[33,"Хирургия (комбустиология)","st33.006","Ожоги (уровень 4)",null,594286.42000000004]
[33,"Хирургия (комбустиология)","st33.007","Ожоги (уровень 5)",null,1269715.8]
[33,"Хирургия (комбустиология)","st33.008","Ожоги (уровень 4,5) с синдромом органной дисфункции",null,1608001.91]
[34,"Челюстно-лицевая хирургия","st34.001","Болезни полости рта, слюнных желез и челюстей, врожденные аномалии лица и шеи, взрослые",null,101714.41]
[34,"Челюстно-лицевая хирургия","st34.002","Операции на органах полости рта (уровень 1)",null,84571.53]
[34,"Челюстно-лицевая хирургия","st34.003","Операции на органах полости рта (уровень 2)",null,145143.03]
[34,"Челюстно-лицевая хирургия","st34.004","Операции на органах полости рта (уровень 3)",null,186285.94]
[34,"Челюстно-лицевая хирургия","st34.005","Операции на органах полости рта (уровень 4)",null,217143.12]
[35,"Эндокринология","st35.001","Сахарный диабет, взрослые (уровень 1)",null,116571.57]
[35,"Эндокринология","st35.002","Сахарный диабет, взрослые (уровень 2)",null,170285.92]
[35,"Эндокринология","st35.003","Заболевания гипофиза, взрослые",null,244571.72]
[35,"Эндокринология","st35.004","Другие болезни эндокринной системы, взрослые (уровень 1)",null,142857.31]
[35,"Эндокринология","st35.005","Другие болезни эндокринной системы, взрослые (уровень 2)",null,315428.95]
[35,"Эндокринология","st35.006","Новообразования эндокринных желез доброкачественные, in situ, неопределенного и неизвестного характера",null,86857.25]
[35,"Эндокринология","st35.007","Расстройства питания",null,121143]
[35,"Эндокринология","st35.008","Другие нарушения обмена веществ",null,132571.59]
[35,"Эндокринология","st35.009","Кистозный фиброз",null,379429.02]
[36,"Прочее","st36.001","Комплексное лечение с применением препаратов иммуноглобулина",null,470204.64]
[36,"Прочее","st36.002","Редкие генетические заболевания",null,400000.48]
[36,"Прочее","st36.004","Факторы, влияющие на состояние здоровья населения и обращения в учреждения здравоохранения",null,36571.47]
[36,"Прочее","st36.005","Госпитализация в диагностических целях с постановкой диагноза туберкулеза, ВИЧ-инфекции, психического заболевания",null,52571.49]
[36,"Прочее","st36.006","Отторжение, отмирание трансплантата органов и тканей",null,960001.14]
[36,"Прочее","st36.007","Установка, замена, заправка помп для лекарственных препаратов",null,252517.31]
[36,"Прочее","st36.008","Интенсивная терапия пациентов с нейрогенными нарушениями жизненно важных функций, нуждающихся в их длительном искусственном замещении",null,2074288.18]
[36,"Прочее","st36.009","Реинфузия аутокрови",null,223129.52]
[36,"Прочее","st36.010","Баллонная внутриаортальная контрпульсация",null,850069.04]
[36,"Прочее","st36.011","Экстракорпоральная мембранная оксигенация",null,2081203.2]
[36,"Прочее","st36.012","Злокачественное новообразование без специального противоопухолевого лечения",null,57142.93]
[36,"Прочее","st36.013","Проведение антимикробной терапии инфекций, вызванных полирезистентными микроорганизмами (уровень 1)",null,51405.24]
[36,"Прочее","st36.014","Проведение антимикробной терапии инфекций, вызванных полирезистентными микроорганизмами (уровень 2)",null,99424.5]
[36,"Прочее","st36.015","Проведение антимикробной терапии инфекций, вызванных полирезистентными микроорганизмами (уровень 3)",null,305045.46000000002]
[36,"Прочее","st36.024","Радиойодтерапия",null,211413.02]
[36,"Прочее","st36.025","Проведение иммунизации против респираторно-синцитиальной вирусной инфекции (уровень 1)",null,54213.2]
[36,"Прочее","st36.026","Проведение иммунизации против респираторно-синцитиальной вирусной инфекции (уровень 2)",null,112123.68]
[36,"Прочее","st36.027","Лечение с применением генно-инженерных биологических препаратов и селективных иммунодепрессантов (инициация)",null,182950.21]
[36,"Прочее","st36.028","Лечение с применением генно-инженерных биологических препаратов и селективных иммунодепрессантов (уровень 1)",null,21982.71]
[36,"Прочее","st36.029","Лечение с применением генно-инженерных биологических препаратов и селективных иммунодепрессантов (уровень 2)",null,24578.639999999999]
[36,"Прочее","st36.030","Лечение с применением генно-инженерных биологических препаратов и селективных иммунодепрессантов (уровень 3)",null,26953.96]
[36,"Прочее","st36.031","Лечение с применением генно-инженерных биологических препаратов и селективных иммунодепрессантов (уровень 4)",null,30579.05]
[36,"Прочее","st36.032","Лечение с применением генно-инженерных биологических препаратов и селективных иммунодепрессантов (уровень 5)",null,34545.14]
[36,"Прочее","st36.033","Лечение с применением генно-инженерных биологических препаратов и селективных иммунодепрессантов (уровень 6)",null,41561.75]
[36,"Прочее","st36.034","Лечение с применением генно-инженерных биологических препаратов и селективных иммунодепрессантов (уровень 7)",null,48059.37]
[36,"Прочее","st36.035","Лечение с применением генно-инженерных биологических препаратов и селективных иммунодепрессантов (уровень 8)",null,53958.69]
[36,"Прочее","st36.036","Лечение с применением генно-инженерных биологических препаратов и селективных иммунодепрессантов (уровень 9)",null,63151.79]
[36,"Прочее","st36.037","Лечение с применением генно-инженерных биологических препаратов и селективных иммунодепрессантов (уровень 10)",null,69617.09]
[36,"Прочее","st36.038","Лечение с применением генно-инженерных биологических препаратов и селективных иммунодепрессантов (уровень 11)",null,82570.490000000005]
[36,"Прочее","st36.039","Лечение с применением генно-инженерных биологических препаратов и селективных иммунодепрессантов (уровень 12)",null,106887.71]
[36,"Прочее","st36.040","Лечение с применением генно-инженерных биологических препаратов и селективных иммунодепрессантов (уровень 13)",null,148126.12]
[36,"Прочее","st36.041","Лечение с применением генно-инженерных биологических препаратов и селективных иммунодепрессантов (уровень 14)",null,180470.83]
[36,"Прочее","st36.042","Лечение с применением генно-инженерных биологических препаратов и селективных иммунодепрессантов (уровень 15)",null,221435.46]
[36,"Прочее","st36.043","Лечение с применением генно-инженерных биологических препаратов и селективных иммунодепрессантов (уровень 16)",null,325723.2]
[36,"Прочее","st36.044","Лечение с применением генно-инженерных биологических препаратов и селективных иммунодепрессантов (уровень 17)",null,640704.93999999994]
[36,"Прочее","st36.045","Лечение с применением генно-инженерных биологических препаратов и селективных иммунодепрессантов (уровень 18)",null,689591.21]
[36,"Прочее","st36.046","Лечение с применением генно-инженерных биологических препаратов и селективных иммунодепрессантов (уровень 19)",null,1326238.52]
[36,"Прочее","st36.047","Лечение с применением генно-инженерных биологических препаратов и селективных иммунодепрессантов (уровень 20)",null,2696901.23]
[37,"Медицинская реабилитация","st37.001","Медицинская реабилитация пациентов с заболеваниями центральной нервной системы (3 балла по ШРМ)",null,195490.52]
[37,"Медицинская реабилитация","st37.002","Медицинская реабилитация пациентов с заболеваниями центральной нервной системы (4 балла по ШРМ)",null,434423.37]
[37,"Медицинская реабилитация","st37.003","Медицинская реабилитация пациентов с заболеваниями центральной нервной системы (5 баллов по ШРМ)",null,620969.88]
[37,"Медицинская реабилитация","st37.004","Медицинская реабилитация пациентов с заболеваниями центральной нервной системы (6 баллов по ШРМ)",null,1046510.09]
[37,"Медицинская реабилитация","st37.005","Медицинская реабилитация пациентов с заболеваниями опорно-двигательного аппарата и периферической нервной системы (3 балла по ШРМ)",null,158436.76]
[37,"Медицинская реабилитация","st37.006","Медицинская реабилитация пациентов с заболеваниями опорно-двигательного аппарата и периферической нервной системы (4 балла по ШРМ)",null,334761.53999999998]
[37,"Медицинская реабилитация","st37.007","Медицинская реабилитация пациентов с заболеваниями опорно-двигательного аппарата и периферической нервной системы (5 баллов по ШРМ)",null,502142.31]
[37,"Медицинская реабилитация","st37.008","Медицинская кардиореабилитация (3 балла по ШРМ)",null,130327.01]
[37,"Медицинская реабилитация","st37.009","Медицинская кардиореабилитация (4 балла по ШРМ)",null,176324.78]
[37,"Медицинская реабилитация","st37.010","Медицинская кардиореабилитация (5 баллов по ШРМ)",null,255543.16]
[37,"Медицинская реабилитация","st37.011","Медицинская реабилитация при других соматических заболеваниях (3 балла по ШРМ)",null,75385.23]
[37,"Медицинская реабилитация","st37.012","Медицинская реабилитация при других соматических заболеваниях (4 балла по ШРМ)",null,107328.13]
[37,"Медицинская реабилитация","st37.013","Медицинская реабилитация при других соматических заболеваниях (5 баллов по ШРМ)",null,149492.75]
[37,"Медицинская реабилитация","st37.014","Медицинская реабилитация детей, перенесших заболевания перинатального периода",null,191657.37]
[37,"Медицинская реабилитация","st37.015","Медицинская реабилитация детей с нарушениями слуха без замены речевого процессора системы кохлеарной имплантации",null,229988.84]
[37,"Медицинская реабилитация","st37.016","Медицинская реабилитация детей с онкологическими, гематологическими и иммунологическими заболеваниями в тяжелых формах продолжительного течения",null,614581.30000000005]
[37,"Медицинская реабилитация","st37.017","Медицинская реабилитация детей с поражениями центральной нервной системы",null,351371.85]
[37,"Медицинская реабилитация","st37.018","Медицинская реабилитация детей, после хирургической коррекции врожденных пороков развития органов и систем",null,300263.21000000002]
[37,"Медицинская реабилитация","st37.019","Медицинская реабилитация после онкоортопедических операций",null,183991.08]
[37,"Медицинская реабилитация","st37.020","Медицинская реабилитация по поводу постмастэктомического синдрома в онкологии",null,158436.76]
[37,"Медицинская реабилитация","st37.021","Медицинская реабилитация после перенесенной коронавирусной инфекции COVID-19 (3 балла по ШРМ)",null,137993.31]
[37,"Медицинская реабилитация","st37.022","Медицинская реабилитация после перенесенной коронавирусной инфекции COVID-19 (4 балла по ШРМ)",null,205712.24]
[37,"Медицинская реабилитация","st37.023","Медицинская реабилитация после перенесенной коронавирусной инфекции COVID-19 (5 баллов по ШРМ)",null,274708.90000000002]
[37,"Медицинская реабилитация","st37.024","Продолжительная медицинская реабилитация пациентов с заболеваниями центральной нервной системы",null,887099.83]
[37,"Медицинская реабилитация","st37.025","Продолжительная медицинская реабилитация пациентов с заболеваниями опорно-двигательного аппарата и периферической нервной системы",null,795834.42]
[37,"Медицинская реабилитация","st37.026","Продолжительная медицинская реабилитация пациентов с заболеваниями центральной нервной системы и с заболеваниями опорно-двигательного аппарата и периферической нервной системы (сестринский уход)",null,469712.67]
[38,"Гериатрия","st38.001","Соматические заболевания, осложненные старческой астенией",null,171428.78]

{"sheet":"РАЗДЕЛ 3 (ДС)","index":2,"n_rows":208,"n_cols":34,"rows_kept":208,"cut":false,"hidden":false,"merged":[[1,0,2,0],[0,0,0,6],[1,1,2,1],[1,2,2,2],[1,3,2,3],[1,4,1,6]]}
["РАЗДЕЛ 3. МЕДИЦИНСКАЯ ПОМОЩЬ В УСЛОВИЯХ ДНЕВНОГО СТАЦИОНАРА ПО КСГ"]
["Код профиля","Профиль ","КСГ","Наименование  группы заболеваний (КСГ)","Стоимость законченного случая лечения по уровням оказания медицинской помощи, рублей                                               ",{"$nulls":22},"Условия оказания медпомощи","Тип посещения","Взрослый профлиь","Тариф","Детский профиль","Код МО (здесь не нужен!)","Длительность стационара"]
[{"$nulls":4}," I УРОВНЬ "," II УРОВНЬ "," III УРОВНЬ "]
[1,2,3,4,5,6,7]
[2,"Акушерство и гинекология","ds02.001","Осложнения беременности, родов, послеродового периода",49173.61,57369.21]
[2,"Акушерство и гинекология","ds02.002","Болезни женских половых органов",39101.9,45618.89]
[2,"Акушерство и гинекология","ds02.003","Операции на женских половых органах (уровень 1)",42064.17,49074.86]
[2,"Акушерство и гинекология","ds02.004","Операции на женских половых органах (уровень 2)",62800.03,73266.7]
[2,"Акушерство и гинекология","ds02.006","Искусственное прерывание беременности (аборт)",19550.95,22809.439999999999]
[2,"Акушерство и гинекология","ds02.007","Аборт медикаментозный",22513.22,26265.42]
[2,"Акушерство и гинекология","ds02.008","Экстракорпоральное оплодотворение (уровень 1)",82411.710000000006,87690.86]
[2,"Акушерство и гинекология","ds02.009","Экстракорпоральное оплодотворение (уровень 2)",162303.67000000001,174647.56]
[2,"Акушерство и гинекология","ds02.010","Экстракорпоральное оплодотворение (уровень 3)",253623.99,271195.14]
[2,"Акушерство и гинекология","ds02.011","Экстракорпоральное оплодотворение (уровень 4)",274377.53000000003,292875.25,{"$nulls":21},2,34,112,{"$f":"E14","v":274377.53000000003},null,null,8]
[3,"Аллергология и иммунология","ds03.001","Нарушения с вовлечением иммунного механизма",58060.4,67737.14]
[4,"Гастроэнтерология","ds04.001","Болезни органов пищеварения, взрослые",52728.32,61516.38]
[5,"Гематология","ds05.001","Болезни крови (уровень 1)",53913.23,62898.77]
[5,"Гематология","ds05.002","Болезни крови (уровень 2)",142781.19,166578.06]
[5,"Гематология","ds05.005","Лекарственная терапия при доброкачественных заболеваниях крови и пузырном заносе",220985,257815.84]
[6,"Дерматовенерология","ds06.002","Лечение дерматозов с применением наружной терапии",20371.82,23739.33]
[6,"Дерматовенерология","ds06.003","Лечение дерматозов с применением наружной терапии, физиотерапии, плазмафереза",56009.78,65233.39]
[6,"Дерматовенерология","ds06.004","Лечение дерматозов с применением наружной и системной терапии",56786.16,66198.45]
[6,"Дерматовенерология","ds06.005","Лечение дерматозов с применением наружной терапии и фототерапии",114102.28,133010.42000000001]
[7,"Детская кардиология","ds07.001","Болезни системы кровообращения, дети",58060.4,67737.14]
[8,"Детская онкология","ds08.001","Лекарственная терапия при злокачественных новообразованиях других локализаций (кроме лимфоидной и кроветворной тканей), дети",471000.2,549500.24]
[8,"Детская онкология","ds08.002","Лекарственная терапия при остром лейкозе, дети",843060.74,983570.87]
[8,"Детская онкология","ds08.003","Лекарственная терапия при других злокачественных новообразованиях лимфоидной и кроветворной тканей, дети",612596.49,714695.91]
[9,"Детская урология-андрология","ds09.001","Операции на мужских половых органах, дети",81758.53,95384.95]
[9,"Детская урология-андрология","ds09.002","Операции на почке и мочевыделительной системе, дети",123822.7,144459.81]
[10,"Детская хирургия","ds10.001","Операции по поводу грыж, дети",94792.49,110591.24]
[11,"Детская эндокринология","ds11.001","Сахарный диабет, дети",88275.51,102988.09]
[11,"Детская эндокринология","ds11.002","Другие болезни эндокринной системы, дети",80573.62,94002.559999999998]
[12,"Инфекционные болезни","ds12.001","Вирусный гепатит B хронический, лекарственная терапия",162924.6,190078.7]
[12,"Инфекционные болезни","ds12.005","Другие вирусные гепатиты",57467.95,67045.94]
[12,"Инфекционные болезни","ds12.006","Инфекционные и паразитарные болезни, взрослые",68724.56,80178.649999999994]
[12,"Инфекционные болезни","ds12.007","Инфекционные и паразитарные болезни, дети",57467.95,67045.94]
[12,"Инфекционные болезни","ds12.008","Респираторные инфекции верхних дыхательных путей, взрослые",30807.56,35942.15]
[12,"Инфекционные болезни","ds12.009","Респираторные инфекции верхних дыхательных путей, дети",38509.449999999997,44927.69]
[12,"Инфекционные болезни","ds12.012","Лечение хронического вирусного гепатита C (уровень 1)",138221.75,144667.64000000001]
[12,"Инфекционные болезни","ds12.013","Лечение хронического вирусного гепатита C (уровень 2)",195973.92,202565.47]
[12,"Инфекционные болезни","ds12.014","Лечение хронического вирусного гепатита C (уровень 3)",267457.2,274047.71999999997]
[12,"Инфекционные болезни","ds12.015","Лечение хронического вирусного гепатита C (уровень 4)",376657.53,383274.13]
[13,"Кардиология","ds13.001","Болезни системы кровообращения, взрослые",39433.68,46005.96,54769]
[13,"Кардиология","ds13.002","Болезни системы кровообращения с применением инвазивных методов",167100.21,194950.24,232083.62]
[14,"Колопроктология","ds14.001","Операции на кишечнике и анальной области (уровень 1)",90645.32,105752.88]
[14,"Колопроктология","ds14.002","Операции на кишечнике и анальной области (уровень 2)",187807.63,219108.9]
[15,"Неврология","ds15.001","Болезни нервной системы, хромосомные аномалии",48306.25,56357.3]
[15,"Неврология","ds15.002","Неврологические заболевания, лечение с применением ботулотоксина (уровень 1)",86261.17,100638.03]
[15,"Неврология","ds15.003","Неврологические заболевания, лечение с применением ботулотоксина (уровень 2)",142454.16,166196.51999999999]
[16,"Нейрохирургия","ds16.001","Болезни и травмы позвоночника, спинного мозга, последствия внутричерепной травмы, сотрясение головного мозга",46334.57,54057]
[16,"Нейрохирургия","ds16.002","Операции на периферической нервной системе",126680.69,147794.14000000001]
[17,"Неонатология","ds17.001","Нарушения, возникшие в перинатальном периоде",106049.1,123723.95]
[18,"Нефрология (без диализа)","ds18.001","Гломерулярные болезни, почечная недостаточность (без диализа)",94792.49,110591.24]
[18,"Нефрология (без диализа)","ds18.002","Лекарственная терапия у пациентов, получающих диализ",192547.25,224638.46]
[18,"Нефрология (без диализа)","ds18.003","Формирование, имплантация, удаление, смена доступа для диализа",188400.08,219800.1]
[18,"Нефрология (без диализа)","ds18.004","Другие болезни почек",47396.25,55295.62]
[19,"Онкология","ds19.016","Операции при злокачественных новообразованиях кожи (уровень 1)",139226.48000000001,162430.89000000001]
[19,"Онкология","ds19.017","Операции при злокачественных новообразованиях кожи (уровень 2)",146928.37,171416.43]
[19,"Онкология","ds19.028","Установка, замена порт-системы (катетера) для лекарственной терапии злокачественных новообразований",128562.32,149989.37]
[19,"Онкология","ds19.033","Госпитализация в диагностических целях с проведением молекулярно-генетического и (или) иммуногистохимического исследования или иммунофенотипирования",144558.54999999999,168651.65]
[19,"Онкология","ds19.050","Лучевая терапия (уровень 1)",43841.53,51148.45]
[19,"Онкология","ds19.051","Лучевая терапия (уровень 2)",85313.24,99532.12]
[19,"Онкология","ds19.052","Лучевая терапия (уровень 3)",131524.59,153445.35]
[19,"Онкология","ds19.053","Лучевая терапия (уровень 4)",173588.75,202520.21]
[19,"Онкология","ds19.054","Лучевая терапия (уровень 5)",186030.27,217035.31]
[19,"Онкология","ds19.055","Лучевая терапия (уровень 6)",225132.17,262654.2]
[19,"Онкология","ds19.056","Лучевая терапия (уровень 7)",278452.95,324861.78000000003]
[19,"Онкология","ds19.057","Лучевая терапия (уровень 8)",1578887.48,1842035.39]
[19,"Онкология","ds19.058","Лучевая терапия в сочетании с лекарственной терапией (уровень 1)",206387.01,238041.2]
[19,"Онкология","ds19.060","Лучевая терапия в сочетании с лекарственной терапией (уровень 3)",258873.09,299346.96000000002]
[19,"Онкология","ds19.061","Лучевая терапия в сочетании с лекарственной терапией (уровень 4)",418812.78,460559.22]
[19,"Онкология","ds19.062","Лучевая терапия в сочетании с лекарственной терапией (уровень 5)",643318.42000000004,685062.43]
[19,"Онкология","ds19.063","ЗНО лимфоидной и кроветворной тканей без специального противоопухолевого лечения (уровень 1)",12441.51,14515.1]
[19,"Онкология","ds19.064","ЗНО лимфоидной и кроветворной тканей без специального противоопухолевого лечения (уровень 2)",55690.59,64972.36]
[19,"Онкология","ds19.065","ЗНО лимфоидной и кроветворной тканей без специального противоопухолевого лечения (уровень 3)",135671.76,158283.72]
[19,"Онкология","ds19.066","ЗНО лимфоидной и кроветворной тканей без специального противоопухолевого лечения (уровень 4)",250015.2,291684.40000000002]
[19,"Онкология","ds19.067","ЗНО лимфоидной и кроветворной тканей, лекарственная терапия, взрослые (уровень 1)",16223.39,18492.189999999999]
[19,"Онкология","ds19.068","ЗНО лимфоидной и кроветворной тканей, лекарственная терапия, взрослые (уровень 2)",71909.100000000006,81965.39]
[19,"Онкология","ds19.069","ЗНО лимфоидной и кроветворной тканей, лекарственная терапия, взрослые (уровень 3)",160918.51999999999,183422.56]
[19,"Онкология","ds19.070","ЗНО лимфоидной и кроветворной тканей, лекарственная терапия, взрослые (уровень 4)",288513.32,328861.15000000002]
[19,"Онкология","ds19.071","ЗНО лимфоидной и кроветворной тканей, лекарственная терапия с применением отдельных препаратов (по перечню), взрослые (уровень 1)",85092.1,87493.59]
[19,"Онкология","ds19.072","ЗНО лимфоидной и кроветворной тканей, лекарственная терапия с применением отдельных препаратов (по перечню), взрослые (уровень 2)",139311.57999999999,149279.96]
[19,"Онкология","ds19.073","ЗНО лимфоидной и кроветворной тканей, лекарственная терапия с применением отдельных препаратов (по перечню), взрослые (уровень 3)",234989.47,258347.59]
[19,"Онкология","ds19.074","ЗНО лимфоидной и кроветворной тканей, лекарственная терапия с применением отдельных препаратов (по перечню), взрослые (уровень 4)",390207.64,435272.59]
[19,"Онкология","ds19.075","ЗНО лимфоидной и кроветворной тканей, лекарственная терапия с применением отдельных препаратов (по перечню), взрослые (уровень 5)",580201.97,582174.30000000005]
[19,"Онкология","ds19.076","ЗНО лимфоидной и кроветворной тканей, лекарственная терапия с применением отдельных препаратов (по перечню), взрослые (уровень 6)",624092.13,632206.82999999996]
[19,"Онкология","ds19.077","ЗНО лимфоидной и кроветворной тканей, лекарственная терапия с применением отдельных препаратов (по перечню), взрослые (уровень 7)",745295.35,770333.9]
[19,"Онкология","ds19.078","ЗНО лимфоидной и кроветворной тканей, лекарственная терапия с применением отдельных препаратов (по перечню), взрослые (уровень 8)",832236.51,869446.35]
[19,"Онкология","ds19.079","Лучевые повреждения",155222.71,181093.16]
[19,"Онкология","ds19.097","Лекарственная терапия при злокачественных новообразованиях (кроме лимфоидной и кроветворной тканей), взрослые (уровень 1)",11842.89,12956.58]
[19,"Онкология","ds19.098","Лекарственная терапия при злокачественных новообразованиях (кроме лимфоидной и кроветворной тканей), взрослые (уровень 2)",25414.01,26794.57]
[19,"Онкология","ds19.099","Лекарственная терапия при злокачественных новообразованиях (кроме лимфоидной и кроветворной тканей), взрослые (уровень 3)",40425.870000000003,42830.64]
[19,"Онкология","ds19.100","Лекарственная терапия при злокачественных новообразованиях (кроме лимфоидной и кроветворной тканей), взрослые (уровень 4)",70611.679999999993,77230.78]
[19,"Онкология","ds19.101","Лекарственная терапия при злокачественных новообразованиях (кроме лимфоидной и кроветворной тканей), взрослые (уровень 5)",84439.16,89079.93]
[19,"Онкология","ds19.102","Лекарственная терапия при злокачественных новообразованиях (кроме лимфоидной и кроветворной тканей), взрослые (уровень 6)",101142.24,103508.18]
[19,"Онкология","ds19.103","Лекарственная терапия при злокачественных новообразованиях (кроме лимфоидной и кроветворной тканей), взрослые (уровень 7)",149073.9,158112]
[19,"Онкология","ds19.104","Лекарственная терапия при злокачественных новообразованиях (кроме лимфоидной и кроветворной тканей), взрослые (уровень 8)",175372.86,185916.1]
[19,"Онкология","ds19.105","Лекарственная терапия при злокачественных новообразованиях (кроме лимфоидной и кроветворной тканей), взрослые (уровень 9)",196596.95,207864.4]
[19,"Онкология","ds19.106","Лекарственная терапия при злокачественных новообразованиях (кроме лимфоидной и кроветворной тканей), взрослые (уровень 10)",258251.45,279299.96999999997]
[19,"Онкология","ds19.107","Лекарственная терапия при злокачественных новообразованиях (кроме лимфоидной и кроветворной тканей), взрослые (уровень 11)",291951.18,313905.5]
[19,"Онкология","ds19.108","Лекарственная терапия при злокачественных новообразованиях (кроме лимфоидной и кроветворной тканей), взрослые (уровень 12)",268794.69,274171.95]
[19,"Онкология","ds19.109","Лекарственная терапия при злокачественных новообразованиях (кроме лимфоидной и кроветворной тканей), взрослые (уровень 13)",348940.5,363932.64]
[19,"Онкология","ds19.110","Лекарственная терапия при злокачественных новообразованиях (кроме лимфоидной и кроветворной тканей), взрослые (уровень 14)",430920.38,445295.39]
[19,"Онкология","ds19.111","Лекарственная терапия при злокачественных новообразованиях (кроме лимфоидной и кроветворной тканей), взрослые (уровень 15)",497155.29,505684.01]
[19,"Онкология","ds19.112","Лекарственная терапия при злокачественных новообразованиях (кроме лимфоидной и кроветворной тканей), взрослые (уровень 16)",643548.61,660690.17000000004]
[19,"Онкология","ds19.113","Лекарственная терапия при злокачественных новообразованиях (кроме лимфоидной и кроветворной тканей), взрослые (уровень 17)",733218.66,755684.1]
[19,"Онкология","ds19.114","Лекарственная терапия при злокачественных новообразованиях (кроме лимфоидной и кроветворной тканей), взрослые (уровень 18)",850558.79,851546.54]
[19,"Онкология","ds19.115","Лекарственная терапия при злокачественных новообразованиях (кроме лимфоидной и кроветворной тканей), взрослые (уровень 19)",1148659.44,1150835.6399999999]
[20,"Оториноларингология","ds20.001","Болезни уха, горла, носа",43841.53,51148.45]
[20,"Оториноларингология","ds20.002","Операции на органе слуха, придаточных пазухах носа и верхних дыхательных путях (уровень 1)",66354.75,77413.87]
[20,"Оториноларингология","ds20.003","Операции на органе слуха, придаточных пазухах носа и верхних дыхательных путях (уровень 2)",98347.21,114738.41]
[20,"Оториноларингология","ds20.004","Операции на органе слуха, придаточных пазухах носа и верхних дыхательных путях (уровень 3)",118490.62,138239.04999999999]
[20,"Оториноларингология","ds20.005","Операции на органе слуха, придаточных пазухах носа и верхних дыхательных путях (уровень 4)",145743.46,170034.04]
[20,"Оториноларингология","ds20.006","Замена речевого процессора",970300.4,971478.18]
[21,"Офтальмология","ds21.001","Болезни и травмы глаза",23105.67,26956.62]
[21,"Офтальмология","ds21.002","Операции на органе зрения (уровень 1)",39694.36,46310.080000000002]
[21,"Офтальмология","ds21.003","Операции на органе зрения (уровень 2)",64577.39,75340.28]
[21,"Офтальмология","ds21.004","Операции на органе зрения (уровень 3)",95977.4,111973.63]
[21,"Офтальмология","ds21.005","Операции на органе зрения (уровень 4)",119083.07,138930.25]
[21,"Офтальмология","ds21.006","Операции на органе зрения (уровень 5)",207358.58,241918.34]
[21,"Офтальмология","ds21.007","Операции на органе зрения (факоэмульсификация с имплантацией ИОЛ)",46531.25,48610.05]
[22,"Педиатрия","ds22.001","Системные поражения соединительной ткани, артропатии, спондилопатии, дети",159438.01,186011.01]
[22,"Педиатрия","ds22.002","Болезни органов пищеварения, дети",61428.5,71666.58]
[23,"Пульмонология","ds23.001","Болезни органов дыхания",53320.78,62207.57]
[24,"Ревматология","ds24.001","Системные поражения соединительной ткани, артропатии, спондилопатии, взрослые",86498.15,100914.51]
[25,"Сердечно-сосудистая хирургия","ds25.001","Диагностическое обследование сердечно-сосудистой системы",109011.37,127179.93,151404.68]
[25,"Сердечно-сосудистая хирургия","ds25.002","Операции на сосудах (уровень 1)",129154.77,150680.57,179381.63]
[25,"Сердечно-сосудистая хирургия","ds25.003","Операции на сосудах (уровень 2)",255347.28,297905.15999999997,354649]
[26,"Стоматология детская","ds26.001","Болезни полости рта, слюнных желез и челюстей, врожденные аномалии лица и шеи, дети",58060.4,67737.14]
[27,"Терапия","ds27.001","Отравления и другие воздействия внешних причин",43841.53,51148.45]
[28,"Торакальная хирургия","ds28.001","Операции на нижних дыхательных путях и легочной ткани, органах средостения",78203.81,91237.78]
[29,"Травматология и ортопедия","ds29.001","Операции на костно-мышечной системе и суставах (уровень 1)",85313.24,99532.12,118490.62]
[29,"Травматология и ортопедия","ds29.002","Операции на костно-мышечной системе и суставах (уровень 2)",100124.57,116812,139061.91]
[29,"Травматология и ортопедия","ds29.003","Операции на костно-мышечной системе и суставах (уровень 3)",147520.82,172107.62,204890.03]
[29,"Травматология и ортопедия","ds29.004","Заболевания опорно-двигательного аппарата, травмы, болезни мягких тканей",62207.57,72575.5,86399.41]
[30,"Урология","ds30.001","Болезни, врожденные аномалии, повреждения мочевой системы и мужских половых органов",47396.25,55295.62]
[30,"Урология","ds30.002","Операции на мужских половых органах, взрослые (уровень 1)",129154.77,150680.57]
[30,"Урология","ds30.003","Операции на мужских половых органах, взрослые (уровень 2)",152852.9,178328.38]
[30,"Урология","ds30.004","Операции на почке и мочевыделительной системе, взрослые (уровень 1)",116713.26,136165.47]
[30,"Урология","ds30.005","Операции на почке и мочевыделительной системе, взрослые (уровень 2)",120860.43,141003.82999999999]
[30,"Урология","ds30.006","Операции на почке и мочевыделительной системе, взрослые (уровень 3)",174773.66,203902.6]
[31,"Хирургия","ds31.001","Болезни, новообразования молочной железы",52728.32,61516.38]
[31,"Хирургия","ds31.002","Операции на коже, подкожной клетчатке, придатках кожи (уровень 1)",44433.98,51839.65]
[31,"Хирургия","ds31.003","Операции на коже, подкожной клетчатке, придатках кожи (уровень 2)",59245.31,69119.53]
[31,"Хирургия","ds31.004","Операции на коже, подкожной клетчатке, придатках кожи (уровень 3)",257124.64,299978.75]
[31,"Хирургия","ds31.005","Операции на органах кроветворения и иммунной системы",76426.45,89164.19]
[31,"Хирургия","ds31.006","Операции на молочной железе",154037.79999999999,179710.77]
[32,"Хирургия (абдоминальная)","ds32.001","Операции на пищеводе, желудке, двенадцатиперстной кишке (уровень 1)",125007.6,145842.20000000001]
[32,"Хирургия (абдоминальная)","ds32.002","Операции на пищеводе, желудке, двенадцатиперстной кишке (уровень 2)",210320.85,245374.32]
[32,"Хирургия (абдоминальная)","ds32.003","Операции по поводу грыж, взрослые (уровень 1)",93015.13,108517.66]
[32,"Хирургия (абдоминальная)","ds32.004","Операции по поводу грыж, взрослые (уровень 2)",133894.39999999999,156210.13]
[32,"Хирургия (абдоминальная)","ds32.005","Операции по поводу грыж, взрослые (уровень 3)",191954.8,223947.27]
[32,"Хирургия (абдоминальная)","ds32.006","Операции на желчном пузыре и желчевыводящих путях",100717.02,117503.2]
[32,"Хирургия (абдоминальная)","ds32.007","Другие операции на органах брюшной полости (уровень 1)",122045.34,142386.23000000001]
[32,"Хирургия (абдоминальная)","ds32.008","Другие операции на органах брюшной полости (уровень 2)",128562.32,149989.37]
[33,"Хирургия (комбустиология)","ds33.001","Ожоги и отморожения",65169.84,76031.48]
[34,"Челюстно-лицевая хирургия","ds34.001","Болезни полости рта, слюнных желез и челюстей, врожденные аномалии лица и шеи, взрослые",52135.87,60825.18]
[34,"Челюстно-лицевая хирургия","ds34.002","Операции на органах полости рта (уровень 1)",54505.68,63589.96]
[34,"Челюстно-лицевая хирургия","ds34.003","Операции на органах полости рта (уровень 2)",92422.68,107826.46]
[35,"Эндокринология","ds35.001","Сахарный диабет, взрослые",63984.93,74649.09]
[35,"Эндокринология","ds35.002","Другие болезни эндокринной системы, новообразования эндокринных желез доброкачественные, in situ, неопределенного и неизвестного характера, расстройства питания, другие нарушения обмена веществ",83535.89,97458.53]
[35,"Эндокринология","ds35.003","Кистозный фиброз",152852.9,178328.38]
[35,"Эндокринология","ds35.004","Лечение кистозного фиброза с применением ингаляционной антибактериальной терапии",726939.94,848096.59]
[36,"Прочее","ds36.001","Комплексное лечение с применением препаратов иммуноглобулина",465668.13,543279.48]
[36,"Прочее","ds36.002","Факторы, влияющие на состояние здоровья населения и обращения в учреждения здравоохранения",33177.370000000003,38706.94]
[36,"Прочее","ds36.003","Госпитализация в дневной стационар в диагностических целях с постановкой диагноза туберкулеза, ВИЧ-инфекции, психического заболевания",27252.84,31794.98]
[36,"Прочее","ds36.005","Отторжение, отмирание трансплантата органов и тканей",438415.28,511484.5]
[36,"Прочее","ds36.006","Злокачественное новообразование без специального противоопухолевого лечения",23698.12,27647.81]
[36,"Прочее","ds36.012","Проведение иммунизации против респираторно-синцитиальной вирусной инфекции (уровень 1)",47648.51,47917.58]
[36,"Прочее","ds36.013","Проведение иммунизации против респираторно-синцитиальной вирусной инфекции (уровень 2)",100895.34,101165.26]
[36,"Прочее","ds36.014","Лечение с применением генно-инженерных биологических препаратов и селективных иммунодепрессантов (инициация)",97982.98,103245.94]
[36,"Прочее","ds36.015","Лечение с применением генно-инженерных биологических препаратов и селективных иммунодепрессантов (уровень 1)",4490.25,4812.37]
[36,"Прочее","ds36.016","Лечение с применением генно-инженерных биологических препаратов и селективных иммунодепрессантов (уровень 2)",7862.43,8189.71]
[36,"Прочее","ds36.017","Лечение с применением генно-инженерных биологических препаратов и селективных иммунодепрессантов (уровень 3)",12699.36,13025.82]
[36,"Прочее","ds36.018","Лечение с применением генно-инженерных биологических препаратов и селективных иммунодепрессантов (уровень 4)",16412.23,16736.16]
[36,"Прочее","ds36.019","Лечение с применением генно-инженерных биологических препаратов и селективных иммунодепрессантов (уровень 5)",22556.79,22880.98]
[36,"Прочее","ds36.020","Лечение с применением генно-инженерных биологических препаратов и селективных иммунодепрессантов (уровень 6)",28147.61,28473.22]
[36,"Прочее","ds36.021","Лечение с применением генно-инженерных биологических препаратов и селективных иммунодепрессантов (уровень 7)",34848.1,35173.360000000001]
[36,"Прочее","ds36.022","Лечение с применением генно-инженерных биологических препаратов и селективных иммунодепрессантов (уровень 8)",53639.96,55681.88]
[36,"Прочее","ds36.023","Лечение с применением генно-инженерных биологических препаратов и селективных иммунодепрессантов (уровень 9)",53098.09,53424.75]
[36,"Прочее","ds36.024","Лечение с применением генно-инженерных биологических препаратов и селективных иммунодепрессантов (уровень 10)",64079.58,64405.68]
[36,"Прочее","ds36.025","Лечение с применением генно-инженерных биологических препаратов и селективных иммунодепрессантов (уровень 11)",91404.85,95159.58]
[36,"Прочее","ds36.026","Лечение с применением генно-инженерных биологических препаратов и селективных иммунодепрессантов (уровень 12)",98514.51,98839.23]
[36,"Прочее","ds36.027","Лечение с применением генно-инженерных биологических препаратов и селективных иммунодепрессантов (уровень 13)",150696.35,155061.35]
[36,"Прочее","ds36.028","Лечение с применением генно-инженерных биологических препаратов и селективных иммунодепрессантов (уровень 14)",177795.95,179698.15]
[36,"Прочее","ds36.029","Лечение с применением генно-инженерных биологических препаратов и селективных иммунодепрессантов (уровень 15)",212073.11,212397.26]
[36,"Прочее","ds36.030","Лечение с применением генно-инженерных биологических препаратов и селективных иммунодепрессантов (уровень 16)",320971.59999999998,321293.71999999997]
[36,"Прочее","ds36.031","Лечение с применением генно-инженерных биологических препаратов и селективных иммунодепрессантов (уровень 17)",663677.86,663994.06000000006]
[36,"Прочее","ds36.032","Лечение с применением генно-инженерных биологических препаратов и селективных иммунодепрессантов (уровень 18)",725261.67,725568.88]
[36,"Прочее","ds36.033","Лечение с применением генно-инженерных биологических препаратов и селективных иммунодепрессантов (уровень 19)",1366529.66,1366819.33]
[36,"Прочее","ds36.034","Лечение с применением генно-инженерных биологических препаратов и селективных иммунодепрессантов (уровень 20)",2799102.52,2799399.32]
[36,"Прочее","ds36.035","Лечение с применением методов афереза (каскадная плазмофильтрация, липидная фильтрация, иммуносорбция) в случае отсутствия эффективности базисной терапии",300373.71999999997,350436]
[37,"Медицинская реабилитация","ds37.001","Медицинская реабилитация пациентов с заболеваниями центральной нервной системы (2 балла по ШРМ)",136309.24,159027.44]
[37,"Медицинская реабилитация","ds37.002","Медицинская реабилитация пациентов с заболеваниями центральной нервной системы (3 балла по ШРМ)",159027.44,185532.02]
[37,"Медицинская реабилитация","ds37.003","Медицинская реабилитация пациентов с заболеваниями опорно-двигательного аппарата и периферической нервной системы (2 балла по ШРМ)",104641.43,122081.67]
[37,"Медицинская реабилитация","ds37.004","Медицинская реабилитация пациентов с заболеваниями опорно-двигательного аппарата и периферической нервной системы (3 балла по ШРМ)",125294.35,146176.74]
[37,"Медицинская реабилитация","ds37.005","Медицинская кардиореабилитация (2 балла по ШРМ)",95691.839999999997,111640.48]
[37,"Медицинская реабилитация","ds37.006","Медицинская кардиореабилитация (3 балла по ШРМ)",114967.89,134129.21]
[37,"Медицинская реабилитация","ds37.007","Медицинская реабилитация при других соматических заболеваниях (2 балла по ШРМ)",58516.59,68269.36]
[37,"Медицинская реабилитация","ds37.008","Медицинская реабилитация при других соматических заболеваниях (3 балла по ШРМ)",75038.92,87545.41]
[37,"Медицинская реабилитация","ds37.009","Медицинская реабилитация детей, перенесших заболевания перинатального периода",103264.57,120475.34]
[37,"Медицинская реабилитация","ds37.010","Медицинская реабилитация детей с нарушениями слуха без замены речевого процессора системы кохлеарной имплантации",123917.49,144570.4]
[37,"Медицинская реабилитация","ds37.011","Медицинская реабилитация детей с поражениями центральной нервной системы",189318.38,220871.45]
[37,"Медицинская реабилитация","ds37.012","Медицинская реабилитация детей после хирургической коррекции врожденных пороков развития органов и систем",161781.16,188744.69]
[37,"Медицинская реабилитация","ds37.013","Медицинская реабилитация после онкоортопедических операций",121163.77,141357.73000000001]
[37,"Медицинская реабилитация","ds37.014","Медицинская реабилитация по поводу постмастэктомического синдрома в онкологии",103953,121278.5]
[37,"Медицинская реабилитация","ds37.015","Медицинская реабилитация после перенесенной коронавирусной инфекции COVID-19 (2 балла по ШРМ)",68843.05,80316.89]
[37,"Медицинская реабилитация","ds37.016","Медицинская реабилитация после перенесенной коронавирусной инфекции COVID-19 (3 балла по ШРМ)",96380.27,112443.65]

{"sheet":"РАЗДЕЛ 4 (СМП) ","index":3,"n_rows":9,"n_cols":31,"rows_kept":9,"cut":false,"hidden":false,"merged":[[0,0,0,2],[3,0,3,2],[4,0,4,2],[6,0,6,2],[7,0,7,2]]}
["РАЗДЕЛ 4. СКОРАЯ МЕДИЦИНСКАЯ ПОМОЩЬ"]
["Применяется способ оплаты (код по классификатору V010)","Наименование услуги","Стоимость одного вызова, рублей",{"$nulls":23},"Условия оказания медпомощи","Тип посещения","Взрослый профлиь","Тариф","Детский профиль"]
[1,2,3]
["4.1. МЕДИЦИНСКИЕ ОРГАНИЗАЦИИ ОТНОСЯЩИЕСЯ К I УРОВНЮ ОКАЗАНИЯ МЕДИЦИНСКОЙ ПОМОЩИ: "]
["4.1.1. ДЛЯ МЕДИЦИНСКИХ ОРГАНИЗАЦИЙ, ФИНАНСИРОВАНИЕ КОТОРЫХ ОСУЩЕСТВЛЯЕТСЯ ПО ПОДУШЕВОМУ НОРМАТИВУ ФИНАНСИРОВАНИЯ СКОРОЙ МЕДИЦИНСКОЙ ПОМОЩИ, ОКАЗЫВАЕМОЙ ВНЕ МЕДИЦИНСКОЙ ОРГАНИЗАЦИИ:"]
[36,"ВЫЗОВ СКОРОЙ МЕДИЦИНСКОЙ ПОМОЩИ",12083.41,{"$nulls":23},4,24,84,{"$f":"C6","v":12083.41}]
[]
["4.1.2. ОПЛАТА СКОРОЙ МЕДИЦИНСКОЙ ПОМОЩИ С ПРОВЕДЕНИЕМ ТРОМБОЛИЗИСА (ДОПОЛНИТЕЛЬНО К ПОДУШЕВОМУ ФИНАНСИРОВАНИЮ):"]
[24,"ВЫЗОВ СКОРОЙ МЕДИЦИНСКОЙ ПОМОЩИ С ПРОВЕДЕНИЕМ ТРОМБОЛИЗИСА",{"$f":"C6+57056.9","v":69140.31}]

{"sheet":"Раздел 5а (МУ)","index":4,"n_rows":266,"n_cols":3,"rows_kept":266,"cut":false,"hidden":false,"merged":[[263,0,263,2],[246,0,246,2],[252,0,252,2],[0,0,0,2],[4,0,4,2],[189,0,189,2],[206,0,206,2],[15,0,15,2],[100,0,100,2],[39,0,39,2],[40,0,40,2],[72,0,72,2]]}
["РАЗДЕЛ 5а. ТАРИФЫ НА МЕДИЦИНСКИЕ УСЛУГИ (ИССЛЕДОВАНИЯ), ДЛЯ МЕДИЦИНСКИХ ОРГАНИЗАЦИЙ КОТОРЫМ УСТАНОВЛЕНЫ ОБЪМЫ НА САМОСТОЯТЕЛЬНЫЕ ДИАГНОСТИЧЕСКИЕ УСЛУГИ "]
[]
["Код услуги","Наименование услуги (исследования)","Стоимость за единицу объёма, рублей"]
[1,2,3]
["5.1. ЭНДОСКОПИЧЕСКИЕ ИССЛЕДОВАНИЯ                                                                                                                           "]
["A03.08.003","Эзофагоскопия",1797.3]
["A03.09.001","Бронхоскопия",2916.9]
["A03.16.001","Эзофагогастродуоденоскопия",2830.9]
["A03.16.001.006","Эзофагогастродуоденоскопия с применением анестезиологического пособия (при необходимости проведения исследования под наркозом)",{"$f":"C8+14309.6","v":17140.5}]
["A03.16.003","Эзофагогастроскопия",2417.4]
["A03.18.001","Колоноскопия",4751.8]
["A03.18.001.008","Колоноскопия с применением анестезиологического пособия (при необходимости проведения исследования под наркозом)",{"$f":"C11+14309.6","v":19061.400000000001}]
["A03.19.002","Ректороманоскопия",1857.7]
["A03.19.004","Ректосигмоидоскопия",3098]
["A03.19.005","Ректоскопия",1651]
["5.2. УЛЬТРАЗВУКОВЫЕ ИССЛЕДОВАНИЯ                                                                                                                                               "]
["A04.10.002","Эхокардиография",3228.5]
["A04.10.002.001","Эхокардиография чреспищеводная",3302.5]
["A04.10.002.006","Трансторакальная эхокардиография",3228.5]
["A04.12.001","Ультразвуковая допплерография артерий верхних конечностей",2158.6]
["A04.12.001.001","Ультразвуковая допплерография артерий нижних конечностей",2158.6]
["A04.12.002","Ультразвуковая допплерография сосудов (артерий и вен) верхних конечностей",3228.5]
["A04.12.002.001","Ультразвуковая допплерография сосудов (артерий и вен) нижних конечностей",3228.5]
["A04.12.002.002","Ультразвуковая допплерография вен нижних конечностей",2158.6]
["A04.12.002.003","Ультразвуковая допплерография вен верхних конечностей",2158.6]
["A04.12.003","Дуплексное сканирование аорты",2158.6]
["A04.12.005","Дуплексное сканирование сосудов (артерий и вен) верхних конечностей",3228.5]
["A04.12.005.002","Дуплексное сканирование артерий верхних конечностей",2158.6]
["A04.12.005.003","Дуплексное сканирование брахиоцефальных артерий с цветным допплеровским картированием кровотока",2158.6]
["A04.12.005.004","Дуплексное сканирование вен верхних конечностей",2158.6]
["A04.12.005.005","Дуплексное сканирование экстракраниальных отделов брахиоцефальных артерий",2158.6]
["A04.12.005.006","Дуплексное интракраниальных отделов брахиоцефальных артерий",2158.6]
["A04.12.006","Дуплексное сканирование сосудов (артерий и вен) нижних конечностей",3228.5]
["A04.12.006.001","Дуплексное сканирование артерий нижних конечностей",2158.6]
["A04.12.006.002","Дуплексное сканирование вен нижних конечностей",2158.6]
["A04.12.013.001","Ультразвуковое исследование коронарных артерий внутрисосудистое",2158.6]
["A04.30.002","Дуплексное сканирование сердца и сосудов плода",2158.6]
["A04.20.002","Молочных желез (2-х )",1942.9]
["A04.06.002","Лимфатических узлов (одна анатомическая зона)",1114.5]
["5.3. МАГНИТНО-РЕЗОНАНСНЫЕ ИССЛЕДОВАНИЯ  "]
["5.3.1. МАГНИТНО-РЕЗОНАНСНЫЕ ИССЛЕДОВАНИЯ БЕЗ КОНТРАСТНОГО ВЕЩЕСТВА"]
["A05.01.002","МРТ мягких тканей",11271.75]
["A05.23.009","МРТ головного мозга (структура)",11271.75]
["A05.12.007.001","МРТ артерий головного мозга",11271.75]
["A05.12.007.002","МРТ вен головного мозга",11271.75]
["A05.12.007.003","МРТ артерий шеи",11271.75]
["A05.12.007.004","МРТ вен нижних конечностей",11271.75]
["A05.12.007.005","МРТ артерий нижних конечностей",11271.75]
["A05.22.002","МРТ гипофиза",11271.75]
["A05.26.008","МРТ глазницы",11271.75]
["A05.03.005","МРТ шейного отдела позвоночника",11271.75]
["A05.03.006","МРТ краниовертебрального перехода",11271.75]
["A05.03.007","МРТ грудного отдела позвоночника",11271.75]
["A05.03.008","МРТ пояснично-крестцового отдела позвоночника",11271.75]
["A05.30.004","МРТ органов малого таза",11271.75]
["A05.04.003","МРТ крестцово-подвздошного сочленения",11271.75]
["A05.04.001","МРТ суставов (один сустав)",11271.75]
["A05.30.005","МРТ органов брюшной полости",11271.75]
["A05.20.003","МРТ молочной железы",11271.75]
["A05.08.001","МРТ околоносовых пазух",11271.75]
["A05.03.009","МРТ атланто-дентального сочленения",11271.75]
["A05.03.010","МРТ крестцово-копчикового отдела позвоночника",11271.75]
["A05.15.001","МРТ поджелудочной железы",11271.75]
["A05.21.001","МРТ мошонки",11271.75]
["A05.22.001","МРТ надпочечников",11271.75]
["A05.28.002","МРТ почек",11271.75]
["A05.30.007","МРТ  забрюшинного пространства",11271.75]
["A05.30.011","МРТ верхней конечности",11271.75]
["A05.30.011.002","МРТ кисти",11271.75]
["A05.30.012","МРТ нижней конечности",11271.75]
["A05.30.012.002","МРТ стопы",11271.75]
["A05.10.009","МРТ сердца и магистральных сосудов",13888.42]
["5.3.2. МАГНИТНО-РЕЗОНАНСНЫЕ ИССЛЕДОВАНИЯ С КОНТРАСТНЫМ ВЕЩЕСТВОМ"]
["A05.01.002.001","МРТ мягких тканей с контрастированием",16271.75]
["A05.23.009.001","МРТ головного мозга (структура) с контрастированием",16271.75]
["A05.12.006.001","МРТ артерий головного мозга с контрастированием",16271.75]
["A05.12.006.002","МРТ вен головного мозга с контрастированием",16271.75]
["A05.12.006.003","МРТ артерий шеи с контрастированием",16271.75]
["A05.12.006.004","МРТ вен нижних конечностей с контрастированием",16271.75]
["A05.12.006.005","МРТ артерий нижних конечностей с контрастированием",16271.75]
["A05.22.002.001","МРТ гипофиза с контрастированием",16271.75]
["A05.26.008.001","МРТ глазниц с контрастированием",16271.75]
["A05.03.005.001","МРТ шейного отдела позвоночника с контрастированием",16271.75]
["A05.03.007.001","МРТ грудного отдела позвоночника с контрастированием",16271.75]
["A05.03.008.001","МРТ пояснично-крестцового отдела позвоночника с контрастированием",16271.75]
["A05.30.004.001","МРТ органов малого таза с контрастированием",16271.75]
["A05.04.003.001","МРТ крестцово-подвздошного сочленения  с контрастированием",16271.75]
["A05.04.001.001","МРТ суставов (один сустав) с контрастированием",11271.75]
["A05.30.005.001","МРТ органов брюшной полости  с контрастированием",16271.75]
["A05.20.003.001","МРТ молочной железы с контрастированием",16271.75]
["A05.21.001.001","МРТ мошонки с контрастированием",16271.75]
["A05.22.001.001","МРТ надпочечников  с контрастированием",16271.75]
["A05.28.002.001","МРТ почек с контрастированием",16271.75]
["A05.30.006.001","МРТ органов грудной клетки с внутривенным контрастированием",16271.75]
["A05.30.007.001","МРТ  забрюшинного пространства с контрастированием",16271.75]
["A05.30.011.001","МРТ верхней конечности с контрастированием",16271.75]
["A05.30.012.001","МРТ нижней конечности с контрастированием",16271.75]
["A05.03.009.001","МРТ атланто-дентального сочленения с контрастированием",16271.75]
["A05.03.010.001","МРТ крестцово-копчикового отдела позвоночника с контрастированием",16271.75]
["A05.10.009.001","МРТ сердца с контрастированием",26407.26905445569]
["5.4. КОМПЬЮТЕРНАЯ ТОМОГРАФИЯ                                                                                                                     "]
["A06.01.001","Компьютерная томография мягких тканей",7090.65]
["A06.01.001.001","Компьютерная томография мягких тканей с контрастированием",12090.65]
["A06.03.002","Компьютерная томография лицевого отдела черепа",7090.65]
["A06.03.002.004","Компьютерно-томографическое перфузионное исследование лицевого отдела черепа",7090.65]
["A06.03.002.005","Компьютерная томография лицевого отдела черепа с внутривенным болюсным контрастированием",12090.65]
["A06.03.062","Компьютерная томография кости",7090.65]
["A06.03.067","Компьютерная томография грудины с мультипланарной и трехмерной реконструкцией",7090.65]
["A06.03.068","Компьютерная томография ребер с мультипланарной и трехмерной реконструкцией",7090.65]
["A06.03.069","Компьютерная томография костей таза",7090.65]
["A06.04.020","Компьютерная томография височно-нижнечелюстных суставов",7090.65]
["A06.07.013","Компьютерная томография челюстно-лицевой области",7090.65]
["A06.08.007","Компьютерная томография придаточных пазух носа, гортани",7090.65]
["A06.08.007.001","Спиральная компьютерная томография гортани",7090.65]
["A06.08.007.002","Компьютерная томография гортани с внутривенным болюсным контрастированием",12090.65]
["A06.08.007.003","Спиральная компьютерная томография придаточных пазух носа",7090.65]
["A06.08.007.004","Компьютерная томография придаточных пазух носа с внутривенным болюсным контрастированием",12090.65]
["A06.08.008","Рентгенотерапия новообразований верхних дыхательных путей",7090.65]
["A06.08.009","Компьютерная томография верхних дыхательных путей и шеи",7090.65]
["A06.08.009.001","Спиральная компьютерная томография шеи",7090.65]
["A06.08.009.002","Компьютерная томография шеи с внутривенным болюсным контрастированием",12090.65]
["A06.08.009.003","Компьютерная томография шеи с внутривенным болюсным контрастированием, мультипланарной и трехмерной реконструкцией",12090.65]
["A06.09.005","Компьютерная томография органов грудной полости",7090.65]
["A06.09.005.002","Компьютерная томография органов грудной полости с внутривенным болюсным контрастированием",12090.65]
["A06.09.005.003","Компьютерная томография грудной полости с внутривенным болюсным контрастированием, мультипланарной и трехмерной реконструкцией",12090.65]
["A06.09.005.005","Компьютерная томография органов грудной полости (при установленном диагнозе и подозрении на COVID-19)",7090.65]
["A06.09.008","Томография легких",7090.65]
["A06.09.008.001","Спиральная компьютерная томография легких",7090.65]
["A06.09.011","Компьютерная томография бронхов",7090.65]
["A06.10.009","Компьютерная томография сердца",7090.65]
["A06.10.009.001","Компьютерная томография сердца с контрастированием",12090.65]
["A06.10.009.002","Компьютерная томография левого предсердия и легочных вен",7090.65]
["A06.10.009.003","Спиральная компьютерная томография сердца с ЭКГ-синхронизацией",7090.65]
["A06.11.004","Компьютерная томография средостения",7090.65]
["A06.11.004.001","Компьютерная томография средостения с внутривенным болюсным контрастированием",12090.65]
["A06.12.001.011","Компьютерно-томографическая ангиография грудной аорты",7090.65]
["A06.12.001.012","Компьютерно-томографическая ангиография брюшной аорты",7090.65]
["A06.12.050","Компьютерно-томографическая ангиография одной анатомической области",7090.65]
["A06.12.052","Компьютерно-томографическая ангиография аорты",7090.65]
["A06.12.052.001","Компьютерно-томографическая ангиография брюшной аорты и подвздошных сосудов",7090.65]
["A06.12.053","Компьютерно-томографическая ангиография сосудов нижних конечностей",7090.65]
["A06.12.054","Компьютерно-томографическая ангиография сосудов верхних конечностей",7090.65]
["A06.12.055","Компьютерно-томографическая ангиография сосудов таза",7090.65]
["A06.12.056","Компьютерно-томографическая ангиография сосудов головного мозга",7090.65]
["A06.12.057","Компьютерно-томографическая ангиография легочных сосудов",7090.65]
["A06.12.058","Компьютерно-томографическая ангиография брахиоцефальных артерий",7090.65]
["A06.12.058.001","Компьютерно-томографическая ангиография внутричерепного сегмента брахиоцефальных артерий артерий Виллизиева круга)",7090.65]
["A06.16.002","Компьютерная томография пищевода с пероральным контрастированием",12090.65]
["A06.17.007","Компьютерная томография тонкой кишки с контрастированием",12090.65]
["A06.17.007.001","Компьютерная томография тонкой кишки с двойным контрастированием",16590.650000000001]
["A06.18.004","Компьютерно-томографическая колоноскопия",7090.65]
["A06.18.004.001","Компьютерно-томографическая колоноскопия с внутривенным болюсным контрастированием",12090.65]
["A06.18.004.002","Компьютерная томография толстой кишки с ретроградным контрастированием",12090.65]
["A06.18.004.003","Компьютерная томография толстой кишки с двойным контрастированием",16590.650000000001]
["A06.20.002","Компьютерная томография органов малого таза у женщин",7090.65]
["A06.20.002.001","Спиральная компьютерная томография органов малого таза у женщин",7090.65]
["A06.20.002.002","Спиральная компьютерная томография органов малого таза у женщин с внутривенным болюсным контрастированием",12090.65]
["A06.20.002.003","Компьютерная томография органов малого таза у женщин с контрастированием",12090.65]
["A06.20.002.004","Компьютерная томография органов малого таза у женщин с внутривенным болюсным контрастированием, мультипланарной и трехмерной реконструкцией",12090.65]
["A06.21.003","Компьютерная томография органов таза у мужчин",7090.65]
["A06.21.003.001","Спиральная компьютерная томография органов таза у мужчин",7090.65]
["A06.21.003.002","Спиральная компьютерная томография органов таза у мужчин с внутривенным болюсным контрастированием",12090.65]
["A06.21.003.003","Компьютерная томография органов таза у мужчин с контрастированием",12090.65]
["A06.22.002","Компьютерная томография надпочечников",7090.65]
["A06.22.002.001","Компьютерная томография надпочечников с внутривенным болюсным контрастированием",12090.65]
["A06.23.004","Компьютерная томография головного мозга",7090.65]
["A06.23.004.001","Компьютерно-томографическая перфузия головного мозга",7090.65]
["A06.23.004.002","Компьютерная томография мягких тканей головы контрастированием",12090.65]
["A06.23.004.006","Компьютерная томография головного мозга с внутривенным контрастированием",12090.65]
["A06.23.004.007","Компьютерная томография сосудов головного мозга с внутривенным болюсным контрастированием",12090.65]
["A06.23.004.008","Компьютерная томография головного мозга интраоперационная",7090.65]
["A06.25.003","Компьютерная томография височной кости",7090.65]
["A06.25.003.002","Компьютерная томография височной кости с внутривенным болюсным контрастированием",12090.65]
["A06.26.006","Компьютерная томография глазницы",7090.65]
["A06.26.006.001","Компьютерная томография глазницы с внутривенным болюсным контрастированием",12090.65]
["A06.28.009","Компьютерная томография почек и надпочечников",7090.65]
["A06.28.009.001","Компьютерная томография почек и верхних мочевыводящих путей с внутривенным болюсным контрастированием",12090.65]
["A06.28.009.002","Спиральная компьютерная томография почек и надпочечников",7090.65]
["A06.30.005","Компьютерная томография органов брюшной полости",7090.65]
["A06.30.005.001","Компьютерная томография органов брюшной полости и забрюшинного пространства",7090.65]
["A06.30.005.002","Компьютерная томография органов брюшной полости и забрюшинного пространства с внутривенным болюсным контрастированием",12090.65]
["A06.30.005.003","Компьютерная томография органов брюшной полости с внутривенным болюсным контрастированием",12090.65]
["A06.30.005.004","Спиральная компьютерная томография органов брюшной полости с внутривенным болюсным контрастированием, мультипланарной и трехмерной реконструкцией",12090.65]
["A06.30.005.005","Компьютерная томография органов брюшной полости с двойным контрастированием",16590.650000000001]
["A06.30.007","Компьютерная томография забрюшинного пространства",7090.65]
["A06.30.007.002","Компьютерная томография забрюшинного пространства с внутривенным болюсным контрастированием",12090.65]
["A06.03.058","Компьютерная томография позвоночника (один отдел)",7090.65]
["A06.03.058.003","Компьютерная томография позвоночника с внутренним контрастированием (один отдел) ",12090.65]
["A06.04.017","Компьютерная томография сустава",7090.65]
["5.5. ДИАЛИЗ                                                                                                                                                    "]
["A18.05.002","Гемодиализ",10318.799999999999]
["A18.05.002.002","Гемодиализ интермиттирующий низкопоточный",10318.799999999999]
["A18.05.002.001","Гемодиализ интермиттирующий высокопоточный",10834.7]
["A18.05.011","Гемодиафильтрация",11144.3]
["A18.05.004","Ультрафильтрация крови",9493.2999999999993]
["A18.05.002.003","Гемодиализ интермиттирующий продленный",28479.9]
["A18.05.003","Гемофильтрация крови",29718.1]
["A18.05.004.001","Ультрафильтрация продленная",25900.2]
["A18.05.011.001","Гемодиафильтрация продленная",31059.599999999999]
["A18.05.002.005","Гемодиализ продолжительный",53967.3]
["A18.05.003.002","Гемофильтрация крови продолжительная",56547]
["A18.05.011.002","Гемодиафильтрация продолжительная",59126.7]
["A18.30.001","Перитонеальный диализ",8661.9]
["A18.30.001.001","Перитонеальный диализ проточный",42616.5]
["A18.30.001.002","Перитонеальный диализ с использованием автоматизированных технологий",10740.8]
["A18.30.001.003","Перитонеальный диализ при нарушении ультрафильтрации",9441.5]
["5.6. КЛИНИЧЕСКИЕ ИССЛЕДОВАНИЯ                                                                                                        "]
["A26.30.004","Бактериологическое исследование материала на флору и чувствительность к антибиотикам и антимикотикам (отделяемое цервикального канала, ушей, глаз, зева и носа) – одна локализация ",1500]
["A26.08.027.001","Определение PHK коронавируса ТОРС (SARS-cov) в мазках со слизистой оболочки носоглотки методом ПЦР",1412.99]
["A26.08.046.001","Определение PHK коронавируса ТОРС (SARS-cov) в мазках со слизистой оболочки ротоглотки методом ПЦР",1412.99]
["A26.09.044.001","Определение PHK коронавируса ТОРС (SARS-cov) в мокроте (индукцированной мокроте, фаринго-трахеальных аспиратах) методом ПЦР",1412.99]
["A26.09.060.001","Определение PHK коронавируса ТОРС (SARS-cov) в бронхоальвеолярной лаважной жидкости методом ПЦР",1412.99]
["A26.08.019.001","Определение РНК вируса гриппа A (Influenza virus A) в мазках со слизистой оболочки носоглотки методом ПЦР",1412.99]
["A26.08.019.002","Определение РНК вируса гриппа B (Influenza virus B) в мазках со слизистой оболочки носоглотки методом ПЦР",1412.99]
["A26.08.019.003","Определение РНК вируса гриппа C (Influenza virus C) в мазках со слизистой оболочки носоглотки методом ПЦР",1412.99]
["A26.08.038.001","Определение РНК вируса гриппа A (Influenza virus A) в мазках со слизистой оболочки ротоглотки методом ПЦР",1412.99]
["A26.08.038.002","Определение РНК вируса гриппа B (Influenza virus B) в мазках со слизистой оболочки ротоглотки методом ПЦР",1412.99]
["A26.08.038.003","Определение РНК вируса гриппа C (Influenza virus C) в мазках со слизистой оболочки ротоглотки методом ПЦР",1412.99]
["B03.014.100.001","Комплексная диагностика вирусов респираторных инфекций (ОРИ) ",1765.5]
["A26.08.019.101","Диагностика вирусов респираторных инфекций типирование гриппа А (Influenza virusA) ",1468.9]
["A26.08.019.100","Диагностика вирусов респираторных инфекций Определение РНК вируса гриппа A/H1N1 pdm09 (свиной грипп)",1471.1]
[null,"Диагностика аутоиммунных заболеваний:"]
["A26.06.504","Антитела к циклическому цитрулиновому пептиду (АССР)",1825]
["A26.06.507","Антитела к Sacchharomyces cerevisiae IgA (болезнь Крона)",1685]
["A26.06.508","Антитела к Sacchharomyces cerevisiae IgG (болезнь Крона)",1685]
["A26.06.509","Специфические антитела на дерматомиозит, полимиозит, миозит",2955]
["A26.06.510","Антиядерные антитела (ANA)  (ИММУНОБЛОТ) К",1525]
[null,"Онкомаркеры"]
["A09.05.194.001","(NSE) Нейрон -специфическая енолаза (сыворотка)",1725]
["A09.05.194.002","Хромогранин А К (отобранная сыворотка)",2525]
[null,"Лабораторные исследования по эндокринологическому профилю"]
["A09.05.065","Исследование уровня тиреотропного гормона (ТТГ) в крови",450]
["A09.05.063","Исследование уровня свободного тироксина (СТ4) сыворотки крови",450]
["A09.05.061","Исследование уровня свободного трийодтиронина (СТ3) в крови",420]
["A12.06.045","Определение содержания антител к тиреопероксидазе в крови (anti-ТПО)",540]
["A09.05.130","Исследование уровня простатспецифического антигена общего в крови (ПСА общий)",967.8]
["A09.05.202","Исследование уровня антигена аденогенных раков CA 125 в крови",580]
["A09.05.135","Исследование уровня общего кортизола в крови",359.1]
["A09.05.136","Исследование уровня свободного кортизола в крови",359.1]
["A09.05.087","Исследование уровня пролактина в крови",360.1]
["A09.05.131","Исследование уровня лютеинизирующего гормона в сыворотке крови (ЛГ)",361.9]
["A09.05.132","Исследование уровня фолликулостимулирующего гормона в сыворотке крови (ФСГ) ",361.9]
["A09.05.054.001","Исследование уровня общего иммуноглобулина E в крови (IgE)",300]
["A12.06.046","Определение содержания антител к рецептору тиреотропного гормона (ТТГ) в крови",1600]
["A09.05.130.001","Исследование уровня простатспецифического антигена свободного в крови (ПСА св.)",520]
["A09.05.119","Исследование уровня кальцитонина в крови",1050]
["5.7. ПАТОЛОГОАНАТОМИЧЕСКИЕ ИССЛЕДОВАНИЯ БИОПСИЙНОГО (ОПЕРАЦИОННОГО) МАТЕРИАЛА С ЦЕЛЬЮ ДИАГНОСТИКИ ОНКОЛОГИЧЕСКИХ ЗАБОЛЕВАНИЙ И ПОДБОРА ПРОТИВООПУХОЛЕВОЙ ЛЕКАРСТВЕННОЙ ТЕРАПИИ "]
["A08.30.046.001","Патолого-анатомическое исследование биопсийного (операционного) материала первой категории сложности",4811.1000000000004]
["A08.30.046.002","Патолого-анатомическое исследование биопсийного (операционного) материала второй категории сложности",5322.4]
["A08.30.046.003","Патолого-анатомическое исследование биопсийного (операционного) материала третьей категории сложности",6030.2999999999993]
["A08.30.046.004","Патолого-анатомическое исследование биопсийного (операционного) материала четвертой категории сложности",6833.9]
["A08.30.046.005","Патолого-анатомическое исследование биопсийного (операционного) материала пятой категории сложности",8239.1]
["5.8. МОЛЕКУЛЯРНО-ГЕНЕТИЧЕСКОЕ ИССЛЕДОВАНИЕ С ЦЕЛЬЮ ВЫЯВЛЕНИЯ ОНКОЛОГИЧЕСКИХ ЗАБОЛЕВАНИЙ                                                                                                                                                                                                          "]
["A27.30.016","Молекулярно-генетическое исследование мутаций в гене EGFR в биопсийном (операционном) материале",7322.2]
["A27.30.008","Молекулярно-генетическое исследование мутаций в гене BRAF в биопсийном (операционном) материале",8487.5]
["A27.30.006","Молекулярно-генетическое исследование мутаций в гене KRAS в биопсийном (операционном) материале",13692.1]
["A27.30.007","Молекулярно-генетическое исследование мутаций в гене NRAS в биопсийном (операционном) материале",11069.5]
["A27.05.040","Молекулярно-генетическое исследование мутаций в генах BRCA1 и BRCA2 в крови",4078.3]
["A27.05.040.001","Выполненные с применением метода секвенирования нового поколения NGS BRCA 1/ BRCA 2",27496.799999999999]
["A08.30.037","FISH HER2",21454.6]
["A08.30.036.000.01","Определение амплификации гена ERBB2 (HER2/Neu) методом флюоресцентной гибридизации in situ (FISH)",16369]
["A27.30.001.000.01 ","Определение микросателлитной нестабильности MSI",6827.3]
["A27.30.017.101","Молекулярно-генетическое исследование транслокаций гена ALK методом флюоресцентной гибридизации in situ (FISH)",7373.4]
["5.9. РЕНТГЕНОЛОГИЧЕСКИЕ ИССЛЕДОВАНИЯ                                                                                                                       "]
["A06.20.004","Маммография",1843.6]
["A06.03.061","Рентгеноденситометрия (включая - поясничный отдел позвоночника, проксимальный отдел бедренной кости, лучевой кости)",2369.9]

{"sheet":"Раздел 5б (МУ) -стоматолог","index":5,"n_rows":183,"n_cols":7,"rows_kept":183,"cut":false,"hidden":false,"merged":[[162,0,162,5],[1,2,2,3],[1,1,3,1],[1,0,3,0],[0,0,0,5],[142,0,142,5],[1,4,2,5]]}
["РАЗДЕЛ 5б. ТАРИФЫ НА МЕДИЦИНСКИЕ УСЛУГИ, ДЛЯ МЕДИЦИНСКИХ ОРГАНИЗАЦИЙ КОТОРЫМ УСТАНОВЛЕНЫ ОБЪМЫ НА СТОМАТОЛОГИЧЕСКУЮ МЕДИЦИНСКУЮ ПОМОЩЬ",{"$nulls":5},{"$f":"ROUND(440.77*1.08,2)","v":476.03}]
["Код услуги","Наименование услуги (медицинской услуги)","Число УЕТ в медицинской услуге",null,"Стоимость медицинской услуги, рублей"]
[]
[null,null,"взрослый прием","детский прием","взрослый прием","детский прием"]
[1,2,3,4,5,6]
["A12.07.001","Витальное окрашивание твердых тканей зуба",0.35,0.35,{"$f":"ROUND(C6*$G$1,2)","v":166.61},{"$f":"ROUND(D6*$G$1,2)","v":166.61}]
["A12.07.003","Определение индексов гигиены полости рта",0.61,0.61,{"$f":"ROUND(C7*$G$1,2)","v":290.38},{"$f":"ROUND(D7*$G$1,2)","v":290.38}]
["A12.07.004","Определение пародонтальных индексов",0.76,0.76,361.78,361.78]
["B01.003.004.002","Проводниковая анестезия",0.96,0.96,456.99,456.99]
["B01.003.004.004","Аппликационная анестезия",0.31,0.31,147.57,147.57]
["B01.003.004.005","Инфильтрационная анестезия",0.5,0.5,238.02,238.02]
["A06.30.002","Описание и интерпретация рентгенографических изображений",0.93,0.93,442.71,442.71]
["A06.07.010","Радиовизиография челюстно-лицевой области",0.75,0.75,357.02,357.02]
["A06.07.003","Прицельная внутриротовая контактная рентгенография",0.75,0.75,357.02,357.02]
["A11.07. 026","Взятие образца биологического материала из очагов поражения органов рта",1.1200000000000001,1.1200000000000001,533.15,533.15]
["A11.01.019","Получение соскоба с эрозивно-язвенных элементов кожи и слизистых оболочек",1.1200000000000001,1.1200000000000001,533.15,533.15]
["A11.07.011","Инъекционное введение лекарственных препаратов в челюстно-лицевую область",1.1000000000000001,1.1000000000000001,523.63,523.63]
["A25.07.001","Назначение лекарственных препаратов при заболеваниях полости рта и зубов",0.25,0.25,119.01,119.01]
["A05.07.001","Электроодонтометрия зуба",0.42,0.42,199.93,199.93]
["B01.064.003","Прием (осмотр, консультация) врача-стоматолога детского первичный",null,1.95,0,928.26]
["B01.064.004","Прием (осмотр, консультация) врача-стоматолога детского повторный",null,1.37,0,652.16]
["B04.064.001","Диспансерный прием (осмотр, консультация) врача-стоматолога детского",null,1.19,0,566.48]
["B01.065.007","Прием (осмотр, консультация) врача-стоматолога первичный",1.68,1.95,799.73,928.26]
["B01.065.008","Прием (осмотр, консультация) врача-стоматолога повторный",1.18,1.37,561.72,652.16]
["B04.065.005","Диспансерный прием (осмотр, консультация) врача-стоматолога",1.25,1.19,595.04,566.48]
["B01.065.001","Прием (осмотр, консультация) врача-стоматолога-терапевта первичный",1.68,null,799.73,0]
["B01.065.002","Прием (осмотр, консультация) врача-стоматолога-терапевта повторный",1.18,null,561.72,0]
["B04.065.001","Диспансерный прием (осмотр, консультация) врача-стоматолога-терапевта",1.25,null,595.04,0]
["B01.065.003","Прием (осмотр, консультация) зубного врача первичный",1.68,1.95,799.73,928.26]
["B01.065.004","Прием (осмотр, консультация) зубного врача повторный",1.18,1.37,561.72,652.16]
["B04.065.003","Диспансерный прием (осмотр, консультация) зубного врача",1.25,1.19,595.04,566.48]
["B01.065.005","Прием (осмотр, консультация) гигиениста стоматологического первичный",1.5,1.5,714.05,714.05]
["B01.065.006","Прием (осмотр, консультация) гигиениста стоматологического повторный",0.9,0.9,428.43,428.43]
["A03.07.001","Люминесцентная стоматоскопия",0.63,0.63,299.89999999999998,299.89999999999998]
["A11.07.010","Введение лекарственных препаратов в пародонтальный карман",0.99,0.99,471.27,471.27]
["A11.07.022","Аппликация лекарственного препарата на слизистую оболочку полости рта",0.45,0.45,214.21,214.21]
["A16.07.051","Профессиональная гигиена полости рта и зубов1",2,2,952.06,952.06]
["A16.07.082","Сошлифовывание твердых тканей зуба",0.25,0.25,{"$f":"ROUND(C38*$G$1,2)","v":119.01},{"$f":"ROUND(D38*$G$1,2)","v":119.01}]
["A11.07.023","Применение метода серебрения зуба",0.88,0.88,418.91,418.91]
["A15.07.003","Наложение лечебной повязки при заболеваниях слизистой оболочки полости рта и пародонта в области одной челюсти",2,2,952.06,952.06]
["A16.07.002.001","Восстановление зуба пломбой I, II, III, V, VI класс по Блэку с использованием стоматологических цементов2",1.53,1.53,728.33,728.33]
["A16.07.002.002","Восстановление зуба пломбой I, II, III, V,VI класс по Блэку с использование материалов химического отверждения2",1.95,1.95,928.26,928.26]
["A16.07.002.003","Восстановление зуба пломбой с нарушением контактного пункта II, III класс по Блэку с использованием стоматологических цементов2",1.85,1.85,880.66,880.66]
["A16.07.002.004","Восстановление зуба пломбой с нарушением контактного пункта II, III класс по Блэку с использованием материалов химического отверждения2",2.5,2.5,1190.08,1190.08]
["A16.07.002.005","Восстановление зуба пломбой пломбой IV класс по Блэку с использованием стеклоиномерных цементов2",2.4500000000000002,2.4500000000000002,1166.27,1166.27]
["A16.07.002.006","Восстановление зуба пломбой пломбой IV класс по Блэку с использованием материалов химического отверждения2",3.25,3.25,1547.1,1547.1]
["A16.07.002.007","Восстановление зуба пломбой из амальгамы I, V класс по Блэку2",1.95,1.95,928.26,928.26]
["A16.07.002.008","Восстановление зуба пломбой из амальгамы II класс по Блэку2",2.33,2.33,1109.1500000000001,1109.1500000000001]
["A16.07.002.010","Восстановление зуба пломбой I, V, VI класс по Блэку с использованием материалов из фотополимеров2",3.35,3.35,1594.7,1594.7]
["A16.07.002.011","Восстановление зуба пломбой с нарушением контактного пункта II, III класс по Блэку с использованием материалов из фотополимеров2",3.75,3.75,1785.11,1785.11]
["A16.07.002.012","Восстановление зуба пломбой IV класс по Блэку с использованием материалов из фотополимеров2",4,4,1904.12,1904.12]
["A16.07.002.009","Наложение временной пломбы",1.25,1.25,595.04,595.04]
["A16.07.091","Снятие временной пломбы",0.25,0.25,119.01,119.01]
["A16.07.092","Трепанация зуба, искусственной коронки",0.48,0.48,228.49,228.49]
["A16.07.008.001","Пломбирование корневого канала зуба пастой",1.1599999999999999,1.1599999999999999,552.19000000000005,552.19000000000005]
["A16.07.008.002","Пломбирование корневого канала зуба гуттаперчивыми штифтами",1.7,1.7,809.25,809.25]
["A11.07.027","Наложение девитализирующей пасты ",0.03,0.03,14.28,14.28]
["A16.07.009","Пульпотомия (ампутация коронковой пульпы)",0.21,0.21,99.97,99.97]
["A16.07.010","Экстирпация пульпы",0.46,0.46,218.97,218.97]
["A16.07.019","Временное шинирование при заболеваниях пародонта3",1.98,1.98,942.54,942.54]
["A16.07.020.001","Удаление наддесневых и поддесневых зубных отложений в области зуба ручным методом4",0.32,0.32,152.33000000000001,152.33000000000001]
["A16.07.025.001","Избирательное полирование зуба",0.2,0.2,95.21,95.21]
["A22.07.002","Ультразвуковое удаление наддесневых и поддесневых зубных отложений в области зуба4",0.2,0.2,95.21,95.21]
["A16.07.030.001","Инструментальная и медикаментозная обработка хорошо проходимого корневого канала",0.92,0.92,437.95,437.95]
["A16.07.030.002","Инструментальная и медикаментозная обработка плохо проходимого корневого канала",1.71,1.71,814.01,814.01]
["A16.07.030.003","Временное пломбирование лекарственным препаратом корневого канала",0.5,0.5,238.02,238.02]
["A16.07.039","Закрытый кюретаж при заболеваниях пародонта в области зуба4",0.31,0.31,147.57,147.57]
["A16.07.082.001","Распломбировка корневого канала ранее леченного пастой",2,2,952.06,952.06]
["A16.07.082.002","Распломбировка одного корневого канала ранее леченного фосфатцементом/резорцин-формальдегидным методом",3.55,3.55,1689.91,1689.91]
["B01.067.001","Прием (осмотр, консультация) врача-стоматолога-хирурга первичный",1.4,1.4,{"$f":"ROUND(C70*$G$1,2)","v":666.44},{"$f":"ROUND(D70*$G$1,2)","v":666.44}]
["B01.067.002","Прием (осмотр, консультация) врача-стоматолога-хирурга повторный",1.08,1.08,514.11,514.11]
["A11.03.003","Внутрикостное введение лекарственных препаратов",0.82,0.82,390.34,390.34]
["A15.03.007","Наложение шины при переломах костей5",6.87,6.87,3270.33,3270.33]
["A15.03.011","Снятие шины с одной челюсти",1.43,1.43,680.72,680.72]
["A15.04.002","Наложение иммобилизационной повязки при вывихах (подвывихах) суставов",2.5499999999999998,2.5499999999999998,1213.8800000000001,1213.8800000000001]
["A15.07.001","Наложение иммобилизационной повязки при вывихах (подвывихах) зубов",2.96,2.96,1409.05,1409.05]
["A11.07.001","Биопсия слизистой полости рта",1.1499999999999999,1.1499999999999999,547.42999999999995,547.42999999999995]
["A11.07.002","Биопсия языка",1.1499999999999999,1.1499999999999999,547.42999999999995,547.42999999999995]
["A11.07.005","Биопсия слизистой преддверия полости рта ",1.1499999999999999,1.1499999999999999,547.42999999999995,547.42999999999995]
["A11.07.007","Биопсия тканей губы",1.1499999999999999,1.1499999999999999,547.42999999999995,547.42999999999995]
["A11.07.008","Пункция кисты полости рта",0.91,0.91,433.19,433.19]
["A11.07.009","Бужирование протоков слюнных желез",3.01,3.01,1432.85,1432.85]
["A11.07.013","Пункция слюнной железы ",0.91,0.91,433.19,433.19]
["A11.07.014","Пункция тканей полости рта ",0.91,0.91,433.19,433.19]
["A11.07.015","Пункция языка ",0.91,0.91,433.19,433.19]
["A11.07.016","Биопсия слизистой ротоглотки ",1.1499999999999999,1.1499999999999999,547.42999999999995,547.42999999999995]
["A11.07.018","Пункция губы ",0.91,0.91,433.19,433.19]
["A11.07.019","Пункция патологического образования слизистой преддверия полости рта",0.91,0.91,433.19,433.19]
["A11.07.020","Биопсия слюнной железы ",1.1499999999999999,1.1499999999999999,547.42999999999995,547.42999999999995]
["A15.01.003","Наложение повязки при операции в челюстно-лицевой области",1.06,1.06,504.59,504.59]
["A15.07.002","Наложение повязки при операциях в полости рта",1.06,1.06,504.59,504.59]
["A16.01.004","Хирургическая обработка раны или инфицированной ткани6",1.3,1.3,618.84,618.84]
["A16.01.008","Сшивание кожи и подкожной клетчатки7",0.84,0.84,399.87,399.87]
["A16.07.097","Наложение шва на слизистую оболочку рта",0.84,0.84,399.87,399.87]
["A16.01.012","Вскрытие и дренирование флегмоны (абсцесса) ",2,2,952.06,952.06]
["A16.01.016","Удаление атеромы ",2.33,2.33,1109.1500000000001,1109.1500000000001]
["A16.01.030","Иссечение грануляции ",2.2200000000000002,2.2200000000000002,1056.79,1056.79]
["A16.04.018","Вправление вывиха сустава",1,1,476.03,476.03]
["A16.07.095.001","Остановка луночного кровотечения без наложения швов методом тампонады",1.25,1.25,595.04,595.04]
["A16.07.095.002","Остановка луночного кровотечения без наложения швов с использованием гемостатических материалов ",1,1,476.03,476.03]
["A16.07.001.001","Удаление временного зуба",1.01,1.01,480.79,480.79]
["A16.07.001.002","Удаление постоянного зуба",1.55,1.55,{"$f":"ROUND(C102*$G$1,2)","v":737.85},{"$f":"ROUND(D102*$G$1,2)","v":737.85}]
["A16.07.001.003","Удаление зуба сложное с разъединением корней",2.58,2.58,1228.1600000000001,1228.1600000000001]
["A16.07.024","Операция удаления ретинированного, дистопированного или сверхкомплектного зуба",3,3,1428.09,1428.09]
["A16.07.040","Лоскутная операция в полости рта8",2.7,2.7,1285.28,1285.28]
["A16.07.007","Резекция верхушки корня",3.78,3.78,1799.39,1799.39]
["A16.07.011","Вскрытие подслизистого или поднадкостничного очага воспаления в полости рта",1,1,476.03,476.03]
["A16.07.012","Вскрытие и дренирование одонтогенного абсцесса",0.97,0.97,461.75,461.75]
["A16.07.013","Отсроченный кюретаж лунки удаленного зуба ",1.03,1.03,490.31,490.31]
["A16.07.014","Вскрытие и дренирование абсцесса полости рта",2.14,2.14,1018.7,1018.7]
["A16.07.015","Вскрытие и дренирование очага воспаления мягких тканей лица или дна полости рта",2.41,2.41,1147.23,1147.23]
["A16.07.016","Цистотомия или цистэктомия",3.89,3.89,1851.76,1851.76]
["A16.07.017.002","Коррекция объема и формы альвеолярного отростка9",1.22,1.22,580.76,580.76]
["A16.07.026","Гингивэктомия",4.3,4.3,2046.93,2046.93]
["A16.07.089","Гингивопластика",4.3,4.3,2046.93,2046.93]
["A16.07.038","Открытый кюретаж при заболеваниях пародонта в области зуба4",1,1,476.03,476.03]
["A16.07.042","Пластика уздечки верхней губы",2.1,2.1,999.66,999.66]
["A16.07.043","Пластика уздечки нижней губы",2.1,2.1,999.66,999.66]
["A16.07.044","Пластика уздечки языка",1,1,476.03,476.03]
["A16.07.096","Пластика перфорации верхнечелюстной пазухи",4,4,1904.12,1904.12]
["A16.07.008.003","Закрытие перфорации стенки корневого канала зуба",1.8,1.8,856.85,856.85]
["A16.07.058","Лечение перикоронита (промывание, рассечение и/или иссечение капюшона)",1.04,1.04,495.07,495.07]
["A16.07.059","Гемисекция зуба",2.6,2.6,1237.68,1237.68]
["A11.07.025","Промывание протока слюнной железы",1.85,1.85,880.66,880.66]
["A16.22.012","Удаление камней из протоков слюнных желез",3,3,1428.09,1428.09]
["A16.30.064","Иссечение свища мягких тканей",2.25,2.25,1071.07,1071.07]
["A16.30.069","Снятие послеоперационных швов (лигатур)",0.38,0.38,180.89,180.89]
["B01.054.001","Осмотр (консультация) врача-физиотерапевта ",1.5,1.5,714.05,714.05]
["A17.07.001","Электрофорез лекарственных препаратов при патологии полости рта и зубов",1.5,1.5,714.05,714.05]
["A17.07.003","Диатермокоагуляция при патологии полости рта и зубов ",0.5,0.5,238.02,238.02]
["A17.07.004","Ионофорез при патологии полости рта и зубов",1.01,1.01,480.79,480.79]
["A17.07.006","Депофорез корневого канала зуба",1.5,1.5,714.05,714.05]
["A17.07.007","Дарсонвализация при патологии полости рта",2,2,952.06,952.06]
["A17.07.008","Флюктуоризация при патологии полости рта и зубов",1.67,1.67,{"$f":"ROUND(C134*$G$1,2)","v":794.97},{"$f":"ROUND(D134*$G$1,2)","v":794.97}]
["A17.07.009","Воздействие электрическими полями при патологии полости рта и зубов",1,1,476.03,476.03]
["A17.07.010","Воздействие токами надтональной частоты (ультратонотерапия) при патологии полости рта и зубов",1,1,476.03,476.03]
["A17.07.011","Воздействие токами ультравысокой частоты при патологии полости рта и зубов",1.25,1.25,595.04,595.04]
["A17.07.012","Ультравысокочастотная индуктотермия при патологии полости рта и зубов",1.25,1.25,595.04,595.04]
["A20.07.001","Гидроорошение при заболевании полости рта и зубов",1.5,1.5,714.05,714.05]
["A21.07.001","Вакуум-терапия в стоматологии ",0.68,0.68,323.7,323.7]
["A22.07.005","Ультрафиолетовое облучение ротоглотки",1.25,1.25,595.04,595.04]
["A22.07.007","Ультрафонофорез лекарственных препаратов на область десен",1,1,476.03,476.03]
["Ортодонтия"]
["B01.063.001","Прием (осмотр, консультация) врача-ортодонта первичный",null,4.21,{"$f":"ROUND(C144*$G$1,2)","v":0},{"$f":"ROUND(D144*$G$1,2)","v":2004.09}]
["B01.063.002","Прием (осмотр, консультация) врача-ортодонта повторный",null,1.38,0,656.92]
["B04.063.001","Диспансерный прием (осмотр, консультация) врача-ортодонта",null,1.69,0,804.49]
["A02.07.004","Антропометрические исследования",null,1.1000000000000001,0,523.63]
["A23.07.002.027","Изготовление контрольной модели",null,2.5,0,1190.08]
["A02.07.010.001","Снятие оттиска с одной челюсти",null,1.4,0,666.44]
["A02.07.010","Исследование на диагностических моделях челюстей",null,2,0,952.06]
["A23.07.001.001","Коррекция съемного ортодонического аппарата",null,1.75,0,833.05]
["A23.07.003","Припасовка и наложение ортодонтического аппарата",null,1.8,0,856.85]
["A23.07.001.002","Ремонт ортодонического аппарата ",null,1.55,0,737.85]
["A23.07.002.037","Починка перелома базиса самотвердеющей пластмассой",null,1.75,0,833.05]
["A23.07.002.045","Изготовление дуги вестибулярной с дополнительными изгибами",null,3.85,0,1832.72]
["A23.07.002.073","Изготовление дуги вестибулярной",null,2.7,0,1285.28]
["A23.07.002.051","Изготовление кольца ортодонтического",null,4,0,1904.12]
["A23.07.002.055","Изготовление коронки ортодонтической",null,4,0,1904.12]
["A23.07.002.058","Изготовление пластинки вестибулярной",null,2.7,0,1285.28]
["A23.07.002.059","Изготовление пластинки с заслоном для языка (без кламмеров)",null,2.5,0,1190.08]
["A23.07.002.060","Изготовление пластинки с окклюзионными накладками",null,18,0,8568.5400000000009]
["A16.07.053.002","Распил ортодонтического аппарата через винт",null,1,0,476.03]
["Профилактические услуги"]
["B04.064.002","Профилактический прием (осмотр, консультация) врача-стоматолога детского",null,1.57,{"$f":"ROUND(C164*$G$1,2)","v":0},747.37]
["B04.065.006","Профилактический прием (осмотр, консультация) врача-стоматолога",1.3,1.57,618.84,747.37]
["B04.065.002","Профилактический прием (осмотр, консультация) врача-стоматолога-терапевта",1.3,null,618.84,0]
["B04.065.004","Профилактический прием (осмотр, консультация) зубного врача",1.3,1.3,618.84,618.84]
["A11.07.012","Глубокое фторирование эмали зуба",0.3,0.3,142.81,142.81]
["A11.07.024","Местное применение реминерализующих препаратов в области зуба4",0.7,0.7,333.22,333.22]
["A13.30.007","Обучение гигиене полости рта",0.87,0.87,414.15,414.15]
["A16.07.057","Запечатывание фиссуры зуба герметиком",1,1,476.03,476.03]
[]
[null,"--------------------------------"]
[null,"Примечания:"]
[null,"<1> Одного квадранта."]
[null,"<2> Включая полирование пломбы."]
[null,"<3> Трех зубов."]
[null,"<4> Одного зуба."]
[null,"<5> На одной челюсти."]
[null,"<6> Без наложения швов."]
[null,"<7> Один шов."]
[null,"<8> В области двух - трех зубов."]
[null,"<9> В области одного - двух зубов."]

{"sheet":"Раздел6-МУ для силовых структур","index":6,"n_rows":395,"n_cols":2,"rows_kept":395,"cut":false,"hidden":false,"merged":[[0,0,0,1],[182,0,182,1],[122,0,122,1],[46,0,46,1],[57,0,57,1],[105,0,105,1],[103,0,103,1],[393,0,393,1],[307,0,307,1],[293,0,293,1],[287,0,287,1],[4,0,4,1]]}
["РАЗДЕЛ 6. ТАРИФЫ НА МЕДИЦИНСКИЕ УСЛУГИ (ИССЛЕДОВАНИЯ)                                                                                                                               (используемые при возмещении расходов медицинским организациям  в соответствии с заключенным между медико-санитарной частью и медицинской организацией договором об оказании медицинской помощи сотрудникам органов внутренних дел Российской Федерации медицинской организацией в том случае, если данные услуги оказывались медицинскими организациями отдельно)"]
[]
["Наименование услуги (исследования)","Стоимость за единицу объёма, рублей"]
[1,2]
["6.1. РЕНТГЕНОЛОГИЧЕСКИЕ ИССЛЕДОВАНИЯ  "]
["Рентгенологические исследования органов грудной клетки:"]
["Рентгеноскопия органов грудной клетки",841.5]
["Рентгенография (обзорная) грудной клетки в 1-й проекции",805.5]
["Рентгенография (обзорная) грудной клетки в 2-х проекциях",1226]
["Рентгенологические исследования органов брюшной полости (органов пищеварения):"]
["Рентгеноскопия желудка по традиционной методике",1741.8]
["Самостоятельная рентгеноскопия пищевода",904.1]
["Дуоденография беззондовая",1610.9]
["Ирригоскопия",2829]
["Рентгенологические исследования костно-суставной системы:"]
["Рентгенография перефирических отделов скелета и позвоночника в 1-й проекции",805.5]
["Рентгенография перефирических отделов скелета и позвоночника в 2-х проекциях",1186.8]
["Рентгенография черепа в 2-х проекциях",1186.8]
["Рентгенография придаточных пазух носа",803.8]
["Рентгенография височно-челюстного сустава",1185]
["Рентгенография костей носа",803.8]
["Рентгенография височной кости",1222.8]
["Рентгенография ключицы",803.8]
["Рентгенография лопатки в 2-х проекциях",1186.8]
["Рентгенография ребер с аутокомпрессией во время дыхательных движений",1568]
["Рентгенография грудины во время дыхательных движений",2711.9]
["Рентгенография грудного отдела позвоночника компресионным поясом во время дыхательных движений",1949.3]
["Функциональное исследование позвоночника",1679]
["Рентгенография костей таза",805.5]
["Рентгенография мягких тканей",841.3]
["Рентгенография стоп",1604.1]
["Рентгенография кисти",841]
["Рентгенологические исследования, применяемые в урологии и гинекологии:"]
["Урография внутривенная",3488.7]
["Цистография восходящая",1444.2]
["Рентгенологические исследования молочных желез:"]
["Обзорная рентгенография молочной железы",803.8]
["Обзорная рентгенография молочной железы в прямой и косой проекции",1222.7]
["Прицельная рентгенография молочной железы",803.8]
["Маммография",{"$f":"'Раздел 5а (МУ)'!C265","v":1843.6}]
["Сложные и трудоемкие специальные рентгенологические исследования:"]
["Фистулография",1568]
["Томография легких в 1-й проекции",2369.9]
["Томография легких в 2-х проекциях",3211]
["Заочная консультация по предъявленным рентгенограммам с оформлением документов",1143.9000000000001]
["Рентгеноденситометрия (включая - поясничный отдел позвоночника, проксимальный отдел бедренной кости, лучевой кости)",{"$f":"'Раздел 5а (МУ)'!C266","v":2369.9}]
["6.2. ЭНДОСКОПИЧЕСКИЕ ИССЛЕДОВАНИЯ  "]
["Эзофагоскопия",{"$f":"'Раздел 5а (МУ)'!C6","v":1797.3}]
["Бронхоскопия",{"$f":"'Раздел 5а (МУ)'!C7","v":2916.9}]
["Эзофагогастродуоденоскопия",{"$f":"'Раздел 5а (МУ)'!C8","v":2830.9}]
["Эзофагогастродуоденоскопия с применением анестезиологического пособия (при необходимости проведения исследования под наркозом)",{"$f":"'Раздел 5а (МУ)'!C9","v":17140.5}]
["Эзофагогастроскопия",{"$f":"'Раздел 5а (МУ)'!C10","v":2417.4}]
["Колоноскопия",{"$f":"'Раздел 5а (МУ)'!C11","v":4751.8}]
["Колоноскопия с применением анестезиологического пособия (при необходимости проведения исследования под наркозом)",{"$f":"'Раздел 5а (МУ)'!C12","v":19061.400000000001}]
["Ректороманоскопия",{"$f":"'Раздел 5а (МУ)'!C13","v":1857.7}]
["Ректосигмоидоскопия",{"$f":"'Раздел 5а (МУ)'!C14","v":3098}]
["Ректоскопия",{"$f":"'Раздел 5а (МУ)'!C15","v":1651}]
["6.3. УЛЬТРАЗВУКОВЫЕ ИССЛЕДОВАНИЯ                                                                                                                                               "]
["Щитовидной железы",850.3]
["Молочной железы",1114.5]
["Молочных желёз (2-х)",1942.9]
["Лимфатических узлов (одна анатомическая зона)",1114.5]
["Периферические сосуды",1114.5]
["Мягкие ткани",1114.5]
["Слюнных желез",1114.5]
["Дуплексное сканирование брахицефальных артерий",2158.6]
["Поджелудочной железы",1114.5]
["Печень + желчный пузырь",1114.5]
["Селезенка",1114.5]
["Желчного пузыря с определением функции",3228.5]
["УЗИ брюшной полости",3492.7]
["Почки + надпочечники",1114.5]
["Предстательная железа + яички",1114.5]
["Брюшной аорты",1643]
["Мочевого пузыря с определением остаточной мочи",850.3]
["При гинекологических заболеваниях",1406.8]
["При беременности",1671]
["Средостение",1114.5]
["Плевральная полость",1114.5]
["Ультразвуковое исследование головного мозга",1643]
["Ультразвуковое исследование внутренних органов",1643]
["Ультразвуковая денситомерия",599.6]
["Эхокардиография",{"$f":"'Раздел 5а (МУ)'!C17","v":3228.5}]
["Эхокардиография чреспищеводная",{"$f":"'Раздел 5а (МУ)'!C18","v":3302.5}]
["Трансторакальная эхокардиография",{"$f":"'Раздел 5а (МУ)'!C19","v":3228.5}]
["Ультразвуковая допплерография артерий верхних конечностей",{"$f":"'Раздел 5а (МУ)'!C20","v":2158.6}]
["Ультразвуковая допплерография артерий нижних конечностей",{"$f":"'Раздел 5а (МУ)'!C21","v":2158.6}]
["Ультразвуковая допплерография сосудов (артерий и вен) верхних конечностей",{"$f":"'Раздел 5а (МУ)'!C22","v":3228.5}]
["Ультразвуковая допплерография сосудов (артерий и вен) нижних конечностей",{"$f":"'Раздел 5а (МУ)'!C23","v":3228.5}]
["Ультразвуковая допплерография вен нижних конечностей",{"$f":"'Раздел 5а (МУ)'!C24","v":2158.6}]
["Ультразвуковая допплерография вен верхних конечностей",{"$f":"'Раздел 5а (МУ)'!C25","v":2158.6}]
["Дуплексное сканирование аорты",{"$f":"'Раздел 5а (МУ)'!C26","v":2158.6}]
["Дуплексное сканирование сосудов (артерий и вен) верхних конечностей",{"$f":"'Раздел 5а (МУ)'!C27","v":3228.5}]
["Дуплексное сканирование артерий верхних конечностей",{"$f":"'Раздел 5а (МУ)'!C28","v":2158.6}]
["Дуплексное сканирование брахиоцефальных артерий с цветным допплеровским картированием кровотока",{"$f":"'Раздел 5а (МУ)'!C29","v":2158.6}]
["Дуплексное сканирование вен верхних конечностей",{"$f":"'Раздел 5а (МУ)'!C30","v":2158.6}]
["Дуплексное сканирование экстракраниальных отделов брахиоцефальных артерий",{"$f":"'Раздел 5а (МУ)'!C31","v":2158.6}]
["Дуплексное интракраниальных отделов брахиоцефальных артерий",{"$f":"'Раздел 5а (МУ)'!C32","v":2158.6}]
["Дуплексное сканирование сосудов (артерий и вен) нижних конечностей",{"$f":"'Раздел 5а (МУ)'!C33","v":3228.5}]
["Дуплексное сканирование артерий нижних конечностей",{"$f":"'Раздел 5а (МУ)'!C34","v":2158.6}]
["Дуплексное сканирование вен нижних конечностей",{"$f":"'Раздел 5а (МУ)'!C35","v":2158.6}]
["Ультразвуковое исследование коронарных артерий внутрисосудистое",{"$f":"'Раздел 5а (МУ)'!C36","v":2158.6}]
["Дуплексное сканирование сердца и сосудов плода",{"$f":"'Раздел 5а (МУ)'!C37","v":2158.6}]
["6.4. ЭЛЕКТРОКАРДИОГРАФИЯ"]
["Электрокардиография (ЭКГ)",807.5]
["6.5. УСЛУГИ ДИАЛИЗА"]
["Гемодиализ",{"$f":"'Раздел 5а (МУ)'!C191","v":10318.799999999999}]
["Гемодиализ интермиттирующий низкопоточный",{"$f":"'Раздел 5а (МУ)'!C192","v":10318.799999999999}]
["Гемодиализ интермиттирующий высокопоточный",{"$f":"'Раздел 5а (МУ)'!C193","v":10834.7}]
["Гемодиафильтрация",{"$f":"'Раздел 5а (МУ)'!C194","v":11144.3}]
["Ультрафильтрация крови",{"$f":"'Раздел 5а (МУ)'!C195","v":9493.2999999999993}]
["Гемодиализ интермиттирующий продленный",{"$f":"'Раздел 5а (МУ)'!C196","v":28479.9}]
["Гемофильтрация крови",{"$f":"'Раздел 5а (МУ)'!C197","v":29718.1}]
["Ультрафильтрация продленная",{"$f":"'Раздел 5а (МУ)'!C198","v":25900.2}]
["Гемодиафильтрация продленная",{"$f":"'Раздел 5а (МУ)'!C199","v":31059.599999999999}]
["Гемодиализ продолжительный",{"$f":"'Раздел 5а (МУ)'!C200","v":53967.3}]
["Гемофильтрация крови продолжительная",{"$f":"'Раздел 5а (МУ)'!C201","v":56547}]
["Гемодиафильтрация продолжительная",{"$f":"'Раздел 5а (МУ)'!C202","v":59126.7}]
["Перитонеальный диализ",{"$f":"'Раздел 5а (МУ)'!C203","v":8661.9}]
["Перитонеальный диализ проточный",{"$f":"'Раздел 5а (МУ)'!C204","v":42616.5}]
["Перитонеальный диализ с использованием автоматизированных технологий",{"$f":"'Раздел 5а (МУ)'!C205","v":10740.8}]
["Перитонеальный диализ при нарушении ультрафильтрации",{"$f":"'Раздел 5а (МУ)'!C206","v":9441.5}]
["6.6. МАГНИТНО-РЕЗОНАНСНЫЕ ИССЛЕДОВАНИЯ  "]
["6.6.1. МРТ БЕЗ КОНТРАСТНОГО ВЕЩЕСТВА"]
["МРТ мягких тканей",{"$f":"'Раздел 5а (МУ)'!C42","v":11271.75}]
["МРТ головного мозга (структура)",{"$f":"'Раздел 5а (МУ)'!C43","v":11271.75}]
["МРТ артерий головного мозга",{"$f":"'Раздел 5а (МУ)'!C44","v":11271.75}]
["МРТ вен головного мозга",{"$f":"'Раздел 5а (МУ)'!C45","v":11271.75}]
["МРТ артерий шеи",{"$f":"'Раздел 5а (МУ)'!C46","v":11271.75}]
["МРТ вен нижних конечностей",{"$f":"'Раздел 5а (МУ)'!C47","v":11271.75}]
["МРТ артерий нижних конечностей",{"$f":"'Раздел 5а (МУ)'!C48","v":11271.75}]
["МРТ гипофиза",{"$f":"'Раздел 5а (МУ)'!C49","v":11271.75}]
["МТ глазницы",{"$f":"'Раздел 5а (МУ)'!C50","v":11271.75}]
["МРТ шейного отдела позвоночника",{"$f":"'Раздел 5а (МУ)'!C51","v":11271.75}]
["МРТ краниовертебрального перехода",{"$f":"'Раздел 5а (МУ)'!C52","v":11271.75}]
["МРТ грудного отдела позвоночника",{"$f":"'Раздел 5а (МУ)'!C53","v":11271.75}]
["МРТ пояснично-крестцового отдела позвоночника",{"$f":"'Раздел 5а (МУ)'!C54","v":11271.75}]
["МРТ органов малого таза ",{"$f":"'Раздел 5а (МУ)'!C55","v":11271.75}]
["МРТ крестцово-подвздошного сочленения",{"$f":"'Раздел 5а (МУ)'!C56","v":11271.75}]
["МРТ суставов (один сустав)",{"$f":"'Раздел 5а (МУ)'!C57","v":11271.75}]
["МРТ органов брюшной полости",{"$f":"'Раздел 5а (МУ)'!C58","v":11271.75}]
["МРТ молочной железы",{"$f":"'Раздел 5а (МУ)'!C59","v":11271.75}]
["МРТ околоносовых пазух",{"$f":"'Раздел 5а (МУ)'!C60","v":11271.75}]
["МРТ атланто-дентального сочленения",{"$f":"'Раздел 5а (МУ)'!C61","v":11271.75}]
["МРТ крестцово-копчикового отдела позвоночника",{"$f":"'Раздел 5а (МУ)'!C62","v":11271.75}]
["МРТ поджелудочной железы",{"$f":"'Раздел 5а (МУ)'!C63","v":11271.75}]
["МРТ мошонки",{"$f":"'Раздел 5а (МУ)'!C64","v":11271.75}]
["МРТ надпочечников",{"$f":"'Раздел 5а (МУ)'!C65","v":11271.75}]
["МРТ почек",{"$f":"'Раздел 5а (МУ)'!C66","v":11271.75}]
["МРТ  забрюшинного пространства",{"$f":"'Раздел 5а (МУ)'!C67","v":11271.75}]
["МРТ верхней конечности",{"$f":"'Раздел 5а (МУ)'!C68","v":11271.75}]
["МРТ кисти",{"$f":"'Раздел 5а (МУ)'!C69","v":11271.75}]
["МРТ нижней конечности",{"$f":"'Раздел 5а (МУ)'!C70","v":11271.75}]
["МРТ стопы",{"$f":"'Раздел 5а (МУ)'!C71","v":11271.75}]
["МРТ сердца и магистральных сосудов",{"$f":"'Раздел 5а (МУ)'!C72","v":13888.42}]
["6.6.2. МРТ С КОНТРАСТНЫМ ВЕЩЕСТВОМ"]
["МРТ мягких тканей с контрастированием",{"$f":"'Раздел 5а (МУ)'!C74","v":16271.75}]
["МРТ головного мозга (структура) с контрастированием",{"$f":"'Раздел 5а (МУ)'!C75","v":16271.75}]
["МРТ артерий головного мозга с контрастированием",{"$f":"'Раздел 5а (МУ)'!C76","v":16271.75}]
["МРТ вен головного мозга с контрастированием",{"$f":"'Раздел 5а (МУ)'!C77","v":16271.75}]
["МРТ артерий шеи с контрастированием",{"$f":"'Раздел 5а (МУ)'!C78","v":16271.75}]
["МРТ вен нижних конечностей с контрастированием",{"$f":"'Раздел 5а (МУ)'!C79","v":16271.75}]
["МРТ артерий нижних конечностей с контрастированием",{"$f":"'Раздел 5а (МУ)'!C80","v":16271.75}]
["МРТ гипофиза с контрастированием",{"$f":"'Раздел 5а (МУ)'!C81","v":16271.75}]
["МРТ глазниц с контрастированием",{"$f":"'Раздел 5а (МУ)'!C82","v":16271.75}]
["МРТ шейного отдела позвоночника с контрастированием",{"$f":"'Раздел 5а (МУ)'!C83","v":16271.75}]
["МРТ грудного отдела позвоночника с контрастированием",{"$f":"'Раздел 5а (МУ)'!C84","v":16271.75}]
["МРТ пояснично-крестцового отдела позвоночника с контрастированием",{"$f":"'Раздел 5а (МУ)'!C85","v":16271.75}]
["МРТ органов малого таза с контрастированием",{"$f":"'Раздел 5а (МУ)'!C86","v":16271.75}]
["МРТ крестцово-подвздошного сочленения  с контрастированием",{"$f":"'Раздел 5а (МУ)'!C87","v":16271.75}]
["МРТ тазобедренных суставов  с контрастированием",{"$f":"'Раздел 5а (МУ)'!C88","v":11271.75}]
["МРТ органов брюшной полости  с контрастированием",{"$f":"'Раздел 5а (МУ)'!C89","v":16271.75}]
["МРТ молочных желез  с контрастированием",{"$f":"'Раздел 5а (МУ)'!C90","v":16271.75}]
["МРТ мужских наружных половых органов  с контрастированием",{"$f":"'Раздел 5а (МУ)'!C91","v":16271.75}]
["МРТ надпочечников  с контрастированием",{"$f":"'Раздел 5а (МУ)'!C92","v":16271.75}]
["МРТ почек  с контрастированием",{"$f":"'Раздел 5а (МУ)'!C93","v":16271.75}]
["МРТ  забрюшинного пространства с контрастированием",{"$f":"'Раздел 5а (МУ)'!C95","v":16271.75}]
["МРТ верхней конечности с контрастированием",{"$f":"'Раздел 5а (МУ)'!C96","v":16271.75}]
["МРТ нижней конечности с контрастированием",{"$f":"'Раздел 5а (МУ)'!C97","v":16271.75}]
["МРТ атланто-дентального сочленения с контрастированием",{"$f":"'Раздел 5а (МУ)'!C98","v":16271.75}]
["МРТ крестцово-копчикового отдела позвоночника с контрастированием",{"$f":"'Раздел 5а (МУ)'!C99","v":16271.75}]
["МРТ сердца с контрастированием",{"$f":"'Раздел 5а (МУ)'!C100","v":26407.26905445569}]
["6.7. КЛИНИЧЕСКИЕ ИССЛЕДОВАНИЯ                                                                                                                                           "]
["ИССЛЕДОВАНИЯ МОЧИ:"]
["Общий анализ мочи",311]
["Определение концентрированной способности почек по Зимницкому",390.3]
["Подсчет количества  форменных элементов методом Нечипоренко",809.2]
["Проба Реберга",328.5]
["Обнаружение глюкозы в моче",27]
["ГЕМАТОЛОГИЧЕСКИЕ ИССЛЕДОВАНИЯ:"]
["Клинический анализ крови развернутый",2140.4]
["Клинический анализ крови (в объеме не менее определения концентрации гемоглобина в эритроцитах, количества лейкоцитов и скорости оседания эритроцитов)",922]
["Подсчет эритроцитов в крови",275]
["БИОХИМИЧЕСКИЕ ИССЛЕДОВАНИЯ:"]
["Забор крови (учитывается отдельно)",288]
["Определение уровня общего холестерина в крови",80.5]
["Определение уровня глюкозы ",119.5]
["Определение креатинина",159.6]
["Определение  общего билирубина",207.2]
["Определение прямого билирубина",207.2]
["АЛТ",124.7]
["АСТ",124.7]
["Определение общего белка в сыворотке крови",82.4]
["Определение мочевины в сыворотке крови",106.2]
["Тимоловая проба",82]
["Определение триглицеридов в  сыворотке крови по реакции с ацетилацетоном",447.5]
["Определение общих бета-липопротеидов в   сыворотке крови",146.4]
["Определение холестерина альфа-липопротеидов после осаждения пре-бета- и бета-липопротеидов",243.2]
["Определение активности щелочной фосфотазы в сыворотке крови с субстратом паранитрофенилфосфатом",368.9]
["Определение активности альфа-амилазы в сыворотке крови амилокластическим методом",168.4]
["Определение общего кальция в сыворотке крови с орто-крезол-фталейновым комплексом",89.6]
["Определение железа в сыворотке крови батофенатролиновым методом",221.5]
["Определение липидного спектра крови (уровень общего холестерина, холестерина липопротеидов высокой плотности, холестерина липопротеидов низкой плотности, триглицеридов) ",915.5]
["Определение концентрации гликированного гемоглобина в крови или тест на толерантность к глюкозе ",432.4]
["Гликемический профиль",239]
["Сахарная кривая",239]
["Определение сиаловых кислот в сыворотке крови",138]
["Определение индивидуальных белков сыворотки крови",453.8]
["Определения калия в сыворотке крови",99.3]
["Исследования крови на малярийные паразиты",924.4]
["Определение мочевой кислоты",776.4]
["Определения натрия в сыворотке крови",254.1]
[" Подсчет ретикулацитов (с  окрашиванием в пробирке)     ",736.7]
["Определения хлора в сыворотке крови",215.4]
["Подсчет тромбоцитов в окрашенных мазках",612.6]
["Определения  магния в сыворотке крови",99.3]
["Определения  фосфора в сыворотке крови",176.7]
["Определение альбумина в сыворотке крови",205.6]
["Определение  глобулина в сыворотке крови",205.6]
["Определение СРБ-рективного белка в сыворотке крови",372.2]
["Исследования системы гемостаза"]
["Определение времени кровотечения",390.3]
["Определение содержания   фибриногена   в плазме крови весовым методом",367.1]
["Опредение протромбинового времени (международное нормализованное отношение)",112.5]
["Определение времени свертывания цельной крови",583.79999999999995]
["Определение протромбинового индекса",112.5]
["ИММУНОЛОГИЧЕСКИЕ ИССЛЕДОВАНИЯ:"]
["Определение групп крови по системе АВО с помощью стандартных сывороток или перекрестным способом в венозной крови",480]
["Определение резус-фактора методом конглютинации с применением желатина или экспресс-методом в венозной крови",430.4]
["ДИАГНОСТИКА АУТОИММУННЫХ ЗАБОЛЕВНИЙ:"]
["Антитела к циклическому цитрулиновому пептиду (АССР) ",{"$f":"'Раздел 5а (МУ)'!C223","v":1825}]
["Антитела к Sacchharomyces cerevisiae IgA (болезнь Крона)",{"$f":"'Раздел 5а (МУ)'!C224","v":1685}]
["Антитела к Sacchharomyces cerevisiae IgG (болезнь Крона)",{"$f":"'Раздел 5а (МУ)'!C225","v":1685}]
["Специфические антитела на дерматомиозит,полимиозит,миозит",{"$f":"'Раздел 5а (МУ)'!C226","v":2955}]
["Антиядерные антитела (ANA)  (ИММУНОБЛОТ) К",{"$f":"'Раздел 5а (МУ)'!C227","v":1525}]
["ОНКОМАРКЕРЫ"]
["Определение простатспецифического антигена (ПСА)",{"$f":"'Раздел 5а (МУ)'!C236","v":967.8}]
["(NSE) Нейрон -специфическая енолаза (сыворотка)",{"$f":"'Раздел 5а (МУ)'!C229","v":1725}]
["Хромогранин А К (отобранная сыворотка)",{"$f":"'Раздел 5а (МУ)'!C230","v":2525}]
["ЛАБОРАТОРНЫЕ ИССЛЕДОВАНИЯ ПО ЭНДОКРИНОЛОГИЧЕСКОМУ ПРОФИЛЮ"]
["Исследование уровня тиреотропного гормона (ТТГ) в крови",{"$f":"'Раздел 5а (МУ)'!C232","v":450}]
["Исследование уровня свободного тироксина (СТ4) сыворотки крови",{"$f":"'Раздел 5а (МУ)'!C233","v":450}]
["Исследование уровня свободного трийодтиронина (СТ3) в крови",{"$f":"'Раздел 5а (МУ)'!C234","v":420}]
["Определение содержания антител к тиреопероксидазе в крови (anti-ТПО)",{"$f":"'Раздел 5а (МУ)'!C235","v":540}]
["Исследование уровня общего кортизола в крови",{"$f":"'Раздел 5а (МУ)'!C238","v":359.1}]
["Исследование уровня свободного кортизола в крови",{"$f":"'Раздел 5а (МУ)'!C239","v":359.1}]
["Исследование уровня пролактина в крови",{"$f":"'Раздел 5а (МУ)'!C240","v":360.1}]
["Исследование уровня лютеинизирующего гормона в сыворотке крови (ЛГ)",{"$f":"'Раздел 5а (МУ)'!C241","v":361.9}]
["Исследование уровня фолликулостимулирующего гормона в сыворотке крови (ФСГ) ",{"$f":"'Раздел 5а (МУ)'!C242","v":361.9}]
["Исследование уровня общего иммуноглобулина E в крови (IgE)",{"$f":"'Раздел 5а (МУ)'!C243","v":300}]
["Определение содержания антител к рецептору тиреотропного гормона (ТТГ) в крови",{"$f":"'Раздел 5а (МУ)'!C244","v":1600}]
["Исследование уровня антигена аденогенных раков CA 125 в крови",{"$f":"'Раздел 5а (МУ)'!C237","v":580}]
["Исследование уровня простатспецифического антигена свободного в крови (ПСА св.)",{"$f":"'Раздел 5а (МУ)'!C245","v":520}]
["Исследование уровня кальцитонина в крови",{"$f":"'Раздел 5а (МУ)'!C246","v":1050}]
["ИССЛЕДОВАНИЯ КАЛА:"]
["Обнаружение яиц гельминтов",617.20000000000005]
["Общий анализ кала",920.2]
["Исследование соскоба на энтеробиоз",873.6]
["Исследование кала на скрытую кровь иммунохимическим методом ",574.6]
["ИССЛЕДОВАНИЯ МОКРОТЫ:"]
["Микроскопические исследования",608.6]
["Обнаружение микобактерий туберкулеза",956.8]
["БАКТЕРИОЛОГИЧЕСКОЕ ИССЛЕДОВАНИЕ МАТЕРИАЛА"]
["Бактериологическое исследование материала на флору и чуствительность к антибиотикам (отделяемое цервикального канала,ушей,глаз,зева и носа- одна локализация (хромогенные среды)",{"$f":"'Раздел 5а (МУ)'!C208","v":1500}]
["Определение PHK коронавируса ТОРС (SARS-cov) в мазках со слизистой оболочки носоглотки методом ПЦР",{"$f":"'Раздел 5а (МУ)'!C209","v":1412.99}]
["Определение PHK коронавируса ТОРС (SARS-cov) в мазках со слизистой оболочки ротоглотки методом ПЦР",{"$f":"'Раздел 5а (МУ)'!C210","v":1412.99}]
["Определение PHK коронавируса ТОРС (SARS-cov) в мокроте (индукцированной мокроте, фаринго-трахеальных аспиратах) методом ПЦР",{"$f":"'Раздел 5а (МУ)'!C211","v":1412.99}]
["Определение PHK коронавируса ТОРС (SARS-cov) в бронхоальвеолярной лаважной жидкости методом ПЦР",{"$f":"'Раздел 5а (МУ)'!C212","v":1412.99}]
["Определение РНК вируса гриппа A (Influenza virus A) в мазках со слизистой оболочки носоглотки методом ПЦР",1412.99]
["Определение РНК вируса гриппа B (Influenza virus B) в мазках со слизистой оболочки носоглотки методом ПЦР",1412.99]
["Определение РНК вируса гриппа C (Influenza virus C) в мазках со слизистой оболочки носоглотки методом ПЦР",1412.99]
["Определение РНК вируса гриппа A (Influenza virus A) в мазках со слизистой оболочки ротоглотки методом ПЦР",1412.99]
["Определение РНК вируса гриппа B (Influenza virus B) в мазках со слизистой оболочки ротоглотки методом ПЦР",1412.99]
["Определение РНК вируса гриппа C (Influenza virus C) в мазках со слизистой оболочки ротоглотки методом ПЦР",1412.99]
["Комплексная диагностика вирусов респираторных инфекций (ОРИ) ",1765.5]
["Диагностика вирусов респираторных инфекций типирование гриппа А (Influenza virusA) ",1468.9]
["Диагностика вирусов респираторных инфекций Определение РНК вируса гриппа A/H1N1 pdm09 (свиной грипп)",1471.1]
["6.8. ПАТОЛОГОАНАТОМИЧЕСКИЕ ИССЛЕДОВАНИЯ БИОПСИЙНОГО (ОПЕРАЦИОННОГО) МАТЕРИАЛА С ЦЕЛЬЮ ДИАГНОСТИКИ ОНКОЛОГИЧЕСКИХ ЗАБОЛЕВАНИЙ И ПОДБОРА ПРОТИВООПУХОЛЕВОЙ ЛЕКАРСТВЕННОЙ ТЕРАПИИ                                  "]
["Патолого-анатомическое исследование биопсийного (операционного) материала первой категории сложности",{"$f":"'Раздел 5а (МУ)'!C248","v":4811.1000000000004}]
["Патолого-анатомическое исследование биопсийного (операционного) материала второй категории сложности",{"$f":"'Раздел 5а (МУ)'!C249","v":5322.4}]
["Патолого-анатомическое исследование биопсийного (операционного) материала третьей категории сложности",{"$f":"'Раздел 5а (МУ)'!C250","v":6030.2999999999993}]
["Патолого-анатомическое исследование биопсийного (операционного) материала четвертой категории сложности",{"$f":"'Раздел 5а (МУ)'!C251","v":6833.9}]
["Патолого-анатомическое исследование биопсийного (операционного) материала пятой категории сложности",{"$f":"'Раздел 5а (МУ)'!C252","v":8239.1}]
["6.9. ФИЗИОТЕРАПЕВТИЧЕСКИЕ ПРОЦЕДУРЫ (ЗА 1 ПРОЦЕДУРУ)                                                                                                      "]
["Гальванизация",482.1]
["Гальванизация, электрофорез полостные",968.7]
["Лекарственный электрофорез постоянным, динамическим, синусоидальным модулированным токами",787]
["Вакум-электрофарез",787]
["УФ-облучение общее и местное",481.9]
["СМТ-терапия",955.3]
["Дарсонвализация местная",960.2]
["Дарсонвализация полостная",759.6]
["УВЧ-терапия",482.7]
["Определение биодозы",959.1]
["Облучение другими источниками света, включая лазер",565.79999999999995]
["Ультразвуковая терапия",964.5]
["Фонофорез",984.1]
["6.10. КОМПЬЮТЕРНАЯ ТОМОГРАФИЯ"]
["Компьютерная томография мягких тканей",{"$f":"'Раздел 5а (МУ)'!C102","v":7090.65}]
["Компьютерная томография мягких тканей с контрастированием",{"$f":"'Раздел 5а (МУ)'!C103","v":12090.65}]
["Компьютерная томография лицевого отдела черепа",{"$f":"'Раздел 5а (МУ)'!C104","v":7090.65}]
["Компьютерно-томографическое перфузионное исследование лицевого отдела черепа",{"$f":"'Раздел 5а (МУ)'!C105","v":7090.65}]
["Компьютерная томография лицевого отдела черепа с внутривенным болюсным контрастированием",{"$f":"'Раздел 5а (МУ)'!C106","v":12090.65}]
["Компьютерная томография кости",{"$f":"'Раздел 5а (МУ)'!C107","v":7090.65}]
["Компьютерная томография грудины с мультипланарной и трехмерной реконструкцией",{"$f":"'Раздел 5а (МУ)'!C108","v":7090.65}]
["Компьютерная томография ребер с мультипланарной и трехмерной реконструкцией",{"$f":"'Раздел 5а (МУ)'!C109","v":7090.65}]
["Компьютерная томография костей таза",{"$f":"'Раздел 5а (МУ)'!C110","v":7090.65}]
["Компьютерная томография височно-нижнечелюстных суставов",{"$f":"'Раздел 5а (МУ)'!C111","v":7090.65}]
["Компьютерная томография челюстно-лицевой области",{"$f":"'Раздел 5а (МУ)'!C112","v":7090.65}]
["Компьютерная томография придаточных пазух носа, гортани",{"$f":"'Раздел 5а (МУ)'!C113","v":7090.65}]
["Спиральная компьютерная томография гортани",{"$f":"'Раздел 5а (МУ)'!C114","v":7090.65}]
["Компьютерная томография гортани с внутривенным болюсным контрастированием",{"$f":"'Раздел 5а (МУ)'!C115","v":12090.65}]
["Спиральная компьютерная томография придаточных пазух носа",{"$f":"'Раздел 5а (МУ)'!C116","v":7090.65}]
["Компьютерная томография придаточных пазух носа с внутривенным болюсным контрастированием",{"$f":"'Раздел 5а (МУ)'!C117","v":12090.65}]
["Рентгенотерапия новообразований верхних дыхательных путей",{"$f":"'Раздел 5а (МУ)'!C118","v":7090.65}]
["Компьютерная томография верхних дыхательных путей и шеи",{"$f":"'Раздел 5а (МУ)'!C119","v":7090.65}]
["Спиральная компьютерная томография шеи",{"$f":"'Раздел 5а (МУ)'!C120","v":7090.65}]
["Компьютерная томография шеи с внутривенным болюсным контрастированием",{"$f":"'Раздел 5а (МУ)'!C121","v":12090.65}]
["Компьютерная томография шеи с внутривенным болюсным контрастированием, мультипланарной и трехмерной реконструкцией",{"$f":"'Раздел 5а (МУ)'!C122","v":12090.65}]
["Компьютерная томография органов грудной полости",{"$f":"'Раздел 5а (МУ)'!C123","v":7090.65}]
["Компьютерная томография органов грудной полости с внутривенным болюсным контрастированием",{"$f":"'Раздел 5а (МУ)'!C124","v":12090.65}]
["Компьютерная томография грудной полости с внутривенным болюсным контрастированием, мультипланарной и трехмерной реконструкцией",{"$f":"'Раздел 5а (МУ)'!C125","v":12090.65}]
["Компьютерная томография органов грудной полости (при установленном диагнозе и подозрении на COVID-19)",{"$f":"'Раздел 5а (МУ)'!C126","v":7090.65}]
["Томография легких",{"$f":"'Раздел 5а (МУ)'!C127","v":7090.65}]
["Спиральная компьютерная томография легких",{"$f":"'Раздел 5а (МУ)'!C128","v":7090.65}]
["Компьютерная томография бронхов",{"$f":"'Раздел 5а (МУ)'!C129","v":7090.65}]
["Компьютерная томография сердца",{"$f":"'Раздел 5а (МУ)'!C130","v":7090.65}]
["Компьютерная томография сердца с контрастированием",{"$f":"'Раздел 5а (МУ)'!C131","v":12090.65}]
["Компьютерная томография левого предсердия и легочных вен",{"$f":"'Раздел 5а (МУ)'!C132","v":7090.65}]
["Спиральная компьютерная томография сердца с ЭКГ-синхронизацией",{"$f":"'Раздел 5а (МУ)'!C133","v":7090.65}]
["Компьютерная томография средостения",{"$f":"'Раздел 5а (МУ)'!C134","v":7090.65}]
["Компьютерная томография средостения с внутривенным болюсным контрастированием",{"$f":"'Раздел 5а (МУ)'!C135","v":12090.65}]
["Компьютерно-томографическая ангиография грудной аорты",{"$f":"'Раздел 5а (МУ)'!C136","v":7090.65}]
["Компьютерно-томографическая ангиография брюшной аорты",{"$f":"'Раздел 5а (МУ)'!C137","v":7090.65}]
["Компьютерно-томографическая ангиография одной анатомической области",{"$f":"'Раздел 5а (МУ)'!C138","v":7090.65}]
["Компьютерно-томографическая ангиография аорты",{"$f":"'Раздел 5а (МУ)'!C139","v":7090.65}]
["Компьютерно-томографическая ангиография брюшной аорты и подвздошных сосудов",{"$f":"'Раздел 5а (МУ)'!C140","v":7090.65}]
["Компьютерно-томографическая ангиография сосудов нижних конечностей",{"$f":"'Раздел 5а (МУ)'!C141","v":7090.65}]
["Компьютерно-томографическая ангиография сосудов верхних конечностей",{"$f":"'Раздел 5а (МУ)'!C142","v":7090.65}]
["Компьютерно-томографическая ангиография сосудов таза",{"$f":"'Раздел 5а (МУ)'!C143","v":7090.65}]
["Компьютерно-томографическая ангиография сосудов головного мозга",{"$f":"'Раздел 5а (МУ)'!C144","v":7090.65}]
["Компьютерно-томографическая ангиография легочных сосудов",{"$f":"'Раздел 5а (МУ)'!C145","v":7090.65}]
["Компьютерно-томографическая ангиография брахиоцефальных артерий",{"$f":"'Раздел 5а (МУ)'!C146","v":7090.65}]
["Компьютерно-томографическая ангиография внутричерепного сегмента брахиоцефальных артерий артерий Виллизиева круга)",{"$f":"'Раздел 5а (МУ)'!C147","v":7090.65}]
["Компьютерная томография пищевода с пероральным контрастированием",{"$f":"'Раздел 5а (МУ)'!C148","v":12090.65}]
["Компьютерная томография тонкой кишки с контрастированием",{"$f":"'Раздел 5а (МУ)'!C149","v":12090.65}]
["Компьютерная томография тонкой кишки с двойным контрастированием",{"$f":"'Раздел 5а (МУ)'!C150","v":16590.650000000001}]
["Компьютерно-томографическая колоноскопия",{"$f":"'Раздел 5а (МУ)'!C151","v":7090.65}]
["Компьютерно-томографическая колоноскопия с внутривенным болюсным контрастированием",{"$f":"'Раздел 5а (МУ)'!C152","v":12090.65}]
["Компьютерная томография толстой кишки с ретроградным контрастированием",{"$f":"'Раздел 5а (МУ)'!C153","v":12090.65}]
["Компьютерная томография толстой кишки с двойным контрастированием",{"$f":"'Раздел 5а (МУ)'!C154","v":16590.650000000001}]
["Компьютерная томография органов малого таза у женщин",{"$f":"'Раздел 5а (МУ)'!C155","v":7090.65}]
["Спиральная компьютерная томография органов малого таза у женщин",{"$f":"'Раздел 5а (МУ)'!C156","v":7090.65}]
["Спиральная компьютерная томография органов малого таза у женщин с внутривенным болюсным контрастированием",{"$f":"'Раздел 5а (МУ)'!C157","v":12090.65}]
["Компьютерная томография органов малого таза у женщин с контрастированием",{"$f":"'Раздел 5а (МУ)'!C158","v":12090.65}]
["Компьютерная томография органов малого таза у женщин с внутривенным болюсным контрастированием, мультипланарной и трехмерной реконструкцией",{"$f":"'Раздел 5а (МУ)'!C159","v":12090.65}]
["Компьютерная томография органов таза у мужчин",{"$f":"'Раздел 5а (МУ)'!C160","v":7090.65}]
["Спиральная компьютерная томография органов таза у мужчин",{"$f":"'Раздел 5а (МУ)'!C161","v":7090.65}]
["Спиральная компьютерная томография органов таза у мужчин с внутривенным болюсным контрастированием",{"$f":"'Раздел 5а (МУ)'!C162","v":12090.65}]
["Компьютерная томография органов таза у мужчин с контрастированием",{"$f":"'Раздел 5а (МУ)'!C163","v":12090.65}]
["Компьютерная томография надпочечников",{"$f":"'Раздел 5а (МУ)'!C164","v":7090.65}]
["Компьютерная томография надпочечников с внутривенным болюсным контрастированием",{"$f":"'Раздел 5а (МУ)'!C165","v":12090.65}]
["Компьютерная томография головного мозга",{"$f":"'Раздел 5а (МУ)'!C166","v":7090.65}]
["Компьютерно-томографическая перфузия головного мозга",{"$f":"'Раздел 5а (МУ)'!C167","v":7090.65}]
["Компьютерная томография мягких тканей головы контрастированием",{"$f":"'Раздел 5а (МУ)'!C168","v":12090.65}]
["Компьютерная томография головного мозга с внутривенным контрастированием",{"$f":"'Раздел 5а (МУ)'!C169","v":12090.65}]
["Компьютерная томография сосудов головного мозга с внутривенным болюсным контрастированием",{"$f":"'Раздел 5а (МУ)'!C170","v":12090.65}]
["Компьютерная томография головного мозга интраоперационная",{"$f":"'Раздел 5а (МУ)'!C171","v":7090.65}]
["Компьютерная томография височной кости",{"$f":"'Раздел 5а (МУ)'!C172","v":7090.65}]
["Компьютерная томография височной кости с внутривенным болюсным контрастированием",{"$f":"'Раздел 5а (МУ)'!C173","v":12090.65}]
["Компьютерная томография глазницы",{"$f":"'Раздел 5а (МУ)'!C174","v":7090.65}]
["Компьютерная томография глазницы с внутривенным болюсным контрастированием",{"$f":"'Раздел 5а (МУ)'!C175","v":12090.65}]
["Компьютерная томография почек и надпочечников",{"$f":"'Раздел 5а (МУ)'!C176","v":7090.65}]
["Компьютерная томография почек и верхних мочевыводящих путей с внутривенным болюсным контрастированием",{"$f":"'Раздел 5а (МУ)'!C177","v":12090.65}]
["Спиральная компьютерная томография почек и надпочечников",{"$f":"'Раздел 5а (МУ)'!C178","v":7090.65}]
["Компьютерная томография органов брюшной полости",{"$f":"'Раздел 5а (МУ)'!C179","v":7090.65}]
["Компьютерная томография органов брюшной полости и забрюшинного пространства",{"$f":"'Раздел 5а (МУ)'!C180","v":7090.65}]
["Компьютерная томография органов брюшной полости и забрюшинного пространства с внутривенным болюсным контрастированием",{"$f":"'Раздел 5а (МУ)'!C181","v":12090.65}]
["Компьютерная томография органов брюшной полости с внутривенным болюсным контрастированием",{"$f":"'Раздел 5а (МУ)'!C182","v":12090.65}]
["Спиральная компьютерная томография органов брюшной полости с внутривенным болюсным контрастированием, мультипланарной и трехмерной реконструкцией",{"$f":"'Раздел 5а (МУ)'!C183","v":12090.65}]
["Компьютерная томография органов брюшной полости с двойным контрастированием",{"$f":"'Раздел 5а (МУ)'!C184","v":16590.650000000001}]
["Компьютерная томография забрюшинного пространства",{"$f":"'Раздел 5а (МУ)'!C185","v":7090.65}]
["Компьютерная томография забрюшинного пространства с внутривенным болюсным контрастированием",{"$f":"'Раздел 5а (МУ)'!C186","v":12090.65}]
["6.11. Дермоскопия"]
["Дермоскопия",896.8]

{"sheet":"тм","index":7,"n_rows":1450,"n_cols":15,"rows_kept":1450,"cut":false,"hidden":true,"merged":[[10,12,10,14]]}
[null,null,"USL_OK","VISIT_TYPE","VZR_PROFILE","VZR_SUM","DET_PROFILE","LPU","LENGTH","DATEBEGIN","DATEEND"]
[null,null,{"$f":"'РАЗДЕЛ 1(АМП)'!#REF!","v":{"$error":"#REF!"}},{"$f":"'РАЗДЕЛ 1(АМП)'!#REF!","v":{"$error":"#REF!"}},{"$f":"'РАЗДЕЛ 1(АМП)'!#REF!","v":{"$error":"#REF!"}},{"$f":"'РАЗДЕЛ 1(АМП)'!#REF!","v":{"$error":"#REF!"}},null,490002,null,"2017-02-01"]
[null,null,{"$f":"'РАЗДЕЛ 1(АМП)'!#REF!","v":{"$error":"#REF!"}},{"$f":"'РАЗДЕЛ 1(АМП)'!#REF!","v":{"$error":"#REF!"}},null,{"$f":"'РАЗДЕЛ 1(АМП)'!#REF!","v":{"$error":"#REF!"}},{"$f":"'РАЗДЕЛ 1(АМП)'!#REF!","v":{"$error":"#REF!"}},{"$f":"H2","v":490002},null,{"$f":"J2","v":"2017-02-01"}]
[null,null,{"$f":"'РАЗДЕЛ 1(АМП)'!#REF!","v":{"$error":"#REF!"}},{"$f":"'РАЗДЕЛ 1(АМП)'!#REF!","v":{"$error":"#REF!"}},{"$f":"'РАЗДЕЛ 1(АМП)'!#REF!","v":{"$error":"#REF!"}},{"$f":"'РАЗДЕЛ 1(АМП)'!#REF!","v":{"$error":"#REF!"}},null,{"$f":"H3","v":490002},null,{"$f":"J3","v":"2017-02-01"}]
[null,null,{"$f":"'РАЗДЕЛ 1(АМП)'!#REF!","v":{"$error":"#REF!"}},{"$f":"'РАЗДЕЛ 1(АМП)'!#REF!","v":{"$error":"#REF!"}},{"$f":"'РАЗДЕЛ 1(АМП)'!#REF!","v":{"$error":"#REF!"}},{"$f":"'РАЗДЕЛ 1(АМП)'!#REF!","v":{"$error":"#REF!"}},null,490002,null,"2017-02-01"]
[null,null,{"$f":"'РАЗДЕЛ 1(АМП)'!#REF!","v":{"$error":"#REF!"}},{"$f":"'РАЗДЕЛ 1(АМП)'!#REF!","v":{"$error":"#REF!"}},{"$f":"'РАЗДЕЛ 1(АМП)'!#REF!","v":{"$error":"#REF!"}},{"$f":"'РАЗДЕЛ 1(АМП)'!#REF!","v":{"$error":"#REF!"}},null,490002,null,"2017-02-01"]
[null,null,{"$f":"'РАЗДЕЛ 1(АМП)'!#REF!","v":{"$error":"#REF!"}},{"$f":"'РАЗДЕЛ 1(АМП)'!#REF!","v":{"$error":"#REF!"}},{"$f":"'РАЗДЕЛ 1(АМП)'!#REF!","v":{"$error":"#REF!"}},{"$f":"'РАЗДЕЛ 1(АМП)'!#REF!","v":{"$error":"#REF!"}},null,490002,null,"2017-02-01"]
[null,null,{"$f":"'РАЗДЕЛ 1(АМП)'!#REF!","v":{"$error":"#REF!"}},{"$f":"'РАЗДЕЛ 1(АМП)'!#REF!","v":{"$error":"#REF!"}},{"$f":"'РАЗДЕЛ 1(АМП)'!#REF!","v":{"$error":"#REF!"}},{"$f":"'РАЗДЕЛ 1(АМП)'!#REF!","v":{"$error":"#REF!"}},null,490002,null,"2017-02-01"]
[null,null,{"$f":"'РАЗДЕЛ 1(АМП)'!#REF!","v":{"$error":"#REF!"}},{"$f":"'РАЗДЕЛ 1(АМП)'!#REF!","v":{"$error":"#REF!"}},{"$f":"'РАЗДЕЛ 1(АМП)'!#REF!","v":{"$error":"#REF!"}},{"$f":"'РАЗДЕЛ 1(АМП)'!#REF!","v":{"$error":"#REF!"}},null,490002,null,"2017-02-01"]
[null,null,{"$f":"'РАЗДЕЛ 1(АМП)'!#REF!","v":{"$error":"#REF!"}},{"$f":"'РАЗДЕЛ 1(АМП)'!#REF!","v":{"$error":"#REF!"}},{"$f":"'РАЗДЕЛ 1(АМП)'!#REF!","v":{"$error":"#REF!"}},{"$f":"'РАЗДЕЛ 1(АМП)'!#REF!","v":{"$error":"#REF!"}},null,490002,null,"2017-02-01"]
[null,null,{"$f":"'РАЗДЕЛ 1(АМП)'!#REF!","v":{"$error":"#REF!"}},{"$f":"'РАЗДЕЛ 1(АМП)'!#REF!","v":{"$error":"#REF!"}},{"$f":"'РАЗДЕЛ 1(АМП)'!#REF!","v":{"$error":"#REF!"}},{"$f":"'РАЗДЕЛ 1(АМП)'!#REF!","v":{"$error":"#REF!"}},null,490002,null,"2017-02-01",null,null,"В скрипте тарифы для МО отмеченных знаком - !"]
[null,null,{"$f":"'РАЗДЕЛ 1(АМП)'!#REF!","v":{"$error":"#REF!"}},{"$f":"'РАЗДЕЛ 1(АМП)'!#REF!","v":{"$error":"#REF!"}},{"$f":"'РАЗДЕЛ 1(АМП)'!#REF!","v":{"$error":"#REF!"}},{"$f":"'РАЗДЕЛ 1(АМП)'!#REF!","v":{"$error":"#REF!"}},null,490002,null,"2017-02-01",null,null,null,"Код МО","Наименование МО краткое"]
[null,null,{"$f":"'РАЗДЕЛ 1(АМП)'!#REF!","v":{"$error":"#REF!"}},{"$f":"'РАЗДЕЛ 1(АМП)'!#REF!","v":{"$error":"#REF!"}},{"$f":"'РАЗДЕЛ 1(АМП)'!#REF!","v":{"$error":"#REF!"}},{"$f":"'РАЗДЕЛ 1(АМП)'!#REF!","v":{"$error":"#REF!"}},null,490002,null,"2017-02-01",null,null,null,"360768","ООО \"МРТ-МАГАДАН\""]
[null,null,{"$f":"'РАЗДЕЛ 1(АМП)'!#REF!","v":{"$error":"#REF!"}},{"$f":"'РАЗДЕЛ 1(АМП)'!#REF!","v":{"$error":"#REF!"}},{"$f":"'РАЗДЕЛ 1(АМП)'!#REF!","v":{"$error":"#REF!"}},{"$f":"'РАЗДЕЛ 1(АМП)'!#REF!","v":{"$error":"#REF!"}},null,490002,null,"2017-02-01",null,null,"!","490002","МОГБУЗ  \"МСЧ \"АВИАМЕДИЦИНА\""]
[null,null,{"$f":"'РАЗДЕЛ 1(АМП)'!#REF!","v":{"$error":"#REF!"}},{"$f":"'РАЗДЕЛ 1(АМП)'!#REF!","v":{"$error":"#REF!"}},{"$f":"'РАЗДЕЛ 1(АМП)'!#REF!","v":{"$error":"#REF!"}},{"$f":"'РАЗДЕЛ 1(АМП)'!#REF!","v":{"$error":"#REF!"}},null,490002,null,"2017-02-01",null,null,"!","490003","МОГБУЗ \" СТОМАТОЛОГИЧЕСКАЯ ПОЛИКЛИНИКА\""]
[null,null,{"$f":"'РАЗДЕЛ 1(АМП)'!#REF!","v":{"$error":"#REF!"}},{"$f":"'РАЗДЕЛ 1(АМП)'!#REF!","v":{"$error":"#REF!"}},{"$f":"'РАЗДЕЛ 1(АМП)'!#REF!","v":{"$error":"#REF!"}},{"$f":"'РАЗДЕЛ 1(АМП)'!#REF!","v":{"$error":"#REF!"}},null,490002,null,"2017-02-01",null,null,"!","490004","МОГБУЗ \"СРЕДНЕКАНСКАЯ РАЙОННАЯ БОЛЬНИЦА\""]
[null,null,{"$f":"'РАЗДЕЛ 1(АМП)'!#REF!","v":{"$error":"#REF!"}},{"$f":"'РАЗДЕЛ 1(АМП)'!#REF!","v":{"$error":"#REF!"}},null,{"$f":"'РАЗДЕЛ 1(АМП)'!#REF!","v":{"$error":"#REF!"}},{"$f":"'РАЗДЕЛ 1(АМП)'!#REF!","v":{"$error":"#REF!"}},490002,null,"2017-02-01",null,null,"!","490005","ФКУЗ \"МСЧ МВД РОССИИ ПО МАГАДАНСКОЙ ОБЛАСТИ\""]
[null,null,{"$f":"'РАЗДЕЛ 1(АМП)'!#REF!","v":{"$error":"#REF!"}},{"$f":"'РАЗДЕЛ 1(АМП)'!#REF!","v":{"$error":"#REF!"}},{"$f":"'РАЗДЕЛ 1(АМП)'!#REF!","v":{"$error":"#REF!"}},{"$f":"'РАЗДЕЛ 1(АМП)'!#REF!","v":{"$error":"#REF!"}},null,490002,null,"2017-02-01",null,null,"!","490007","МОГБУЗ \"ОЛЬСКАЯ РАЙОННАЯ БОЛЬНИЦА\""]
[null,null,{"$f":"'РАЗДЕЛ 1(АМП)'!#REF!","v":{"$error":"#REF!"}},{"$f":"'РАЗДЕЛ 1(АМП)'!#REF!","v":{"$error":"#REF!"}},{"$f":"'РАЗДЕЛ 1(АМП)'!#REF!","v":{"$error":"#REF!"}},{"$f":"'РАЗДЕЛ 1(АМП)'!#REF!","v":{"$error":"#REF!"}},null,490002,null,"2017-02-01",null,null,"!","490010","МОГБУЗ \"ЯГОДНИНСКАЯ РАЙОННАЯ БОЛЬНИЦА\""]
[null,null,{"$f":"'РАЗДЕЛ 1(АМП)'!#REF!","v":{"$error":"#REF!"}},{"$f":"'РАЗДЕЛ 1(АМП)'!#REF!","v":{"$error":"#REF!"}},{"$f":"'РАЗДЕЛ 1(АМП)'!#REF!","v":{"$error":"#REF!"}},{"$f":"'РАЗДЕЛ 1(АМП)'!#REF!","v":{"$error":"#REF!"}},null,490002,null,"2017-02-01",null,null,"!","490011","МОГБУЗ \"ХАСЫНСКАЯ РАЙОННАЯ БОЛЬНИЦА\""]
[null,null,{"$f":"'РАЗДЕЛ 1(АМП)'!#REF!","v":{"$error":"#REF!"}},{"$f":"'РАЗДЕЛ 1(АМП)'!#REF!","v":{"$error":"#REF!"}},{"$f":"'РАЗДЕЛ 1(АМП)'!#REF!","v":{"$error":"#REF!"}},{"$f":"'РАЗДЕЛ 1(АМП)'!#REF!","v":{"$error":"#REF!"}},null,490002,null,"2017-02-01",null,null,"!","490012","ОГБУЗ \"МАГАДАНСКИЙ РОДИЛЬНЫЙ ДОМ\""]
[null,null,{"$f":"'РАЗДЕЛ 1(АМП)'!#REF!","v":{"$error":"#REF!"}},{"$f":"'РАЗДЕЛ 1(АМП)'!#REF!","v":{"$error":"#REF!"}},{"$f":"'РАЗДЕЛ 1(АМП)'!#REF!","v":{"$error":"#REF!"}},{"$f":"'РАЗДЕЛ 1(АМП)'!#REF!","v":{"$error":"#REF!"}},null,490002,null,"2017-02-01",null,null,"!","490014","МОГБУЗ \"ТЕНЬКИНСКАЯ РАЙОННАЯ БОЛЬНИЦА\""]
[null,null,{"$f":"'РАЗДЕЛ 1(АМП)'!#REF!","v":{"$error":"#REF!"}},{"$f":"'РАЗДЕЛ 1(АМП)'!#REF!","v":{"$error":"#REF!"}},{"$f":"'РАЗДЕЛ 1(АМП)'!#REF!","v":{"$error":"#REF!"}},{"$f":"'РАЗДЕЛ 1(АМП)'!#REF!","v":{"$error":"#REF!"}},null,490002,null,"2017-02-01",null,null,"!","490015","ГБУЗ \"МОБ\""]
[null,null,{"$f":"'РАЗДЕЛ 1(АМП)'!#REF!","v":{"$error":"#REF!"}},{"$f":"'РАЗДЕЛ 1(АМП)'!#REF!","v":{"$error":"#REF!"}},{"$f":"'РАЗДЕЛ 1(АМП)'!#REF!","v":{"$error":"#REF!"}},{"$f":"'РАЗДЕЛ 1(АМП)'!#REF!","v":{"$error":"#REF!"}},null,490002,null,"2017-02-01",null,null,"!","490016","МОГБУЗ \"СУСУМАНСКАЯ РАЙОННАЯ БОЛЬНИЦА\""]
[null,null,{"$f":"'РАЗДЕЛ 1(АМП)'!#REF!","v":{"$error":"#REF!"}},{"$f":"'РАЗДЕЛ 1(АМП)'!#REF!","v":{"$error":"#REF!"}},{"$f":"'РАЗДЕЛ 1(АМП)'!#REF!","v":{"$error":"#REF!"}},{"$f":"'РАЗДЕЛ 1(АМП)'!#REF!","v":{"$error":"#REF!"}},null,490002,null,"2017-02-01",null,null,"!","490017","МОГБУЗ  \" ПОЛИКЛИНИКА № 1\""]
[null,null,{"$f":"'РАЗДЕЛ 1(АМП)'!#REF!","v":{"$error":"#REF!"}},{"$f":"'РАЗДЕЛ 1(АМП)'!#REF!","v":{"$error":"#REF!"}},{"$f":"'РАЗДЕЛ 1(АМП)'!#REF!","v":{"$error":"#REF!"}},{"$f":"'РАЗДЕЛ 1(АМП)'!#REF!","v":{"$error":"#REF!"}},null,490002,null,"2017-02-01",null,null,"!","490018","ГБУЗ \"МООД\""]
[null,null,{"$f":"'РАЗДЕЛ 1(АМП)'!#REF!","v":{"$error":"#REF!"}},{"$f":"'РАЗДЕЛ 1(АМП)'!#REF!","v":{"$error":"#REF!"}},{"$f":"'РАЗДЕЛ 1(АМП)'!#REF!","v":{"$error":"#REF!"}},{"$f":"'РАЗДЕЛ 1(АМП)'!#REF!","v":{"$error":"#REF!"}},null,490002,null,"2017-02-01",null,null,"!","490019","МОГБУЗ  \"ПОЛИКЛИНИКА № 2\""]
[null,null,{"$f":"'РАЗДЕЛ 1(АМП)'!#REF!","v":{"$error":"#REF!"}},{"$f":"'РАЗДЕЛ 1(АМП)'!#REF!","v":{"$error":"#REF!"}},{"$f":"'РАЗДЕЛ 1(АМП)'!#REF!","v":{"$error":"#REF!"}},{"$f":"'РАЗДЕЛ 1(АМП)'!#REF!","v":{"$error":"#REF!"}},null,490002,null,"2017-02-01",null,null,"!","490021","ООО \"ДАНТИСТ-ПЛЮС\""]
[null,null,{"$f":"'РАЗДЕЛ 1(АМП)'!#REF!","v":{"$error":"#REF!"}},{"$f":"'РАЗДЕЛ 1(АМП)'!#REF!","v":{"$error":"#REF!"}},{"$f":"'РАЗДЕЛ 1(АМП)'!#REF!","v":{"$error":"#REF!"}},{"$f":"'РАЗДЕЛ 1(АМП)'!#REF!","v":{"$error":"#REF!"}},null,{"$f":"H28","v":490002},null,"2017-02-01",null,null,"!","490022","ГБУЗ \"МАГАДАНСКАЯ ОБЛАСТНАЯ ДЕТСКАЯ БОЛЬНИЦА\""]
[null,null,{"$f":"'РАЗДЕЛ 1(АМП)'!#REF!","v":{"$error":"#REF!"}},{"$f":"'РАЗДЕЛ 1(АМП)'!#REF!","v":{"$error":"#REF!"}},{"$f":"'РАЗДЕЛ 1(АМП)'!#REF!","v":{"$error":"#REF!"}},{"$f":"'РАЗДЕЛ 1(АМП)'!#REF!","v":{"$error":"#REF!"}},null,490002,null,"2017-02-01",null,null,"!","490023","ГБУЗ \"МОЦМП\""]
[null,null,{"$f":"'РАЗДЕЛ 1(АМП)'!#REF!","v":{"$error":"#REF!"}},{"$f":"'РАЗДЕЛ 1(АМП)'!#REF!","v":{"$error":"#REF!"}},{"$f":"'РАЗДЕЛ 1(АМП)'!#REF!","v":{"$error":"#REF!"}},{"$f":"'РАЗДЕЛ 1(АМП)'!#REF!","v":{"$error":"#REF!"}},null,490002,null,"2017-02-01",null,null,"!","490024","МОГБУЗ  \"ПОЛИКЛИНИКА № 3\""]
[null,null,{"$f":"'РАЗДЕЛ 1(АМП)'!#REF!","v":{"$error":"#REF!"}},{"$f":"'РАЗДЕЛ 1(АМП)'!#REF!","v":{"$error":"#REF!"}},{"$f":"'РАЗДЕЛ 1(АМП)'!#REF!","v":{"$error":"#REF!"}},{"$f":"'РАЗДЕЛ 1(АМП)'!#REF!","v":{"$error":"#REF!"}},null,490002,null,"2017-02-01",null,null,null,"490025","МОГБУЗ \"СЕВЕРО-ЭВЕНСКАЯ РАЙОННАЯ БОЛЬНИЦА\""]
[null,null,{"$f":"'РАЗДЕЛ 1(АМП)'!#REF!","v":{"$error":"#REF!"}},{"$f":"'РАЗДЕЛ 1(АМП)'!#REF!","v":{"$error":"#REF!"}},{"$f":"'РАЗДЕЛ 1(АМП)'!#REF!","v":{"$error":"#REF!"}},{"$f":"'РАЗДЕЛ 1(АМП)'!#REF!","v":{"$error":"#REF!"}},null,490002,null,"2017-02-01",null,null,"!","490026","МОГБУЗ \"ОМСУКЧАНСКАЯ РАЙОННАЯ БОЛЬНИЦА\""]
[null,null,{"$f":"'РАЗДЕЛ 1(АМП)'!#REF!","v":{"$error":"#REF!"}},{"$f":"'РАЗДЕЛ 1(АМП)'!#REF!","v":{"$error":"#REF!"}},{"$f":"'РАЗДЕЛ 1(АМП)'!#REF!","v":{"$error":"#REF!"}},{"$f":"'РАЗДЕЛ 1(АМП)'!#REF!","v":{"$error":"#REF!"}},null,490002,null,"2017-02-01",null,null,"!","490027","ООО\"ВИТА\""]
[null,null,{"$f":"'РАЗДЕЛ 1(АМП)'!#REF!","v":{"$error":"#REF!"}},{"$f":"'РАЗДЕЛ 1(АМП)'!#REF!","v":{"$error":"#REF!"}},{"$f":"'РАЗДЕЛ 1(АМП)'!#REF!","v":{"$error":"#REF!"}},{"$f":"'РАЗДЕЛ 1(АМП)'!#REF!","v":{"$error":"#REF!"}},null,490002,null,"2017-02-01",null,null,"!","490028","МОГБУЗ  \"СТАНЦИЯ СКОРОЙ МЕДИЦИНСКОЙ ПОМОЩИ\""]
[null,null,{"$f":"'РАЗДЕЛ 1(АМП)'!#REF!","v":{"$error":"#REF!"}},{"$f":"'РАЗДЕЛ 1(АМП)'!#REF!","v":{"$error":"#REF!"}},{"$f":"'РАЗДЕЛ 1(АМП)'!#REF!","v":{"$error":"#REF!"}},{"$f":"'РАЗДЕЛ 1(АМП)'!#REF!","v":{"$error":"#REF!"}},null,490002,null,"2017-02-01",null,null,"!","490029","ООО\"ДОКТОР ВЕБЕР\""]
[null,null,{"$f":"'РАЗДЕЛ 1(АМП)'!#REF!","v":{"$error":"#REF!"}},{"$f":"'РАЗДЕЛ 1(АМП)'!#REF!","v":{"$error":"#REF!"}},{"$f":"'РАЗДЕЛ 1(АМП)'!#REF!","v":{"$error":"#REF!"}},{"$f":"'РАЗДЕЛ 1(АМП)'!#REF!","v":{"$error":"#REF!"}},null,490002,null,"2017-02-01",null,null,"!","490035","ООО \"ВИТА - ДЕНТ\""]
[null,null,{"$f":"'РАЗДЕЛ 1(АМП)'!#REF!","v":{"$error":"#REF!"}},{"$f":"'РАЗДЕЛ 1(АМП)'!#REF!","v":{"$error":"#REF!"}},{"$f":"'РАЗДЕЛ 1(АМП)'!#REF!","v":{"$error":"#REF!"}},{"$f":"'РАЗДЕЛ 1(АМП)'!#REF!","v":{"$error":"#REF!"}},null,490002,null,"2017-02-01",null,null,"!","490036","ООО \"КРИСТАЛ - СТОМА\""]
[null,null,{"$f":"'РАЗДЕЛ 1(АМП)'!#REF!","v":{"$error":"#REF!"}},{"$f":"'РАЗДЕЛ 1(АМП)'!#REF!","v":{"$error":"#REF!"}},{"$f":"'РАЗДЕЛ 1(АМП)'!#REF!","v":{"$error":"#REF!"}},{"$f":"'РАЗДЕЛ 1(АМП)'!#REF!","v":{"$error":"#REF!"}},null,490002,null,"2017-02-01",null,null,"!","490037","ООО\"ДОБРЫЙ СТОМАТОЛОГ ПЛЮС\""]
[null,null,{"$f":"'РАЗДЕЛ 1(АМП)'!#REF!","v":{"$error":"#REF!"}},{"$f":"'РАЗДЕЛ 1(АМП)'!#REF!","v":{"$error":"#REF!"}},{"$f":"'РАЗДЕЛ 1(АМП)'!#REF!","v":{"$error":"#REF!"}},{"$f":"'РАЗДЕЛ 1(АМП)'!#REF!","v":{"$error":"#REF!"}},null,490002,null,"2017-02-01",null,null,null,"490038","ФГБУ РОСНИИТО ФМБА РОССИИ"]
[null,null,{"$f":"'РАЗДЕЛ 1(АМП)'!#REF!","v":{"$error":"#REF!"}},{"$f":"'РАЗДЕЛ 1(АМП)'!#REF!","v":{"$error":"#REF!"}},null,{"$f":"'РАЗДЕЛ 1(АМП)'!#REF!","v":{"$error":"#REF!"}},{"$f":"'РАЗДЕЛ 1(АМП)'!#REF!","v":{"$error":"#REF!"}},490002,null,"2017-02-01",null,null,null,"490039","ФГБУЗ КБ №122 ИМ. Л. Г. СОКОЛОВА ФМБА РОССИИ"]
[null,null,{"$f":"'РАЗДЕЛ 1(АМП)'!#REF!","v":{"$error":"#REF!"}},{"$f":"'РАЗДЕЛ 1(АМП)'!#REF!","v":{"$error":"#REF!"}},{"$f":"'РАЗДЕЛ 1(АМП)'!#REF!","v":{"$error":"#REF!"}},{"$f":"'РАЗДЕЛ 1(АМП)'!#REF!","v":{"$error":"#REF!"}},null,490002,null,"2017-02-01",null,null,"!","490040","ООО \"ДАНТИСТ\""]
[null,null,{"$f":"'РАЗДЕЛ 1(АМП)'!#REF!","v":{"$error":"#REF!"}},{"$f":"'РАЗДЕЛ 1(АМП)'!#REF!","v":{"$error":"#REF!"}},{"$f":"'РАЗДЕЛ 1(АМП)'!#REF!","v":{"$error":"#REF!"}},{"$f":"'РАЗДЕЛ 1(АМП)'!#REF!","v":{"$error":"#REF!"}},null,490002,null,"2017-02-01",null,null,null,"490041","НУЗ \"ДОРОЖНАЯ КЛИНИЧЕСКАЯ БОЛЬНИЦА НА СТАНЦИИ ХАБАРОВСК - 1 ОАО \"РЖД\""]
[null,null,{"$f":"'РАЗДЕЛ 1(АМП)'!#REF!","v":{"$error":"#REF!"}},{"$f":"'РАЗДЕЛ 1(АМП)'!#REF!","v":{"$error":"#REF!"}},{"$f":"'РАЗДЕЛ 1(АМП)'!#REF!","v":{"$error":"#REF!"}},{"$f":"'РАЗДЕЛ 1(АМП)'!#REF!","v":{"$error":"#REF!"}},null,490002,null,"2017-02-01",null,null,null,"490043","ООО \"ЮНИЛАБ-ХАБАРОВСК\""]
[null,null,{"$f":"'РАЗДЕЛ 1(АМП)'!#REF!","v":{"$error":"#REF!"}},{"$f":"'РАЗДЕЛ 1(АМП)'!#REF!","v":{"$error":"#REF!"}},{"$f":"'РАЗДЕЛ 1(АМП)'!#REF!","v":{"$error":"#REF!"}},{"$f":"'РАЗДЕЛ 1(АМП)'!#REF!","v":{"$error":"#REF!"}},null,490002,null,"2017-02-01",null,null,null,"490045","ООО \"МРТ-МАГАДАН\""]
[null,null,{"$f":"'РАЗДЕЛ 1(АМП)'!#REF!","v":{"$error":"#REF!"}},{"$f":"'РАЗДЕЛ 1(АМП)'!#REF!","v":{"$error":"#REF!"}},{"$f":"'РАЗДЕЛ 1(АМП)'!#REF!","v":{"$error":"#REF!"}},{"$f":"'РАЗДЕЛ 1(АМП)'!#REF!","v":{"$error":"#REF!"}},null,490002,null,"2017-02-01",null,null,null,"490046","ООО \"ЛЕГЕ АРТИС\""]
[null,null,{"$f":"'РАЗДЕЛ 1(АМП)'!#REF!","v":{"$error":"#REF!"}},{"$f":"'РАЗДЕЛ 1(АМП)'!#REF!","v":{"$error":"#REF!"}},{"$f":"'РАЗДЕЛ 1(АМП)'!#REF!","v":{"$error":"#REF!"}},{"$f":"'РАЗДЕЛ 1(АМП)'!#REF!","v":{"$error":"#REF!"}},null,490002,null,"2017-02-01",null,null,"!","490047","ООО \"ЭКО ЦЕНТР\""]
[null,null,{"$f":"'РАЗДЕЛ 1(АМП)'!#REF!","v":{"$error":"#REF!"}},{"$f":"'РАЗДЕЛ 1(АМП)'!#REF!","v":{"$error":"#REF!"}},{"$f":"'РАЗДЕЛ 1(АМП)'!#REF!","v":{"$error":"#REF!"}},{"$f":"'РАЗДЕЛ 1(АМП)'!#REF!","v":{"$error":"#REF!"}},null,490002,null,"2017-02-01",null,null,null,"490048","ООО \"УЛЫБКА\""]
[null,null,{"$f":"'РАЗДЕЛ 1(АМП)'!#REF!","v":{"$error":"#REF!"}},{"$f":"'РАЗДЕЛ 1(АМП)'!#REF!","v":{"$error":"#REF!"}},{"$f":"'РАЗДЕЛ 1(АМП)'!#REF!","v":{"$error":"#REF!"}},{"$f":"'РАЗДЕЛ 1(АМП)'!#REF!","v":{"$error":"#REF!"}},null,490002,null,"2017-02-01",null,null,"!","490049","ООО \"ДАНТИСТ XXI ВЕК\""]
[null,null,{"$f":"'РАЗДЕЛ 1(АМП)'!#REF!","v":{"$error":"#REF!"}},{"$f":"'РАЗДЕЛ 1(АМП)'!#REF!","v":{"$error":"#REF!"}},{"$f":"'РАЗДЕЛ 1(АМП)'!#REF!","v":{"$error":"#REF!"}},{"$f":"'РАЗДЕЛ 1(АМП)'!#REF!","v":{"$error":"#REF!"}},null,490002,null,"2017-02-01",null,null,null,"490050","ООО\"УЛЬТРА-ДЕНТ\""]
[null,null,{"$f":"'РАЗДЕЛ 1(АМП)'!#REF!","v":{"$error":"#REF!"}},{"$f":"'РАЗДЕЛ 1(АМП)'!#REF!","v":{"$error":"#REF!"}},{"$f":"'РАЗДЕЛ 1(АМП)'!#REF!","v":{"$error":"#REF!"}},{"$f":"'РАЗДЕЛ 1(АМП)'!#REF!","v":{"$error":"#REF!"}},null,490002,null,"2017-02-01",null,null,"!","490051","ООО\"МОЙ ДОКТОР\""]
[null,null,{"$f":"'РАЗДЕЛ 1(АМП)'!#REF!","v":{"$error":"#REF!"}},{"$f":"'РАЗДЕЛ 1(АМП)'!#REF!","v":{"$error":"#REF!"}},{"$f":"'РАЗДЕЛ 1(АМП)'!#REF!","v":{"$error":"#REF!"}},{"$f":"'РАЗДЕЛ 1(АМП)'!#REF!","v":{"$error":"#REF!"}},null,490002,null,"2017-02-01",null,null,"!","490053","ФКУЗ МСЧ-49 ФСИН РОССИИ"]
[null,null,{"$f":"'РАЗДЕЛ 1(АМП)'!#REF!","v":{"$error":"#REF!"}},{"$f":"'РАЗДЕЛ 1(АМП)'!#REF!","v":{"$error":"#REF!"}},{"$f":"'РАЗДЕЛ 1(АМП)'!#REF!","v":{"$error":"#REF!"}},{"$f":"'РАЗДЕЛ 1(АМП)'!#REF!","v":{"$error":"#REF!"}},null,490002,null,"2017-02-01"]
[null,null,{"$f":"'РАЗДЕЛ 1(АМП)'!#REF!","v":{"$error":"#REF!"}},{"$f":"'РАЗДЕЛ 1(АМП)'!#REF!","v":{"$error":"#REF!"}},{"$f":"'РАЗДЕЛ 1(АМП)'!#REF!","v":{"$error":"#REF!"}},{"$f":"'РАЗДЕЛ 1(АМП)'!#REF!","v":{"$error":"#REF!"}},null,490002,null,"2017-02-01"]
[null,null,{"$f":"'РАЗДЕЛ 1(АМП)'!#REF!","v":{"$error":"#REF!"}},{"$f":"'РАЗДЕЛ 1(АМП)'!#REF!","v":{"$error":"#REF!"}},{"$f":"'РАЗДЕЛ 1(АМП)'!#REF!","v":{"$error":"#REF!"}},{"$f":"'РАЗДЕЛ 1(АМП)'!#REF!","v":{"$error":"#REF!"}},null,490002,null,"2017-02-01"]
[null,null,{"$f":"'РАЗДЕЛ 1(АМП)'!#REF!","v":{"$error":"#REF!"}},{"$f":"'РАЗДЕЛ 1(АМП)'!#REF!","v":{"$error":"#REF!"}},{"$f":"'РАЗДЕЛ 1(АМП)'!#REF!","v":{"$error":"#REF!"}},{"$f":"'РАЗДЕЛ 1(АМП)'!#REF!","v":{"$error":"#REF!"}},null,{"$f":"H55","v":490002},null,"2017-02-01"]
[null,null,{"$f":"'РАЗДЕЛ 1(АМП)'!#REF!","v":{"$error":"#REF!"}},{"$f":"'РАЗДЕЛ 1(АМП)'!#REF!","v":{"$error":"#REF!"}},{"$f":"'РАЗДЕЛ 1(АМП)'!#REF!","v":{"$error":"#REF!"}},{"$f":"'РАЗДЕЛ 1(АМП)'!#REF!","v":{"$error":"#REF!"}},null,490002,null,"2017-02-01"]
[null,null,{"$f":"'РАЗДЕЛ 1(АМП)'!#REF!","v":{"$error":"#REF!"}},{"$f":"'РАЗДЕЛ 1(АМП)'!#REF!","v":{"$error":"#REF!"}},{"$f":"'РАЗДЕЛ 1(АМП)'!#REF!","v":{"$error":"#REF!"}},{"$f":"'РАЗДЕЛ 1(АМП)'!#REF!","v":{"$error":"#REF!"}},null,490002,null,"2017-02-01"]
[null,null,{"$f":"'РАЗДЕЛ 1(АМП)'!#REF!","v":{"$error":"#REF!"}},{"$f":"'РАЗДЕЛ 1(АМП)'!#REF!","v":{"$error":"#REF!"}},{"$f":"'РАЗДЕЛ 1(АМП)'!#REF!","v":{"$error":"#REF!"}},{"$f":"'РАЗДЕЛ 1(АМП)'!#REF!","v":{"$error":"#REF!"}},null,490002,null,"2017-02-01"]
[null,null,{"$f":"'РАЗДЕЛ 1(АМП)'!#REF!","v":{"$error":"#REF!"}},{"$f":"'РАЗДЕЛ 1(АМП)'!#REF!","v":{"$error":"#REF!"}},{"$f":"'РАЗДЕЛ 1(АМП)'!#REF!","v":{"$error":"#REF!"}},{"$f":"'РАЗДЕЛ 1(АМП)'!#REF!","v":{"$error":"#REF!"}},null,490002,null,"2017-02-01"]
[null,null,{"$f":"'РАЗДЕЛ 1(АМП)'!#REF!","v":{"$error":"#REF!"}},{"$f":"'РАЗДЕЛ 1(АМП)'!#REF!","v":{"$error":"#REF!"}},{"$f":"'РАЗДЕЛ 1(АМП)'!#REF!","v":{"$error":"#REF!"}},{"$f":"'РАЗДЕЛ 1(АМП)'!#REF!","v":{"$error":"#REF!"}},null,490002,null,"2017-02-01"]
[null,null,{"$f":"'РАЗДЕЛ 1(АМП)'!#REF!","v":{"$error":"#REF!"}},{"$f":"'РАЗДЕЛ 1(АМП)'!#REF!","v":{"$error":"#REF!"}},{"$f":"'РАЗДЕЛ 1(АМП)'!#REF!","v":{"$error":"#REF!"}},{"$f":"'РАЗДЕЛ 1(АМП)'!#REF!","v":{"$error":"#REF!"}},null,490002,null,"2017-02-01"]
[null,null,{"$f":"'РАЗДЕЛ 1(АМП)'!#REF!","v":{"$error":"#REF!"}},{"$f":"'РАЗДЕЛ 1(АМП)'!#REF!","v":{"$error":"#REF!"}},{"$f":"'РАЗДЕЛ 1(АМП)'!#REF!","v":{"$error":"#REF!"}},{"$f":"'РАЗДЕЛ 1(АМП)'!#REF!","v":{"$error":"#REF!"}},null,490002,null,"2017-02-01"]
[null,null,{"$f":"'РАЗДЕЛ 1(АМП)'!#REF!","v":{"$error":"#REF!"}},{"$f":"'РАЗДЕЛ 1(АМП)'!#REF!","v":{"$error":"#REF!"}},{"$f":"'РАЗДЕЛ 1(АМП)'!#REF!","v":{"$error":"#REF!"}},{"$f":"'РАЗДЕЛ 1(АМП)'!#REF!","v":{"$error":"#REF!"}},null,490002,null,"2017-02-01"]
[null,null,{"$f":"'РАЗДЕЛ 1(АМП)'!#REF!","v":{"$error":"#REF!"}},{"$f":"'РАЗДЕЛ 1(АМП)'!#REF!","v":{"$error":"#REF!"}},null,{"$f":"'РАЗДЕЛ 1(АМП)'!#REF!","v":{"$error":"#REF!"}},{"$f":"'РАЗДЕЛ 1(АМП)'!#REF!","v":{"$error":"#REF!"}},490002,null,"2017-02-01"]
[null,null,{"$f":"'РАЗДЕЛ 1(АМП)'!#REF!","v":{"$error":"#REF!"}},{"$f":"'РАЗДЕЛ 1(АМП)'!#REF!","v":{"$error":"#REF!"}},{"$f":"'РАЗДЕЛ 1(АМП)'!#REF!","v":{"$error":"#REF!"}},{"$f":"'РАЗДЕЛ 1(АМП)'!#REF!","v":{"$error":"#REF!"}},null,490002,null,"2017-02-01"]
[null,null,{"$f":"'РАЗДЕЛ 1(АМП)'!#REF!","v":{"$error":"#REF!"}},{"$f":"'РАЗДЕЛ 1(АМП)'!#REF!","v":{"$error":"#REF!"}},{"$f":"'РАЗДЕЛ 1(АМП)'!#REF!","v":{"$error":"#REF!"}},{"$f":"'РАЗДЕЛ 1(АМП)'!#REF!","v":{"$error":"#REF!"}},null,{"$f":"H66","v":490002},null,{"$f":"J66","v":"2017-02-01"}]
[null,null,{"$f":"'РАЗДЕЛ 1(АМП)'!#REF!","v":{"$error":"#REF!"}},{"$f":"'РАЗДЕЛ 1(АМП)'!#REF!","v":{"$error":"#REF!"}},{"$f":"'РАЗДЕЛ 1(АМП)'!#REF!","v":{"$error":"#REF!"}},{"$f":"'РАЗДЕЛ 1(АМП)'!#REF!","v":{"$error":"#REF!"}},null,490002,null,"2017-02-01"]
[null,null,{"$f":"'РАЗДЕЛ 1(АМП)'!#REF!","v":{"$error":"#REF!"}},{"$f":"'РАЗДЕЛ 1(АМП)'!#REF!","v":{"$error":"#REF!"}},{"$f":"'РАЗДЕЛ 1(АМП)'!#REF!","v":{"$error":"#REF!"}},{"$f":"'РАЗДЕЛ 1(АМП)'!#REF!","v":{"$error":"#REF!"}},null,490002,null,"2017-02-01"]
[null,null,{"$f":"'РАЗДЕЛ 1(АМП)'!#REF!","v":{"$error":"#REF!"}},{"$f":"'РАЗДЕЛ 1(АМП)'!#REF!","v":{"$error":"#REF!"}},{"$f":"'РАЗДЕЛ 1(АМП)'!#REF!","v":{"$error":"#REF!"}},{"$f":"'РАЗДЕЛ 1(АМП)'!#REF!","v":{"$error":"#REF!"}},null,490002,null,"2017-02-01"]
[null,null,{"$f":"'РАЗДЕЛ 1(АМП)'!#REF!","v":{"$error":"#REF!"}},{"$f":"'РАЗДЕЛ 1(АМП)'!#REF!","v":{"$error":"#REF!"}},{"$f":"'РАЗДЕЛ 1(АМП)'!#REF!","v":{"$error":"#REF!"}},{"$f":"'РАЗДЕЛ 1(АМП)'!#REF!","v":{"$error":"#REF!"}},null,490002,null,"2017-02-01"]
[null,null,{"$f":"'РАЗДЕЛ 1(АМП)'!#REF!","v":{"$error":"#REF!"}},{"$f":"'РАЗДЕЛ 1(АМП)'!#REF!","v":{"$error":"#REF!"}},{"$f":"'РАЗДЕЛ 1(АМП)'!#REF!","v":{"$error":"#REF!"}},{"$f":"'РАЗДЕЛ 1(АМП)'!#REF!","v":{"$error":"#REF!"}},null,490002,null,"2017-02-01"]
[null,null,{"$f":"'РАЗДЕЛ 1(АМП)'!#REF!","v":{"$error":"#REF!"}},{"$f":"'РАЗДЕЛ 1(АМП)'!#REF!","v":{"$error":"#REF!"}},{"$f":"'РАЗДЕЛ 1(АМП)'!#REF!","v":{"$error":"#REF!"}},{"$f":"'РАЗДЕЛ 1(АМП)'!#REF!","v":{"$error":"#REF!"}},null,490002,null,"2017-02-01"]
[null,null,{"$f":"'РАЗДЕЛ 1(АМП)'!#REF!","v":{"$error":"#REF!"}},{"$f":"'РАЗДЕЛ 1(АМП)'!#REF!","v":{"$error":"#REF!"}},{"$f":"'РАЗДЕЛ 1(АМП)'!#REF!","v":{"$error":"#REF!"}},{"$f":"'РАЗДЕЛ 1(АМП)'!#REF!","v":{"$error":"#REF!"}},null,490002,null,"2017-02-01"]
[null,null,{"$f":"#REF!","v":{"$error":"#REF!"}},{"$f":"#REF!","v":{"$error":"#REF!"}},null,{"$f":"#REF!","v":{"$error":"#REF!"}},{"$f":"#REF!","v":{"$error":"#REF!"}},490002,{"$f":"#REF!","v":{"$error":"#REF!"}},"2017-02-01"]
[null,null,{"$f":"#REF!","v":{"$error":"#REF!"}},{"$f":"#REF!","v":{"$error":"#REF!"}},{"$f":"#REF!","v":{"$error":"#REF!"}},{"$f":"#REF!","v":{"$error":"#REF!"}},null,490002,{"$f":"#REF!","v":{"$error":"#REF!"}},"2017-02-01"]
[null,null,{"$f":"#REF!","v":{"$error":"#REF!"}},{"$f":"#REF!","v":{"$error":"#REF!"}},{"$f":"#REF!","v":{"$error":"#REF!"}},{"$f":"#REF!","v":{"$error":"#REF!"}},null,490002,{"$f":"#REF!","v":{"$error":"#REF!"}},"2017-02-01"]
[null,null,{"$f":"#REF!","v":{"$error":"#REF!"}},{"$f":"#REF!","v":{"$error":"#REF!"}},{"$f":"#REF!","v":{"$error":"#REF!"}},{"$f":"#REF!","v":{"$error":"#REF!"}},null,{"$f":"H77","v":490002},{"$f":"#REF!","v":{"$error":"#REF!"}},{"$f":"J77","v":"2017-02-01"}]
[null,null,{"$f":"#REF!","v":{"$error":"#REF!"}},{"$f":"#REF!","v":{"$error":"#REF!"}},{"$f":"#REF!","v":{"$error":"#REF!"}},{"$f":"#REF!","v":{"$error":"#REF!"}},null,490002,{"$f":"#REF!","v":{"$error":"#REF!"}},"2017-02-01"]
[null,null,{"$f":"#REF!","v":{"$error":"#REF!"}},{"$f":"#REF!","v":{"$error":"#REF!"}},{"$f":"#REF!","v":{"$error":"#REF!"}},{"$f":"#REF!","v":{"$error":"#REF!"}},null,490002,{"$f":"#REF!","v":{"$error":"#REF!"}},"2017-02-01"]
[null,null,{"$f":"#REF!","v":{"$error":"#REF!"}},{"$f":"#REF!","v":{"$error":"#REF!"}},{"$f":"#REF!","v":{"$error":"#REF!"}},{"$f":"#REF!","v":{"$error":"#REF!"}},null,490002,{"$f":"#REF!","v":{"$error":"#REF!"}},"2017-02-01"]
[null,null,{"$f":"#REF!","v":{"$error":"#REF!"}},{"$f":"#REF!","v":{"$error":"#REF!"}},{"$f":"#REF!","v":{"$error":"#REF!"}},{"$f":"#REF!","v":{"$error":"#REF!"}},null,490002,{"$f":"#REF!","v":{"$error":"#REF!"}},"2017-02-01"]
[null,null,{"$f":"#REF!","v":{"$error":"#REF!"}},{"$f":"#REF!","v":{"$error":"#REF!"}},null,{"$f":"#REF!","v":{"$error":"#REF!"}},{"$f":"#REF!","v":{"$error":"#REF!"}},490002,{"$f":"#REF!","v":{"$error":"#REF!"}},"2017-02-01"]
[null,null,{"$f":"#REF!","v":{"$error":"#REF!"}},{"$f":"#REF!","v":{"$error":"#REF!"}},{"$f":"#REF!","v":{"$error":"#REF!"}},{"$f":"#REF!","v":{"$error":"#REF!"}},null,490002,{"$f":"#REF!","v":{"$error":"#REF!"}},"2017-02-01"]
[null,null,{"$f":"#REF!","v":{"$error":"#REF!"}},{"$f":"#REF!","v":{"$error":"#REF!"}},{"$f":"#REF!","v":{"$error":"#REF!"}},{"$f":"#REF!","v":{"$error":"#REF!"}},null,490002,{"$f":"#REF!","v":{"$error":"#REF!"}},"2017-02-01"]
[null,null,{"$f":"#REF!","v":{"$error":"#REF!"}},{"$f":"#REF!","v":{"$error":"#REF!"}},{"$f":"#REF!","v":{"$error":"#REF!"}},{"$f":"#REF!","v":{"$error":"#REF!"}},null,490002,{"$f":"#REF!","v":{"$error":"#REF!"}},"2017-02-01"]
[null,null,{"$f":"#REF!","v":{"$error":"#REF!"}},{"$f":"#REF!","v":{"$error":"#REF!"}},{"$f":"#REF!","v":{"$error":"#REF!"}},{"$f":"#REF!","v":{"$error":"#REF!"}},null,490002,{"$f":"#REF!","v":{"$error":"#REF!"}},"2017-02-01"]
[null,null,{"$f":"#REF!","v":{"$error":"#REF!"}},{"$f":"#REF!","v":{"$error":"#REF!"}},{"$f":"#REF!","v":{"$error":"#REF!"}},{"$f":"#REF!","v":{"$error":"#REF!"}},null,490002,{"$f":"#REF!","v":{"$error":"#REF!"}},"2017-02-01"]
[null,null,{"$f":"'РАЗДЕЛ 1(АМП)'!#REF!","v":{"$error":"#REF!"}},{"$f":"'РАЗДЕЛ 1(АМП)'!#REF!","v":{"$error":"#REF!"}},{"$f":"'РАЗДЕЛ 1(АМП)'!#REF!","v":{"$error":"#REF!"}},{"$f":"'РАЗДЕЛ 1(АМП)'!#REF!","v":{"$error":"#REF!"}},null,490003,null,"2017-02-01"]
[null,null,{"$f":"'РАЗДЕЛ 1(АМП)'!#REF!","v":{"$error":"#REF!"}},{"$f":"'РАЗДЕЛ 1(АМП)'!#REF!","v":{"$error":"#REF!"}},null,{"$f":"'РАЗДЕЛ 1(АМП)'!#REF!","v":{"$error":"#REF!"}},{"$f":"'РАЗДЕЛ 1(АМП)'!#REF!","v":{"$error":"#REF!"}},490003,null,"2017-02-01"]
[null,null,{"$f":"'РАЗДЕЛ 1(АМП)'!#REF!","v":{"$error":"#REF!"}},{"$f":"'РАЗДЕЛ 1(АМП)'!#REF!","v":{"$error":"#REF!"}},{"$f":"'РАЗДЕЛ 1(АМП)'!#REF!","v":{"$error":"#REF!"}},{"$f":"'РАЗДЕЛ 1(АМП)'!#REF!","v":{"$error":"#REF!"}},null,490004,null,"2017-02-01"]
[null,null,{"$f":"'РАЗДЕЛ 1(АМП)'!#REF!","v":{"$error":"#REF!"}},{"$f":"'РАЗДЕЛ 1(АМП)'!#REF!","v":{"$error":"#REF!"}},null,{"$f":"'РАЗДЕЛ 1(АМП)'!#REF!","v":{"$error":"#REF!"}},{"$f":"'РАЗДЕЛ 1(АМП)'!#REF!","v":{"$error":"#REF!"}},{"$f":"H91","v":490004},null,{"$f":"J91","v":"2017-02-01"}]
[null,null,{"$f":"'РАЗДЕЛ 1(АМП)'!#REF!","v":{"$error":"#REF!"}},{"$f":"'РАЗДЕЛ 1(АМП)'!#REF!","v":{"$error":"#REF!"}},{"$f":"'РАЗДЕЛ 1(АМП)'!#REF!","v":{"$error":"#REF!"}},{"$f":"'РАЗДЕЛ 1(АМП)'!#REF!","v":{"$error":"#REF!"}},null,{"$f":"H92","v":490004},null,{"$f":"J92","v":"2017-02-01"}]
[null,null,{"$f":"'РАЗДЕЛ 1(АМП)'!#REF!","v":{"$error":"#REF!"}},{"$f":"'РАЗДЕЛ 1(АМП)'!#REF!","v":{"$error":"#REF!"}},{"$f":"'РАЗДЕЛ 1(АМП)'!#REF!","v":{"$error":"#REF!"}},{"$f":"'РАЗДЕЛ 1(АМП)'!#REF!","v":{"$error":"#REF!"}},null,490004,null,"2017-02-01"]
[null,null,{"$f":"'РАЗДЕЛ 1(АМП)'!#REF!","v":{"$error":"#REF!"}},{"$f":"'РАЗДЕЛ 1(АМП)'!#REF!","v":{"$error":"#REF!"}},{"$f":"'РАЗДЕЛ 1(АМП)'!#REF!","v":{"$error":"#REF!"}},{"$f":"'РАЗДЕЛ 1(АМП)'!#REF!","v":{"$error":"#REF!"}},null,{"$f":"H92","v":490004},null,"2017-02-01"]
[null,null,{"$f":"'РАЗДЕЛ 1(АМП)'!#REF!","v":{"$error":"#REF!"}},{"$f":"'РАЗДЕЛ 1(АМП)'!#REF!","v":{"$error":"#REF!"}},{"$f":"'РАЗДЕЛ 1(АМП)'!#REF!","v":{"$error":"#REF!"}},{"$f":"'РАЗДЕЛ 1(АМП)'!#REF!","v":{"$error":"#REF!"}},null,{"$f":"H95","v":490004},null,"2017-02-01"]
[null,null,{"$f":"'РАЗДЕЛ 1(АМП)'!#REF!","v":{"$error":"#REF!"}},{"$f":"'РАЗДЕЛ 1(АМП)'!#REF!","v":{"$error":"#REF!"}},{"$f":"'РАЗДЕЛ 1(АМП)'!#REF!","v":{"$error":"#REF!"}},{"$f":"'РАЗДЕЛ 1(АМП)'!#REF!","v":{"$error":"#REF!"}},null,490004,null,"2017-02-01"]
[null,null,{"$f":"'РАЗДЕЛ 1(АМП)'!#REF!","v":{"$error":"#REF!"}},{"$f":"'РАЗДЕЛ 1(АМП)'!#REF!","v":{"$error":"#REF!"}},{"$f":"'РАЗДЕЛ 1(АМП)'!#REF!","v":{"$error":"#REF!"}},{"$f":"'РАЗДЕЛ 1(АМП)'!#REF!","v":{"$error":"#REF!"}},null,490004,null,"2017-02-01"]
[null,null,{"$f":"'РАЗДЕЛ 1(АМП)'!#REF!","v":{"$error":"#REF!"}},{"$f":"'РАЗДЕЛ 1(АМП)'!#REF!","v":{"$error":"#REF!"}},{"$f":"'РАЗДЕЛ 1(АМП)'!#REF!","v":{"$error":"#REF!"}},{"$f":"'РАЗДЕЛ 1(АМП)'!#REF!","v":{"$error":"#REF!"}},null,490004,null,{"$f":"J98","v":"2017-02-01"}]
[null,null,{"$f":"'РАЗДЕЛ 1(АМП)'!#REF!","v":{"$error":"#REF!"}},{"$f":"'РАЗДЕЛ 1(АМП)'!#REF!","v":{"$error":"#REF!"}},{"$f":"'РАЗДЕЛ 1(АМП)'!#REF!","v":{"$error":"#REF!"}},{"$f":"'РАЗДЕЛ 1(АМП)'!#REF!","v":{"$error":"#REF!"}},null,490004,null,"2017-02-01"]
[null,null,{"$f":"'РАЗДЕЛ 1(АМП)'!#REF!","v":{"$error":"#REF!"}},{"$f":"'РАЗДЕЛ 1(АМП)'!#REF!","v":{"$error":"#REF!"}},{"$f":"'РАЗДЕЛ 1(АМП)'!#REF!","v":{"$error":"#REF!"}},{"$f":"'РАЗДЕЛ 1(АМП)'!#REF!","v":{"$error":"#REF!"}},null,490004,null,"2017-02-01"]
[null,null,{"$f":"'РАЗДЕЛ 1(АМП)'!#REF!","v":{"$error":"#REF!"}},{"$f":"'РАЗДЕЛ 1(АМП)'!#REF!","v":{"$error":"#REF!"}},{"$f":"'РАЗДЕЛ 1(АМП)'!#REF!","v":{"$error":"#REF!"}},{"$f":"'РАЗДЕЛ 1(АМП)'!#REF!","v":{"$error":"#REF!"}},null,490004,null,"2017-02-01"]
[null,null,{"$f":"'РАЗДЕЛ 1(АМП)'!#REF!","v":{"$error":"#REF!"}},{"$f":"'РАЗДЕЛ 1(АМП)'!#REF!","v":{"$error":"#REF!"}},{"$f":"'РАЗДЕЛ 1(АМП)'!#REF!","v":{"$error":"#REF!"}},{"$f":"'РАЗДЕЛ 1(АМП)'!#REF!","v":{"$error":"#REF!"}},null,490004,null,"2017-02-01"]
[null,null,{"$f":"'РАЗДЕЛ 1(АМП)'!#REF!","v":{"$error":"#REF!"}},{"$f":"'РАЗДЕЛ 1(АМП)'!#REF!","v":{"$error":"#REF!"}},{"$f":"'РАЗДЕЛ 1(АМП)'!#REF!","v":{"$error":"#REF!"}},{"$f":"'РАЗДЕЛ 1(АМП)'!#REF!","v":{"$error":"#REF!"}},null,490004,null,"2017-02-01"]
[null,null,{"$f":"'РАЗДЕЛ 1(АМП)'!#REF!","v":{"$error":"#REF!"}},{"$f":"'РАЗДЕЛ 1(АМП)'!#REF!","v":{"$error":"#REF!"}},{"$f":"'РАЗДЕЛ 1(АМП)'!#REF!","v":{"$error":"#REF!"}},{"$f":"'РАЗДЕЛ 1(АМП)'!#REF!","v":{"$error":"#REF!"}},null,490004,null,"2017-02-01"]
[null,null,{"$f":"'РАЗДЕЛ 1(АМП)'!#REF!","v":{"$error":"#REF!"}},{"$f":"'РАЗДЕЛ 1(АМП)'!#REF!","v":{"$error":"#REF!"}},{"$f":"'РАЗДЕЛ 1(АМП)'!#REF!","v":{"$error":"#REF!"}},{"$f":"'РАЗДЕЛ 1(АМП)'!#REF!","v":{"$error":"#REF!"}},null,490004,null,"2017-02-01"]
[null,null,{"$f":"'РАЗДЕЛ 1(АМП)'!#REF!","v":{"$error":"#REF!"}},{"$f":"'РАЗДЕЛ 1(АМП)'!#REF!","v":{"$error":"#REF!"}},null,{"$f":"'РАЗДЕЛ 1(АМП)'!#REF!","v":{"$error":"#REF!"}},{"$f":"'РАЗДЕЛ 1(АМП)'!#REF!","v":{"$error":"#REF!"}},490004,null,"2017-02-01"]
[null,null,{"$f":"'РАЗДЕЛ 1(АМП)'!#REF!","v":{"$error":"#REF!"}},{"$f":"'РАЗДЕЛ 1(АМП)'!#REF!","v":{"$error":"#REF!"}},{"$f":"'РАЗДЕЛ 1(АМП)'!#REF!","v":{"$error":"#REF!"}},{"$f":"'РАЗДЕЛ 1(АМП)'!#REF!","v":{"$error":"#REF!"}},null,490004,null,"2017-02-01"]
[null,null,{"$f":"'РАЗДЕЛ 1(АМП)'!#REF!","v":{"$error":"#REF!"}},{"$f":"'РАЗДЕЛ 1(АМП)'!#REF!","v":{"$error":"#REF!"}},{"$f":"'РАЗДЕЛ 1(АМП)'!#REF!","v":{"$error":"#REF!"}},{"$f":"'РАЗДЕЛ 1(АМП)'!#REF!","v":{"$error":"#REF!"}},null,490004,null,"2017-02-01"]
[null,null,{"$f":"'РАЗДЕЛ 1(АМП)'!#REF!","v":{"$error":"#REF!"}},{"$f":"'РАЗДЕЛ 1(АМП)'!#REF!","v":{"$error":"#REF!"}},{"$f":"'РАЗДЕЛ 1(АМП)'!#REF!","v":{"$error":"#REF!"}},{"$f":"'РАЗДЕЛ 1(АМП)'!#REF!","v":{"$error":"#REF!"}},null,490004,null,"2017-02-01"]
[null,null,{"$f":"'РАЗДЕЛ 1(АМП)'!#REF!","v":{"$error":"#REF!"}},{"$f":"'РАЗДЕЛ 1(АМП)'!#REF!","v":{"$error":"#REF!"}},{"$f":"'РАЗДЕЛ 1(АМП)'!#REF!","v":{"$error":"#REF!"}},{"$f":"'РАЗДЕЛ 1(АМП)'!#REF!","v":{"$error":"#REF!"}},null,490004,null,"2017-02-01"]
[null,null,{"$f":"'РАЗДЕЛ 1(АМП)'!#REF!","v":{"$error":"#REF!"}},{"$f":"'РАЗДЕЛ 1(АМП)'!#REF!","v":{"$error":"#REF!"}},{"$f":"'РАЗДЕЛ 1(АМП)'!#REF!","v":{"$error":"#REF!"}},{"$f":"'РАЗДЕЛ 1(АМП)'!#REF!","v":{"$error":"#REF!"}},null,490004,null,"2017-02-01"]
[null,null,{"$f":"'РАЗДЕЛ 1(АМП)'!#REF!","v":{"$error":"#REF!"}},{"$f":"'РАЗДЕЛ 1(АМП)'!#REF!","v":{"$error":"#REF!"}},{"$f":"'РАЗДЕЛ 1(АМП)'!#REF!","v":{"$error":"#REF!"}},{"$f":"'РАЗДЕЛ 1(АМП)'!#REF!","v":{"$error":"#REF!"}},null,490004,null,"2017-02-01"]
[null,null,{"$f":"'РАЗДЕЛ 1(АМП)'!#REF!","v":{"$error":"#REF!"}},{"$f":"'РАЗДЕЛ 1(АМП)'!#REF!","v":{"$error":"#REF!"}},{"$f":"'РАЗДЕЛ 1(АМП)'!#REF!","v":{"$error":"#REF!"}},{"$f":"'РАЗДЕЛ 1(АМП)'!#REF!","v":{"$error":"#REF!"}},null,490004,null,"2017-02-01"]
[null,null,{"$f":"'РАЗДЕЛ 1(АМП)'!#REF!","v":{"$error":"#REF!"}},{"$f":"'РАЗДЕЛ 1(АМП)'!#REF!","v":{"$error":"#REF!"}},{"$f":"'РАЗДЕЛ 1(АМП)'!#REF!","v":{"$error":"#REF!"}},{"$f":"'РАЗДЕЛ 1(АМП)'!#REF!","v":{"$error":"#REF!"}},null,490004,null,"2017-02-01"]
[null,null,{"$f":"'РАЗДЕЛ 1(АМП)'!#REF!","v":{"$error":"#REF!"}},{"$f":"'РАЗДЕЛ 1(АМП)'!#REF!","v":{"$error":"#REF!"}},{"$f":"'РАЗДЕЛ 1(АМП)'!#REF!","v":{"$error":"#REF!"}},{"$f":"'РАЗДЕЛ 1(АМП)'!#REF!","v":{"$error":"#REF!"}},null,490004,null,"2017-02-01"]
[null,null,{"$f":"'РАЗДЕЛ 1(АМП)'!#REF!","v":{"$error":"#REF!"}},{"$f":"'РАЗДЕЛ 1(АМП)'!#REF!","v":{"$error":"#REF!"}},{"$f":"'РАЗДЕЛ 1(АМП)'!#REF!","v":{"$error":"#REF!"}},{"$f":"'РАЗДЕЛ 1(АМП)'!#REF!","v":{"$error":"#REF!"}},null,{"$f":"H116","v":490004},null,{"$f":"J116","v":"2017-02-01"}]
[null,null,{"$f":"'РАЗДЕЛ 1(АМП)'!#REF!","v":{"$error":"#REF!"}},{"$f":"'РАЗДЕЛ 1(АМП)'!#REF!","v":{"$error":"#REF!"}},{"$f":"'РАЗДЕЛ 1(АМП)'!#REF!","v":{"$error":"#REF!"}},{"$f":"'РАЗДЕЛ 1(АМП)'!#REF!","v":{"$error":"#REF!"}},null,490004,null,"2017-02-01"]
[null,null,{"$f":"'РАЗДЕЛ 1(АМП)'!#REF!","v":{"$error":"#REF!"}},{"$f":"'РАЗДЕЛ 1(АМП)'!#REF!","v":{"$error":"#REF!"}},{"$f":"'РАЗДЕЛ 1(АМП)'!#REF!","v":{"$error":"#REF!"}},{"$f":"'РАЗДЕЛ 1(АМП)'!#REF!","v":{"$error":"#REF!"}},null,{"$f":"H116","v":490004},null,{"$f":"J116","v":"2017-02-01"}]
[null,null,{"$f":"'РАЗДЕЛ 1(АМП)'!#REF!","v":{"$error":"#REF!"}},{"$f":"'РАЗДЕЛ 1(АМП)'!#REF!","v":{"$error":"#REF!"}},{"$f":"'РАЗДЕЛ 1(АМП)'!#REF!","v":{"$error":"#REF!"}},{"$f":"'РАЗДЕЛ 1(АМП)'!#REF!","v":{"$error":"#REF!"}},null,{"$f":"H119","v":490004},null,{"$f":"J119","v":"2017-02-01"}]
[null,null,{"$f":"'РАЗДЕЛ 1(АМП)'!#REF!","v":{"$error":"#REF!"}},{"$f":"'РАЗДЕЛ 1(АМП)'!#REF!","v":{"$error":"#REF!"}},{"$f":"'РАЗДЕЛ 1(АМП)'!#REF!","v":{"$error":"#REF!"}},{"$f":"'РАЗДЕЛ 1(АМП)'!#REF!","v":{"$error":"#REF!"}},null,490004,null,"2017-02-01"]
[null,null,{"$f":"'РАЗДЕЛ 1(АМП)'!#REF!","v":{"$error":"#REF!"}},{"$f":"'РАЗДЕЛ 1(АМП)'!#REF!","v":{"$error":"#REF!"}},{"$f":"'РАЗДЕЛ 1(АМП)'!#REF!","v":{"$error":"#REF!"}},{"$f":"'РАЗДЕЛ 1(АМП)'!#REF!","v":{"$error":"#REF!"}},null,490004,null,"2017-02-01"]
[null,null,{"$f":"'РАЗДЕЛ 1(АМП)'!#REF!","v":{"$error":"#REF!"}},{"$f":"'РАЗДЕЛ 1(АМП)'!#REF!","v":{"$error":"#REF!"}},{"$f":"'РАЗДЕЛ 1(АМП)'!#REF!","v":{"$error":"#REF!"}},{"$f":"'РАЗДЕЛ 1(АМП)'!#REF!","v":{"$error":"#REF!"}},null,490004,null,"2017-02-01"]
[null,null,{"$f":"'РАЗДЕЛ 1(АМП)'!#REF!","v":{"$error":"#REF!"}},{"$f":"'РАЗДЕЛ 1(АМП)'!#REF!","v":{"$error":"#REF!"}},{"$f":"'РАЗДЕЛ 1(АМП)'!#REF!","v":{"$error":"#REF!"}},{"$f":"'РАЗДЕЛ 1(АМП)'!#REF!","v":{"$error":"#REF!"}},null,490004,null,"2017-02-01"]
[null,null,{"$f":"'РАЗДЕЛ 1(АМП)'!#REF!","v":{"$error":"#REF!"}},{"$f":"'РАЗДЕЛ 1(АМП)'!#REF!","v":{"$error":"#REF!"}},{"$f":"'РАЗДЕЛ 1(АМП)'!#REF!","v":{"$error":"#REF!"}},{"$f":"'РАЗДЕЛ 1(АМП)'!#REF!","v":{"$error":"#REF!"}},null,490004,null,"2017-02-01"]
[null,null,{"$f":"'РАЗДЕЛ 1(АМП)'!#REF!","v":{"$error":"#REF!"}},{"$f":"'РАЗДЕЛ 1(АМП)'!#REF!","v":{"$error":"#REF!"}},{"$f":"'РАЗДЕЛ 1(АМП)'!#REF!","v":{"$error":"#REF!"}},{"$f":"'РАЗДЕЛ 1(АМП)'!#REF!","v":{"$error":"#REF!"}},null,490004,null,"2017-02-01"]
[null,null,{"$f":"'РАЗДЕЛ 1(АМП)'!#REF!","v":{"$error":"#REF!"}},{"$f":"'РАЗДЕЛ 1(АМП)'!#REF!","v":{"$error":"#REF!"}},{"$f":"'РАЗДЕЛ 1(АМП)'!#REF!","v":{"$error":"#REF!"}},{"$f":"'РАЗДЕЛ 1(АМП)'!#REF!","v":{"$error":"#REF!"}},null,490004,null,"2017-02-01"]
[null,null,{"$f":"'РАЗДЕЛ 1(АМП)'!#REF!","v":{"$error":"#REF!"}},{"$f":"'РАЗДЕЛ 1(АМП)'!#REF!","v":{"$error":"#REF!"}},{"$f":"'РАЗДЕЛ 1(АМП)'!#REF!","v":{"$error":"#REF!"}},{"$f":"'РАЗДЕЛ 1(АМП)'!#REF!","v":{"$error":"#REF!"}},null,490004,null,"2017-02-01"]
[null,null,{"$f":"'РАЗДЕЛ 1(АМП)'!#REF!","v":{"$error":"#REF!"}},{"$f":"'РАЗДЕЛ 1(АМП)'!#REF!","v":{"$error":"#REF!"}},{"$f":"'РАЗДЕЛ 1(АМП)'!#REF!","v":{"$error":"#REF!"}},{"$f":"'РАЗДЕЛ 1(АМП)'!#REF!","v":{"$error":"#REF!"}},null,490004,null,"2017-02-01"]
[null,null,{"$f":"'РАЗДЕЛ 1(АМП)'!#REF!","v":{"$error":"#REF!"}},{"$f":"'РАЗДЕЛ 1(АМП)'!#REF!","v":{"$error":"#REF!"}},{"$f":"'РАЗДЕЛ 1(АМП)'!#REF!","v":{"$error":"#REF!"}},{"$f":"'РАЗДЕЛ 1(АМП)'!#REF!","v":{"$error":"#REF!"}},null,490004,null,"2017-02-01"]
[null,null,{"$f":"'РАЗДЕЛ 1(АМП)'!#REF!","v":{"$error":"#REF!"}},{"$f":"'РАЗДЕЛ 1(АМП)'!#REF!","v":{"$error":"#REF!"}},null,{"$f":"'РАЗДЕЛ 1(АМП)'!#REF!","v":{"$error":"#REF!"}},{"$f":"'РАЗДЕЛ 1(АМП)'!#REF!","v":{"$error":"#REF!"}},490004,null,"2017-02-01"]
[null,null,{"$f":"'РАЗДЕЛ 1(АМП)'!#REF!","v":{"$error":"#REF!"}},{"$f":"'РАЗДЕЛ 1(АМП)'!#REF!","v":{"$error":"#REF!"}},{"$f":"'РАЗДЕЛ 1(АМП)'!#REF!","v":{"$error":"#REF!"}},{"$f":"'РАЗДЕЛ 1(АМП)'!#REF!","v":{"$error":"#REF!"}},null,490004,null,"2017-02-01"]
[null,null,{"$f":"'РАЗДЕЛ 1(АМП)'!#REF!","v":{"$error":"#REF!"}},{"$f":"'РАЗДЕЛ 1(АМП)'!#REF!","v":{"$error":"#REF!"}},{"$f":"'РАЗДЕЛ 1(АМП)'!#REF!","v":{"$error":"#REF!"}},{"$f":"'РАЗДЕЛ 1(АМП)'!#REF!","v":{"$error":"#REF!"}},null,490004,null,"2017-02-01"]
[null,null,{"$f":"'РАЗДЕЛ 1(АМП)'!#REF!","v":{"$error":"#REF!"}},{"$f":"'РАЗДЕЛ 1(АМП)'!#REF!","v":{"$error":"#REF!"}},{"$f":"'РАЗДЕЛ 1(АМП)'!#REF!","v":{"$error":"#REF!"}},{"$f":"'РАЗДЕЛ 1(АМП)'!#REF!","v":{"$error":"#REF!"}},null,490004,null,"2017-02-01"]
[null,null,{"$f":"'РАЗДЕЛ 1(АМП)'!#REF!","v":{"$error":"#REF!"}},{"$f":"'РАЗДЕЛ 1(АМП)'!#REF!","v":{"$error":"#REF!"}},{"$f":"'РАЗДЕЛ 1(АМП)'!#REF!","v":{"$error":"#REF!"}},{"$f":"'РАЗДЕЛ 1(АМП)'!#REF!","v":{"$error":"#REF!"}},null,490004,null,"2017-02-01"]
[null,null,{"$f":"'РАЗДЕЛ 1(АМП)'!#REF!","v":{"$error":"#REF!"}},{"$f":"'РАЗДЕЛ 1(АМП)'!#REF!","v":{"$error":"#REF!"}},{"$f":"'РАЗДЕЛ 1(АМП)'!#REF!","v":{"$error":"#REF!"}},{"$f":"'РАЗДЕЛ 1(АМП)'!#REF!","v":{"$error":"#REF!"}},null,490004,null,"2017-02-01"]
[null,null,{"$f":"'РАЗДЕЛ 1(АМП)'!#REF!","v":{"$error":"#REF!"}},{"$f":"'РАЗДЕЛ 1(АМП)'!#REF!","v":{"$error":"#REF!"}},{"$f":"'РАЗДЕЛ 1(АМП)'!#REF!","v":{"$error":"#REF!"}},{"$f":"'РАЗДЕЛ 1(АМП)'!#REF!","v":{"$error":"#REF!"}},null,490004,null,"2017-02-01"]
[null,null,{"$f":"'РАЗДЕЛ 1(АМП)'!#REF!","v":{"$error":"#REF!"}},{"$f":"'РАЗДЕЛ 1(АМП)'!#REF!","v":{"$error":"#REF!"}},{"$f":"'РАЗДЕЛ 1(АМП)'!#REF!","v":{"$error":"#REF!"}},{"$f":"'РАЗДЕЛ 1(АМП)'!#REF!","v":{"$error":"#REF!"}},null,490004,null,"2017-02-01"]
[null,null,{"$f":"'РАЗДЕЛ 1(АМП)'!#REF!","v":{"$error":"#REF!"}},{"$f":"'РАЗДЕЛ 1(АМП)'!#REF!","v":{"$error":"#REF!"}},{"$f":"'РАЗДЕЛ 1(АМП)'!#REF!","v":{"$error":"#REF!"}},{"$f":"'РАЗДЕЛ 1(АМП)'!#REF!","v":{"$error":"#REF!"}},null,490004,null,"2017-02-01"]
[null,null,{"$f":"'РАЗДЕЛ 1(АМП)'!#REF!","v":{"$error":"#REF!"}},{"$f":"'РАЗДЕЛ 1(АМП)'!#REF!","v":{"$error":"#REF!"}},{"$f":"'РАЗДЕЛ 1(АМП)'!#REF!","v":{"$error":"#REF!"}},{"$f":"'РАЗДЕЛ 1(АМП)'!#REF!","v":{"$error":"#REF!"}},null,490004,null,"2017-02-01"]
[null,null,{"$f":"'РАЗДЕЛ 1(АМП)'!#REF!","v":{"$error":"#REF!"}},{"$f":"'РАЗДЕЛ 1(АМП)'!#REF!","v":{"$error":"#REF!"}},{"$f":"'РАЗДЕЛ 1(АМП)'!#REF!","v":{"$error":"#REF!"}},{"$f":"'РАЗДЕЛ 1(АМП)'!#REF!","v":{"$error":"#REF!"}},null,{"$f":"H140","v":490004},null,{"$f":"J140","v":"2017-02-01"}]
[null,null,{"$f":"'РАЗДЕЛ 1(АМП)'!#REF!","v":{"$error":"#REF!"}},{"$f":"'РАЗДЕЛ 1(АМП)'!#REF!","v":{"$error":"#REF!"}},{"$f":"'РАЗДЕЛ 1(АМП)'!#REF!","v":{"$error":"#REF!"}},{"$f":"'РАЗДЕЛ 1(АМП)'!#REF!","v":{"$error":"#REF!"}},null,490004,null,"2017-02-01"]
[null,null,{"$f":"'РАЗДЕЛ 1(АМП)'!#REF!","v":{"$error":"#REF!"}},{"$f":"'РАЗДЕЛ 1(АМП)'!#REF!","v":{"$error":"#REF!"}},{"$f":"'РАЗДЕЛ 1(АМП)'!#REF!","v":{"$error":"#REF!"}},{"$f":"'РАЗДЕЛ 1(АМП)'!#REF!","v":{"$error":"#REF!"}},null,490004,null,"2017-02-01"]
[null,null,{"$f":"'РАЗДЕЛ 1(АМП)'!#REF!","v":{"$error":"#REF!"}},{"$f":"'РАЗДЕЛ 1(АМП)'!#REF!","v":{"$error":"#REF!"}},{"$f":"'РАЗДЕЛ 1(АМП)'!#REF!","v":{"$error":"#REF!"}},{"$f":"'РАЗДЕЛ 1(АМП)'!#REF!","v":{"$error":"#REF!"}},null,490004,null,"2017-02-01"]
[null,null,{"$f":"'РАЗДЕЛ 1(АМП)'!#REF!","v":{"$error":"#REF!"}},{"$f":"'РАЗДЕЛ 1(АМП)'!#REF!","v":{"$error":"#REF!"}},{"$f":"'РАЗДЕЛ 1(АМП)'!#REF!","v":{"$error":"#REF!"}},{"$f":"'РАЗДЕЛ 1(АМП)'!#REF!","v":{"$error":"#REF!"}},null,490004,null,"2017-02-01"]
[null,null,{"$f":"'РАЗДЕЛ 1(АМП)'!#REF!","v":{"$error":"#REF!"}},{"$f":"'РАЗДЕЛ 1(АМП)'!#REF!","v":{"$error":"#REF!"}},{"$f":"'РАЗДЕЛ 1(АМП)'!#REF!","v":{"$error":"#REF!"}},{"$f":"'РАЗДЕЛ 1(АМП)'!#REF!","v":{"$error":"#REF!"}},null,490004,null,"2017-02-01"]
[null,null,{"$f":"'РАЗДЕЛ 1(АМП)'!#REF!","v":{"$error":"#REF!"}},{"$f":"'РАЗДЕЛ 1(АМП)'!#REF!","v":{"$error":"#REF!"}},{"$f":"'РАЗДЕЛ 1(АМП)'!#REF!","v":{"$error":"#REF!"}},{"$f":"'РАЗДЕЛ 1(АМП)'!#REF!","v":{"$error":"#REF!"}},null,490004,null,"2017-02-01"]
[null,null,{"$f":"'РАЗДЕЛ 1(АМП)'!#REF!","v":{"$error":"#REF!"}},{"$f":"'РАЗДЕЛ 1(АМП)'!#REF!","v":{"$error":"#REF!"}},{"$f":"'РАЗДЕЛ 1(АМП)'!#REF!","v":{"$error":"#REF!"}},{"$f":"'РАЗДЕЛ 1(АМП)'!#REF!","v":{"$error":"#REF!"}},null,490004,null,"2017-02-01"]
[null,null,{"$f":"'РАЗДЕЛ 1(АМП)'!#REF!","v":{"$error":"#REF!"}},{"$f":"'РАЗДЕЛ 1(АМП)'!#REF!","v":{"$error":"#REF!"}},{"$f":"'РАЗДЕЛ 1(АМП)'!#REF!","v":{"$error":"#REF!"}},{"$f":"'РАЗДЕЛ 1(АМП)'!#REF!","v":{"$error":"#REF!"}},null,490004,null,"2017-02-01"]
[null,null,{"$f":"'РАЗДЕЛ 1(АМП)'!#REF!","v":{"$error":"#REF!"}},{"$f":"'РАЗДЕЛ 1(АМП)'!#REF!","v":{"$error":"#REF!"}},{"$f":"'РАЗДЕЛ 1(АМП)'!#REF!","v":{"$error":"#REF!"}},{"$f":"'РАЗДЕЛ 1(АМП)'!#REF!","v":{"$error":"#REF!"}},null,490004,null,"2017-02-01"]
[null,null,{"$f":"'РАЗДЕЛ 1(АМП)'!#REF!","v":{"$error":"#REF!"}},{"$f":"'РАЗДЕЛ 1(АМП)'!#REF!","v":{"$error":"#REF!"}},{"$f":"'РАЗДЕЛ 1(АМП)'!#REF!","v":{"$error":"#REF!"}},{"$f":"'РАЗДЕЛ 1(АМП)'!#REF!","v":{"$error":"#REF!"}},null,490004,null,"2017-02-01"]
[null,null,{"$f":"'РАЗДЕЛ 1(АМП)'!#REF!","v":{"$error":"#REF!"}},{"$f":"'РАЗДЕЛ 1(АМП)'!#REF!","v":{"$error":"#REF!"}},{"$f":"'РАЗДЕЛ 1(АМП)'!#REF!","v":{"$error":"#REF!"}},{"$f":"'РАЗДЕЛ 1(АМП)'!#REF!","v":{"$error":"#REF!"}},null,490004,null,"2017-02-01"]
[null,null,{"$f":"'РАЗДЕЛ 1(АМП)'!#REF!","v":{"$error":"#REF!"}},{"$f":"'РАЗДЕЛ 1(АМП)'!#REF!","v":{"$error":"#REF!"}},null,{"$f":"'РАЗДЕЛ 1(АМП)'!#REF!","v":{"$error":"#REF!"}},{"$f":"'РАЗДЕЛ 1(АМП)'!#REF!","v":{"$error":"#REF!"}},490004,null,"2017-02-01"]
[null,null,{"$f":"'РАЗДЕЛ 1(АМП)'!#REF!","v":{"$error":"#REF!"}},{"$f":"'РАЗДЕЛ 1(АМП)'!#REF!","v":{"$error":"#REF!"}},{"$f":"'РАЗДЕЛ 1(АМП)'!#REF!","v":{"$error":"#REF!"}},{"$f":"'РАЗДЕЛ 1(АМП)'!#REF!","v":{"$error":"#REF!"}},null,490004,null,"2017-02-01"]
[null,null,{"$f":"'РАЗДЕЛ 1(АМП)'!#REF!","v":{"$error":"#REF!"}},{"$f":"'РАЗДЕЛ 1(АМП)'!#REF!","v":{"$error":"#REF!"}},{"$f":"'РАЗДЕЛ 1(АМП)'!#REF!","v":{"$error":"#REF!"}},{"$f":"'РАЗДЕЛ 1(АМП)'!#REF!","v":{"$error":"#REF!"}},null,490004,null,"2017-02-01"]
[null,null,{"$f":"'РАЗДЕЛ 1(АМП)'!#REF!","v":{"$error":"#REF!"}},{"$f":"'РАЗДЕЛ 1(АМП)'!#REF!","v":{"$error":"#REF!"}},{"$f":"'РАЗДЕЛ 1(АМП)'!#REF!","v":{"$error":"#REF!"}},{"$f":"'РАЗДЕЛ 1(АМП)'!#REF!","v":{"$error":"#REF!"}},null,490004,null,"2017-02-01"]
[null,null,{"$f":"'РАЗДЕЛ 1(АМП)'!#REF!","v":{"$error":"#REF!"}},{"$f":"'РАЗДЕЛ 1(АМП)'!#REF!","v":{"$error":"#REF!"}},{"$f":"'РАЗДЕЛ 1(АМП)'!#REF!","v":{"$error":"#REF!"}},{"$f":"'РАЗДЕЛ 1(АМП)'!#REF!","v":{"$error":"#REF!"}},null,490004,null,"2017-02-01"]
[null,null,{"$f":"'РАЗДЕЛ 1(АМП)'!#REF!","v":{"$error":"#REF!"}},{"$f":"'РАЗДЕЛ 1(АМП)'!#REF!","v":{"$error":"#REF!"}},{"$f":"'РАЗДЕЛ 1(АМП)'!#REF!","v":{"$error":"#REF!"}},{"$f":"'РАЗДЕЛ 1(АМП)'!#REF!","v":{"$error":"#REF!"}},null,490004,null,"2017-02-01"]
[null,null,{"$f":"'РАЗДЕЛ 1(АМП)'!#REF!","v":{"$error":"#REF!"}},{"$f":"'РАЗДЕЛ 1(АМП)'!#REF!","v":{"$error":"#REF!"}},{"$f":"'РАЗДЕЛ 1(АМП)'!#REF!","v":{"$error":"#REF!"}},{"$f":"'РАЗДЕЛ 1(АМП)'!#REF!","v":{"$error":"#REF!"}},null,490004,null,"2017-02-01"]
[null,null,{"$f":"'РАЗДЕЛ 1(АМП)'!#REF!","v":{"$error":"#REF!"}},{"$f":"'РАЗДЕЛ 1(АМП)'!#REF!","v":{"$error":"#REF!"}},{"$f":"'РАЗДЕЛ 1(АМП)'!#REF!","v":{"$error":"#REF!"}},{"$f":"'РАЗДЕЛ 1(АМП)'!#REF!","v":{"$error":"#REF!"}},null,490004,null,"2017-02-01"]
[null,null,{"$f":"'РАЗДЕЛ 1(АМП)'!#REF!","v":{"$error":"#REF!"}},{"$f":"'РАЗДЕЛ 1(АМП)'!#REF!","v":{"$error":"#REF!"}},{"$f":"'РАЗДЕЛ 1(АМП)'!#REF!","v":{"$error":"#REF!"}},{"$f":"'РАЗДЕЛ 1(АМП)'!#REF!","v":{"$error":"#REF!"}},null,490004,null,"2017-02-01"]
[null,null,{"$f":"'РАЗДЕЛ 1(АМП)'!#REF!","v":{"$error":"#REF!"}},{"$f":"'РАЗДЕЛ 1(АМП)'!#REF!","v":{"$error":"#REF!"}},{"$f":"'РАЗДЕЛ 1(АМП)'!#REF!","v":{"$error":"#REF!"}},{"$f":"'РАЗДЕЛ 1(АМП)'!#REF!","v":{"$error":"#REF!"}},null,490004,null,"2017-02-01"]
[null,null,{"$f":"#REF!","v":{"$error":"#REF!"}},{"$f":"#REF!","v":{"$error":"#REF!"}},null,{"$f":"#REF!","v":{"$error":"#REF!"}},{"$f":"#REF!","v":{"$error":"#REF!"}},{"$f":"H162","v":490004},{"$f":"#REF!","v":{"$error":"#REF!"}},{"$f":"J162","v":"2017-02-01"}]
[null,null,{"$f":"#REF!","v":{"$error":"#REF!"}},{"$f":"#REF!","v":{"$error":"#REF!"}},{"$f":"#REF!","v":{"$error":"#REF!"}},{"$f":"#REF!","v":{"$error":"#REF!"}},null,490004,{"$f":"#REF!","v":{"$error":"#REF!"}},"2017-02-01"]
[null,null,{"$f":"#REF!","v":{"$error":"#REF!"}},{"$f":"#REF!","v":{"$error":"#REF!"}},{"$f":"#REF!","v":{"$error":"#REF!"}},{"$f":"#REF!","v":{"$error":"#REF!"}},null,490004,{"$f":"#REF!","v":{"$error":"#REF!"}},"2017-02-01"]
[null,null,{"$f":"#REF!","v":{"$error":"#REF!"}},{"$f":"#REF!","v":{"$error":"#REF!"}},{"$f":"#REF!","v":{"$error":"#REF!"}},{"$f":"#REF!","v":{"$error":"#REF!"}},null,490004,{"$f":"#REF!","v":{"$error":"#REF!"}},"2017-02-01"]
[null,null,{"$f":"#REF!","v":{"$error":"#REF!"}},{"$f":"#REF!","v":{"$error":"#REF!"}},{"$f":"#REF!","v":{"$error":"#REF!"}},{"$f":"#REF!","v":{"$error":"#REF!"}},null,490004,{"$f":"#REF!","v":{"$error":"#REF!"}},"2017-02-01"]
[null,null,{"$f":"#REF!","v":{"$error":"#REF!"}},{"$f":"#REF!","v":{"$error":"#REF!"}},{"$f":"#REF!","v":{"$error":"#REF!"}},{"$f":"#REF!","v":{"$error":"#REF!"}},null,490004,{"$f":"#REF!","v":{"$error":"#REF!"}},"2017-02-01"]
[null,null,{"$f":"#REF!","v":{"$error":"#REF!"}},{"$f":"#REF!","v":{"$error":"#REF!"}},null,{"$f":"#REF!","v":{"$error":"#REF!"}},{"$f":"#REF!","v":{"$error":"#REF!"}},490004,{"$f":"#REF!","v":{"$error":"#REF!"}},"2017-02-01"]
[null,null,{"$f":"#REF!","v":{"$error":"#REF!"}},{"$f":"#REF!","v":{"$error":"#REF!"}},{"$f":"#REF!","v":{"$error":"#REF!"}},{"$f":"#REF!","v":{"$error":"#REF!"}},null,490004,{"$f":"#REF!","v":{"$error":"#REF!"}},"2017-02-01"]
[null,null,{"$f":"#REF!","v":{"$error":"#REF!"}},{"$f":"#REF!","v":{"$error":"#REF!"}},{"$f":"#REF!","v":{"$error":"#REF!"}},{"$f":"#REF!","v":{"$error":"#REF!"}},null,490004,{"$f":"#REF!","v":{"$error":"#REF!"}},"2017-02-01"]
[null,null,{"$f":"#REF!","v":{"$error":"#REF!"}},{"$f":"#REF!","v":{"$error":"#REF!"}},{"$f":"#REF!","v":{"$error":"#REF!"}},{"$f":"#REF!","v":{"$error":"#REF!"}},null,490004,{"$f":"#REF!","v":{"$error":"#REF!"}},"2017-02-01"]
[null,null,{"$f":"#REF!","v":{"$error":"#REF!"}},{"$f":"#REF!","v":{"$error":"#REF!"}},{"$f":"#REF!","v":{"$error":"#REF!"}},{"$f":"#REF!","v":{"$error":"#REF!"}},null,490004,{"$f":"#REF!","v":{"$error":"#REF!"}},"2017-02-01"]
[null,null,{"$f":"'РАЗДЕЛ 4 (СМП) '!#REF!","v":{"$error":"#REF!"}},{"$f":"'РАЗДЕЛ 4 (СМП) '!#REF!","v":{"$error":"#REF!"}},{"$f":"'РАЗДЕЛ 4 (СМП) '!#REF!","v":{"$error":"#REF!"}},{"$f":"'РАЗДЕЛ 4 (СМП) '!#REF!","v":{"$error":"#REF!"}},null,{"$f":"H173","v":490004},null,{"$f":"J173","v":"2017-02-01"}]
[null,null,{"$f":"'РАЗДЕЛ 1(АМП)'!#REF!","v":{"$error":"#REF!"}},{"$f":"'РАЗДЕЛ 1(АМП)'!#REF!","v":{"$error":"#REF!"}},{"$f":"'РАЗДЕЛ 1(АМП)'!#REF!","v":{"$error":"#REF!"}},{"$f":"'РАЗДЕЛ 1(АМП)'!#REF!","v":{"$error":"#REF!"}},null,490005,null,"2017-02-01"]
[null,null,{"$f":"'РАЗДЕЛ 1(АМП)'!#REF!","v":{"$error":"#REF!"}},{"$f":"'РАЗДЕЛ 1(АМП)'!#REF!","v":{"$error":"#REF!"}},null,{"$f":"'РАЗДЕЛ 1(АМП)'!#REF!","v":{"$error":"#REF!"}},{"$f":"'РАЗДЕЛ 1(АМП)'!#REF!","v":{"$error":"#REF!"}},{"$f":"H175","v":490005},null,"2017-02-01"]
[null,null,{"$f":"'РАЗДЕЛ 1(АМП)'!#REF!","v":{"$error":"#REF!"}},{"$f":"'РАЗДЕЛ 1(АМП)'!#REF!","v":{"$error":"#REF!"}},{"$f":"'РАЗДЕЛ 1(АМП)'!#REF!","v":{"$error":"#REF!"}},{"$f":"'РАЗДЕЛ 1(АМП)'!#REF!","v":{"$error":"#REF!"}},null,{"$f":"H176","v":490005},null,{"$f":"J176","v":"2017-02-01"}]
[null,null,{"$f":"'РАЗДЕЛ 1(АМП)'!#REF!","v":{"$error":"#REF!"}},{"$f":"'РАЗДЕЛ 1(АМП)'!#REF!","v":{"$error":"#REF!"}},{"$f":"'РАЗДЕЛ 1(АМП)'!#REF!","v":{"$error":"#REF!"}},{"$f":"'РАЗДЕЛ 1(АМП)'!#REF!","v":{"$error":"#REF!"}},null,490005,null,"2017-02-01"]
[null,null,{"$f":"'РАЗДЕЛ 1(АМП)'!#REF!","v":{"$error":"#REF!"}},{"$f":"'РАЗДЕЛ 1(АМП)'!#REF!","v":{"$error":"#REF!"}},{"$f":"'РАЗДЕЛ 1(АМП)'!#REF!","v":{"$error":"#REF!"}},{"$f":"'РАЗДЕЛ 1(АМП)'!#REF!","v":{"$error":"#REF!"}},null,490005,null,"2017-02-01"]
[null,null,{"$f":"'РАЗДЕЛ 1(АМП)'!#REF!","v":{"$error":"#REF!"}},{"$f":"'РАЗДЕЛ 1(АМП)'!#REF!","v":{"$error":"#REF!"}},{"$f":"'РАЗДЕЛ 1(АМП)'!#REF!","v":{"$error":"#REF!"}},{"$f":"'РАЗДЕЛ 1(АМП)'!#REF!","v":{"$error":"#REF!"}},null,490005,null,"2017-02-01"]
[null,null,{"$f":"'РАЗДЕЛ 1(АМП)'!#REF!","v":{"$error":"#REF!"}},{"$f":"'РАЗДЕЛ 1(АМП)'!#REF!","v":{"$error":"#REF!"}},{"$f":"'РАЗДЕЛ 1(АМП)'!#REF!","v":{"$error":"#REF!"}},{"$f":"'РАЗДЕЛ 1(АМП)'!#REF!","v":{"$error":"#REF!"}},null,490005,null,"2017-02-01"]
[null,null,{"$f":"'РАЗДЕЛ 1(АМП)'!#REF!","v":{"$error":"#REF!"}},{"$f":"'РАЗДЕЛ 1(АМП)'!#REF!","v":{"$error":"#REF!"}},{"$f":"'РАЗДЕЛ 1(АМП)'!#REF!","v":{"$error":"#REF!"}},{"$f":"'РАЗДЕЛ 1(АМП)'!#REF!","v":{"$error":"#REF!"}},null,490005,null,"2017-02-01"]
[null,null,{"$f":"'РАЗДЕЛ 1(АМП)'!#REF!","v":{"$error":"#REF!"}},{"$f":"'РАЗДЕЛ 1(АМП)'!#REF!","v":{"$error":"#REF!"}},{"$f":"'РАЗДЕЛ 1(АМП)'!#REF!","v":{"$error":"#REF!"}},{"$f":"'РАЗДЕЛ 1(АМП)'!#REF!","v":{"$error":"#REF!"}},null,490005,null,"2017-02-01"]
[null,null,{"$f":"'РАЗДЕЛ 1(АМП)'!#REF!","v":{"$error":"#REF!"}},{"$f":"'РАЗДЕЛ 1(АМП)'!#REF!","v":{"$error":"#REF!"}},{"$f":"'РАЗДЕЛ 1(АМП)'!#REF!","v":{"$error":"#REF!"}},{"$f":"'РАЗДЕЛ 1(АМП)'!#REF!","v":{"$error":"#REF!"}},null,490005,null,"2017-02-01"]
[null,null,{"$f":"'РАЗДЕЛ 1(АМП)'!#REF!","v":{"$error":"#REF!"}},{"$f":"'РАЗДЕЛ 1(АМП)'!#REF!","v":{"$error":"#REF!"}},{"$f":"'РАЗДЕЛ 1(АМП)'!#REF!","v":{"$error":"#REF!"}},{"$f":"'РАЗДЕЛ 1(АМП)'!#REF!","v":{"$error":"#REF!"}},null,490005,null,"2017-02-01"]
[null,null,{"$f":"'РАЗДЕЛ 1(АМП)'!#REF!","v":{"$error":"#REF!"}},{"$f":"'РАЗДЕЛ 1(АМП)'!#REF!","v":{"$error":"#REF!"}},{"$f":"'РАЗДЕЛ 1(АМП)'!#REF!","v":{"$error":"#REF!"}},{"$f":"'РАЗДЕЛ 1(АМП)'!#REF!","v":{"$error":"#REF!"}},null,490005,null,"2017-02-01"]
[null,null,{"$f":"'РАЗДЕЛ 1(АМП)'!#REF!","v":{"$error":"#REF!"}},{"$f":"'РАЗДЕЛ 1(АМП)'!#REF!","v":{"$error":"#REF!"}},{"$f":"'РАЗДЕЛ 1(АМП)'!#REF!","v":{"$error":"#REF!"}},{"$f":"'РАЗДЕЛ 1(АМП)'!#REF!","v":{"$error":"#REF!"}},null,490005,null,"2017-02-01"]
[null,null,{"$f":"'РАЗДЕЛ 1(АМП)'!#REF!","v":{"$error":"#REF!"}},{"$f":"'РАЗДЕЛ 1(АМП)'!#REF!","v":{"$error":"#REF!"}},{"$f":"'РАЗДЕЛ 1(АМП)'!#REF!","v":{"$error":"#REF!"}},{"$f":"'РАЗДЕЛ 1(АМП)'!#REF!","v":{"$error":"#REF!"}},null,490005,null,"2017-02-01"]
[null,null,{"$f":"'РАЗДЕЛ 1(АМП)'!#REF!","v":{"$error":"#REF!"}},{"$f":"'РАЗДЕЛ 1(АМП)'!#REF!","v":{"$error":"#REF!"}},{"$f":"'РАЗДЕЛ 1(АМП)'!#REF!","v":{"$error":"#REF!"}},{"$f":"'РАЗДЕЛ 1(АМП)'!#REF!","v":{"$error":"#REF!"}},null,490005,null,"2017-02-01"]
[null,null,{"$f":"'РАЗДЕЛ 1(АМП)'!#REF!","v":{"$error":"#REF!"}},{"$f":"'РАЗДЕЛ 1(АМП)'!#REF!","v":{"$error":"#REF!"}},{"$f":"'РАЗДЕЛ 1(АМП)'!#REF!","v":{"$error":"#REF!"}},{"$f":"'РАЗДЕЛ 1(АМП)'!#REF!","v":{"$error":"#REF!"}},null,490005,null,"2017-02-01"]
[null,null,{"$f":"'РАЗДЕЛ 1(АМП)'!#REF!","v":{"$error":"#REF!"}},{"$f":"'РАЗДЕЛ 1(АМП)'!#REF!","v":{"$error":"#REF!"}},null,{"$f":"'РАЗДЕЛ 1(АМП)'!#REF!","v":{"$error":"#REF!"}},{"$f":"'РАЗДЕЛ 1(АМП)'!#REF!","v":{"$error":"#REF!"}},490005,null,"2017-02-01"]
[null,null,{"$f":"'РАЗДЕЛ 1(АМП)'!#REF!","v":{"$error":"#REF!"}},{"$f":"'РАЗДЕЛ 1(АМП)'!#REF!","v":{"$error":"#REF!"}},{"$f":"'РАЗДЕЛ 1(АМП)'!#REF!","v":{"$error":"#REF!"}},{"$f":"'РАЗДЕЛ 1(АМП)'!#REF!","v":{"$error":"#REF!"}},null,490005,null,"2017-02-01"]
[null,null,{"$f":"'РАЗДЕЛ 1(АМП)'!#REF!","v":{"$error":"#REF!"}},{"$f":"'РАЗДЕЛ 1(АМП)'!#REF!","v":{"$error":"#REF!"}},{"$f":"'РАЗДЕЛ 1(АМП)'!#REF!","v":{"$error":"#REF!"}},{"$f":"'РАЗДЕЛ 1(АМП)'!#REF!","v":{"$error":"#REF!"}},null,490005,null,"2017-02-01"]
[null,null,{"$f":"'РАЗДЕЛ 1(АМП)'!#REF!","v":{"$error":"#REF!"}},{"$f":"'РАЗДЕЛ 1(АМП)'!#REF!","v":{"$error":"#REF!"}},{"$f":"'РАЗДЕЛ 1(АМП)'!#REF!","v":{"$error":"#REF!"}},{"$f":"'РАЗДЕЛ 1(АМП)'!#REF!","v":{"$error":"#REF!"}},null,490005,null,"2017-02-01"]
[null,null,{"$f":"'РАЗДЕЛ 1(АМП)'!#REF!","v":{"$error":"#REF!"}},{"$f":"'РАЗДЕЛ 1(АМП)'!#REF!","v":{"$error":"#REF!"}},{"$f":"'РАЗДЕЛ 1(АМП)'!#REF!","v":{"$error":"#REF!"}},{"$f":"'РАЗДЕЛ 1(АМП)'!#REF!","v":{"$error":"#REF!"}},null,490005,null,"2017-02-01"]
[null,null,{"$f":"'РАЗДЕЛ 1(АМП)'!#REF!","v":{"$error":"#REF!"}},{"$f":"'РАЗДЕЛ 1(АМП)'!#REF!","v":{"$error":"#REF!"}},{"$f":"'РАЗДЕЛ 1(АМП)'!#REF!","v":{"$error":"#REF!"}},{"$f":"'РАЗДЕЛ 1(АМП)'!#REF!","v":{"$error":"#REF!"}},null,490005,null,"2017-02-01"]
[null,null,{"$f":"'РАЗДЕЛ 1(АМП)'!#REF!","v":{"$error":"#REF!"}},{"$f":"'РАЗДЕЛ 1(АМП)'!#REF!","v":{"$error":"#REF!"}},{"$f":"'РАЗДЕЛ 1(АМП)'!#REF!","v":{"$error":"#REF!"}},{"$f":"'РАЗДЕЛ 1(АМП)'!#REF!","v":{"$error":"#REF!"}},null,490005,null,"2017-02-01"]
[null,null,{"$f":"'РАЗДЕЛ 1(АМП)'!#REF!","v":{"$error":"#REF!"}},{"$f":"'РАЗДЕЛ 1(АМП)'!#REF!","v":{"$error":"#REF!"}},{"$f":"'РАЗДЕЛ 1(АМП)'!#REF!","v":{"$error":"#REF!"}},{"$f":"'РАЗДЕЛ 1(АМП)'!#REF!","v":{"$error":"#REF!"}},null,{"$f":"H197","v":490005},null,{"$f":"J197","v":"2017-02-01"}]
[null,null,{"$f":"'РАЗДЕЛ 1(АМП)'!#REF!","v":{"$error":"#REF!"}},{"$f":"'РАЗДЕЛ 1(АМП)'!#REF!","v":{"$error":"#REF!"}},{"$f":"'РАЗДЕЛ 1(АМП)'!#REF!","v":{"$error":"#REF!"}},{"$f":"'РАЗДЕЛ 1(АМП)'!#REF!","v":{"$error":"#REF!"}},null,490005,null,"2017-02-01"]
[null,null,{"$f":"'РАЗДЕЛ 1(АМП)'!#REF!","v":{"$error":"#REF!"}},{"$f":"'РАЗДЕЛ 1(АМП)'!#REF!","v":{"$error":"#REF!"}},{"$f":"'РАЗДЕЛ 1(АМП)'!#REF!","v":{"$error":"#REF!"}},{"$f":"'РАЗДЕЛ 1(АМП)'!#REF!","v":{"$error":"#REF!"}},null,490005,null,"2017-02-01"]
[null,null,{"$f":"'РАЗДЕЛ 1(АМП)'!#REF!","v":{"$error":"#REF!"}},{"$f":"'РАЗДЕЛ 1(АМП)'!#REF!","v":{"$error":"#REF!"}},{"$f":"'РАЗДЕЛ 1(АМП)'!#REF!","v":{"$error":"#REF!"}},{"$f":"'РАЗДЕЛ 1(АМП)'!#REF!","v":{"$error":"#REF!"}},null,490005,null,"2017-02-01"]
[null,null,{"$f":"'РАЗДЕЛ 1(АМП)'!#REF!","v":{"$error":"#REF!"}},{"$f":"'РАЗДЕЛ 1(АМП)'!#REF!","v":{"$error":"#REF!"}},{"$f":"'РАЗДЕЛ 1(АМП)'!#REF!","v":{"$error":"#REF!"}},{"$f":"'РАЗДЕЛ 1(АМП)'!#REF!","v":{"$error":"#REF!"}},null,{"$f":"H201","v":490005},null,{"$f":"J201","v":"2017-02-01"}]
[null,null,{"$f":"'РАЗДЕЛ 1(АМП)'!#REF!","v":{"$error":"#REF!"}},{"$f":"'РАЗДЕЛ 1(АМП)'!#REF!","v":{"$error":"#REF!"}},{"$f":"'РАЗДЕЛ 1(АМП)'!#REF!","v":{"$error":"#REF!"}},{"$f":"'РАЗДЕЛ 1(АМП)'!#REF!","v":{"$error":"#REF!"}},null,490005,null,"2017-02-01"]
[null,null,{"$f":"'РАЗДЕЛ 1(АМП)'!#REF!","v":{"$error":"#REF!"}},{"$f":"'РАЗДЕЛ 1(АМП)'!#REF!","v":{"$error":"#REF!"}},{"$f":"'РАЗДЕЛ 1(АМП)'!#REF!","v":{"$error":"#REF!"}},{"$f":"'РАЗДЕЛ 1(АМП)'!#REF!","v":{"$error":"#REF!"}},null,490005,null,"2017-02-01"]
[null,null,{"$f":"'РАЗДЕЛ 1(АМП)'!#REF!","v":{"$error":"#REF!"}},{"$f":"'РАЗДЕЛ 1(АМП)'!#REF!","v":{"$error":"#REF!"}},{"$f":"'РАЗДЕЛ 1(АМП)'!#REF!","v":{"$error":"#REF!"}},{"$f":"'РАЗДЕЛ 1(АМП)'!#REF!","v":{"$error":"#REF!"}},null,490005,null,"2017-02-01"]
[null,null,{"$f":"'РАЗДЕЛ 1(АМП)'!#REF!","v":{"$error":"#REF!"}},{"$f":"'РАЗДЕЛ 1(АМП)'!#REF!","v":{"$error":"#REF!"}},{"$f":"'РАЗДЕЛ 1(АМП)'!#REF!","v":{"$error":"#REF!"}},{"$f":"'РАЗДЕЛ 1(АМП)'!#REF!","v":{"$error":"#REF!"}},null,490005,null,"2017-02-01"]
[null,null,{"$f":"'РАЗДЕЛ 1(АМП)'!#REF!","v":{"$error":"#REF!"}},{"$f":"'РАЗДЕЛ 1(АМП)'!#REF!","v":{"$error":"#REF!"}},{"$f":"'РАЗДЕЛ 1(АМП)'!#REF!","v":{"$error":"#REF!"}},{"$f":"'РАЗДЕЛ 1(АМП)'!#REF!","v":{"$error":"#REF!"}},null,490005,null,"2017-02-01"]
[null,null,{"$f":"'РАЗДЕЛ 1(АМП)'!#REF!","v":{"$error":"#REF!"}},{"$f":"'РАЗДЕЛ 1(АМП)'!#REF!","v":{"$error":"#REF!"}},{"$f":"'РАЗДЕЛ 1(АМП)'!#REF!","v":{"$error":"#REF!"}},{"$f":"'РАЗДЕЛ 1(АМП)'!#REF!","v":{"$error":"#REF!"}},null,490005,null,"2017-02-01"]
[null,null,{"$f":"'РАЗДЕЛ 1(АМП)'!#REF!","v":{"$error":"#REF!"}},{"$f":"'РАЗДЕЛ 1(АМП)'!#REF!","v":{"$error":"#REF!"}},{"$f":"'РАЗДЕЛ 1(АМП)'!#REF!","v":{"$error":"#REF!"}},{"$f":"'РАЗДЕЛ 1(АМП)'!#REF!","v":{"$error":"#REF!"}},null,490005,null,"2017-02-01"]
[null,null,{"$f":"'РАЗДЕЛ 1(АМП)'!#REF!","v":{"$error":"#REF!"}},{"$f":"'РАЗДЕЛ 1(АМП)'!#REF!","v":{"$error":"#REF!"}},{"$f":"'РАЗДЕЛ 1(АМП)'!#REF!","v":{"$error":"#REF!"}},{"$f":"'РАЗДЕЛ 1(АМП)'!#REF!","v":{"$error":"#REF!"}},null,490005,null,"2017-02-01"]
[null,null,{"$f":"'РАЗДЕЛ 1(АМП)'!#REF!","v":{"$error":"#REF!"}},{"$f":"'РАЗДЕЛ 1(АМП)'!#REF!","v":{"$error":"#REF!"}},{"$f":"'РАЗДЕЛ 1(АМП)'!#REF!","v":{"$error":"#REF!"}},{"$f":"'РАЗДЕЛ 1(АМП)'!#REF!","v":{"$error":"#REF!"}},null,490005,null,"2017-02-01"]
[null,null,{"$f":"'РАЗДЕЛ 1(АМП)'!#REF!","v":{"$error":"#REF!"}},{"$f":"'РАЗДЕЛ 1(АМП)'!#REF!","v":{"$error":"#REF!"}},{"$f":"'РАЗДЕЛ 1(АМП)'!#REF!","v":{"$error":"#REF!"}},{"$f":"'РАЗДЕЛ 1(АМП)'!#REF!","v":{"$error":"#REF!"}},null,490005,null,"2017-02-01"]
[null,null,{"$f":"'РАЗДЕЛ 1(АМП)'!#REF!","v":{"$error":"#REF!"}},{"$f":"'РАЗДЕЛ 1(АМП)'!#REF!","v":{"$error":"#REF!"}},{"$f":"'РАЗДЕЛ 1(АМП)'!#REF!","v":{"$error":"#REF!"}},{"$f":"'РАЗДЕЛ 1(АМП)'!#REF!","v":{"$error":"#REF!"}},null,490005,null,"2017-02-01"]
[null,null,{"$f":"'РАЗДЕЛ 1(АМП)'!#REF!","v":{"$error":"#REF!"}},{"$f":"'РАЗДЕЛ 1(АМП)'!#REF!","v":{"$error":"#REF!"}},{"$f":"'РАЗДЕЛ 1(АМП)'!#REF!","v":{"$error":"#REF!"}},{"$f":"'РАЗДЕЛ 1(АМП)'!#REF!","v":{"$error":"#REF!"}},null,490005,null,"2017-02-01"]
[null,null,{"$f":"'РАЗДЕЛ 1(АМП)'!#REF!","v":{"$error":"#REF!"}},{"$f":"'РАЗДЕЛ 1(АМП)'!#REF!","v":{"$error":"#REF!"}},null,{"$f":"'РАЗДЕЛ 1(АМП)'!#REF!","v":{"$error":"#REF!"}},{"$f":"'РАЗДЕЛ 1(АМП)'!#REF!","v":{"$error":"#REF!"}},490005,null,"2017-02-01"]
[null,null,{"$f":"'РАЗДЕЛ 1(АМП)'!#REF!","v":{"$error":"#REF!"}},{"$f":"'РАЗДЕЛ 1(АМП)'!#REF!","v":{"$error":"#REF!"}},{"$f":"'РАЗДЕЛ 1(АМП)'!#REF!","v":{"$error":"#REF!"}},{"$f":"'РАЗДЕЛ 1(АМП)'!#REF!","v":{"$error":"#REF!"}},null,490005,null,"2017-02-01"]
[null,null,{"$f":"'РАЗДЕЛ 1(АМП)'!#REF!","v":{"$error":"#REF!"}},{"$f":"'РАЗДЕЛ 1(АМП)'!#REF!","v":{"$error":"#REF!"}},{"$f":"'РАЗДЕЛ 1(АМП)'!#REF!","v":{"$error":"#REF!"}},{"$f":"'РАЗДЕЛ 1(АМП)'!#REF!","v":{"$error":"#REF!"}},null,490005,null,"2017-02-01"]
[null,null,{"$f":"'РАЗДЕЛ 1(АМП)'!#REF!","v":{"$error":"#REF!"}},{"$f":"'РАЗДЕЛ 1(АМП)'!#REF!","v":{"$error":"#REF!"}},{"$f":"'РАЗДЕЛ 1(АМП)'!#REF!","v":{"$error":"#REF!"}},{"$f":"'РАЗДЕЛ 1(АМП)'!#REF!","v":{"$error":"#REF!"}},null,490005,null,"2017-02-01"]
[null,null,{"$f":"'РАЗДЕЛ 1(АМП)'!#REF!","v":{"$error":"#REF!"}},{"$f":"'РАЗДЕЛ 1(АМП)'!#REF!","v":{"$error":"#REF!"}},{"$f":"'РАЗДЕЛ 1(АМП)'!#REF!","v":{"$error":"#REF!"}},{"$f":"'РАЗДЕЛ 1(АМП)'!#REF!","v":{"$error":"#REF!"}},null,490005,null,"2017-02-01"]
[null,null,{"$f":"'РАЗДЕЛ 1(АМП)'!#REF!","v":{"$error":"#REF!"}},{"$f":"'РАЗДЕЛ 1(АМП)'!#REF!","v":{"$error":"#REF!"}},{"$f":"'РАЗДЕЛ 1(АМП)'!#REF!","v":{"$error":"#REF!"}},{"$f":"'РАЗДЕЛ 1(АМП)'!#REF!","v":{"$error":"#REF!"}},null,490005,null,"2017-02-01"]
[null,null,{"$f":"'РАЗДЕЛ 1(АМП)'!#REF!","v":{"$error":"#REF!"}},{"$f":"'РАЗДЕЛ 1(АМП)'!#REF!","v":{"$error":"#REF!"}},{"$f":"'РАЗДЕЛ 1(АМП)'!#REF!","v":{"$error":"#REF!"}},{"$f":"'РАЗДЕЛ 1(АМП)'!#REF!","v":{"$error":"#REF!"}},null,490005,null,"2017-02-01"]
[null,null,{"$f":"'РАЗДЕЛ 1(АМП)'!#REF!","v":{"$error":"#REF!"}},{"$f":"'РАЗДЕЛ 1(АМП)'!#REF!","v":{"$error":"#REF!"}},{"$f":"'РАЗДЕЛ 1(АМП)'!#REF!","v":{"$error":"#REF!"}},{"$f":"'РАЗДЕЛ 1(АМП)'!#REF!","v":{"$error":"#REF!"}},null,490005,null,"2017-02-01"]
[null,null,{"$f":"'РАЗДЕЛ 1(АМП)'!#REF!","v":{"$error":"#REF!"}},{"$f":"'РАЗДЕЛ 1(АМП)'!#REF!","v":{"$error":"#REF!"}},{"$f":"'РАЗДЕЛ 1(АМП)'!#REF!","v":{"$error":"#REF!"}},{"$f":"'РАЗДЕЛ 1(АМП)'!#REF!","v":{"$error":"#REF!"}},null,490005,null,"2017-02-01"]
[null,null,{"$f":"'РАЗДЕЛ 1(АМП)'!#REF!","v":{"$error":"#REF!"}},{"$f":"'РАЗДЕЛ 1(АМП)'!#REF!","v":{"$error":"#REF!"}},{"$f":"'РАЗДЕЛ 1(АМП)'!#REF!","v":{"$error":"#REF!"}},{"$f":"'РАЗДЕЛ 1(АМП)'!#REF!","v":{"$error":"#REF!"}},null,490005,null,"2017-02-01"]
[null,null,{"$f":"'РАЗДЕЛ 1(АМП)'!#REF!","v":{"$error":"#REF!"}},{"$f":"'РАЗДЕЛ 1(АМП)'!#REF!","v":{"$error":"#REF!"}},{"$f":"'РАЗДЕЛ 1(АМП)'!#REF!","v":{"$error":"#REF!"}},{"$f":"'РАЗДЕЛ 1(АМП)'!#REF!","v":{"$error":"#REF!"}},null,490005,null,"2017-02-01"]
[null,null,{"$f":"'РАЗДЕЛ 1(АМП)'!#REF!","v":{"$error":"#REF!"}},{"$f":"'РАЗДЕЛ 1(АМП)'!#REF!","v":{"$error":"#REF!"}},{"$f":"'РАЗДЕЛ 1(АМП)'!#REF!","v":{"$error":"#REF!"}},{"$f":"'РАЗДЕЛ 1(АМП)'!#REF!","v":{"$error":"#REF!"}},null,490005,null,"2017-02-01"]
[null,null,{"$f":"'РАЗДЕЛ 1(АМП)'!#REF!","v":{"$error":"#REF!"}},{"$f":"'РАЗДЕЛ 1(АМП)'!#REF!","v":{"$error":"#REF!"}},{"$f":"'РАЗДЕЛ 1(АМП)'!#REF!","v":{"$error":"#REF!"}},{"$f":"'РАЗДЕЛ 1(АМП)'!#REF!","v":{"$error":"#REF!"}},null,490005,null,"2017-02-01"]
[null,null,{"$f":"'РАЗДЕЛ 1(АМП)'!#REF!","v":{"$error":"#REF!"}},{"$f":"'РАЗДЕЛ 1(АМП)'!#REF!","v":{"$error":"#REF!"}},{"$f":"'РАЗДЕЛ 1(АМП)'!#REF!","v":{"$error":"#REF!"}},{"$f":"'РАЗДЕЛ 1(АМП)'!#REF!","v":{"$error":"#REF!"}},null,490005,null,"2017-02-01"]
[null,null,{"$f":"'РАЗДЕЛ 1(АМП)'!#REF!","v":{"$error":"#REF!"}},{"$f":"'РАЗДЕЛ 1(АМП)'!#REF!","v":{"$error":"#REF!"}},{"$f":"'РАЗДЕЛ 1(АМП)'!#REF!","v":{"$error":"#REF!"}},{"$f":"'РАЗДЕЛ 1(АМП)'!#REF!","v":{"$error":"#REF!"}},null,490005,null,"2017-02-01"]
[null,null,{"$f":"'РАЗДЕЛ 1(АМП)'!#REF!","v":{"$error":"#REF!"}},{"$f":"'РАЗДЕЛ 1(АМП)'!#REF!","v":{"$error":"#REF!"}},{"$f":"'РАЗДЕЛ 1(АМП)'!#REF!","v":{"$error":"#REF!"}},{"$f":"'РАЗДЕЛ 1(АМП)'!#REF!","v":{"$error":"#REF!"}},null,490005,null,"2017-02-01"]
[null,null,{"$f":"'РАЗДЕЛ 1(АМП)'!#REF!","v":{"$error":"#REF!"}},{"$f":"'РАЗДЕЛ 1(АМП)'!#REF!","v":{"$error":"#REF!"}},{"$f":"'РАЗДЕЛ 1(АМП)'!#REF!","v":{"$error":"#REF!"}},{"$f":"'РАЗДЕЛ 1(АМП)'!#REF!","v":{"$error":"#REF!"}},null,490005,null,"2017-02-01"]
[null,null,{"$f":"'РАЗДЕЛ 1(АМП)'!#REF!","v":{"$error":"#REF!"}},{"$f":"'РАЗДЕЛ 1(АМП)'!#REF!","v":{"$error":"#REF!"}},{"$f":"'РАЗДЕЛ 1(АМП)'!#REF!","v":{"$error":"#REF!"}},{"$f":"'РАЗДЕЛ 1(АМП)'!#REF!","v":{"$error":"#REF!"}},null,490005,null,"2017-02-01"]
[null,null,{"$f":"'РАЗДЕЛ 1(АМП)'!#REF!","v":{"$error":"#REF!"}},{"$f":"'РАЗДЕЛ 1(АМП)'!#REF!","v":{"$error":"#REF!"}},{"$f":"'РАЗДЕЛ 1(АМП)'!#REF!","v":{"$error":"#REF!"}},{"$f":"'РАЗДЕЛ 1(АМП)'!#REF!","v":{"$error":"#REF!"}},null,490005,null,"2017-02-01"]
[null,null,{"$f":"'РАЗДЕЛ 1(АМП)'!#REF!","v":{"$error":"#REF!"}},{"$f":"'РАЗДЕЛ 1(АМП)'!#REF!","v":{"$error":"#REF!"}},{"$f":"'РАЗДЕЛ 1(АМП)'!#REF!","v":{"$error":"#REF!"}},{"$f":"'РАЗДЕЛ 1(АМП)'!#REF!","v":{"$error":"#REF!"}},null,{"$f":"H233","v":490005},null,{"$f":"J233","v":"2017-02-01"}]
[null,null,{"$f":"'РАЗДЕЛ 1(АМП)'!#REF!","v":{"$error":"#REF!"}},{"$f":"'РАЗДЕЛ 1(АМП)'!#REF!","v":{"$error":"#REF!"}},{"$f":"'РАЗДЕЛ 1(АМП)'!#REF!","v":{"$error":"#REF!"}},{"$f":"'РАЗДЕЛ 1(АМП)'!#REF!","v":{"$error":"#REF!"}},null,490005,null,"2017-02-01"]
[null,null,{"$f":"'РАЗДЕЛ 1(АМП)'!#REF!","v":{"$error":"#REF!"}},{"$f":"'РАЗДЕЛ 1(АМП)'!#REF!","v":{"$error":"#REF!"}},{"$f":"'РАЗДЕЛ 1(АМП)'!#REF!","v":{"$error":"#REF!"}},{"$f":"'РАЗДЕЛ 1(АМП)'!#REF!","v":{"$error":"#REF!"}},null,490005,null,"2017-02-01"]
[null,null,{"$f":"'РАЗДЕЛ 1(АМП)'!#REF!","v":{"$error":"#REF!"}},{"$f":"'РАЗДЕЛ 1(АМП)'!#REF!","v":{"$error":"#REF!"}},{"$f":"'РАЗДЕЛ 1(АМП)'!#REF!","v":{"$error":"#REF!"}},{"$f":"'РАЗДЕЛ 1(АМП)'!#REF!","v":{"$error":"#REF!"}},null,490005,null,"2017-02-01"]
[null,null,{"$f":"'РАЗДЕЛ 1(АМП)'!#REF!","v":{"$error":"#REF!"}},{"$f":"'РАЗДЕЛ 1(АМП)'!#REF!","v":{"$error":"#REF!"}},{"$f":"'РАЗДЕЛ 1(АМП)'!#REF!","v":{"$error":"#REF!"}},{"$f":"'РАЗДЕЛ 1(АМП)'!#REF!","v":{"$error":"#REF!"}},null,490005,null,"2017-02-01"]
[null,null,{"$f":"'РАЗДЕЛ 1(АМП)'!#REF!","v":{"$error":"#REF!"}},{"$f":"'РАЗДЕЛ 1(АМП)'!#REF!","v":{"$error":"#REF!"}},null,{"$f":"'РАЗДЕЛ 1(АМП)'!#REF!","v":{"$error":"#REF!"}},{"$f":"'РАЗДЕЛ 1(АМП)'!#REF!","v":{"$error":"#REF!"}},490005,null,"2017-02-01"]
[null,null,{"$f":"'РАЗДЕЛ 1(АМП)'!#REF!","v":{"$error":"#REF!"}},{"$f":"'РАЗДЕЛ 1(АМП)'!#REF!","v":{"$error":"#REF!"}},{"$f":"'РАЗДЕЛ 1(АМП)'!#REF!","v":{"$error":"#REF!"}},{"$f":"'РАЗДЕЛ 1(АМП)'!#REF!","v":{"$error":"#REF!"}},null,490005,null,"2017-02-01"]
[null,null,{"$f":"'РАЗДЕЛ 1(АМП)'!#REF!","v":{"$error":"#REF!"}},{"$f":"'РАЗДЕЛ 1(АМП)'!#REF!","v":{"$error":"#REF!"}},{"$f":"'РАЗДЕЛ 1(АМП)'!#REF!","v":{"$error":"#REF!"}},{"$f":"'РАЗДЕЛ 1(АМП)'!#REF!","v":{"$error":"#REF!"}},null,490005,null,"2017-02-01"]
[null,null,{"$f":"'РАЗДЕЛ 1(АМП)'!#REF!","v":{"$error":"#REF!"}},{"$f":"'РАЗДЕЛ 1(АМП)'!#REF!","v":{"$error":"#REF!"}},{"$f":"'РАЗДЕЛ 1(АМП)'!#REF!","v":{"$error":"#REF!"}},{"$f":"'РАЗДЕЛ 1(АМП)'!#REF!","v":{"$error":"#REF!"}},null,490005,null,"2017-02-01"]
[null,null,{"$f":"'РАЗДЕЛ 1(АМП)'!#REF!","v":{"$error":"#REF!"}},{"$f":"'РАЗДЕЛ 1(АМП)'!#REF!","v":{"$error":"#REF!"}},{"$f":"'РАЗДЕЛ 1(АМП)'!#REF!","v":{"$error":"#REF!"}},{"$f":"'РАЗДЕЛ 1(АМП)'!#REF!","v":{"$error":"#REF!"}},null,490005,null,"2017-02-01"]
[null,null,{"$f":"'РАЗДЕЛ 1(АМП)'!#REF!","v":{"$error":"#REF!"}},{"$f":"'РАЗДЕЛ 1(АМП)'!#REF!","v":{"$error":"#REF!"}},{"$f":"'РАЗДЕЛ 1(АМП)'!#REF!","v":{"$error":"#REF!"}},{"$f":"'РАЗДЕЛ 1(АМП)'!#REF!","v":{"$error":"#REF!"}},null,490005,null,"2017-02-01"]
[null,null,{"$f":"'РАЗДЕЛ 1(АМП)'!#REF!","v":{"$error":"#REF!"}},{"$f":"'РАЗДЕЛ 1(АМП)'!#REF!","v":{"$error":"#REF!"}},{"$f":"'РАЗДЕЛ 1(АМП)'!#REF!","v":{"$error":"#REF!"}},{"$f":"'РАЗДЕЛ 1(АМП)'!#REF!","v":{"$error":"#REF!"}},null,490005,null,"2017-02-01"]
[null,null,{"$f":"'РАЗДЕЛ 1(АМП)'!#REF!","v":{"$error":"#REF!"}},{"$f":"'РАЗДЕЛ 1(АМП)'!#REF!","v":{"$error":"#REF!"}},{"$f":"'РАЗДЕЛ 1(АМП)'!#REF!","v":{"$error":"#REF!"}},{"$f":"'РАЗДЕЛ 1(АМП)'!#REF!","v":{"$error":"#REF!"}},null,490005,null,"2017-02-01"]
[null,null,{"$f":"'РАЗДЕЛ 1(АМП)'!#REF!","v":{"$error":"#REF!"}},{"$f":"'РАЗДЕЛ 1(АМП)'!#REF!","v":{"$error":"#REF!"}},{"$f":"'РАЗДЕЛ 1(АМП)'!#REF!","v":{"$error":"#REF!"}},{"$f":"'РАЗДЕЛ 1(АМП)'!#REF!","v":{"$error":"#REF!"}},null,490005,null,"2017-02-01"]
[null,null,{"$f":"'РАЗДЕЛ 1(АМП)'!#REF!","v":{"$error":"#REF!"}},{"$f":"'РАЗДЕЛ 1(АМП)'!#REF!","v":{"$error":"#REF!"}},{"$f":"'РАЗДЕЛ 1(АМП)'!#REF!","v":{"$error":"#REF!"}},{"$f":"'РАЗДЕЛ 1(АМП)'!#REF!","v":{"$error":"#REF!"}},null,490005,null,"2017-02-01"]
[null,null,{"$f":"#REF!","v":{"$error":"#REF!"}},{"$f":"#REF!","v":{"$error":"#REF!"}},null,{"$f":"#REF!","v":{"$error":"#REF!"}},{"$f":"#REF!","v":{"$error":"#REF!"}},490005,{"$f":"#REF!","v":{"$error":"#REF!"}},"2017-02-01"]
[null,null,{"$f":"#REF!","v":{"$error":"#REF!"}},{"$f":"#REF!","v":{"$error":"#REF!"}},{"$f":"#REF!","v":{"$error":"#REF!"}},{"$f":"#REF!","v":{"$error":"#REF!"}},null,490005,{"$f":"#REF!","v":{"$error":"#REF!"}},"2017-02-01"]
[null,null,{"$f":"#REF!","v":{"$error":"#REF!"}},{"$f":"#REF!","v":{"$error":"#REF!"}},{"$f":"#REF!","v":{"$error":"#REF!"}},{"$f":"#REF!","v":{"$error":"#REF!"}},null,490005,{"$f":"#REF!","v":{"$error":"#REF!"}},"2017-02-01"]
[null,null,{"$f":"#REF!","v":{"$error":"#REF!"}},{"$f":"#REF!","v":{"$error":"#REF!"}},{"$f":"#REF!","v":{"$error":"#REF!"}},{"$f":"#REF!","v":{"$error":"#REF!"}},null,490005,{"$f":"#REF!","v":{"$error":"#REF!"}},"2017-02-01"]
[null,null,{"$f":"#REF!","v":{"$error":"#REF!"}},{"$f":"#REF!","v":{"$error":"#REF!"}},{"$f":"#REF!","v":{"$error":"#REF!"}},{"$f":"#REF!","v":{"$error":"#REF!"}},null,490005,{"$f":"#REF!","v":{"$error":"#REF!"}},"2017-02-01"]
[null,null,{"$f":"#REF!","v":{"$error":"#REF!"}},{"$f":"#REF!","v":{"$error":"#REF!"}},{"$f":"#REF!","v":{"$error":"#REF!"}},{"$f":"#REF!","v":{"$error":"#REF!"}},null,490005,{"$f":"#REF!","v":{"$error":"#REF!"}},"2017-02-01"]
[null,null,{"$f":"#REF!","v":{"$error":"#REF!"}},{"$f":"#REF!","v":{"$error":"#REF!"}},{"$f":"#REF!","v":{"$error":"#REF!"}},{"$f":"#REF!","v":{"$error":"#REF!"}},null,490005,{"$f":"#REF!","v":{"$error":"#REF!"}},"2017-02-01"]
[null,null,{"$f":"#REF!","v":{"$error":"#REF!"}},{"$f":"#REF!","v":{"$error":"#REF!"}},{"$f":"#REF!","v":{"$error":"#REF!"}},{"$f":"#REF!","v":{"$error":"#REF!"}},null,490005,{"$f":"#REF!","v":{"$error":"#REF!"}},"2017-02-01"]
[null,null,{"$f":"#REF!","v":{"$error":"#REF!"}},{"$f":"#REF!","v":{"$error":"#REF!"}},null,{"$f":"#REF!","v":{"$error":"#REF!"}},{"$f":"#REF!","v":{"$error":"#REF!"}},490005,{"$f":"#REF!","v":{"$error":"#REF!"}},"2017-02-01"]
[null,null,{"$f":"#REF!","v":{"$error":"#REF!"}},{"$f":"#REF!","v":{"$error":"#REF!"}},{"$f":"#REF!","v":{"$error":"#REF!"}},{"$f":"#REF!","v":{"$error":"#REF!"}},null,490005,{"$f":"#REF!","v":{"$error":"#REF!"}},"2017-02-01"]
[null,null,{"$f":"'РАЗДЕЛ 1(АМП)'!#REF!","v":{"$error":"#REF!"}},{"$f":"'РАЗДЕЛ 1(АМП)'!#REF!","v":{"$error":"#REF!"}},{"$f":"'РАЗДЕЛ 1(АМП)'!#REF!","v":{"$error":"#REF!"}},{"$f":"'РАЗДЕЛ 1(АМП)'!#REF!","v":{"$error":"#REF!"}},null,490007,null,"2017-02-01"]
[null,null,{"$f":"'РАЗДЕЛ 1(АМП)'!#REF!","v":{"$error":"#REF!"}},{"$f":"'РАЗДЕЛ 1(АМП)'!#REF!","v":{"$error":"#REF!"}},{"$f":"'РАЗДЕЛ 1(АМП)'!#REF!","v":{"$error":"#REF!"}},{"$f":"'РАЗДЕЛ 1(АМП)'!#REF!","v":{"$error":"#REF!"}},null,490007,null,"2017-02-01"]
[null,null,{"$f":"'РАЗДЕЛ 1(АМП)'!#REF!","v":{"$error":"#REF!"}},{"$f":"'РАЗДЕЛ 1(АМП)'!#REF!","v":{"$error":"#REF!"}},{"$f":"'РАЗДЕЛ 1(АМП)'!#REF!","v":{"$error":"#REF!"}},{"$f":"'РАЗДЕЛ 1(АМП)'!#REF!","v":{"$error":"#REF!"}},null,{"$f":"H260","v":490007},null,{"$f":"J260","v":"2017-02-01"}]
[null,null,{"$f":"'РАЗДЕЛ 1(АМП)'!#REF!","v":{"$error":"#REF!"}},{"$f":"'РАЗДЕЛ 1(АМП)'!#REF!","v":{"$error":"#REF!"}},{"$f":"'РАЗДЕЛ 1(АМП)'!#REF!","v":{"$error":"#REF!"}},{"$f":"'РАЗДЕЛ 1(АМП)'!#REF!","v":{"$error":"#REF!"}},null,490007,null,"2017-02-01"]
[null,null,{"$f":"'РАЗДЕЛ 1(АМП)'!#REF!","v":{"$error":"#REF!"}},{"$f":"'РАЗДЕЛ 1(АМП)'!#REF!","v":{"$error":"#REF!"}},{"$f":"'РАЗДЕЛ 1(АМП)'!#REF!","v":{"$error":"#REF!"}},{"$f":"'РАЗДЕЛ 1(АМП)'!#REF!","v":{"$error":"#REF!"}},null,490007,null,"2017-02-01"]
[null,null,{"$f":"'РАЗДЕЛ 1(АМП)'!#REF!","v":{"$error":"#REF!"}},{"$f":"'РАЗДЕЛ 1(АМП)'!#REF!","v":{"$error":"#REF!"}},null,{"$f":"'РАЗДЕЛ 1(АМП)'!#REF!","v":{"$error":"#REF!"}},{"$f":"'РАЗДЕЛ 1(АМП)'!#REF!","v":{"$error":"#REF!"}},490007,null,"2017-02-01"]
[null,null,{"$f":"'РАЗДЕЛ 1(АМП)'!#REF!","v":{"$error":"#REF!"}},{"$f":"'РАЗДЕЛ 1(АМП)'!#REF!","v":{"$error":"#REF!"}},{"$f":"'РАЗДЕЛ 1(АМП)'!#REF!","v":{"$error":"#REF!"}},{"$f":"'РАЗДЕЛ 1(АМП)'!#REF!","v":{"$error":"#REF!"}},null,{"$f":"H264","v":490007},null,"2017-02-01"]
[null,null,{"$f":"'РАЗДЕЛ 1(АМП)'!#REF!","v":{"$error":"#REF!"}},{"$f":"'РАЗДЕЛ 1(АМП)'!#REF!","v":{"$error":"#REF!"}},{"$f":"'РАЗДЕЛ 1(АМП)'!#REF!","v":{"$error":"#REF!"}},{"$f":"'РАЗДЕЛ 1(АМП)'!#REF!","v":{"$error":"#REF!"}},null,{"$f":"H265","v":490007},null,{"$f":"J265","v":"2017-02-01"}]
[null,null,{"$f":"'РАЗДЕЛ 1(АМП)'!#REF!","v":{"$error":"#REF!"}},{"$f":"'РАЗДЕЛ 1(АМП)'!#REF!","v":{"$error":"#REF!"}},{"$f":"'РАЗДЕЛ 1(АМП)'!#REF!","v":{"$error":"#REF!"}},{"$f":"'РАЗДЕЛ 1(АМП)'!#REF!","v":{"$error":"#REF!"}},null,490007,null,"2017-02-01"]
[null,null,{"$f":"'РАЗДЕЛ 1(АМП)'!#REF!","v":{"$error":"#REF!"}},{"$f":"'РАЗДЕЛ 1(АМП)'!#REF!","v":{"$error":"#REF!"}},{"$f":"'РАЗДЕЛ 1(АМП)'!#REF!","v":{"$error":"#REF!"}},{"$f":"'РАЗДЕЛ 1(АМП)'!#REF!","v":{"$error":"#REF!"}},null,490007,null,"2017-02-01"]
[null,null,{"$f":"'РАЗДЕЛ 1(АМП)'!#REF!","v":{"$error":"#REF!"}},{"$f":"'РАЗДЕЛ 1(АМП)'!#REF!","v":{"$error":"#REF!"}},{"$f":"'РАЗДЕЛ 1(АМП)'!#REF!","v":{"$error":"#REF!"}},{"$f":"'РАЗДЕЛ 1(АМП)'!#REF!","v":{"$error":"#REF!"}},null,490007,null,"2017-02-01"]
[null,null,{"$f":"'РАЗДЕЛ 1(АМП)'!#REF!","v":{"$error":"#REF!"}},{"$f":"'РАЗДЕЛ 1(АМП)'!#REF!","v":{"$error":"#REF!"}},{"$f":"'РАЗДЕЛ 1(АМП)'!#REF!","v":{"$error":"#REF!"}},{"$f":"'РАЗДЕЛ 1(АМП)'!#REF!","v":{"$error":"#REF!"}},null,490007,null,"2017-02-01"]
[null,null,{"$f":"'РАЗДЕЛ 1(АМП)'!#REF!","v":{"$error":"#REF!"}},{"$f":"'РАЗДЕЛ 1(АМП)'!#REF!","v":{"$error":"#REF!"}},{"$f":"'РАЗДЕЛ 1(АМП)'!#REF!","v":{"$error":"#REF!"}},{"$f":"'РАЗДЕЛ 1(АМП)'!#REF!","v":{"$error":"#REF!"}},null,490007,null,"2017-02-01"]
[null,null,{"$f":"'РАЗДЕЛ 1(АМП)'!#REF!","v":{"$error":"#REF!"}},{"$f":"'РАЗДЕЛ 1(АМП)'!#REF!","v":{"$error":"#REF!"}},{"$f":"'РАЗДЕЛ 1(АМП)'!#REF!","v":{"$error":"#REF!"}},{"$f":"'РАЗДЕЛ 1(АМП)'!#REF!","v":{"$error":"#REF!"}},null,490007,null,"2017-02-01"]
[null,null,{"$f":"'РАЗДЕЛ 1(АМП)'!#REF!","v":{"$error":"#REF!"}},{"$f":"'РАЗДЕЛ 1(АМП)'!#REF!","v":{"$error":"#REF!"}},{"$f":"'РАЗДЕЛ 1(АМП)'!#REF!","v":{"$error":"#REF!"}},{"$f":"'РАЗДЕЛ 1(АМП)'!#REF!","v":{"$error":"#REF!"}},null,490007,null,"2017-02-01"]
[null,null,{"$f":"'РАЗДЕЛ 1(АМП)'!#REF!","v":{"$error":"#REF!"}},{"$f":"'РАЗДЕЛ 1(АМП)'!#REF!","v":{"$error":"#REF!"}},{"$f":"'РАЗДЕЛ 1(АМП)'!#REF!","v":{"$error":"#REF!"}},{"$f":"'РАЗДЕЛ 1(АМП)'!#REF!","v":{"$error":"#REF!"}},null,490007,null,"2017-02-01"]
[null,null,{"$f":"'РАЗДЕЛ 1(АМП)'!#REF!","v":{"$error":"#REF!"}},{"$f":"'РАЗДЕЛ 1(АМП)'!#REF!","v":{"$error":"#REF!"}},{"$f":"'РАЗДЕЛ 1(АМП)'!#REF!","v":{"$error":"#REF!"}},{"$f":"'РАЗДЕЛ 1(АМП)'!#REF!","v":{"$error":"#REF!"}},null,490007,null,"2017-02-01"]
[null,null,{"$f":"'РАЗДЕЛ 1(АМП)'!#REF!","v":{"$error":"#REF!"}},{"$f":"'РАЗДЕЛ 1(АМП)'!#REF!","v":{"$error":"#REF!"}},{"$f":"'РАЗДЕЛ 1(АМП)'!#REF!","v":{"$error":"#REF!"}},{"$f":"'РАЗДЕЛ 1(АМП)'!#REF!","v":{"$error":"#REF!"}},null,490007,null,"2017-02-01"]
[null,null,{"$f":"'РАЗДЕЛ 1(АМП)'!#REF!","v":{"$error":"#REF!"}},{"$f":"'РАЗДЕЛ 1(АМП)'!#REF!","v":{"$error":"#REF!"}},null,{"$f":"'РАЗДЕЛ 1(АМП)'!#REF!","v":{"$error":"#REF!"}},{"$f":"'РАЗДЕЛ 1(АМП)'!#REF!","v":{"$error":"#REF!"}},490007,null,"2017-02-01"]
[null,null,{"$f":"'РАЗДЕЛ 1(АМП)'!#REF!","v":{"$error":"#REF!"}},{"$f":"'РАЗДЕЛ 1(АМП)'!#REF!","v":{"$error":"#REF!"}},{"$f":"'РАЗДЕЛ 1(АМП)'!#REF!","v":{"$error":"#REF!"}},{"$f":"'РАЗДЕЛ 1(АМП)'!#REF!","v":{"$error":"#REF!"}},null,490007,null,"2017-02-01"]
[null,null,{"$f":"'РАЗДЕЛ 1(АМП)'!#REF!","v":{"$error":"#REF!"}},{"$f":"'РАЗДЕЛ 1(АМП)'!#REF!","v":{"$error":"#REF!"}},{"$f":"'РАЗДЕЛ 1(АМП)'!#REF!","v":{"$error":"#REF!"}},{"$f":"'РАЗДЕЛ 1(АМП)'!#REF!","v":{"$error":"#REF!"}},null,490007,null,"2017-02-01"]
[null,null,{"$f":"'РАЗДЕЛ 1(АМП)'!#REF!","v":{"$error":"#REF!"}},{"$f":"'РАЗДЕЛ 1(АМП)'!#REF!","v":{"$error":"#REF!"}},{"$f":"'РАЗДЕЛ 1(АМП)'!#REF!","v":{"$error":"#REF!"}},{"$f":"'РАЗДЕЛ 1(АМП)'!#REF!","v":{"$error":"#REF!"}},null,490007,null,"2017-02-01"]
[null,null,{"$f":"'РАЗДЕЛ 1(АМП)'!#REF!","v":{"$error":"#REF!"}},{"$f":"'РАЗДЕЛ 1(АМП)'!#REF!","v":{"$error":"#REF!"}},{"$f":"'РАЗДЕЛ 1(АМП)'!#REF!","v":{"$error":"#REF!"}},{"$f":"'РАЗДЕЛ 1(АМП)'!#REF!","v":{"$error":"#REF!"}},null,490007,null,"2017-02-01"]
[null,null,{"$f":"'РАЗДЕЛ 1(АМП)'!#REF!","v":{"$error":"#REF!"}},{"$f":"'РАЗДЕЛ 1(АМП)'!#REF!","v":{"$error":"#REF!"}},{"$f":"'РАЗДЕЛ 1(АМП)'!#REF!","v":{"$error":"#REF!"}},{"$f":"'РАЗДЕЛ 1(АМП)'!#REF!","v":{"$error":"#REF!"}},null,490007,null,"2017-02-01"]
[null,null,{"$f":"'РАЗДЕЛ 1(АМП)'!#REF!","v":{"$error":"#REF!"}},{"$f":"'РАЗДЕЛ 1(АМП)'!#REF!","v":{"$error":"#REF!"}},{"$f":"'РАЗДЕЛ 1(АМП)'!#REF!","v":{"$error":"#REF!"}},{"$f":"'РАЗДЕЛ 1(АМП)'!#REF!","v":{"$error":"#REF!"}},null,490007,null,"2017-02-01"]
[null,null,{"$f":"'РАЗДЕЛ 1(АМП)'!#REF!","v":{"$error":"#REF!"}},{"$f":"'РАЗДЕЛ 1(АМП)'!#REF!","v":{"$error":"#REF!"}},{"$f":"'РАЗДЕЛ 1(АМП)'!#REF!","v":{"$error":"#REF!"}},{"$f":"'РАЗДЕЛ 1(АМП)'!#REF!","v":{"$error":"#REF!"}},null,490007,null,"2017-02-01"]
[null,null,{"$f":"'РАЗДЕЛ 1(АМП)'!#REF!","v":{"$error":"#REF!"}},{"$f":"'РАЗДЕЛ 1(АМП)'!#REF!","v":{"$error":"#REF!"}},{"$f":"'РАЗДЕЛ 1(АМП)'!#REF!","v":{"$error":"#REF!"}},{"$f":"'РАЗДЕЛ 1(АМП)'!#REF!","v":{"$error":"#REF!"}},null,490007,null,"2017-02-01"]
[null,null,{"$f":"'РАЗДЕЛ 1(АМП)'!#REF!","v":{"$error":"#REF!"}},{"$f":"'РАЗДЕЛ 1(АМП)'!#REF!","v":{"$error":"#REF!"}},{"$f":"'РАЗДЕЛ 1(АМП)'!#REF!","v":{"$error":"#REF!"}},{"$f":"'РАЗДЕЛ 1(АМП)'!#REF!","v":{"$error":"#REF!"}},null,490007,null,"2017-02-01"]
[null,null,{"$f":"'РАЗДЕЛ 1(АМП)'!#REF!","v":{"$error":"#REF!"}},{"$f":"'РАЗДЕЛ 1(АМП)'!#REF!","v":{"$error":"#REF!"}},{"$f":"'РАЗДЕЛ 1(АМП)'!#REF!","v":{"$error":"#REF!"}},{"$f":"'РАЗДЕЛ 1(АМП)'!#REF!","v":{"$error":"#REF!"}},null,490007,null,"2017-02-01"]
[null,null,{"$f":"'РАЗДЕЛ 1(АМП)'!#REF!","v":{"$error":"#REF!"}},{"$f":"'РАЗДЕЛ 1(АМП)'!#REF!","v":{"$error":"#REF!"}},{"$f":"'РАЗДЕЛ 1(АМП)'!#REF!","v":{"$error":"#REF!"}},{"$f":"'РАЗДЕЛ 1(АМП)'!#REF!","v":{"$error":"#REF!"}},null,490007,null,"2017-02-01"]
[null,null,{"$f":"'РАЗДЕЛ 1(АМП)'!#REF!","v":{"$error":"#REF!"}},{"$f":"'РАЗДЕЛ 1(АМП)'!#REF!","v":{"$error":"#REF!"}},{"$f":"'РАЗДЕЛ 1(АМП)'!#REF!","v":{"$error":"#REF!"}},{"$f":"'РАЗДЕЛ 1(АМП)'!#REF!","v":{"$error":"#REF!"}},null,490007,null,"2017-02-01"]
[null,null,{"$f":"'РАЗДЕЛ 1(АМП)'!#REF!","v":{"$error":"#REF!"}},{"$f":"'РАЗДЕЛ 1(АМП)'!#REF!","v":{"$error":"#REF!"}},{"$f":"'РАЗДЕЛ 1(АМП)'!#REF!","v":{"$error":"#REF!"}},{"$f":"'РАЗДЕЛ 1(АМП)'!#REF!","v":{"$error":"#REF!"}},null,490007,null,"2017-02-01"]
[null,null,{"$f":"'РАЗДЕЛ 1(АМП)'!#REF!","v":{"$error":"#REF!"}},{"$f":"'РАЗДЕЛ 1(АМП)'!#REF!","v":{"$error":"#REF!"}},{"$f":"'РАЗДЕЛ 1(АМП)'!#REF!","v":{"$error":"#REF!"}},{"$f":"'РАЗДЕЛ 1(АМП)'!#REF!","v":{"$error":"#REF!"}},null,490007,null,"2017-02-01"]
[null,null,{"$f":"'РАЗДЕЛ 1(АМП)'!#REF!","v":{"$error":"#REF!"}},{"$f":"'РАЗДЕЛ 1(АМП)'!#REF!","v":{"$error":"#REF!"}},{"$f":"'РАЗДЕЛ 1(АМП)'!#REF!","v":{"$error":"#REF!"}},{"$f":"'РАЗДЕЛ 1(АМП)'!#REF!","v":{"$error":"#REF!"}},null,490007,null,"2017-02-01"]
[null,null,{"$f":"'РАЗДЕЛ 1(АМП)'!#REF!","v":{"$error":"#REF!"}},{"$f":"'РАЗДЕЛ 1(АМП)'!#REF!","v":{"$error":"#REF!"}},{"$f":"'РАЗДЕЛ 1(АМП)'!#REF!","v":{"$error":"#REF!"}},{"$f":"'РАЗДЕЛ 1(АМП)'!#REF!","v":{"$error":"#REF!"}},null,490007,null,"2017-02-01"]
[null,null,{"$f":"'РАЗДЕЛ 1(АМП)'!#REF!","v":{"$error":"#REF!"}},{"$f":"'РАЗДЕЛ 1(АМП)'!#REF!","v":{"$error":"#REF!"}},{"$f":"'РАЗДЕЛ 1(АМП)'!#REF!","v":{"$error":"#REF!"}},{"$f":"'РАЗДЕЛ 1(АМП)'!#REF!","v":{"$error":"#REF!"}},null,490007,null,"2017-02-01"]
[null,null,{"$f":"'РАЗДЕЛ 1(АМП)'!#REF!","v":{"$error":"#REF!"}},{"$f":"'РАЗДЕЛ 1(АМП)'!#REF!","v":{"$error":"#REF!"}},{"$f":"'РАЗДЕЛ 1(АМП)'!#REF!","v":{"$error":"#REF!"}},{"$f":"'РАЗДЕЛ 1(АМП)'!#REF!","v":{"$error":"#REF!"}},null,490007,null,"2017-02-01"]
[null,null,{"$f":"'РАЗДЕЛ 1(АМП)'!#REF!","v":{"$error":"#REF!"}},{"$f":"'РАЗДЕЛ 1(АМП)'!#REF!","v":{"$error":"#REF!"}},{"$f":"'РАЗДЕЛ 1(АМП)'!#REF!","v":{"$error":"#REF!"}},{"$f":"'РАЗДЕЛ 1(АМП)'!#REF!","v":{"$error":"#REF!"}},null,490007,null,"2017-02-01"]
[null,null,{"$f":"'РАЗДЕЛ 1(АМП)'!#REF!","v":{"$error":"#REF!"}},{"$f":"'РАЗДЕЛ 1(АМП)'!#REF!","v":{"$error":"#REF!"}},{"$f":"'РАЗДЕЛ 1(АМП)'!#REF!","v":{"$error":"#REF!"}},{"$f":"'РАЗДЕЛ 1(АМП)'!#REF!","v":{"$error":"#REF!"}},null,490007,null,"2017-02-01"]
[null,null,{"$f":"'РАЗДЕЛ 1(АМП)'!#REF!","v":{"$error":"#REF!"}},{"$f":"'РАЗДЕЛ 1(АМП)'!#REF!","v":{"$error":"#REF!"}},{"$f":"'РАЗДЕЛ 1(АМП)'!#REF!","v":{"$error":"#REF!"}},{"$f":"'РАЗДЕЛ 1(АМП)'!#REF!","v":{"$error":"#REF!"}},null,490007,null,"2017-02-01"]
[null,null,{"$f":"'РАЗДЕЛ 1(АМП)'!#REF!","v":{"$error":"#REF!"}},{"$f":"'РАЗДЕЛ 1(АМП)'!#REF!","v":{"$error":"#REF!"}},null,{"$f":"'РАЗДЕЛ 1(АМП)'!#REF!","v":{"$error":"#REF!"}},{"$f":"'РАЗДЕЛ 1(АМП)'!#REF!","v":{"$error":"#REF!"}},490007,null,"2017-02-01"]
[null,null,{"$f":"'РАЗДЕЛ 1(АМП)'!#REF!","v":{"$error":"#REF!"}},{"$f":"'РАЗДЕЛ 1(АМП)'!#REF!","v":{"$error":"#REF!"}},{"$f":"'РАЗДЕЛ 1(АМП)'!#REF!","v":{"$error":"#REF!"}},{"$f":"'РАЗДЕЛ 1(АМП)'!#REF!","v":{"$error":"#REF!"}},null,490007,null,"2017-02-01"]
[null,null,{"$f":"'РАЗДЕЛ 1(АМП)'!#REF!","v":{"$error":"#REF!"}},{"$f":"'РАЗДЕЛ 1(АМП)'!#REF!","v":{"$error":"#REF!"}},{"$f":"'РАЗДЕЛ 1(АМП)'!#REF!","v":{"$error":"#REF!"}},{"$f":"'РАЗДЕЛ 1(АМП)'!#REF!","v":{"$error":"#REF!"}},null,490007,null,"2017-02-01"]
[null,null,{"$f":"'РАЗДЕЛ 1(АМП)'!#REF!","v":{"$error":"#REF!"}},{"$f":"'РАЗДЕЛ 1(АМП)'!#REF!","v":{"$error":"#REF!"}},{"$f":"'РАЗДЕЛ 1(АМП)'!#REF!","v":{"$error":"#REF!"}},{"$f":"'РАЗДЕЛ 1(АМП)'!#REF!","v":{"$error":"#REF!"}},null,490007,null,"2017-02-01"]
[null,null,{"$f":"'РАЗДЕЛ 1(АМП)'!#REF!","v":{"$error":"#REF!"}},{"$f":"'РАЗДЕЛ 1(АМП)'!#REF!","v":{"$error":"#REF!"}},{"$f":"'РАЗДЕЛ 1(АМП)'!#REF!","v":{"$error":"#REF!"}},{"$f":"'РАЗДЕЛ 1(АМП)'!#REF!","v":{"$error":"#REF!"}},null,490007,null,"2017-02-01"]
[null,null,{"$f":"'РАЗДЕЛ 1(АМП)'!#REF!","v":{"$error":"#REF!"}},{"$f":"'РАЗДЕЛ 1(АМП)'!#REF!","v":{"$error":"#REF!"}},{"$f":"'РАЗДЕЛ 1(АМП)'!#REF!","v":{"$error":"#REF!"}},{"$f":"'РАЗДЕЛ 1(АМП)'!#REF!","v":{"$error":"#REF!"}},null,490007,null,"2017-02-01"]
[null,null,{"$f":"'РАЗДЕЛ 1(АМП)'!#REF!","v":{"$error":"#REF!"}},{"$f":"'РАЗДЕЛ 1(АМП)'!#REF!","v":{"$error":"#REF!"}},{"$f":"'РАЗДЕЛ 1(АМП)'!#REF!","v":{"$error":"#REF!"}},{"$f":"'РАЗДЕЛ 1(АМП)'!#REF!","v":{"$error":"#REF!"}},null,490007,null,"2017-02-01"]
[null,null,{"$f":"'РАЗДЕЛ 1(АМП)'!#REF!","v":{"$error":"#REF!"}},{"$f":"'РАЗДЕЛ 1(АМП)'!#REF!","v":{"$error":"#REF!"}},{"$f":"'РАЗДЕЛ 1(АМП)'!#REF!","v":{"$error":"#REF!"}},{"$f":"'РАЗДЕЛ 1(АМП)'!#REF!","v":{"$error":"#REF!"}},null,490007,null,"2017-02-01"]
[null,null,{"$f":"'РАЗДЕЛ 1(АМП)'!#REF!","v":{"$error":"#REF!"}},{"$f":"'РАЗДЕЛ 1(АМП)'!#REF!","v":{"$error":"#REF!"}},{"$f":"'РАЗДЕЛ 1(АМП)'!#REF!","v":{"$error":"#REF!"}},{"$f":"'РАЗДЕЛ 1(АМП)'!#REF!","v":{"$error":"#REF!"}},null,490007,null,"2017-02-01"]
[null,null,{"$f":"'РАЗДЕЛ 1(АМП)'!#REF!","v":{"$error":"#REF!"}},{"$f":"'РАЗДЕЛ 1(АМП)'!#REF!","v":{"$error":"#REF!"}},{"$f":"'РАЗДЕЛ 1(АМП)'!#REF!","v":{"$error":"#REF!"}},{"$f":"'РАЗДЕЛ 1(АМП)'!#REF!","v":{"$error":"#REF!"}},null,490007,null,"2017-02-01"]
[null,null,{"$f":"'РАЗДЕЛ 1(АМП)'!#REF!","v":{"$error":"#REF!"}},{"$f":"'РАЗДЕЛ 1(АМП)'!#REF!","v":{"$error":"#REF!"}},{"$f":"'РАЗДЕЛ 1(АМП)'!#REF!","v":{"$error":"#REF!"}},{"$f":"'РАЗДЕЛ 1(АМП)'!#REF!","v":{"$error":"#REF!"}},null,490007,null,"2017-02-01"]
[null,null,{"$f":"'РАЗДЕЛ 1(АМП)'!#REF!","v":{"$error":"#REF!"}},{"$f":"'РАЗДЕЛ 1(АМП)'!#REF!","v":{"$error":"#REF!"}},{"$f":"'РАЗДЕЛ 1(АМП)'!#REF!","v":{"$error":"#REF!"}},{"$f":"'РАЗДЕЛ 1(АМП)'!#REF!","v":{"$error":"#REF!"}},null,490007,null,"2017-02-01"]
[null,null,{"$f":"'РАЗДЕЛ 1(АМП)'!#REF!","v":{"$error":"#REF!"}},{"$f":"'РАЗДЕЛ 1(АМП)'!#REF!","v":{"$error":"#REF!"}},{"$f":"'РАЗДЕЛ 1(АМП)'!#REF!","v":{"$error":"#REF!"}},{"$f":"'РАЗДЕЛ 1(АМП)'!#REF!","v":{"$error":"#REF!"}},null,490007,null,"2017-02-01"]
[null,null,{"$f":"'РАЗДЕЛ 1(АМП)'!#REF!","v":{"$error":"#REF!"}},{"$f":"'РАЗДЕЛ 1(АМП)'!#REF!","v":{"$error":"#REF!"}},{"$f":"'РАЗДЕЛ 1(АМП)'!#REF!","v":{"$error":"#REF!"}},{"$f":"'РАЗДЕЛ 1(АМП)'!#REF!","v":{"$error":"#REF!"}},null,490007,null,"2017-02-01"]
[null,null,{"$f":"'РАЗДЕЛ 1(АМП)'!#REF!","v":{"$error":"#REF!"}},{"$f":"'РАЗДЕЛ 1(АМП)'!#REF!","v":{"$error":"#REF!"}},{"$f":"'РАЗДЕЛ 1(АМП)'!#REF!","v":{"$error":"#REF!"}},{"$f":"'РАЗДЕЛ 1(АМП)'!#REF!","v":{"$error":"#REF!"}},null,490007,null,"2017-02-01"]
[null,null,{"$f":"'РАЗДЕЛ 1(АМП)'!#REF!","v":{"$error":"#REF!"}},{"$f":"'РАЗДЕЛ 1(АМП)'!#REF!","v":{"$error":"#REF!"}},{"$f":"'РАЗДЕЛ 1(АМП)'!#REF!","v":{"$error":"#REF!"}},{"$f":"'РАЗДЕЛ 1(АМП)'!#REF!","v":{"$error":"#REF!"}},null,490007,null,"2017-02-01"]
[null,null,{"$f":"'РАЗДЕЛ 1(АМП)'!#REF!","v":{"$error":"#REF!"}},{"$f":"'РАЗДЕЛ 1(АМП)'!#REF!","v":{"$error":"#REF!"}},{"$f":"'РАЗДЕЛ 1(АМП)'!#REF!","v":{"$error":"#REF!"}},{"$f":"'РАЗДЕЛ 1(АМП)'!#REF!","v":{"$error":"#REF!"}},null,490007,null,"2017-02-01"]
[null,null,{"$f":"'РАЗДЕЛ 1(АМП)'!#REF!","v":{"$error":"#REF!"}},{"$f":"'РАЗДЕЛ 1(АМП)'!#REF!","v":{"$error":"#REF!"}},{"$f":"'РАЗДЕЛ 1(АМП)'!#REF!","v":{"$error":"#REF!"}},{"$f":"'РАЗДЕЛ 1(АМП)'!#REF!","v":{"$error":"#REF!"}},null,490007,null,"2017-02-01"]
[null,null,{"$f":"'РАЗДЕЛ 1(АМП)'!#REF!","v":{"$error":"#REF!"}},{"$f":"'РАЗДЕЛ 1(АМП)'!#REF!","v":{"$error":"#REF!"}},{"$f":"'РАЗДЕЛ 1(АМП)'!#REF!","v":{"$error":"#REF!"}},{"$f":"'РАЗДЕЛ 1(АМП)'!#REF!","v":{"$error":"#REF!"}},null,490007,null,"2017-02-01"]
[null,null,{"$f":"'РАЗДЕЛ 1(АМП)'!#REF!","v":{"$error":"#REF!"}},{"$f":"'РАЗДЕЛ 1(АМП)'!#REF!","v":{"$error":"#REF!"}},{"$f":"'РАЗДЕЛ 1(АМП)'!#REF!","v":{"$error":"#REF!"}},{"$f":"'РАЗДЕЛ 1(АМП)'!#REF!","v":{"$error":"#REF!"}},null,490007,null,"2017-02-01"]
[null,null,{"$f":"'РАЗДЕЛ 1(АМП)'!#REF!","v":{"$error":"#REF!"}},{"$f":"'РАЗДЕЛ 1(АМП)'!#REF!","v":{"$error":"#REF!"}},{"$f":"'РАЗДЕЛ 1(АМП)'!#REF!","v":{"$error":"#REF!"}},{"$f":"'РАЗДЕЛ 1(АМП)'!#REF!","v":{"$error":"#REF!"}},null,490007,null,"2017-02-01"]
[null,null,{"$f":"'РАЗДЕЛ 1(АМП)'!#REF!","v":{"$error":"#REF!"}},{"$f":"'РАЗДЕЛ 1(АМП)'!#REF!","v":{"$error":"#REF!"}},{"$f":"'РАЗДЕЛ 1(АМП)'!#REF!","v":{"$error":"#REF!"}},{"$f":"'РАЗДЕЛ 1(АМП)'!#REF!","v":{"$error":"#REF!"}},null,490007,null,"2017-02-01"]
[null,null,{"$f":"'РАЗДЕЛ 1(АМП)'!#REF!","v":{"$error":"#REF!"}},{"$f":"'РАЗДЕЛ 1(АМП)'!#REF!","v":{"$error":"#REF!"}},null,{"$f":"'РАЗДЕЛ 1(АМП)'!#REF!","v":{"$error":"#REF!"}},{"$f":"'РАЗДЕЛ 1(АМП)'!#REF!","v":{"$error":"#REF!"}},490007,null,"2017-02-01"]
[null,null,{"$f":"'РАЗДЕЛ 1(АМП)'!#REF!","v":{"$error":"#REF!"}},{"$f":"'РАЗДЕЛ 1(АМП)'!#REF!","v":{"$error":"#REF!"}},{"$f":"'РАЗДЕЛ 1(АМП)'!#REF!","v":{"$error":"#REF!"}},{"$f":"'РАЗДЕЛ 1(АМП)'!#REF!","v":{"$error":"#REF!"}},null,490007,null,"2017-02-01"]
[null,null,{"$f":"'РАЗДЕЛ 1(АМП)'!#REF!","v":{"$error":"#REF!"}},{"$f":"'РАЗДЕЛ 1(АМП)'!#REF!","v":{"$error":"#REF!"}},{"$f":"'РАЗДЕЛ 1(АМП)'!#REF!","v":{"$error":"#REF!"}},{"$f":"'РАЗДЕЛ 1(АМП)'!#REF!","v":{"$error":"#REF!"}},null,490007,null,"2017-02-01"]
[null,null,{"$f":"'РАЗДЕЛ 1(АМП)'!#REF!","v":{"$error":"#REF!"}},{"$f":"'РАЗДЕЛ 1(АМП)'!#REF!","v":{"$error":"#REF!"}},{"$f":"'РАЗДЕЛ 1(АМП)'!#REF!","v":{"$error":"#REF!"}},{"$f":"'РАЗДЕЛ 1(АМП)'!#REF!","v":{"$error":"#REF!"}},null,490007,null,"2017-02-01"]
[null,null,{"$f":"'РАЗДЕЛ 1(АМП)'!#REF!","v":{"$error":"#REF!"}},{"$f":"'РАЗДЕЛ 1(АМП)'!#REF!","v":{"$error":"#REF!"}},{"$f":"'РАЗДЕЛ 1(АМП)'!#REF!","v":{"$error":"#REF!"}},{"$f":"'РАЗДЕЛ 1(АМП)'!#REF!","v":{"$error":"#REF!"}},null,490007,null,"2017-02-01"]
[null,null,{"$f":"'РАЗДЕЛ 1(АМП)'!#REF!","v":{"$error":"#REF!"}},{"$f":"'РАЗДЕЛ 1(АМП)'!#REF!","v":{"$error":"#REF!"}},{"$f":"'РАЗДЕЛ 1(АМП)'!#REF!","v":{"$error":"#REF!"}},{"$f":"'РАЗДЕЛ 1(АМП)'!#REF!","v":{"$error":"#REF!"}},null,490007,null,"2017-02-01"]
[null,null,{"$f":"'РАЗДЕЛ 1(АМП)'!#REF!","v":{"$error":"#REF!"}},{"$f":"'РАЗДЕЛ 1(АМП)'!#REF!","v":{"$error":"#REF!"}},{"$f":"'РАЗДЕЛ 1(АМП)'!#REF!","v":{"$error":"#REF!"}},{"$f":"'РАЗДЕЛ 1(АМП)'!#REF!","v":{"$error":"#REF!"}},null,490007,null,"2017-02-01"]
[null,null,{"$f":"'РАЗДЕЛ 1(АМП)'!#REF!","v":{"$error":"#REF!"}},{"$f":"'РАЗДЕЛ 1(АМП)'!#REF!","v":{"$error":"#REF!"}},{"$f":"'РАЗДЕЛ 1(АМП)'!#REF!","v":{"$error":"#REF!"}},{"$f":"'РАЗДЕЛ 1(АМП)'!#REF!","v":{"$error":"#REF!"}},null,490007,null,"2017-02-01"]
[null,null,{"$f":"'РАЗДЕЛ 1(АМП)'!#REF!","v":{"$error":"#REF!"}},{"$f":"'РАЗДЕЛ 1(АМП)'!#REF!","v":{"$error":"#REF!"}},{"$f":"'РАЗДЕЛ 1(АМП)'!#REF!","v":{"$error":"#REF!"}},{"$f":"'РАЗДЕЛ 1(АМП)'!#REF!","v":{"$error":"#REF!"}},null,490007,null,"2017-02-01"]
[null,null,{"$f":"'РАЗДЕЛ 1(АМП)'!#REF!","v":{"$error":"#REF!"}},{"$f":"'РАЗДЕЛ 1(АМП)'!#REF!","v":{"$error":"#REF!"}},{"$f":"'РАЗДЕЛ 1(АМП)'!#REF!","v":{"$error":"#REF!"}},{"$f":"'РАЗДЕЛ 1(АМП)'!#REF!","v":{"$error":"#REF!"}},null,{"$f":"H329","v":490007},null,{"$f":"J329","v":"2017-02-01"}]
[null,null,{"$f":"#REF!","v":{"$error":"#REF!"}},{"$f":"#REF!","v":{"$error":"#REF!"}},null,{"$f":"#REF!","v":{"$error":"#REF!"}},{"$f":"#REF!","v":{"$error":"#REF!"}},490007,{"$f":"#REF!","v":{"$error":"#REF!"}},"2017-02-01"]
[null,null,{"$f":"#REF!","v":{"$error":"#REF!"}},{"$f":"#REF!","v":{"$error":"#REF!"}},{"$f":"#REF!","v":{"$error":"#REF!"}},{"$f":"#REF!","v":{"$error":"#REF!"}},null,490007,{"$f":"#REF!","v":{"$error":"#REF!"}},"2017-02-01"]
[null,null,{"$f":"#REF!","v":{"$error":"#REF!"}},{"$f":"#REF!","v":{"$error":"#REF!"}},{"$f":"#REF!","v":{"$error":"#REF!"}},{"$f":"#REF!","v":{"$error":"#REF!"}},null,490007,{"$f":"#REF!","v":{"$error":"#REF!"}},"2017-02-01"]
[null,null,{"$f":"#REF!","v":{"$error":"#REF!"}},{"$f":"#REF!","v":{"$error":"#REF!"}},{"$f":"#REF!","v":{"$error":"#REF!"}},{"$f":"#REF!","v":{"$error":"#REF!"}},null,490007,{"$f":"#REF!","v":{"$error":"#REF!"}},"2017-02-01"]
[null,null,{"$f":"#REF!","v":{"$error":"#REF!"}},{"$f":"#REF!","v":{"$error":"#REF!"}},{"$f":"#REF!","v":{"$error":"#REF!"}},{"$f":"#REF!","v":{"$error":"#REF!"}},null,490007,{"$f":"#REF!","v":{"$error":"#REF!"}},"2017-02-01"]
[null,null,{"$f":"#REF!","v":{"$error":"#REF!"}},{"$f":"#REF!","v":{"$error":"#REF!"}},{"$f":"#REF!","v":{"$error":"#REF!"}},{"$f":"#REF!","v":{"$error":"#REF!"}},null,490007,{"$f":"#REF!","v":{"$error":"#REF!"}},"2017-02-01"]
[null,null,{"$f":"#REF!","v":{"$error":"#REF!"}},{"$f":"#REF!","v":{"$error":"#REF!"}},null,{"$f":"#REF!","v":{"$error":"#REF!"}},{"$f":"#REF!","v":{"$error":"#REF!"}},490007,{"$f":"#REF!","v":{"$error":"#REF!"}},"2017-02-01"]
[null,null,{"$f":"#REF!","v":{"$error":"#REF!"}},{"$f":"#REF!","v":{"$error":"#REF!"}},{"$f":"#REF!","v":{"$error":"#REF!"}},{"$f":"#REF!","v":{"$error":"#REF!"}},null,490007,{"$f":"#REF!","v":{"$error":"#REF!"}},"2017-02-01"]
[null,null,{"$f":"#REF!","v":{"$error":"#REF!"}},{"$f":"#REF!","v":{"$error":"#REF!"}},{"$f":"#REF!","v":{"$error":"#REF!"}},{"$f":"#REF!","v":{"$error":"#REF!"}},null,490007,{"$f":"#REF!","v":{"$error":"#REF!"}},"2017-02-01"]
[null,null,{"$f":"#REF!","v":{"$error":"#REF!"}},{"$f":"#REF!","v":{"$error":"#REF!"}},{"$f":"#REF!","v":{"$error":"#REF!"}},{"$f":"#REF!","v":{"$error":"#REF!"}},null,490007,{"$f":"#REF!","v":{"$error":"#REF!"}},"2017-02-01"]
[null,null,{"$f":"#REF!","v":{"$error":"#REF!"}},{"$f":"#REF!","v":{"$error":"#REF!"}},{"$f":"#REF!","v":{"$error":"#REF!"}},{"$f":"#REF!","v":{"$error":"#REF!"}},null,490007,{"$f":"#REF!","v":{"$error":"#REF!"}},"2017-02-01"]
[null,null,{"$f":"#REF!","v":{"$error":"#REF!"}},{"$f":"#REF!","v":{"$error":"#REF!"}},{"$f":"#REF!","v":{"$error":"#REF!"}},{"$f":"#REF!","v":{"$error":"#REF!"}},null,490007,{"$f":"#REF!","v":{"$error":"#REF!"}},"2017-02-01"]
[null,null,{"$f":"'РАЗДЕЛ 4 (СМП) '!AA6","v":4},{"$f":"'РАЗДЕЛ 4 (СМП) '!AB6","v":24},{"$f":"'РАЗДЕЛ 4 (СМП) '!AC6","v":84},{"$f":"'РАЗДЕЛ 4 (СМП) '!AD6","v":12083.41},null,490007,null,"2017-02-01"]
[null,null,{"$f":"'РАЗДЕЛ 1(АМП)'!#REF!","v":{"$error":"#REF!"}},{"$f":"'РАЗДЕЛ 1(АМП)'!#REF!","v":{"$error":"#REF!"}},{"$f":"'РАЗДЕЛ 1(АМП)'!#REF!","v":{"$error":"#REF!"}},{"$f":"'РАЗДЕЛ 1(АМП)'!#REF!","v":{"$error":"#REF!"}},null,490010,null,"2017-02-01"]
[null,null,{"$f":"'РАЗДЕЛ 1(АМП)'!#REF!","v":{"$error":"#REF!"}},{"$f":"'РАЗДЕЛ 1(АМП)'!#REF!","v":{"$error":"#REF!"}},{"$f":"'РАЗДЕЛ 1(АМП)'!#REF!","v":{"$error":"#REF!"}},{"$f":"'РАЗДЕЛ 1(АМП)'!#REF!","v":{"$error":"#REF!"}},null,{"$f":"H344","v":490010},null,"2017-02-01"]
[null,null,{"$f":"'РАЗДЕЛ 1(АМП)'!#REF!","v":{"$error":"#REF!"}},{"$f":"'РАЗДЕЛ 1(АМП)'!#REF!","v":{"$error":"#REF!"}},{"$f":"'РАЗДЕЛ 1(АМП)'!#REF!","v":{"$error":"#REF!"}},{"$f":"'РАЗДЕЛ 1(АМП)'!#REF!","v":{"$error":"#REF!"}},null,{"$f":"H345","v":490010},null,"2017-02-01"]
[null,null,{"$f":"'РАЗДЕЛ 1(АМП)'!#REF!","v":{"$error":"#REF!"}},{"$f":"'РАЗДЕЛ 1(АМП)'!#REF!","v":{"$error":"#REF!"}},{"$f":"'РАЗДЕЛ 1(АМП)'!#REF!","v":{"$error":"#REF!"}},{"$f":"'РАЗДЕЛ 1(АМП)'!#REF!","v":{"$error":"#REF!"}},null,490010,null,"2017-02-01"]
[null,null,{"$f":"'РАЗДЕЛ 1(АМП)'!#REF!","v":{"$error":"#REF!"}},{"$f":"'РАЗДЕЛ 1(АМП)'!#REF!","v":{"$error":"#REF!"}},{"$f":"'РАЗДЕЛ 1(АМП)'!#REF!","v":{"$error":"#REF!"}},{"$f":"'РАЗДЕЛ 1(АМП)'!#REF!","v":{"$error":"#REF!"}},null,490010,null,"2017-02-01"]
[null,null,{"$f":"'РАЗДЕЛ 1(АМП)'!#REF!","v":{"$error":"#REF!"}},{"$f":"'РАЗДЕЛ 1(АМП)'!#REF!","v":{"$error":"#REF!"}},null,{"$f":"'РАЗДЕЛ 1(АМП)'!#REF!","v":{"$error":"#REF!"}},{"$f":"'РАЗДЕЛ 1(АМП)'!#REF!","v":{"$error":"#REF!"}},490010,null,"2017-02-01"]
[null,null,{"$f":"'РАЗДЕЛ 1(АМП)'!#REF!","v":{"$error":"#REF!"}},{"$f":"'РАЗДЕЛ 1(АМП)'!#REF!","v":{"$error":"#REF!"}},{"$f":"'РАЗДЕЛ 1(АМП)'!#REF!","v":{"$error":"#REF!"}},{"$f":"'РАЗДЕЛ 1(АМП)'!#REF!","v":{"$error":"#REF!"}},null,490010,null,"2017-02-01"]
[null,null,{"$f":"'РАЗДЕЛ 1(АМП)'!#REF!","v":{"$error":"#REF!"}},{"$f":"'РАЗДЕЛ 1(АМП)'!#REF!","v":{"$error":"#REF!"}},{"$f":"'РАЗДЕЛ 1(АМП)'!#REF!","v":{"$error":"#REF!"}},{"$f":"'РАЗДЕЛ 1(АМП)'!#REF!","v":{"$error":"#REF!"}},null,490010,null,"2017-02-01"]
[null,null,{"$f":"'РАЗДЕЛ 1(АМП)'!#REF!","v":{"$error":"#REF!"}},{"$f":"'РАЗДЕЛ 1(АМП)'!#REF!","v":{"$error":"#REF!"}},{"$f":"'РАЗДЕЛ 1(АМП)'!#REF!","v":{"$error":"#REF!"}},{"$f":"'РАЗДЕЛ 1(АМП)'!#REF!","v":{"$error":"#REF!"}},null,490010,null,"2017-02-01"]
[null,null,{"$f":"'РАЗДЕЛ 1(АМП)'!#REF!","v":{"$error":"#REF!"}},{"$f":"'РАЗДЕЛ 1(АМП)'!#REF!","v":{"$error":"#REF!"}},{"$f":"'РАЗДЕЛ 1(АМП)'!#REF!","v":{"$error":"#REF!"}},{"$f":"'РАЗДЕЛ 1(АМП)'!#REF!","v":{"$error":"#REF!"}},null,490010,null,"2017-02-01"]
[null,null,{"$f":"'РАЗДЕЛ 1(АМП)'!#REF!","v":{"$error":"#REF!"}},{"$f":"'РАЗДЕЛ 1(АМП)'!#REF!","v":{"$error":"#REF!"}},{"$f":"'РАЗДЕЛ 1(АМП)'!#REF!","v":{"$error":"#REF!"}},{"$f":"'РАЗДЕЛ 1(АМП)'!#REF!","v":{"$error":"#REF!"}},null,490010,null,"2017-02-01"]
[null,null,{"$f":"'РАЗДЕЛ 1(АМП)'!#REF!","v":{"$error":"#REF!"}},{"$f":"'РАЗДЕЛ 1(АМП)'!#REF!","v":{"$error":"#REF!"}},{"$f":"'РАЗДЕЛ 1(АМП)'!#REF!","v":{"$error":"#REF!"}},{"$f":"'РАЗДЕЛ 1(АМП)'!#REF!","v":{"$error":"#REF!"}},null,490010,null,"2017-02-01"]
[null,null,{"$f":"'РАЗДЕЛ 1(АМП)'!#REF!","v":{"$error":"#REF!"}},{"$f":"'РАЗДЕЛ 1(АМП)'!#REF!","v":{"$error":"#REF!"}},{"$f":"'РАЗДЕЛ 1(АМП)'!#REF!","v":{"$error":"#REF!"}},{"$f":"'РАЗДЕЛ 1(АМП)'!#REF!","v":{"$error":"#REF!"}},null,490010,null,"2017-02-01"]
[null,null,{"$f":"'РАЗДЕЛ 1(АМП)'!#REF!","v":{"$error":"#REF!"}},{"$f":"'РАЗДЕЛ 1(АМП)'!#REF!","v":{"$error":"#REF!"}},{"$f":"'РАЗДЕЛ 1(АМП)'!#REF!","v":{"$error":"#REF!"}},{"$f":"'РАЗДЕЛ 1(АМП)'!#REF!","v":{"$error":"#REF!"}},null,490010,null,"2017-02-01"]
[null,null,{"$f":"'РАЗДЕЛ 1(АМП)'!#REF!","v":{"$error":"#REF!"}},{"$f":"'РАЗДЕЛ 1(АМП)'!#REF!","v":{"$error":"#REF!"}},{"$f":"'РАЗДЕЛ 1(АМП)'!#REF!","v":{"$error":"#REF!"}},{"$f":"'РАЗДЕЛ 1(АМП)'!#REF!","v":{"$error":"#REF!"}},null,490010,null,"2017-02-01"]
[null,null,{"$f":"'РАЗДЕЛ 1(АМП)'!#REF!","v":{"$error":"#REF!"}},{"$f":"'РАЗДЕЛ 1(АМП)'!#REF!","v":{"$error":"#REF!"}},{"$f":"'РАЗДЕЛ 1(АМП)'!#REF!","v":{"$error":"#REF!"}},{"$f":"'РАЗДЕЛ 1(АМП)'!#REF!","v":{"$error":"#REF!"}},null,490010,null,"2017-02-01"]
[null,null,{"$f":"'РАЗДЕЛ 1(АМП)'!#REF!","v":{"$error":"#REF!"}},{"$f":"'РАЗДЕЛ 1(АМП)'!#REF!","v":{"$error":"#REF!"}},{"$f":"'РАЗДЕЛ 1(АМП)'!#REF!","v":{"$error":"#REF!"}},{"$f":"'РАЗДЕЛ 1(АМП)'!#REF!","v":{"$error":"#REF!"}},null,490010,null,"2017-02-01"]
[null,null,{"$f":"'РАЗДЕЛ 1(АМП)'!#REF!","v":{"$error":"#REF!"}},{"$f":"'РАЗДЕЛ 1(АМП)'!#REF!","v":{"$error":"#REF!"}},{"$f":"'РАЗДЕЛ 1(АМП)'!#REF!","v":{"$error":"#REF!"}},{"$f":"'РАЗДЕЛ 1(АМП)'!#REF!","v":{"$error":"#REF!"}},null,490010,null,"2017-02-01"]
[null,null,{"$f":"'РАЗДЕЛ 1(АМП)'!#REF!","v":{"$error":"#REF!"}},{"$f":"'РАЗДЕЛ 1(АМП)'!#REF!","v":{"$error":"#REF!"}},null,{"$f":"'РАЗДЕЛ 1(АМП)'!#REF!","v":{"$error":"#REF!"}},{"$f":"'РАЗДЕЛ 1(АМП)'!#REF!","v":{"$error":"#REF!"}},490010,null,"2017-02-01"]
[null,null,{"$f":"'РАЗДЕЛ 1(АМП)'!#REF!","v":{"$error":"#REF!"}},{"$f":"'РАЗДЕЛ 1(АМП)'!#REF!","v":{"$error":"#REF!"}},{"$f":"'РАЗДЕЛ 1(АМП)'!#REF!","v":{"$error":"#REF!"}},{"$f":"'РАЗДЕЛ 1(АМП)'!#REF!","v":{"$error":"#REF!"}},null,490010,null,"2017-02-01"]
[null,null,{"$f":"'РАЗДЕЛ 1(АМП)'!#REF!","v":{"$error":"#REF!"}},{"$f":"'РАЗДЕЛ 1(АМП)'!#REF!","v":{"$error":"#REF!"}},{"$f":"'РАЗДЕЛ 1(АМП)'!#REF!","v":{"$error":"#REF!"}},{"$f":"'РАЗДЕЛ 1(АМП)'!#REF!","v":{"$error":"#REF!"}},null,490010,null,"2017-02-01"]
[null,null,{"$f":"'РАЗДЕЛ 1(АМП)'!#REF!","v":{"$error":"#REF!"}},{"$f":"'РАЗДЕЛ 1(АМП)'!#REF!","v":{"$error":"#REF!"}},{"$f":"'РАЗДЕЛ 1(АМП)'!#REF!","v":{"$error":"#REF!"}},{"$f":"'РАЗДЕЛ 1(АМП)'!#REF!","v":{"$error":"#REF!"}},null,490010,null,"2017-02-01"]
[null,null,{"$f":"'РАЗДЕЛ 1(АМП)'!#REF!","v":{"$error":"#REF!"}},{"$f":"'РАЗДЕЛ 1(АМП)'!#REF!","v":{"$error":"#REF!"}},{"$f":"'РАЗДЕЛ 1(АМП)'!#REF!","v":{"$error":"#REF!"}},{"$f":"'РАЗДЕЛ 1(АМП)'!#REF!","v":{"$error":"#REF!"}},null,490010,null,"2017-02-01"]
[null,null,{"$f":"'РАЗДЕЛ 1(АМП)'!#REF!","v":{"$error":"#REF!"}},{"$f":"'РАЗДЕЛ 1(АМП)'!#REF!","v":{"$error":"#REF!"}},{"$f":"'РАЗДЕЛ 1(АМП)'!#REF!","v":{"$error":"#REF!"}},{"$f":"'РАЗДЕЛ 1(АМП)'!#REF!","v":{"$error":"#REF!"}},null,490010,null,"2017-02-01"]
[null,null,{"$f":"'РАЗДЕЛ 1(АМП)'!#REF!","v":{"$error":"#REF!"}},{"$f":"'РАЗДЕЛ 1(АМП)'!#REF!","v":{"$error":"#REF!"}},{"$f":"'РАЗДЕЛ 1(АМП)'!#REF!","v":{"$error":"#REF!"}},{"$f":"'РАЗДЕЛ 1(АМП)'!#REF!","v":{"$error":"#REF!"}},null,490010,null,"2017-02-01"]
[null,null,{"$f":"'РАЗДЕЛ 1(АМП)'!#REF!","v":{"$error":"#REF!"}},{"$f":"'РАЗДЕЛ 1(АМП)'!#REF!","v":{"$error":"#REF!"}},{"$f":"'РАЗДЕЛ 1(АМП)'!#REF!","v":{"$error":"#REF!"}},{"$f":"'РАЗДЕЛ 1(АМП)'!#REF!","v":{"$error":"#REF!"}},null,490010,null,"2017-02-01"]
[null,null,{"$f":"'РАЗДЕЛ 1(АМП)'!#REF!","v":{"$error":"#REF!"}},{"$f":"'РАЗДЕЛ 1(АМП)'!#REF!","v":{"$error":"#REF!"}},{"$f":"'РАЗДЕЛ 1(АМП)'!#REF!","v":{"$error":"#REF!"}},{"$f":"'РАЗДЕЛ 1(АМП)'!#REF!","v":{"$error":"#REF!"}},null,490010,null,"2017-02-01"]
[null,null,{"$f":"'РАЗДЕЛ 1(АМП)'!#REF!","v":{"$error":"#REF!"}},{"$f":"'РАЗДЕЛ 1(АМП)'!#REF!","v":{"$error":"#REF!"}},{"$f":"'РАЗДЕЛ 1(АМП)'!#REF!","v":{"$error":"#REF!"}},{"$f":"'РАЗДЕЛ 1(АМП)'!#REF!","v":{"$error":"#REF!"}},null,490010,null,"2017-02-01"]
[null,null,{"$f":"'РАЗДЕЛ 1(АМП)'!#REF!","v":{"$error":"#REF!"}},{"$f":"'РАЗДЕЛ 1(АМП)'!#REF!","v":{"$error":"#REF!"}},{"$f":"'РАЗДЕЛ 1(АМП)'!#REF!","v":{"$error":"#REF!"}},{"$f":"'РАЗДЕЛ 1(АМП)'!#REF!","v":{"$error":"#REF!"}},null,490010,null,"2017-02-01"]
[null,null,{"$f":"'РАЗДЕЛ 1(АМП)'!#REF!","v":{"$error":"#REF!"}},{"$f":"'РАЗДЕЛ 1(АМП)'!#REF!","v":{"$error":"#REF!"}},{"$f":"'РАЗДЕЛ 1(АМП)'!#REF!","v":{"$error":"#REF!"}},{"$f":"'РАЗДЕЛ 1(АМП)'!#REF!","v":{"$error":"#REF!"}},null,490010,null,"2017-02-01"]
[null,null,{"$f":"'РАЗДЕЛ 1(АМП)'!#REF!","v":{"$error":"#REF!"}},{"$f":"'РАЗДЕЛ 1(АМП)'!#REF!","v":{"$error":"#REF!"}},{"$f":"'РАЗДЕЛ 1(АМП)'!#REF!","v":{"$error":"#REF!"}},{"$f":"'РАЗДЕЛ 1(АМП)'!#REF!","v":{"$error":"#REF!"}},null,490010,null,"2017-02-01"]
[null,null,{"$f":"'РАЗДЕЛ 1(АМП)'!#REF!","v":{"$error":"#REF!"}},{"$f":"'РАЗДЕЛ 1(АМП)'!#REF!","v":{"$error":"#REF!"}},{"$f":"'РАЗДЕЛ 1(АМП)'!#REF!","v":{"$error":"#REF!"}},{"$f":"'РАЗДЕЛ 1(АМП)'!#REF!","v":{"$error":"#REF!"}},null,490010,null,"2017-02-01"]
[null,null,{"$f":"'РАЗДЕЛ 1(АМП)'!#REF!","v":{"$error":"#REF!"}},{"$f":"'РАЗДЕЛ 1(АМП)'!#REF!","v":{"$error":"#REF!"}},{"$f":"'РАЗДЕЛ 1(АМП)'!#REF!","v":{"$error":"#REF!"}},{"$f":"'РАЗДЕЛ 1(АМП)'!#REF!","v":{"$error":"#REF!"}},null,490010,null,"2017-02-01"]
[null,null,{"$f":"'РАЗДЕЛ 1(АМП)'!#REF!","v":{"$error":"#REF!"}},{"$f":"'РАЗДЕЛ 1(АМП)'!#REF!","v":{"$error":"#REF!"}},{"$f":"'РАЗДЕЛ 1(АМП)'!#REF!","v":{"$error":"#REF!"}},{"$f":"'РАЗДЕЛ 1(АМП)'!#REF!","v":{"$error":"#REF!"}},null,490010,null,"2017-02-01"]
[null,null,{"$f":"'РАЗДЕЛ 1(АМП)'!#REF!","v":{"$error":"#REF!"}},{"$f":"'РАЗДЕЛ 1(АМП)'!#REF!","v":{"$error":"#REF!"}},{"$f":"'РАЗДЕЛ 1(АМП)'!#REF!","v":{"$error":"#REF!"}},{"$f":"'РАЗДЕЛ 1(АМП)'!#REF!","v":{"$error":"#REF!"}},null,490010,null,"2017-02-01"]
[null,null,{"$f":"'РАЗДЕЛ 1(АМП)'!#REF!","v":{"$error":"#REF!"}},{"$f":"'РАЗДЕЛ 1(АМП)'!#REF!","v":{"$error":"#REF!"}},{"$f":"'РАЗДЕЛ 1(АМП)'!#REF!","v":{"$error":"#REF!"}},{"$f":"'РАЗДЕЛ 1(АМП)'!#REF!","v":{"$error":"#REF!"}},null,490010,null,"2017-02-01"]
[null,null,{"$f":"'РАЗДЕЛ 1(АМП)'!#REF!","v":{"$error":"#REF!"}},{"$f":"'РАЗДЕЛ 1(АМП)'!#REF!","v":{"$error":"#REF!"}},{"$f":"'РАЗДЕЛ 1(АМП)'!#REF!","v":{"$error":"#REF!"}},{"$f":"'РАЗДЕЛ 1(АМП)'!#REF!","v":{"$error":"#REF!"}},null,490010,null,"2017-02-01"]
[null,null,{"$f":"'РАЗДЕЛ 1(АМП)'!#REF!","v":{"$error":"#REF!"}},{"$f":"'РАЗДЕЛ 1(АМП)'!#REF!","v":{"$error":"#REF!"}},{"$f":"'РАЗДЕЛ 1(АМП)'!#REF!","v":{"$error":"#REF!"}},{"$f":"'РАЗДЕЛ 1(АМП)'!#REF!","v":{"$error":"#REF!"}},null,490010,null,"2017-02-01"]
[null,null,{"$f":"'РАЗДЕЛ 1(АМП)'!#REF!","v":{"$error":"#REF!"}},{"$f":"'РАЗДЕЛ 1(АМП)'!#REF!","v":{"$error":"#REF!"}},{"$f":"'РАЗДЕЛ 1(АМП)'!#REF!","v":{"$error":"#REF!"}},{"$f":"'РАЗДЕЛ 1(АМП)'!#REF!","v":{"$error":"#REF!"}},null,490010,null,"2017-02-01"]
[null,null,{"$f":"'РАЗДЕЛ 1(АМП)'!#REF!","v":{"$error":"#REF!"}},{"$f":"'РАЗДЕЛ 1(АМП)'!#REF!","v":{"$error":"#REF!"}},{"$f":"'РАЗДЕЛ 1(АМП)'!#REF!","v":{"$error":"#REF!"}},{"$f":"'РАЗДЕЛ 1(АМП)'!#REF!","v":{"$error":"#REF!"}},null,490010,null,"2017-02-01"]
[null,null,{"$f":"'РАЗДЕЛ 1(АМП)'!#REF!","v":{"$error":"#REF!"}},{"$f":"'РАЗДЕЛ 1(АМП)'!#REF!","v":{"$error":"#REF!"}},null,{"$f":"'РАЗДЕЛ 1(АМП)'!#REF!","v":{"$error":"#REF!"}},{"$f":"'РАЗДЕЛ 1(АМП)'!#REF!","v":{"$error":"#REF!"}},490010,null,"2017-02-01"]
[null,null,{"$f":"'РАЗДЕЛ 1(АМП)'!#REF!","v":{"$error":"#REF!"}},{"$f":"'РАЗДЕЛ 1(АМП)'!#REF!","v":{"$error":"#REF!"}},{"$f":"'РАЗДЕЛ 1(АМП)'!#REF!","v":{"$error":"#REF!"}},{"$f":"'РАЗДЕЛ 1(АМП)'!#REF!","v":{"$error":"#REF!"}},null,490010,null,"2017-02-01"]
[null,null,{"$f":"'РАЗДЕЛ 1(АМП)'!#REF!","v":{"$error":"#REF!"}},{"$f":"'РАЗДЕЛ 1(АМП)'!#REF!","v":{"$error":"#REF!"}},{"$f":"'РАЗДЕЛ 1(АМП)'!#REF!","v":{"$error":"#REF!"}},{"$f":"'РАЗДЕЛ 1(АМП)'!#REF!","v":{"$error":"#REF!"}},null,490010,null,"2017-02-01"]
[null,null,{"$f":"'РАЗДЕЛ 1(АМП)'!#REF!","v":{"$error":"#REF!"}},{"$f":"'РАЗДЕЛ 1(АМП)'!#REF!","v":{"$error":"#REF!"}},{"$f":"'РАЗДЕЛ 1(АМП)'!#REF!","v":{"$error":"#REF!"}},{"$f":"'РАЗДЕЛ 1(АМП)'!#REF!","v":{"$error":"#REF!"}},null,490010,null,"2017-02-01"]
[null,null,{"$f":"'РАЗДЕЛ 1(АМП)'!#REF!","v":{"$error":"#REF!"}},{"$f":"'РАЗДЕЛ 1(АМП)'!#REF!","v":{"$error":"#REF!"}},{"$f":"'РАЗДЕЛ 1(АМП)'!#REF!","v":{"$error":"#REF!"}},{"$f":"'РАЗДЕЛ 1(АМП)'!#REF!","v":{"$error":"#REF!"}},null,490010,null,"2017-02-01"]
[null,null,{"$f":"'РАЗДЕЛ 1(АМП)'!#REF!","v":{"$error":"#REF!"}},{"$f":"'РАЗДЕЛ 1(АМП)'!#REF!","v":{"$error":"#REF!"}},{"$f":"'РАЗДЕЛ 1(АМП)'!#REF!","v":{"$error":"#REF!"}},{"$f":"'РАЗДЕЛ 1(АМП)'!#REF!","v":{"$error":"#REF!"}},null,490010,null,"2017-02-01"]
[null,null,{"$f":"'РАЗДЕЛ 1(АМП)'!#REF!","v":{"$error":"#REF!"}},{"$f":"'РАЗДЕЛ 1(АМП)'!#REF!","v":{"$error":"#REF!"}},{"$f":"'РАЗДЕЛ 1(АМП)'!#REF!","v":{"$error":"#REF!"}},{"$f":"'РАЗДЕЛ 1(АМП)'!#REF!","v":{"$error":"#REF!"}},null,490010,null,"2017-02-01"]
[null,null,{"$f":"'РАЗДЕЛ 1(АМП)'!#REF!","v":{"$error":"#REF!"}},{"$f":"'РАЗДЕЛ 1(АМП)'!#REF!","v":{"$error":"#REF!"}},{"$f":"'РАЗДЕЛ 1(АМП)'!#REF!","v":{"$error":"#REF!"}},{"$f":"'РАЗДЕЛ 1(АМП)'!#REF!","v":{"$error":"#REF!"}},null,490010,null,"2017-02-01"]
[null,null,{"$f":"'РАЗДЕЛ 1(АМП)'!#REF!","v":{"$error":"#REF!"}},{"$f":"'РАЗДЕЛ 1(АМП)'!#REF!","v":{"$error":"#REF!"}},{"$f":"'РАЗДЕЛ 1(АМП)'!#REF!","v":{"$error":"#REF!"}},{"$f":"'РАЗДЕЛ 1(АМП)'!#REF!","v":{"$error":"#REF!"}},null,490010,null,"2017-02-01"]
[null,null,{"$f":"'РАЗДЕЛ 1(АМП)'!#REF!","v":{"$error":"#REF!"}},{"$f":"'РАЗДЕЛ 1(АМП)'!#REF!","v":{"$error":"#REF!"}},{"$f":"'РАЗДЕЛ 1(АМП)'!#REF!","v":{"$error":"#REF!"}},{"$f":"'РАЗДЕЛ 1(АМП)'!#REF!","v":{"$error":"#REF!"}},null,490010,null,"2017-02-01"]
[null,null,{"$f":"'РАЗДЕЛ 1(АМП)'!#REF!","v":{"$error":"#REF!"}},{"$f":"'РАЗДЕЛ 1(АМП)'!#REF!","v":{"$error":"#REF!"}},{"$f":"'РАЗДЕЛ 1(АМП)'!#REF!","v":{"$error":"#REF!"}},{"$f":"'РАЗДЕЛ 1(АМП)'!#REF!","v":{"$error":"#REF!"}},null,490010,null,{"$f":"J393","v":"2017-02-01"}]
[null,null,{"$f":"'РАЗДЕЛ 1(АМП)'!#REF!","v":{"$error":"#REF!"}},{"$f":"'РАЗДЕЛ 1(АМП)'!#REF!","v":{"$error":"#REF!"}},{"$f":"'РАЗДЕЛ 1(АМП)'!#REF!","v":{"$error":"#REF!"}},{"$f":"'РАЗДЕЛ 1(АМП)'!#REF!","v":{"$error":"#REF!"}},null,490010,null,"2017-02-01"]
[null,null,{"$f":"'РАЗДЕЛ 1(АМП)'!#REF!","v":{"$error":"#REF!"}},{"$f":"'РАЗДЕЛ 1(АМП)'!#REF!","v":{"$error":"#REF!"}},{"$f":"'РАЗДЕЛ 1(АМП)'!#REF!","v":{"$error":"#REF!"}},{"$f":"'РАЗДЕЛ 1(АМП)'!#REF!","v":{"$error":"#REF!"}},null,490010,null,"2017-02-01"]
[null,null,{"$f":"'РАЗДЕЛ 1(АМП)'!#REF!","v":{"$error":"#REF!"}},{"$f":"'РАЗДЕЛ 1(АМП)'!#REF!","v":{"$error":"#REF!"}},{"$f":"'РАЗДЕЛ 1(АМП)'!#REF!","v":{"$error":"#REF!"}},{"$f":"'РАЗДЕЛ 1(АМП)'!#REF!","v":{"$error":"#REF!"}},null,490010,null,"2017-02-01"]
[null,null,{"$f":"'РАЗДЕЛ 1(АМП)'!#REF!","v":{"$error":"#REF!"}},{"$f":"'РАЗДЕЛ 1(АМП)'!#REF!","v":{"$error":"#REF!"}},{"$f":"'РАЗДЕЛ 1(АМП)'!#REF!","v":{"$error":"#REF!"}},{"$f":"'РАЗДЕЛ 1(АМП)'!#REF!","v":{"$error":"#REF!"}},null,490010,null,"2017-02-01"]
[null,null,{"$f":"'РАЗДЕЛ 1(АМП)'!#REF!","v":{"$error":"#REF!"}},{"$f":"'РАЗДЕЛ 1(АМП)'!#REF!","v":{"$error":"#REF!"}},{"$f":"'РАЗДЕЛ 1(АМП)'!#REF!","v":{"$error":"#REF!"}},{"$f":"'РАЗДЕЛ 1(АМП)'!#REF!","v":{"$error":"#REF!"}},null,490010,null,"2017-02-01"]
[null,null,{"$f":"'РАЗДЕЛ 1(АМП)'!#REF!","v":{"$error":"#REF!"}},{"$f":"'РАЗДЕЛ 1(АМП)'!#REF!","v":{"$error":"#REF!"}},{"$f":"'РАЗДЕЛ 1(АМП)'!#REF!","v":{"$error":"#REF!"}},{"$f":"'РАЗДЕЛ 1(АМП)'!#REF!","v":{"$error":"#REF!"}},null,490010,null,"2017-02-01"]
[null,null,{"$f":"'РАЗДЕЛ 1(АМП)'!#REF!","v":{"$error":"#REF!"}},{"$f":"'РАЗДЕЛ 1(АМП)'!#REF!","v":{"$error":"#REF!"}},{"$f":"'РАЗДЕЛ 1(АМП)'!#REF!","v":{"$error":"#REF!"}},{"$f":"'РАЗДЕЛ 1(АМП)'!#REF!","v":{"$error":"#REF!"}},null,490010,null,"2017-02-01"]
[null,null,{"$f":"'РАЗДЕЛ 1(АМП)'!#REF!","v":{"$error":"#REF!"}},{"$f":"'РАЗДЕЛ 1(АМП)'!#REF!","v":{"$error":"#REF!"}},{"$f":"'РАЗДЕЛ 1(АМП)'!#REF!","v":{"$error":"#REF!"}},{"$f":"'РАЗДЕЛ 1(АМП)'!#REF!","v":{"$error":"#REF!"}},null,490010,null,"2017-02-01"]
[null,null,{"$f":"'РАЗДЕЛ 1(АМП)'!#REF!","v":{"$error":"#REF!"}},{"$f":"'РАЗДЕЛ 1(АМП)'!#REF!","v":{"$error":"#REF!"}},{"$f":"'РАЗДЕЛ 1(АМП)'!#REF!","v":{"$error":"#REF!"}},{"$f":"'РАЗДЕЛ 1(АМП)'!#REF!","v":{"$error":"#REF!"}},null,490010,null,"2017-02-01"]
[null,null,{"$f":"'РАЗДЕЛ 1(АМП)'!#REF!","v":{"$error":"#REF!"}},{"$f":"'РАЗДЕЛ 1(АМП)'!#REF!","v":{"$error":"#REF!"}},{"$f":"'РАЗДЕЛ 1(АМП)'!#REF!","v":{"$error":"#REF!"}},{"$f":"'РАЗДЕЛ 1(АМП)'!#REF!","v":{"$error":"#REF!"}},null,490010,null,"2017-02-01"]
[null,null,{"$f":"'РАЗДЕЛ 1(АМП)'!#REF!","v":{"$error":"#REF!"}},{"$f":"'РАЗДЕЛ 1(АМП)'!#REF!","v":{"$error":"#REF!"}},{"$f":"'РАЗДЕЛ 1(АМП)'!#REF!","v":{"$error":"#REF!"}},{"$f":"'РАЗДЕЛ 1(АМП)'!#REF!","v":{"$error":"#REF!"}},null,490010,null,"2017-02-01"]
[null,null,{"$f":"'РАЗДЕЛ 1(АМП)'!#REF!","v":{"$error":"#REF!"}},{"$f":"'РАЗДЕЛ 1(АМП)'!#REF!","v":{"$error":"#REF!"}},null,{"$f":"'РАЗДЕЛ 1(АМП)'!#REF!","v":{"$error":"#REF!"}},{"$f":"'РАЗДЕЛ 1(АМП)'!#REF!","v":{"$error":"#REF!"}},490010,null,"2017-02-01"]
[null,null,{"$f":"'РАЗДЕЛ 1(АМП)'!#REF!","v":{"$error":"#REF!"}},{"$f":"'РАЗДЕЛ 1(АМП)'!#REF!","v":{"$error":"#REF!"}},{"$f":"'РАЗДЕЛ 1(АМП)'!#REF!","v":{"$error":"#REF!"}},{"$f":"'РАЗДЕЛ 1(АМП)'!#REF!","v":{"$error":"#REF!"}},null,490010,null,"2017-02-01"]
[null,null,{"$f":"'РАЗДЕЛ 1(АМП)'!#REF!","v":{"$error":"#REF!"}},{"$f":"'РАЗДЕЛ 1(АМП)'!#REF!","v":{"$error":"#REF!"}},{"$f":"'РАЗДЕЛ 1(АМП)'!#REF!","v":{"$error":"#REF!"}},{"$f":"'РАЗДЕЛ 1(АМП)'!#REF!","v":{"$error":"#REF!"}},null,490010,null,"2017-02-01"]
[null,null,{"$f":"'РАЗДЕЛ 1(АМП)'!#REF!","v":{"$error":"#REF!"}},{"$f":"'РАЗДЕЛ 1(АМП)'!#REF!","v":{"$error":"#REF!"}},{"$f":"'РАЗДЕЛ 1(АМП)'!#REF!","v":{"$error":"#REF!"}},{"$f":"'РАЗДЕЛ 1(АМП)'!#REF!","v":{"$error":"#REF!"}},null,490010,null,"2017-02-01"]
[null,null,{"$f":"'РАЗДЕЛ 1(АМП)'!#REF!","v":{"$error":"#REF!"}},{"$f":"'РАЗДЕЛ 1(АМП)'!#REF!","v":{"$error":"#REF!"}},{"$f":"'РАЗДЕЛ 1(АМП)'!#REF!","v":{"$error":"#REF!"}},{"$f":"'РАЗДЕЛ 1(АМП)'!#REF!","v":{"$error":"#REF!"}},null,{"$f":"H409","v":490010},null,"2017-02-01"]
[null,null,{"$f":"'РАЗДЕЛ 1(АМП)'!#REF!","v":{"$error":"#REF!"}},{"$f":"'РАЗДЕЛ 1(АМП)'!#REF!","v":{"$error":"#REF!"}},{"$f":"'РАЗДЕЛ 1(АМП)'!#REF!","v":{"$error":"#REF!"}},{"$f":"'РАЗДЕЛ 1(АМП)'!#REF!","v":{"$error":"#REF!"}},null,490010,null,"2017-02-01"]
[null,null,{"$f":"'РАЗДЕЛ 1(АМП)'!#REF!","v":{"$error":"#REF!"}},{"$f":"'РАЗДЕЛ 1(АМП)'!#REF!","v":{"$error":"#REF!"}},{"$f":"'РАЗДЕЛ 1(АМП)'!#REF!","v":{"$error":"#REF!"}},{"$f":"'РАЗДЕЛ 1(АМП)'!#REF!","v":{"$error":"#REF!"}},null,490010,null,"2017-02-01"]
[null,null,{"$f":"'РАЗДЕЛ 1(АМП)'!#REF!","v":{"$error":"#REF!"}},{"$f":"'РАЗДЕЛ 1(АМП)'!#REF!","v":{"$error":"#REF!"}},{"$f":"'РАЗДЕЛ 1(АМП)'!#REF!","v":{"$error":"#REF!"}},{"$f":"'РАЗДЕЛ 1(АМП)'!#REF!","v":{"$error":"#REF!"}},null,490010,null,"2017-02-01"]
[null,null,{"$f":"'РАЗДЕЛ 1(АМП)'!#REF!","v":{"$error":"#REF!"}},{"$f":"'РАЗДЕЛ 1(АМП)'!#REF!","v":{"$error":"#REF!"}},{"$f":"'РАЗДЕЛ 1(АМП)'!#REF!","v":{"$error":"#REF!"}},{"$f":"'РАЗДЕЛ 1(АМП)'!#REF!","v":{"$error":"#REF!"}},null,490010,null,"2017-02-01"]
[null,null,{"$f":"'РАЗДЕЛ 1(АМП)'!#REF!","v":{"$error":"#REF!"}},{"$f":"'РАЗДЕЛ 1(АМП)'!#REF!","v":{"$error":"#REF!"}},{"$f":"'РАЗДЕЛ 1(АМП)'!#REF!","v":{"$error":"#REF!"}},{"$f":"'РАЗДЕЛ 1(АМП)'!#REF!","v":{"$error":"#REF!"}},null,490010,null,"2017-02-01"]
[null,null,{"$f":"#REF!","v":{"$error":"#REF!"}},{"$f":"#REF!","v":{"$error":"#REF!"}},null,{"$f":"#REF!","v":{"$error":"#REF!"}},{"$f":"#REF!","v":{"$error":"#REF!"}},490010,{"$f":"#REF!","v":{"$error":"#REF!"}},"2017-02-01"]
[null,null,{"$f":"#REF!","v":{"$error":"#REF!"}},{"$f":"#REF!","v":{"$error":"#REF!"}},{"$f":"#REF!","v":{"$error":"#REF!"}},{"$f":"#REF!","v":{"$error":"#REF!"}},null,490010,{"$f":"#REF!","v":{"$error":"#REF!"}},"2017-02-01"]
[null,null,{"$f":"#REF!","v":{"$error":"#REF!"}},{"$f":"#REF!","v":{"$error":"#REF!"}},{"$f":"#REF!","v":{"$error":"#REF!"}},{"$f":"#REF!","v":{"$error":"#REF!"}},null,490010,{"$f":"#REF!","v":{"$error":"#REF!"}},"2017-02-01"]
[null,null,{"$f":"#REF!","v":{"$error":"#REF!"}},{"$f":"#REF!","v":{"$error":"#REF!"}},{"$f":"#REF!","v":{"$error":"#REF!"}},{"$f":"#REF!","v":{"$error":"#REF!"}},null,490010,{"$f":"#REF!","v":{"$error":"#REF!"}},"2017-02-01"]
[null,null,{"$f":"#REF!","v":{"$error":"#REF!"}},{"$f":"#REF!","v":{"$error":"#REF!"}},{"$f":"#REF!","v":{"$error":"#REF!"}},{"$f":"#REF!","v":{"$error":"#REF!"}},null,490010,{"$f":"#REF!","v":{"$error":"#REF!"}},"2017-02-01"]
[null,null,{"$f":"#REF!","v":{"$error":"#REF!"}},{"$f":"#REF!","v":{"$error":"#REF!"}},{"$f":"#REF!","v":{"$error":"#REF!"}},{"$f":"#REF!","v":{"$error":"#REF!"}},null,490010,{"$f":"#REF!","v":{"$error":"#REF!"}},"2017-02-01"]
[null,null,{"$f":"#REF!","v":{"$error":"#REF!"}},{"$f":"#REF!","v":{"$error":"#REF!"}},{"$f":"#REF!","v":{"$error":"#REF!"}},{"$f":"#REF!","v":{"$error":"#REF!"}},null,490010,{"$f":"#REF!","v":{"$error":"#REF!"}},"2017-02-01"]
[null,null,{"$f":"#REF!","v":{"$error":"#REF!"}},{"$f":"#REF!","v":{"$error":"#REF!"}},{"$f":"#REF!","v":{"$error":"#REF!"}},{"$f":"#REF!","v":{"$error":"#REF!"}},null,490010,{"$f":"#REF!","v":{"$error":"#REF!"}},"2017-02-01"]
[null,null,{"$f":"#REF!","v":{"$error":"#REF!"}},{"$f":"#REF!","v":{"$error":"#REF!"}},null,{"$f":"#REF!","v":{"$error":"#REF!"}},{"$f":"#REF!","v":{"$error":"#REF!"}},490010,{"$f":"#REF!","v":{"$error":"#REF!"}},"2017-02-01"]
[null,null,{"$f":"#REF!","v":{"$error":"#REF!"}},{"$f":"#REF!","v":{"$error":"#REF!"}},{"$f":"#REF!","v":{"$error":"#REF!"}},{"$f":"#REF!","v":{"$error":"#REF!"}},null,490010,{"$f":"#REF!","v":{"$error":"#REF!"}},"2017-02-01"]
[null,null,{"$f":"#REF!","v":{"$error":"#REF!"}},{"$f":"#REF!","v":{"$error":"#REF!"}},{"$f":"#REF!","v":{"$error":"#REF!"}},{"$f":"#REF!","v":{"$error":"#REF!"}},null,490010,{"$f":"#REF!","v":{"$error":"#REF!"}},"2017-02-01"]
[null,null,{"$f":"#REF!","v":{"$error":"#REF!"}},{"$f":"#REF!","v":{"$error":"#REF!"}},{"$f":"#REF!","v":{"$error":"#REF!"}},{"$f":"#REF!","v":{"$error":"#REF!"}},null,490010,{"$f":"#REF!","v":{"$error":"#REF!"}},"2017-02-01"]
[null,null,{"$f":"#REF!","v":{"$error":"#REF!"}},{"$f":"#REF!","v":{"$error":"#REF!"}},{"$f":"#REF!","v":{"$error":"#REF!"}},{"$f":"#REF!","v":{"$error":"#REF!"}},null,490010,{"$f":"#REF!","v":{"$error":"#REF!"}},"2017-02-01"]
[null,null,{"$f":"#REF!","v":{"$error":"#REF!"}},{"$f":"#REF!","v":{"$error":"#REF!"}},{"$f":"#REF!","v":{"$error":"#REF!"}},{"$f":"#REF!","v":{"$error":"#REF!"}},null,490010,{"$f":"#REF!","v":{"$error":"#REF!"}},"2017-02-01"]
[null,null,{"$f":"'РАЗДЕЛ 4 (СМП) '!AA6","v":4},{"$f":"'РАЗДЕЛ 4 (СМП) '!AB6","v":24},{"$f":"'РАЗДЕЛ 4 (СМП) '!AC6","v":84},{"$f":"'РАЗДЕЛ 4 (СМП) '!AD6","v":12083.41},null,490010,null,"2017-02-01"]
[null,null,{"$f":"'РАЗДЕЛ 1(АМП)'!#REF!","v":{"$error":"#REF!"}},{"$f":"'РАЗДЕЛ 1(АМП)'!#REF!","v":{"$error":"#REF!"}},{"$f":"'РАЗДЕЛ 1(АМП)'!#REF!","v":{"$error":"#REF!"}},{"$f":"'РАЗДЕЛ 1(АМП)'!#REF!","v":{"$error":"#REF!"}},null,490011,null,"2017-02-01"]
[null,null,{"$f":"'РАЗДЕЛ 1(АМП)'!#REF!","v":{"$error":"#REF!"}},{"$f":"'РАЗДЕЛ 1(АМП)'!#REF!","v":{"$error":"#REF!"}},{"$f":"'РАЗДЕЛ 1(АМП)'!#REF!","v":{"$error":"#REF!"}},{"$f":"'РАЗДЕЛ 1(АМП)'!#REF!","v":{"$error":"#REF!"}},null,{"$f":"H431","v":490011},null,"2017-02-01"]
[null,null,{"$f":"'РАЗДЕЛ 1(АМП)'!#REF!","v":{"$error":"#REF!"}},{"$f":"'РАЗДЕЛ 1(АМП)'!#REF!","v":{"$error":"#REF!"}},{"$f":"'РАЗДЕЛ 1(АМП)'!#REF!","v":{"$error":"#REF!"}},{"$f":"'РАЗДЕЛ 1(АМП)'!#REF!","v":{"$error":"#REF!"}},null,{"$f":"H432","v":490011},null,"2017-02-01"]
[null,null,{"$f":"'РАЗДЕЛ 1(АМП)'!#REF!","v":{"$error":"#REF!"}},{"$f":"'РАЗДЕЛ 1(АМП)'!#REF!","v":{"$error":"#REF!"}},{"$f":"'РАЗДЕЛ 1(АМП)'!#REF!","v":{"$error":"#REF!"}},{"$f":"'РАЗДЕЛ 1(АМП)'!#REF!","v":{"$error":"#REF!"}},null,490011,null,"2017-02-01"]
[null,null,{"$f":"'РАЗДЕЛ 1(АМП)'!#REF!","v":{"$error":"#REF!"}},{"$f":"'РАЗДЕЛ 1(АМП)'!#REF!","v":{"$error":"#REF!"}},{"$f":"'РАЗДЕЛ 1(АМП)'!#REF!","v":{"$error":"#REF!"}},{"$f":"'РАЗДЕЛ 1(АМП)'!#REF!","v":{"$error":"#REF!"}},null,490011,null,"2017-02-01"]
[null,null,{"$f":"'РАЗДЕЛ 1(АМП)'!#REF!","v":{"$error":"#REF!"}},{"$f":"'РАЗДЕЛ 1(АМП)'!#REF!","v":{"$error":"#REF!"}},null,{"$f":"'РАЗДЕЛ 1(АМП)'!#REF!","v":{"$error":"#REF!"}},{"$f":"'РАЗДЕЛ 1(АМП)'!#REF!","v":{"$error":"#REF!"}},490011,null,"2017-02-01"]
[null,null,{"$f":"'РАЗДЕЛ 1(АМП)'!#REF!","v":{"$error":"#REF!"}},{"$f":"'РАЗДЕЛ 1(АМП)'!#REF!","v":{"$error":"#REF!"}},{"$f":"'РАЗДЕЛ 1(АМП)'!#REF!","v":{"$error":"#REF!"}},{"$f":"'РАЗДЕЛ 1(АМП)'!#REF!","v":{"$error":"#REF!"}},null,{"$f":"H436","v":490011},null,{"$f":"J436","v":"2017-02-01"}]
[null,null,{"$f":"'РАЗДЕЛ 1(АМП)'!#REF!","v":{"$error":"#REF!"}},{"$f":"'РАЗДЕЛ 1(АМП)'!#REF!","v":{"$error":"#REF!"}},{"$f":"'РАЗДЕЛ 1(АМП)'!#REF!","v":{"$error":"#REF!"}},{"$f":"'РАЗДЕЛ 1(АМП)'!#REF!","v":{"$error":"#REF!"}},null,490011,null,"2017-02-01"]
[null,null,{"$f":"'РАЗДЕЛ 1(АМП)'!#REF!","v":{"$error":"#REF!"}},{"$f":"'РАЗДЕЛ 1(АМП)'!#REF!","v":{"$error":"#REF!"}},{"$f":"'РАЗДЕЛ 1(АМП)'!#REF!","v":{"$error":"#REF!"}},{"$f":"'РАЗДЕЛ 1(АМП)'!#REF!","v":{"$error":"#REF!"}},null,490011,null,"2017-02-01"]
[null,null,{"$f":"'РАЗДЕЛ 1(АМП)'!#REF!","v":{"$error":"#REF!"}},{"$f":"'РАЗДЕЛ 1(АМП)'!#REF!","v":{"$error":"#REF!"}},{"$f":"'РАЗДЕЛ 1(АМП)'!#REF!","v":{"$error":"#REF!"}},{"$f":"'РАЗДЕЛ 1(АМП)'!#REF!","v":{"$error":"#REF!"}},null,490011,null,"2017-02-01"]
[null,null,{"$f":"'РАЗДЕЛ 1(АМП)'!#REF!","v":{"$error":"#REF!"}},{"$f":"'РАЗДЕЛ 1(АМП)'!#REF!","v":{"$error":"#REF!"}},{"$f":"'РАЗДЕЛ 1(АМП)'!#REF!","v":{"$error":"#REF!"}},{"$f":"'РАЗДЕЛ 1(АМП)'!#REF!","v":{"$error":"#REF!"}},null,490011,null,"2017-02-01"]
[null,null,{"$f":"'РАЗДЕЛ 1(АМП)'!#REF!","v":{"$error":"#REF!"}},{"$f":"'РАЗДЕЛ 1(АМП)'!#REF!","v":{"$error":"#REF!"}},{"$f":"'РАЗДЕЛ 1(АМП)'!#REF!","v":{"$error":"#REF!"}},{"$f":"'РАЗДЕЛ 1(АМП)'!#REF!","v":{"$error":"#REF!"}},null,490011,null,"2017-02-01"]
[null,null,{"$f":"'РАЗДЕЛ 1(АМП)'!#REF!","v":{"$error":"#REF!"}},{"$f":"'РАЗДЕЛ 1(АМП)'!#REF!","v":{"$error":"#REF!"}},{"$f":"'РАЗДЕЛ 1(АМП)'!#REF!","v":{"$error":"#REF!"}},{"$f":"'РАЗДЕЛ 1(АМП)'!#REF!","v":{"$error":"#REF!"}},null,490011,null,"2017-02-01"]
[null,null,{"$f":"'РАЗДЕЛ 1(АМП)'!#REF!","v":{"$error":"#REF!"}},{"$f":"'РАЗДЕЛ 1(АМП)'!#REF!","v":{"$error":"#REF!"}},{"$f":"'РАЗДЕЛ 1(АМП)'!#REF!","v":{"$error":"#REF!"}},{"$f":"'РАЗДЕЛ 1(АМП)'!#REF!","v":{"$error":"#REF!"}},null,490011,null,"2017-02-01"]
[null,null,{"$f":"'РАЗДЕЛ 1(АМП)'!#REF!","v":{"$error":"#REF!"}},{"$f":"'РАЗДЕЛ 1(АМП)'!#REF!","v":{"$error":"#REF!"}},{"$f":"'РАЗДЕЛ 1(АМП)'!#REF!","v":{"$error":"#REF!"}},{"$f":"'РАЗДЕЛ 1(АМП)'!#REF!","v":{"$error":"#REF!"}},null,490011,null,"2017-02-01"]
[null,null,{"$f":"'РАЗДЕЛ 1(АМП)'!#REF!","v":{"$error":"#REF!"}},{"$f":"'РАЗДЕЛ 1(АМП)'!#REF!","v":{"$error":"#REF!"}},{"$f":"'РАЗДЕЛ 1(АМП)'!#REF!","v":{"$error":"#REF!"}},{"$f":"'РАЗДЕЛ 1(АМП)'!#REF!","v":{"$error":"#REF!"}},null,490011,null,"2017-02-01"]
[null,null,{"$f":"'РАЗДЕЛ 1(АМП)'!#REF!","v":{"$error":"#REF!"}},{"$f":"'РАЗДЕЛ 1(АМП)'!#REF!","v":{"$error":"#REF!"}},{"$f":"'РАЗДЕЛ 1(АМП)'!#REF!","v":{"$error":"#REF!"}},{"$f":"'РАЗДЕЛ 1(АМП)'!#REF!","v":{"$error":"#REF!"}},null,490011,null,"2017-02-01"]
[null,null,{"$f":"'РАЗДЕЛ 1(АМП)'!#REF!","v":{"$error":"#REF!"}},{"$f":"'РАЗДЕЛ 1(АМП)'!#REF!","v":{"$error":"#REF!"}},{"$f":"'РАЗДЕЛ 1(АМП)'!#REF!","v":{"$error":"#REF!"}},{"$f":"'РАЗДЕЛ 1(АМП)'!#REF!","v":{"$error":"#REF!"}},null,490011,null,"2017-02-01"]
[null,null,{"$f":"'РАЗДЕЛ 1(АМП)'!#REF!","v":{"$error":"#REF!"}},{"$f":"'РАЗДЕЛ 1(АМП)'!#REF!","v":{"$error":"#REF!"}},null,{"$f":"'РАЗДЕЛ 1(АМП)'!#REF!","v":{"$error":"#REF!"}},{"$f":"'РАЗДЕЛ 1(АМП)'!#REF!","v":{"$error":"#REF!"}},490011,null,"2017-02-01"]
[null,null,{"$f":"'РАЗДЕЛ 1(АМП)'!#REF!","v":{"$error":"#REF!"}},{"$f":"'РАЗДЕЛ 1(АМП)'!#REF!","v":{"$error":"#REF!"}},{"$f":"'РАЗДЕЛ 1(АМП)'!#REF!","v":{"$error":"#REF!"}},{"$f":"'РАЗДЕЛ 1(АМП)'!#REF!","v":{"$error":"#REF!"}},null,490011,null,"2017-02-01"]
[null,null,{"$f":"'РАЗДЕЛ 1(АМП)'!#REF!","v":{"$error":"#REF!"}},{"$f":"'РАЗДЕЛ 1(АМП)'!#REF!","v":{"$error":"#REF!"}},{"$f":"'РАЗДЕЛ 1(АМП)'!#REF!","v":{"$error":"#REF!"}},{"$f":"'РАЗДЕЛ 1(АМП)'!#REF!","v":{"$error":"#REF!"}},null,{"$f":"H450","v":490011},null,{"$f":"J450","v":"2017-02-01"}]
[null,null,{"$f":"'РАЗДЕЛ 1(АМП)'!#REF!","v":{"$error":"#REF!"}},{"$f":"'РАЗДЕЛ 1(АМП)'!#REF!","v":{"$error":"#REF!"}},{"$f":"'РАЗДЕЛ 1(АМП)'!#REF!","v":{"$error":"#REF!"}},{"$f":"'РАЗДЕЛ 1(АМП)'!#REF!","v":{"$error":"#REF!"}},null,490011,null,"2017-02-01"]
[null,null,{"$f":"'РАЗДЕЛ 1(АМП)'!#REF!","v":{"$error":"#REF!"}},{"$f":"'РАЗДЕЛ 1(АМП)'!#REF!","v":{"$error":"#REF!"}},{"$f":"'РАЗДЕЛ 1(АМП)'!#REF!","v":{"$error":"#REF!"}},{"$f":"'РАЗДЕЛ 1(АМП)'!#REF!","v":{"$error":"#REF!"}},null,490011,null,"2017-02-01"]
[null,null,{"$f":"'РАЗДЕЛ 1(АМП)'!#REF!","v":{"$error":"#REF!"}},{"$f":"'РАЗДЕЛ 1(АМП)'!#REF!","v":{"$error":"#REF!"}},{"$f":"'РАЗДЕЛ 1(АМП)'!#REF!","v":{"$error":"#REF!"}},{"$f":"'РАЗДЕЛ 1(АМП)'!#REF!","v":{"$error":"#REF!"}},null,490011,null,"2017-02-01"]
[null,null,{"$f":"'РАЗДЕЛ 1(АМП)'!#REF!","v":{"$error":"#REF!"}},{"$f":"'РАЗДЕЛ 1(АМП)'!#REF!","v":{"$error":"#REF!"}},{"$f":"'РАЗДЕЛ 1(АМП)'!#REF!","v":{"$error":"#REF!"}},{"$f":"'РАЗДЕЛ 1(АМП)'!#REF!","v":{"$error":"#REF!"}},null,490011,null,"2017-02-01"]
[null,null,{"$f":"'РАЗДЕЛ 1(АМП)'!#REF!","v":{"$error":"#REF!"}},{"$f":"'РАЗДЕЛ 1(АМП)'!#REF!","v":{"$error":"#REF!"}},{"$f":"'РАЗДЕЛ 1(АМП)'!#REF!","v":{"$error":"#REF!"}},{"$f":"'РАЗДЕЛ 1(АМП)'!#REF!","v":{"$error":"#REF!"}},null,490011,null,"2017-02-01"]
[null,null,{"$f":"'РАЗДЕЛ 1(АМП)'!#REF!","v":{"$error":"#REF!"}},{"$f":"'РАЗДЕЛ 1(АМП)'!#REF!","v":{"$error":"#REF!"}},{"$f":"'РАЗДЕЛ 1(АМП)'!#REF!","v":{"$error":"#REF!"}},{"$f":"'РАЗДЕЛ 1(АМП)'!#REF!","v":{"$error":"#REF!"}},null,490011,null,"2017-02-01"]
[null,null,{"$f":"'РАЗДЕЛ 1(АМП)'!#REF!","v":{"$error":"#REF!"}},{"$f":"'РАЗДЕЛ 1(АМП)'!#REF!","v":{"$error":"#REF!"}},{"$f":"'РАЗДЕЛ 1(АМП)'!#REF!","v":{"$error":"#REF!"}},{"$f":"'РАЗДЕЛ 1(АМП)'!#REF!","v":{"$error":"#REF!"}},null,490011,null,"2017-02-01"]
[null,null,{"$f":"'РАЗДЕЛ 1(АМП)'!#REF!","v":{"$error":"#REF!"}},{"$f":"'РАЗДЕЛ 1(АМП)'!#REF!","v":{"$error":"#REF!"}},{"$f":"'РАЗДЕЛ 1(АМП)'!#REF!","v":{"$error":"#REF!"}},{"$f":"'РАЗДЕЛ 1(АМП)'!#REF!","v":{"$error":"#REF!"}},null,490011,null,"2017-02-01"]
[null,null,{"$f":"'РАЗДЕЛ 1(АМП)'!#REF!","v":{"$error":"#REF!"}},{"$f":"'РАЗДЕЛ 1(АМП)'!#REF!","v":{"$error":"#REF!"}},{"$f":"'РАЗДЕЛ 1(АМП)'!#REF!","v":{"$error":"#REF!"}},{"$f":"'РАЗДЕЛ 1(АМП)'!#REF!","v":{"$error":"#REF!"}},null,490011,null,"2017-02-01"]
[null,null,{"$f":"'РАЗДЕЛ 1(АМП)'!#REF!","v":{"$error":"#REF!"}},{"$f":"'РАЗДЕЛ 1(АМП)'!#REF!","v":{"$error":"#REF!"}},{"$f":"'РАЗДЕЛ 1(АМП)'!#REF!","v":{"$error":"#REF!"}},{"$f":"'РАЗДЕЛ 1(АМП)'!#REF!","v":{"$error":"#REF!"}},null,490011,null,"2017-02-01"]
[null,null,{"$f":"'РАЗДЕЛ 1(АМП)'!#REF!","v":{"$error":"#REF!"}},{"$f":"'РАЗДЕЛ 1(АМП)'!#REF!","v":{"$error":"#REF!"}},{"$f":"'РАЗДЕЛ 1(АМП)'!#REF!","v":{"$error":"#REF!"}},{"$f":"'РАЗДЕЛ 1(АМП)'!#REF!","v":{"$error":"#REF!"}},null,490011,null,"2017-02-01"]
[null,null,{"$f":"'РАЗДЕЛ 1(АМП)'!#REF!","v":{"$error":"#REF!"}},{"$f":"'РАЗДЕЛ 1(АМП)'!#REF!","v":{"$error":"#REF!"}},{"$f":"'РАЗДЕЛ 1(АМП)'!#REF!","v":{"$error":"#REF!"}},{"$f":"'РАЗДЕЛ 1(АМП)'!#REF!","v":{"$error":"#REF!"}},null,490011,null,"2017-02-01"]
[null,null,{"$f":"'РАЗДЕЛ 1(АМП)'!#REF!","v":{"$error":"#REF!"}},{"$f":"'РАЗДЕЛ 1(АМП)'!#REF!","v":{"$error":"#REF!"}},{"$f":"'РАЗДЕЛ 1(АМП)'!#REF!","v":{"$error":"#REF!"}},{"$f":"'РАЗДЕЛ 1(АМП)'!#REF!","v":{"$error":"#REF!"}},null,490011,null,"2017-02-01"]
[null,null,{"$f":"'РАЗДЕЛ 1(АМП)'!#REF!","v":{"$error":"#REF!"}},{"$f":"'РАЗДЕЛ 1(АМП)'!#REF!","v":{"$error":"#REF!"}},{"$f":"'РАЗДЕЛ 1(АМП)'!#REF!","v":{"$error":"#REF!"}},{"$f":"'РАЗДЕЛ 1(АМП)'!#REF!","v":{"$error":"#REF!"}},null,490011,null,"2017-02-01"]
[null,null,{"$f":"'РАЗДЕЛ 1(АМП)'!#REF!","v":{"$error":"#REF!"}},{"$f":"'РАЗДЕЛ 1(АМП)'!#REF!","v":{"$error":"#REF!"}},{"$f":"'РАЗДЕЛ 1(АМП)'!#REF!","v":{"$error":"#REF!"}},{"$f":"'РАЗДЕЛ 1(АМП)'!#REF!","v":{"$error":"#REF!"}},null,490011,null,"2017-02-01"]
[null,null,{"$f":"'РАЗДЕЛ 1(АМП)'!#REF!","v":{"$error":"#REF!"}},{"$f":"'РАЗДЕЛ 1(АМП)'!#REF!","v":{"$error":"#REF!"}},{"$f":"'РАЗДЕЛ 1(АМП)'!#REF!","v":{"$error":"#REF!"}},{"$f":"'РАЗДЕЛ 1(АМП)'!#REF!","v":{"$error":"#REF!"}},null,490011,null,"2017-02-01"]
[null,null,{"$f":"'РАЗДЕЛ 1(АМП)'!#REF!","v":{"$error":"#REF!"}},{"$f":"'РАЗДЕЛ 1(АМП)'!#REF!","v":{"$error":"#REF!"}},{"$f":"'РАЗДЕЛ 1(АМП)'!#REF!","v":{"$error":"#REF!"}},{"$f":"'РАЗДЕЛ 1(АМП)'!#REF!","v":{"$error":"#REF!"}},null,490011,null,"2017-02-01"]
[null,null,{"$f":"'РАЗДЕЛ 1(АМП)'!#REF!","v":{"$error":"#REF!"}},{"$f":"'РАЗДЕЛ 1(АМП)'!#REF!","v":{"$error":"#REF!"}},{"$f":"'РАЗДЕЛ 1(АМП)'!#REF!","v":{"$error":"#REF!"}},{"$f":"'РАЗДЕЛ 1(АМП)'!#REF!","v":{"$error":"#REF!"}},null,490011,null,"2017-02-01"]
[null,null,{"$f":"'РАЗДЕЛ 1(АМП)'!#REF!","v":{"$error":"#REF!"}},{"$f":"'РАЗДЕЛ 1(АМП)'!#REF!","v":{"$error":"#REF!"}},{"$f":"'РАЗДЕЛ 1(АМП)'!#REF!","v":{"$error":"#REF!"}},{"$f":"'РАЗДЕЛ 1(АМП)'!#REF!","v":{"$error":"#REF!"}},null,490011,null,"2017-02-01"]
[null,null,{"$f":"'РАЗДЕЛ 1(АМП)'!#REF!","v":{"$error":"#REF!"}},{"$f":"'РАЗДЕЛ 1(АМП)'!#REF!","v":{"$error":"#REF!"}},null,{"$f":"'РАЗДЕЛ 1(АМП)'!#REF!","v":{"$error":"#REF!"}},{"$f":"'РАЗДЕЛ 1(АМП)'!#REF!","v":{"$error":"#REF!"}},490011,null,"2017-02-01"]
[null,null,{"$f":"'РАЗДЕЛ 1(АМП)'!#REF!","v":{"$error":"#REF!"}},{"$f":"'РАЗДЕЛ 1(АМП)'!#REF!","v":{"$error":"#REF!"}},{"$f":"'РАЗДЕЛ 1(АМП)'!#REF!","v":{"$error":"#REF!"}},{"$f":"'РАЗДЕЛ 1(АМП)'!#REF!","v":{"$error":"#REF!"}},null,490011,null,"2017-02-01"]
[null,null,{"$f":"'РАЗДЕЛ 1(АМП)'!#REF!","v":{"$error":"#REF!"}},{"$f":"'РАЗДЕЛ 1(АМП)'!#REF!","v":{"$error":"#REF!"}},{"$f":"'РАЗДЕЛ 1(АМП)'!#REF!","v":{"$error":"#REF!"}},{"$f":"'РАЗДЕЛ 1(АМП)'!#REF!","v":{"$error":"#REF!"}},null,490011,null,"2017-02-01"]
[null,null,{"$f":"'РАЗДЕЛ 1(АМП)'!#REF!","v":{"$error":"#REF!"}},{"$f":"'РАЗДЕЛ 1(АМП)'!#REF!","v":{"$error":"#REF!"}},{"$f":"'РАЗДЕЛ 1(АМП)'!#REF!","v":{"$error":"#REF!"}},{"$f":"'РАЗДЕЛ 1(АМП)'!#REF!","v":{"$error":"#REF!"}},null,490011,null,"2017-02-01"]
[null,null,{"$f":"'РАЗДЕЛ 1(АМП)'!#REF!","v":{"$error":"#REF!"}},{"$f":"'РАЗДЕЛ 1(АМП)'!#REF!","v":{"$error":"#REF!"}},{"$f":"'РАЗДЕЛ 1(АМП)'!#REF!","v":{"$error":"#REF!"}},{"$f":"'РАЗДЕЛ 1(АМП)'!#REF!","v":{"$error":"#REF!"}},null,490011,null,"2017-02-01"]
[null,null,{"$f":"'РАЗДЕЛ 1(АМП)'!#REF!","v":{"$error":"#REF!"}},{"$f":"'РАЗДЕЛ 1(АМП)'!#REF!","v":{"$error":"#REF!"}},{"$f":"'РАЗДЕЛ 1(АМП)'!#REF!","v":{"$error":"#REF!"}},{"$f":"'РАЗДЕЛ 1(АМП)'!#REF!","v":{"$error":"#REF!"}},null,490011,null,"2017-02-01"]
[null,null,{"$f":"'РАЗДЕЛ 1(АМП)'!#REF!","v":{"$error":"#REF!"}},{"$f":"'РАЗДЕЛ 1(АМП)'!#REF!","v":{"$error":"#REF!"}},{"$f":"'РАЗДЕЛ 1(АМП)'!#REF!","v":{"$error":"#REF!"}},{"$f":"'РАЗДЕЛ 1(АМП)'!#REF!","v":{"$error":"#REF!"}},null,490011,null,"2017-02-01"]
[null,null,{"$f":"'РАЗДЕЛ 1(АМП)'!#REF!","v":{"$error":"#REF!"}},{"$f":"'РАЗДЕЛ 1(АМП)'!#REF!","v":{"$error":"#REF!"}},{"$f":"'РАЗДЕЛ 1(АМП)'!#REF!","v":{"$error":"#REF!"}},{"$f":"'РАЗДЕЛ 1(АМП)'!#REF!","v":{"$error":"#REF!"}},null,490011,null,"2017-02-01"]
[null,null,{"$f":"'РАЗДЕЛ 1(АМП)'!#REF!","v":{"$error":"#REF!"}},{"$f":"'РАЗДЕЛ 1(АМП)'!#REF!","v":{"$error":"#REF!"}},{"$f":"'РАЗДЕЛ 1(АМП)'!#REF!","v":{"$error":"#REF!"}},{"$f":"'РАЗДЕЛ 1(АМП)'!#REF!","v":{"$error":"#REF!"}},null,490011,null,"2017-02-01"]
[null,null,{"$f":"'РАЗДЕЛ 1(АМП)'!#REF!","v":{"$error":"#REF!"}},{"$f":"'РАЗДЕЛ 1(АМП)'!#REF!","v":{"$error":"#REF!"}},{"$f":"'РАЗДЕЛ 1(АМП)'!#REF!","v":{"$error":"#REF!"}},{"$f":"'РАЗДЕЛ 1(АМП)'!#REF!","v":{"$error":"#REF!"}},null,490011,null,"2017-02-01"]
[null,null,{"$f":"'РАЗДЕЛ 1(АМП)'!#REF!","v":{"$error":"#REF!"}},{"$f":"'РАЗДЕЛ 1(АМП)'!#REF!","v":{"$error":"#REF!"}},{"$f":"'РАЗДЕЛ 1(АМП)'!#REF!","v":{"$error":"#REF!"}},{"$f":"'РАЗДЕЛ 1(АМП)'!#REF!","v":{"$error":"#REF!"}},null,490011,null,"2017-02-01"]
[null,null,{"$f":"'РАЗДЕЛ 1(АМП)'!#REF!","v":{"$error":"#REF!"}},{"$f":"'РАЗДЕЛ 1(АМП)'!#REF!","v":{"$error":"#REF!"}},{"$f":"'РАЗДЕЛ 1(АМП)'!#REF!","v":{"$error":"#REF!"}},{"$f":"'РАЗДЕЛ 1(АМП)'!#REF!","v":{"$error":"#REF!"}},null,490011,null,"2017-02-01"]
[null,null,{"$f":"'РАЗДЕЛ 1(АМП)'!#REF!","v":{"$error":"#REF!"}},{"$f":"'РАЗДЕЛ 1(АМП)'!#REF!","v":{"$error":"#REF!"}},{"$f":"'РАЗДЕЛ 1(АМП)'!#REF!","v":{"$error":"#REF!"}},{"$f":"'РАЗДЕЛ 1(АМП)'!#REF!","v":{"$error":"#REF!"}},null,490011,null,"2017-02-01"]
[null,null,{"$f":"'РАЗДЕЛ 1(АМП)'!#REF!","v":{"$error":"#REF!"}},{"$f":"'РАЗДЕЛ 1(АМП)'!#REF!","v":{"$error":"#REF!"}},{"$f":"'РАЗДЕЛ 1(АМП)'!#REF!","v":{"$error":"#REF!"}},{"$f":"'РАЗДЕЛ 1(АМП)'!#REF!","v":{"$error":"#REF!"}},null,490011,null,"2017-02-01"]
[null,null,{"$f":"'РАЗДЕЛ 1(АМП)'!#REF!","v":{"$error":"#REF!"}},{"$f":"'РАЗДЕЛ 1(АМП)'!#REF!","v":{"$error":"#REF!"}},{"$f":"'РАЗДЕЛ 1(АМП)'!#REF!","v":{"$error":"#REF!"}},{"$f":"'РАЗДЕЛ 1(АМП)'!#REF!","v":{"$error":"#REF!"}},null,490011,null,"2017-02-01"]
[null,null,{"$f":"'РАЗДЕЛ 1(АМП)'!#REF!","v":{"$error":"#REF!"}},{"$f":"'РАЗДЕЛ 1(АМП)'!#REF!","v":{"$error":"#REF!"}},{"$f":"'РАЗДЕЛ 1(АМП)'!#REF!","v":{"$error":"#REF!"}},{"$f":"'РАЗДЕЛ 1(АМП)'!#REF!","v":{"$error":"#REF!"}},null,490011,null,"2017-02-01"]
[null,null,{"$f":"'РАЗДЕЛ 1(АМП)'!#REF!","v":{"$error":"#REF!"}},{"$f":"'РАЗДЕЛ 1(АМП)'!#REF!","v":{"$error":"#REF!"}},{"$f":"'РАЗДЕЛ 1(АМП)'!#REF!","v":{"$error":"#REF!"}},{"$f":"'РАЗДЕЛ 1(АМП)'!#REF!","v":{"$error":"#REF!"}},null,490011,null,"2017-02-01"]
[null,null,{"$f":"'РАЗДЕЛ 1(АМП)'!#REF!","v":{"$error":"#REF!"}},{"$f":"'РАЗДЕЛ 1(АМП)'!#REF!","v":{"$error":"#REF!"}},{"$f":"'РАЗДЕЛ 1(АМП)'!#REF!","v":{"$error":"#REF!"}},{"$f":"'РАЗДЕЛ 1(АМП)'!#REF!","v":{"$error":"#REF!"}},null,490011,null,"2017-02-01"]
[null,null,{"$f":"'РАЗДЕЛ 1(АМП)'!#REF!","v":{"$error":"#REF!"}},{"$f":"'РАЗДЕЛ 1(АМП)'!#REF!","v":{"$error":"#REF!"}},{"$f":"'РАЗДЕЛ 1(АМП)'!#REF!","v":{"$error":"#REF!"}},{"$f":"'РАЗДЕЛ 1(АМП)'!#REF!","v":{"$error":"#REF!"}},null,490011,null,"2017-02-01"]
[null,null,{"$f":"'РАЗДЕЛ 1(АМП)'!#REF!","v":{"$error":"#REF!"}},{"$f":"'РАЗДЕЛ 1(АМП)'!#REF!","v":{"$error":"#REF!"}},{"$f":"'РАЗДЕЛ 1(АМП)'!#REF!","v":{"$error":"#REF!"}},{"$f":"'РАЗДЕЛ 1(АМП)'!#REF!","v":{"$error":"#REF!"}},null,490011,null,"2017-02-01"]
[null,null,{"$f":"'РАЗДЕЛ 1(АМП)'!#REF!","v":{"$error":"#REF!"}},{"$f":"'РАЗДЕЛ 1(АМП)'!#REF!","v":{"$error":"#REF!"}},{"$f":"'РАЗДЕЛ 1(АМП)'!#REF!","v":{"$error":"#REF!"}},{"$f":"'РАЗДЕЛ 1(АМП)'!#REF!","v":{"$error":"#REF!"}},null,490011,null,"2017-02-01"]
[null,null,{"$f":"'РАЗДЕЛ 1(АМП)'!#REF!","v":{"$error":"#REF!"}},{"$f":"'РАЗДЕЛ 1(АМП)'!#REF!","v":{"$error":"#REF!"}},{"$f":"'РАЗДЕЛ 1(АМП)'!#REF!","v":{"$error":"#REF!"}},{"$f":"'РАЗДЕЛ 1(АМП)'!#REF!","v":{"$error":"#REF!"}},null,490011,null,"2017-02-01"]
[null,null,{"$f":"'РАЗДЕЛ 1(АМП)'!#REF!","v":{"$error":"#REF!"}},{"$f":"'РАЗДЕЛ 1(АМП)'!#REF!","v":{"$error":"#REF!"}},null,{"$f":"'РАЗДЕЛ 1(АМП)'!#REF!","v":{"$error":"#REF!"}},{"$f":"'РАЗДЕЛ 1(АМП)'!#REF!","v":{"$error":"#REF!"}},490011,null,"2017-02-01"]
[null,null,{"$f":"'РАЗДЕЛ 1(АМП)'!#REF!","v":{"$error":"#REF!"}},{"$f":"'РАЗДЕЛ 1(АМП)'!#REF!","v":{"$error":"#REF!"}},{"$f":"'РАЗДЕЛ 1(АМП)'!#REF!","v":{"$error":"#REF!"}},{"$f":"'РАЗДЕЛ 1(АМП)'!#REF!","v":{"$error":"#REF!"}},null,490011,null,"2017-02-01"]
[null,null,{"$f":"'РАЗДЕЛ 1(АМП)'!#REF!","v":{"$error":"#REF!"}},{"$f":"'РАЗДЕЛ 1(АМП)'!#REF!","v":{"$error":"#REF!"}},{"$f":"'РАЗДЕЛ 1(АМП)'!#REF!","v":{"$error":"#REF!"}},{"$f":"'РАЗДЕЛ 1(АМП)'!#REF!","v":{"$error":"#REF!"}},null,490011,null,"2017-02-01"]
[null,null,{"$f":"'РАЗДЕЛ 1(АМП)'!#REF!","v":{"$error":"#REF!"}},{"$f":"'РАЗДЕЛ 1(АМП)'!#REF!","v":{"$error":"#REF!"}},{"$f":"'РАЗДЕЛ 1(АМП)'!#REF!","v":{"$error":"#REF!"}},{"$f":"'РАЗДЕЛ 1(АМП)'!#REF!","v":{"$error":"#REF!"}},null,490011,null,"2017-02-01"]
[null,null,{"$f":"'РАЗДЕЛ 1(АМП)'!#REF!","v":{"$error":"#REF!"}},{"$f":"'РАЗДЕЛ 1(АМП)'!#REF!","v":{"$error":"#REF!"}},{"$f":"'РАЗДЕЛ 1(АМП)'!#REF!","v":{"$error":"#REF!"}},{"$f":"'РАЗДЕЛ 1(АМП)'!#REF!","v":{"$error":"#REF!"}},null,490011,null,"2017-02-01"]
[null,null,{"$f":"'РАЗДЕЛ 1(АМП)'!#REF!","v":{"$error":"#REF!"}},{"$f":"'РАЗДЕЛ 1(АМП)'!#REF!","v":{"$error":"#REF!"}},{"$f":"'РАЗДЕЛ 1(АМП)'!#REF!","v":{"$error":"#REF!"}},{"$f":"'РАЗДЕЛ 1(АМП)'!#REF!","v":{"$error":"#REF!"}},null,490011,null,"2017-02-01"]
[null,null,{"$f":"'РАЗДЕЛ 1(АМП)'!#REF!","v":{"$error":"#REF!"}},{"$f":"'РАЗДЕЛ 1(АМП)'!#REF!","v":{"$error":"#REF!"}},{"$f":"'РАЗДЕЛ 1(АМП)'!#REF!","v":{"$error":"#REF!"}},{"$f":"'РАЗДЕЛ 1(АМП)'!#REF!","v":{"$error":"#REF!"}},null,490011,null,"2017-02-01"]
[null,null,{"$f":"'РАЗДЕЛ 1(АМП)'!#REF!","v":{"$error":"#REF!"}},{"$f":"'РАЗДЕЛ 1(АМП)'!#REF!","v":{"$error":"#REF!"}},{"$f":"'РАЗДЕЛ 1(АМП)'!#REF!","v":{"$error":"#REF!"}},{"$f":"'РАЗДЕЛ 1(АМП)'!#REF!","v":{"$error":"#REF!"}},null,490011,null,"2017-02-01"]
[null,null,{"$f":"'РАЗДЕЛ 1(АМП)'!#REF!","v":{"$error":"#REF!"}},{"$f":"'РАЗДЕЛ 1(АМП)'!#REF!","v":{"$error":"#REF!"}},{"$f":"'РАЗДЕЛ 1(АМП)'!#REF!","v":{"$error":"#REF!"}},{"$f":"'РАЗДЕЛ 1(АМП)'!#REF!","v":{"$error":"#REF!"}},null,490011,null,"2017-02-01"]
[null,null,{"$f":"'РАЗДЕЛ 1(АМП)'!#REF!","v":{"$error":"#REF!"}},{"$f":"'РАЗДЕЛ 1(АМП)'!#REF!","v":{"$error":"#REF!"}},{"$f":"'РАЗДЕЛ 1(АМП)'!#REF!","v":{"$error":"#REF!"}},{"$f":"'РАЗДЕЛ 1(АМП)'!#REF!","v":{"$error":"#REF!"}},null,490011,null,"2017-02-01"]
[null,null,{"$f":"#REF!","v":{"$error":"#REF!"}},{"$f":"#REF!","v":{"$error":"#REF!"}},null,{"$f":"#REF!","v":{"$error":"#REF!"}},{"$f":"#REF!","v":{"$error":"#REF!"}},490011,{"$f":"#REF!","v":{"$error":"#REF!"}},"2017-02-01"]
[null,null,{"$f":"#REF!","v":{"$error":"#REF!"}},{"$f":"#REF!","v":{"$error":"#REF!"}},{"$f":"#REF!","v":{"$error":"#REF!"}},{"$f":"#REF!","v":{"$error":"#REF!"}},null,490011,{"$f":"#REF!","v":{"$error":"#REF!"}},"2017-02-01"]
[null,null,{"$f":"#REF!","v":{"$error":"#REF!"}},{"$f":"#REF!","v":{"$error":"#REF!"}},{"$f":"#REF!","v":{"$error":"#REF!"}},{"$f":"#REF!","v":{"$error":"#REF!"}},null,490011,{"$f":"#REF!","v":{"$error":"#REF!"}},"2017-02-01"]
[null,null,{"$f":"#REF!","v":{"$error":"#REF!"}},{"$f":"#REF!","v":{"$error":"#REF!"}},{"$f":"#REF!","v":{"$error":"#REF!"}},{"$f":"#REF!","v":{"$error":"#REF!"}},null,490011,{"$f":"#REF!","v":{"$error":"#REF!"}},"2017-02-01"]
[null,null,{"$f":"#REF!","v":{"$error":"#REF!"}},{"$f":"#REF!","v":{"$error":"#REF!"}},{"$f":"#REF!","v":{"$error":"#REF!"}},{"$f":"#REF!","v":{"$error":"#REF!"}},null,490011,{"$f":"#REF!","v":{"$error":"#REF!"}},"2017-02-01"]
[null,null,{"$f":"#REF!","v":{"$error":"#REF!"}},{"$f":"#REF!","v":{"$error":"#REF!"}},{"$f":"#REF!","v":{"$error":"#REF!"}},{"$f":"#REF!","v":{"$error":"#REF!"}},null,490011,{"$f":"#REF!","v":{"$error":"#REF!"}},"2017-02-01"]
[null,null,{"$f":"#REF!","v":{"$error":"#REF!"}},{"$f":"#REF!","v":{"$error":"#REF!"}},{"$f":"#REF!","v":{"$error":"#REF!"}},{"$f":"#REF!","v":{"$error":"#REF!"}},null,490011,{"$f":"#REF!","v":{"$error":"#REF!"}},"2017-02-01"]
[null,null,{"$f":"#REF!","v":{"$error":"#REF!"}},{"$f":"#REF!","v":{"$error":"#REF!"}},{"$f":"#REF!","v":{"$error":"#REF!"}},{"$f":"#REF!","v":{"$error":"#REF!"}},null,490011,{"$f":"#REF!","v":{"$error":"#REF!"}},"2017-02-01"]
[null,null,{"$f":"#REF!","v":{"$error":"#REF!"}},{"$f":"#REF!","v":{"$error":"#REF!"}},null,{"$f":"#REF!","v":{"$error":"#REF!"}},{"$f":"#REF!","v":{"$error":"#REF!"}},490011,{"$f":"#REF!","v":{"$error":"#REF!"}},"2017-02-01"]
[null,null,{"$f":"#REF!","v":{"$error":"#REF!"}},{"$f":"#REF!","v":{"$error":"#REF!"}},{"$f":"#REF!","v":{"$error":"#REF!"}},{"$f":"#REF!","v":{"$error":"#REF!"}},null,490011,{"$f":"#REF!","v":{"$error":"#REF!"}},"2017-02-01"]
[null,null,{"$f":"#REF!","v":{"$error":"#REF!"}},{"$f":"#REF!","v":{"$error":"#REF!"}},{"$f":"#REF!","v":{"$error":"#REF!"}},{"$f":"#REF!","v":{"$error":"#REF!"}},null,490011,{"$f":"#REF!","v":{"$error":"#REF!"}},"2017-02-01"]
[null,null,{"$f":"#REF!","v":{"$error":"#REF!"}},{"$f":"#REF!","v":{"$error":"#REF!"}},{"$f":"#REF!","v":{"$error":"#REF!"}},{"$f":"#REF!","v":{"$error":"#REF!"}},null,490011,{"$f":"#REF!","v":{"$error":"#REF!"}},"2017-02-01"]
[null,null,{"$f":"#REF!","v":{"$error":"#REF!"}},{"$f":"#REF!","v":{"$error":"#REF!"}},{"$f":"#REF!","v":{"$error":"#REF!"}},{"$f":"#REF!","v":{"$error":"#REF!"}},null,{"$f":"H514","v":490011},{"$f":"#REF!","v":{"$error":"#REF!"}},{"$f":"J514","v":"2017-02-01"}]
[null,null,{"$f":"#REF!","v":{"$error":"#REF!"}},{"$f":"#REF!","v":{"$error":"#REF!"}},{"$f":"#REF!","v":{"$error":"#REF!"}},{"$f":"#REF!","v":{"$error":"#REF!"}},null,490011,{"$f":"#REF!","v":{"$error":"#REF!"}},"2017-02-01"]
[null,null,{"$f":"'РАЗДЕЛ 4 (СМП) '!#REF!","v":{"$error":"#REF!"}},{"$f":"'РАЗДЕЛ 4 (СМП) '!#REF!","v":{"$error":"#REF!"}},{"$f":"'РАЗДЕЛ 4 (СМП) '!#REF!","v":{"$error":"#REF!"}},{"$f":"'РАЗДЕЛ 4 (СМП) '!#REF!","v":{"$error":"#REF!"}},null,490011,null,"2017-02-01"]
[null,null,{"$f":"'РАЗДЕЛ 1(АМП)'!#REF!","v":{"$error":"#REF!"}},{"$f":"'РАЗДЕЛ 1(АМП)'!#REF!","v":{"$error":"#REF!"}},{"$f":"'РАЗДЕЛ 1(АМП)'!#REF!","v":{"$error":"#REF!"}},{"$f":"'РАЗДЕЛ 1(АМП)'!#REF!","v":{"$error":"#REF!"}},null,490012,null,"2017-02-01"]
[null,null,{"$f":"'РАЗДЕЛ 1(АМП)'!#REF!","v":{"$error":"#REF!"}},{"$f":"'РАЗДЕЛ 1(АМП)'!#REF!","v":{"$error":"#REF!"}},{"$f":"'РАЗДЕЛ 1(АМП)'!#REF!","v":{"$error":"#REF!"}},{"$f":"'РАЗДЕЛ 1(АМП)'!#REF!","v":{"$error":"#REF!"}},null,{"$f":"H518","v":490012},null,"2017-02-01"]
[null,null,{"$f":"'РАЗДЕЛ 1(АМП)'!#REF!","v":{"$error":"#REF!"}},{"$f":"'РАЗДЕЛ 1(АМП)'!#REF!","v":{"$error":"#REF!"}},{"$f":"'РАЗДЕЛ 1(АМП)'!#REF!","v":{"$error":"#REF!"}},{"$f":"'РАЗДЕЛ 1(АМП)'!#REF!","v":{"$error":"#REF!"}},null,{"$f":"H519","v":490012},null,{"$f":"J519","v":"2017-02-01"}]
[null,null,{"$f":"'РАЗДЕЛ 1(АМП)'!#REF!","v":{"$error":"#REF!"}},{"$f":"'РАЗДЕЛ 1(АМП)'!#REF!","v":{"$error":"#REF!"}},{"$f":"'РАЗДЕЛ 1(АМП)'!#REF!","v":{"$error":"#REF!"}},{"$f":"'РАЗДЕЛ 1(АМП)'!#REF!","v":{"$error":"#REF!"}},null,490012,null,"2017-02-01"]
[null,null,{"$f":"'РАЗДЕЛ 1(АМП)'!#REF!","v":{"$error":"#REF!"}},{"$f":"'РАЗДЕЛ 1(АМП)'!#REF!","v":{"$error":"#REF!"}},{"$f":"'РАЗДЕЛ 1(АМП)'!#REF!","v":{"$error":"#REF!"}},{"$f":"'РАЗДЕЛ 1(АМП)'!#REF!","v":{"$error":"#REF!"}},null,490012,null,"2017-02-01"]
[null,null,{"$f":"'РАЗДЕЛ 1(АМП)'!#REF!","v":{"$error":"#REF!"}},{"$f":"'РАЗДЕЛ 1(АМП)'!#REF!","v":{"$error":"#REF!"}},{"$f":"'РАЗДЕЛ 1(АМП)'!#REF!","v":{"$error":"#REF!"}},{"$f":"'РАЗДЕЛ 1(АМП)'!#REF!","v":{"$error":"#REF!"}},null,490012,null,"2017-02-01"]
[null,null,{"$f":"'РАЗДЕЛ 1(АМП)'!#REF!","v":{"$error":"#REF!"}},{"$f":"'РАЗДЕЛ 1(АМП)'!#REF!","v":{"$error":"#REF!"}},{"$f":"'РАЗДЕЛ 1(АМП)'!#REF!","v":{"$error":"#REF!"}},{"$f":"'РАЗДЕЛ 1(АМП)'!#REF!","v":{"$error":"#REF!"}},null,490012,null,"2017-02-01"]
[null,null,{"$f":"'РАЗДЕЛ 1(АМП)'!#REF!","v":{"$error":"#REF!"}},{"$f":"'РАЗДЕЛ 1(АМП)'!#REF!","v":{"$error":"#REF!"}},{"$f":"'РАЗДЕЛ 1(АМП)'!#REF!","v":{"$error":"#REF!"}},{"$f":"'РАЗДЕЛ 1(АМП)'!#REF!","v":{"$error":"#REF!"}},null,490012,null,"2017-02-01"]
[null,null,{"$f":"'РАЗДЕЛ 1(АМП)'!#REF!","v":{"$error":"#REF!"}},{"$f":"'РАЗДЕЛ 1(АМП)'!#REF!","v":{"$error":"#REF!"}},{"$f":"'РАЗДЕЛ 1(АМП)'!#REF!","v":{"$error":"#REF!"}},{"$f":"'РАЗДЕЛ 1(АМП)'!#REF!","v":{"$error":"#REF!"}},null,490012,null,"2017-02-01"]
[null,null,{"$f":"'РАЗДЕЛ 1(АМП)'!#REF!","v":{"$error":"#REF!"}},{"$f":"'РАЗДЕЛ 1(АМП)'!#REF!","v":{"$error":"#REF!"}},{"$f":"'РАЗДЕЛ 1(АМП)'!#REF!","v":{"$error":"#REF!"}},{"$f":"'РАЗДЕЛ 1(АМП)'!#REF!","v":{"$error":"#REF!"}},null,490012,null,"2017-02-01"]
[null,null,{"$f":"'РАЗДЕЛ 1(АМП)'!#REF!","v":{"$error":"#REF!"}},{"$f":"'РАЗДЕЛ 1(АМП)'!#REF!","v":{"$error":"#REF!"}},{"$f":"'РАЗДЕЛ 1(АМП)'!#REF!","v":{"$error":"#REF!"}},{"$f":"'РАЗДЕЛ 1(АМП)'!#REF!","v":{"$error":"#REF!"}},null,490012,null,"2017-02-01"]
[null,null,{"$f":"'РАЗДЕЛ 1(АМП)'!#REF!","v":{"$error":"#REF!"}},{"$f":"'РАЗДЕЛ 1(АМП)'!#REF!","v":{"$error":"#REF!"}},{"$f":"'РАЗДЕЛ 1(АМП)'!#REF!","v":{"$error":"#REF!"}},{"$f":"'РАЗДЕЛ 1(АМП)'!#REF!","v":{"$error":"#REF!"}},null,490012,null,"2017-02-01"]
[null,null,{"$f":"'РАЗДЕЛ 1(АМП)'!#REF!","v":{"$error":"#REF!"}},{"$f":"'РАЗДЕЛ 1(АМП)'!#REF!","v":{"$error":"#REF!"}},{"$f":"'РАЗДЕЛ 1(АМП)'!#REF!","v":{"$error":"#REF!"}},{"$f":"'РАЗДЕЛ 1(АМП)'!#REF!","v":{"$error":"#REF!"}},null,490012,null,"2017-02-01"]
[null,null,{"$f":"'РАЗДЕЛ 1(АМП)'!#REF!","v":{"$error":"#REF!"}},{"$f":"'РАЗДЕЛ 1(АМП)'!#REF!","v":{"$error":"#REF!"}},null,{"$f":"'РАЗДЕЛ 1(АМП)'!#REF!","v":{"$error":"#REF!"}},{"$f":"'РАЗДЕЛ 1(АМП)'!#REF!","v":{"$error":"#REF!"}},490012,null,"2017-02-01"]
[null,null,{"$f":"'РАЗДЕЛ 1(АМП)'!#REF!","v":{"$error":"#REF!"}},{"$f":"'РАЗДЕЛ 1(АМП)'!#REF!","v":{"$error":"#REF!"}},{"$f":"'РАЗДЕЛ 1(АМП)'!#REF!","v":{"$error":"#REF!"}},{"$f":"'РАЗДЕЛ 1(АМП)'!#REF!","v":{"$error":"#REF!"}},null,490012,null,"2017-02-01"]
[null,null,{"$f":"'РАЗДЕЛ 1(АМП)'!#REF!","v":{"$error":"#REF!"}},{"$f":"'РАЗДЕЛ 1(АМП)'!#REF!","v":{"$error":"#REF!"}},{"$f":"'РАЗДЕЛ 1(АМП)'!#REF!","v":{"$error":"#REF!"}},{"$f":"'РАЗДЕЛ 1(АМП)'!#REF!","v":{"$error":"#REF!"}},null,490012,null,"2017-02-01"]
[null,null,{"$f":"'РАЗДЕЛ 1(АМП)'!#REF!","v":{"$error":"#REF!"}},{"$f":"'РАЗДЕЛ 1(АМП)'!#REF!","v":{"$error":"#REF!"}},{"$f":"'РАЗДЕЛ 1(АМП)'!#REF!","v":{"$error":"#REF!"}},{"$f":"'РАЗДЕЛ 1(АМП)'!#REF!","v":{"$error":"#REF!"}},null,490012,null,"2017-02-01"]
[null,null,{"$f":"'РАЗДЕЛ 1(АМП)'!#REF!","v":{"$error":"#REF!"}},{"$f":"'РАЗДЕЛ 1(АМП)'!#REF!","v":{"$error":"#REF!"}},{"$f":"'РАЗДЕЛ 1(АМП)'!#REF!","v":{"$error":"#REF!"}},{"$f":"'РАЗДЕЛ 1(АМП)'!#REF!","v":{"$error":"#REF!"}},null,490012,null,"2017-02-01"]
[null,null,{"$f":"'РАЗДЕЛ 1(АМП)'!#REF!","v":{"$error":"#REF!"}},{"$f":"'РАЗДЕЛ 1(АМП)'!#REF!","v":{"$error":"#REF!"}},{"$f":"'РАЗДЕЛ 1(АМП)'!#REF!","v":{"$error":"#REF!"}},{"$f":"'РАЗДЕЛ 1(АМП)'!#REF!","v":{"$error":"#REF!"}},null,490012,null,"2017-02-01"]
[null,null,{"$f":"'РАЗДЕЛ 1(АМП)'!#REF!","v":{"$error":"#REF!"}},{"$f":"'РАЗДЕЛ 1(АМП)'!#REF!","v":{"$error":"#REF!"}},{"$f":"'РАЗДЕЛ 1(АМП)'!#REF!","v":{"$error":"#REF!"}},{"$f":"'РАЗДЕЛ 1(АМП)'!#REF!","v":{"$error":"#REF!"}},null,490012,null,"2017-02-01"]
[null,null,{"$f":"'РАЗДЕЛ 1(АМП)'!#REF!","v":{"$error":"#REF!"}},{"$f":"'РАЗДЕЛ 1(АМП)'!#REF!","v":{"$error":"#REF!"}},{"$f":"'РАЗДЕЛ 1(АМП)'!#REF!","v":{"$error":"#REF!"}},{"$f":"'РАЗДЕЛ 1(АМП)'!#REF!","v":{"$error":"#REF!"}},null,490012,null,"2017-02-01"]
[null,null,{"$f":"'РАЗДЕЛ 1(АМП)'!#REF!","v":{"$error":"#REF!"}},{"$f":"'РАЗДЕЛ 1(АМП)'!#REF!","v":{"$error":"#REF!"}},{"$f":"'РАЗДЕЛ 1(АМП)'!#REF!","v":{"$error":"#REF!"}},{"$f":"'РАЗДЕЛ 1(АМП)'!#REF!","v":{"$error":"#REF!"}},null,490012,null,"2017-02-01"]
[null,null,{"$f":"'РАЗДЕЛ 1(АМП)'!#REF!","v":{"$error":"#REF!"}},{"$f":"'РАЗДЕЛ 1(АМП)'!#REF!","v":{"$error":"#REF!"}},{"$f":"'РАЗДЕЛ 1(АМП)'!#REF!","v":{"$error":"#REF!"}},{"$f":"'РАЗДЕЛ 1(АМП)'!#REF!","v":{"$error":"#REF!"}},null,490012,null,"2017-02-01"]
[null,null,{"$f":"'РАЗДЕЛ 1(АМП)'!#REF!","v":{"$error":"#REF!"}},{"$f":"'РАЗДЕЛ 1(АМП)'!#REF!","v":{"$error":"#REF!"}},{"$f":"'РАЗДЕЛ 1(АМП)'!#REF!","v":{"$error":"#REF!"}},{"$f":"'РАЗДЕЛ 1(АМП)'!#REF!","v":{"$error":"#REF!"}},null,490012,null,"2017-02-01"]
[null,null,{"$f":"'РАЗДЕЛ 1(АМП)'!#REF!","v":{"$error":"#REF!"}},{"$f":"'РАЗДЕЛ 1(АМП)'!#REF!","v":{"$error":"#REF!"}},{"$f":"'РАЗДЕЛ 1(АМП)'!#REF!","v":{"$error":"#REF!"}},{"$f":"'РАЗДЕЛ 1(АМП)'!#REF!","v":{"$error":"#REF!"}},null,490012,null,"2017-02-01"]
[null,null,{"$f":"'РАЗДЕЛ 1(АМП)'!#REF!","v":{"$error":"#REF!"}},{"$f":"'РАЗДЕЛ 1(АМП)'!#REF!","v":{"$error":"#REF!"}},{"$f":"'РАЗДЕЛ 1(АМП)'!#REF!","v":{"$error":"#REF!"}},{"$f":"'РАЗДЕЛ 1(АМП)'!#REF!","v":{"$error":"#REF!"}},null,490012,null,"2017-02-01"]
[null,null,{"$f":"'РАЗДЕЛ 1(АМП)'!#REF!","v":{"$error":"#REF!"}},{"$f":"'РАЗДЕЛ 1(АМП)'!#REF!","v":{"$error":"#REF!"}},{"$f":"'РАЗДЕЛ 1(АМП)'!#REF!","v":{"$error":"#REF!"}},{"$f":"'РАЗДЕЛ 1(АМП)'!#REF!","v":{"$error":"#REF!"}},null,490012,null,"2017-02-01"]
[null,null,{"$f":"'РАЗДЕЛ 1(АМП)'!#REF!","v":{"$error":"#REF!"}},{"$f":"'РАЗДЕЛ 1(АМП)'!#REF!","v":{"$error":"#REF!"}},{"$f":"'РАЗДЕЛ 1(АМП)'!#REF!","v":{"$error":"#REF!"}},{"$f":"'РАЗДЕЛ 1(АМП)'!#REF!","v":{"$error":"#REF!"}},null,490012,null,"2017-02-01"]
[null,null,{"$f":"'РАЗДЕЛ 1(АМП)'!#REF!","v":{"$error":"#REF!"}},{"$f":"'РАЗДЕЛ 1(АМП)'!#REF!","v":{"$error":"#REF!"}},{"$f":"'РАЗДЕЛ 1(АМП)'!#REF!","v":{"$error":"#REF!"}},{"$f":"'РАЗДЕЛ 1(АМП)'!#REF!","v":{"$error":"#REF!"}},null,490012,null,"2017-02-01"]
[null,null,{"$f":"'РАЗДЕЛ 1(АМП)'!#REF!","v":{"$error":"#REF!"}},{"$f":"'РАЗДЕЛ 1(АМП)'!#REF!","v":{"$error":"#REF!"}},{"$f":"'РАЗДЕЛ 1(АМП)'!#REF!","v":{"$error":"#REF!"}},{"$f":"'РАЗДЕЛ 1(АМП)'!#REF!","v":{"$error":"#REF!"}},null,490012,null,"2017-02-01"]
[null,null,{"$f":"'РАЗДЕЛ 1(АМП)'!#REF!","v":{"$error":"#REF!"}},{"$f":"'РАЗДЕЛ 1(АМП)'!#REF!","v":{"$error":"#REF!"}},{"$f":"'РАЗДЕЛ 1(АМП)'!#REF!","v":{"$error":"#REF!"}},{"$f":"'РАЗДЕЛ 1(АМП)'!#REF!","v":{"$error":"#REF!"}},null,490012,null,"2017-02-01"]
[null,null,{"$f":"'РАЗДЕЛ 1(АМП)'!#REF!","v":{"$error":"#REF!"}},{"$f":"'РАЗДЕЛ 1(АМП)'!#REF!","v":{"$error":"#REF!"}},{"$f":"'РАЗДЕЛ 1(АМП)'!#REF!","v":{"$error":"#REF!"}},{"$f":"'РАЗДЕЛ 1(АМП)'!#REF!","v":{"$error":"#REF!"}},null,490012,null,"2017-02-01"]
[null,null,{"$f":"'РАЗДЕЛ 1(АМП)'!#REF!","v":{"$error":"#REF!"}},{"$f":"'РАЗДЕЛ 1(АМП)'!#REF!","v":{"$error":"#REF!"}},{"$f":"'РАЗДЕЛ 1(АМП)'!#REF!","v":{"$error":"#REF!"}},{"$f":"'РАЗДЕЛ 1(АМП)'!#REF!","v":{"$error":"#REF!"}},null,490012,null,"2017-02-01"]
[null,null,{"$f":"'РАЗДЕЛ 1(АМП)'!#REF!","v":{"$error":"#REF!"}},{"$f":"'РАЗДЕЛ 1(АМП)'!#REF!","v":{"$error":"#REF!"}},{"$f":"'РАЗДЕЛ 1(АМП)'!#REF!","v":{"$error":"#REF!"}},{"$f":"'РАЗДЕЛ 1(АМП)'!#REF!","v":{"$error":"#REF!"}},null,490012,null,"2017-02-01"]
[null,null,{"$f":"'РАЗДЕЛ 1(АМП)'!#REF!","v":{"$error":"#REF!"}},{"$f":"'РАЗДЕЛ 1(АМП)'!#REF!","v":{"$error":"#REF!"}},{"$f":"'РАЗДЕЛ 1(АМП)'!#REF!","v":{"$error":"#REF!"}},{"$f":"'РАЗДЕЛ 1(АМП)'!#REF!","v":{"$error":"#REF!"}},null,490012,null,"2017-02-01"]
[null,null,{"$f":"'РАЗДЕЛ 1(АМП)'!#REF!","v":{"$error":"#REF!"}},{"$f":"'РАЗДЕЛ 1(АМП)'!#REF!","v":{"$error":"#REF!"}},null,{"$f":"'РАЗДЕЛ 1(АМП)'!#REF!","v":{"$error":"#REF!"}},{"$f":"'РАЗДЕЛ 1(АМП)'!#REF!","v":{"$error":"#REF!"}},490012,null,"2017-02-01"]
[null,null,{"$f":"'РАЗДЕЛ 1(АМП)'!#REF!","v":{"$error":"#REF!"}},{"$f":"'РАЗДЕЛ 1(АМП)'!#REF!","v":{"$error":"#REF!"}},{"$f":"'РАЗДЕЛ 1(АМП)'!#REF!","v":{"$error":"#REF!"}},{"$f":"'РАЗДЕЛ 1(АМП)'!#REF!","v":{"$error":"#REF!"}},null,490012,null,"2017-02-01"]
[null,null,{"$f":"'РАЗДЕЛ 1(АМП)'!#REF!","v":{"$error":"#REF!"}},{"$f":"'РАЗДЕЛ 1(АМП)'!#REF!","v":{"$error":"#REF!"}},{"$f":"'РАЗДЕЛ 1(АМП)'!#REF!","v":{"$error":"#REF!"}},{"$f":"'РАЗДЕЛ 1(АМП)'!#REF!","v":{"$error":"#REF!"}},null,490012,null,"2017-02-01"]
[null,null,{"$f":"'РАЗДЕЛ 1(АМП)'!#REF!","v":{"$error":"#REF!"}},{"$f":"'РАЗДЕЛ 1(АМП)'!#REF!","v":{"$error":"#REF!"}},{"$f":"'РАЗДЕЛ 1(АМП)'!#REF!","v":{"$error":"#REF!"}},{"$f":"'РАЗДЕЛ 1(АМП)'!#REF!","v":{"$error":"#REF!"}},null,490012,null,"2017-02-01"]
[null,null,{"$f":"'РАЗДЕЛ 1(АМП)'!#REF!","v":{"$error":"#REF!"}},{"$f":"'РАЗДЕЛ 1(АМП)'!#REF!","v":{"$error":"#REF!"}},{"$f":"'РАЗДЕЛ 1(АМП)'!#REF!","v":{"$error":"#REF!"}},{"$f":"'РАЗДЕЛ 1(АМП)'!#REF!","v":{"$error":"#REF!"}},null,490012,null,"2017-02-01"]
[null,null,{"$f":"'РАЗДЕЛ 1(АМП)'!#REF!","v":{"$error":"#REF!"}},{"$f":"'РАЗДЕЛ 1(АМП)'!#REF!","v":{"$error":"#REF!"}},{"$f":"'РАЗДЕЛ 1(АМП)'!#REF!","v":{"$error":"#REF!"}},{"$f":"'РАЗДЕЛ 1(АМП)'!#REF!","v":{"$error":"#REF!"}},null,490012,null,"2017-02-01"]
[null,null,{"$f":"'РАЗДЕЛ 1(АМП)'!#REF!","v":{"$error":"#REF!"}},{"$f":"'РАЗДЕЛ 1(АМП)'!#REF!","v":{"$error":"#REF!"}},{"$f":"'РАЗДЕЛ 1(АМП)'!#REF!","v":{"$error":"#REF!"}},{"$f":"'РАЗДЕЛ 1(АМП)'!#REF!","v":{"$error":"#REF!"}},null,490012,null,"2017-02-01"]
[null,null,{"$f":"'РАЗДЕЛ 1(АМП)'!#REF!","v":{"$error":"#REF!"}},{"$f":"'РАЗДЕЛ 1(АМП)'!#REF!","v":{"$error":"#REF!"}},{"$f":"'РАЗДЕЛ 1(АМП)'!#REF!","v":{"$error":"#REF!"}},{"$f":"'РАЗДЕЛ 1(АМП)'!#REF!","v":{"$error":"#REF!"}},null,490012,null,"2017-02-01"]
[null,null,{"$f":"'РАЗДЕЛ 1(АМП)'!#REF!","v":{"$error":"#REF!"}},{"$f":"'РАЗДЕЛ 1(АМП)'!#REF!","v":{"$error":"#REF!"}},{"$f":"'РАЗДЕЛ 1(АМП)'!#REF!","v":{"$error":"#REF!"}},{"$f":"'РАЗДЕЛ 1(АМП)'!#REF!","v":{"$error":"#REF!"}},null,490012,null,"2017-02-01"]
[null,null,{"$f":"'РАЗДЕЛ 1(АМП)'!#REF!","v":{"$error":"#REF!"}},{"$f":"'РАЗДЕЛ 1(АМП)'!#REF!","v":{"$error":"#REF!"}},{"$f":"'РАЗДЕЛ 1(АМП)'!#REF!","v":{"$error":"#REF!"}},{"$f":"'РАЗДЕЛ 1(АМП)'!#REF!","v":{"$error":"#REF!"}},null,490012,null,"2017-02-01"]
[null,null,{"$f":"'РАЗДЕЛ 1(АМП)'!#REF!","v":{"$error":"#REF!"}},{"$f":"'РАЗДЕЛ 1(АМП)'!#REF!","v":{"$error":"#REF!"}},{"$f":"'РАЗДЕЛ 1(АМП)'!#REF!","v":{"$error":"#REF!"}},{"$f":"'РАЗДЕЛ 1(АМП)'!#REF!","v":{"$error":"#REF!"}},null,490012,null,"2017-02-01"]
[null,null,{"$f":"'РАЗДЕЛ 1(АМП)'!#REF!","v":{"$error":"#REF!"}},{"$f":"'РАЗДЕЛ 1(АМП)'!#REF!","v":{"$error":"#REF!"}},{"$f":"'РАЗДЕЛ 1(АМП)'!#REF!","v":{"$error":"#REF!"}},{"$f":"'РАЗДЕЛ 1(АМП)'!#REF!","v":{"$error":"#REF!"}},null,490012,null,"2017-02-01"]
[null,null,{"$f":"'РАЗДЕЛ 1(АМП)'!#REF!","v":{"$error":"#REF!"}},{"$f":"'РАЗДЕЛ 1(АМП)'!#REF!","v":{"$error":"#REF!"}},{"$f":"'РАЗДЕЛ 1(АМП)'!#REF!","v":{"$error":"#REF!"}},{"$f":"'РАЗДЕЛ 1(АМП)'!#REF!","v":{"$error":"#REF!"}},null,490012,null,"2017-02-01"]
[null,null,{"$f":"'РАЗДЕЛ 1(АМП)'!#REF!","v":{"$error":"#REF!"}},{"$f":"'РАЗДЕЛ 1(АМП)'!#REF!","v":{"$error":"#REF!"}},{"$f":"'РАЗДЕЛ 1(АМП)'!#REF!","v":{"$error":"#REF!"}},{"$f":"'РАЗДЕЛ 1(АМП)'!#REF!","v":{"$error":"#REF!"}},null,490012,null,"2017-02-01"]
[null,null,{"$f":"'РАЗДЕЛ 1(АМП)'!#REF!","v":{"$error":"#REF!"}},{"$f":"'РАЗДЕЛ 1(АМП)'!#REF!","v":{"$error":"#REF!"}},{"$f":"'РАЗДЕЛ 1(АМП)'!#REF!","v":{"$error":"#REF!"}},{"$f":"'РАЗДЕЛ 1(АМП)'!#REF!","v":{"$error":"#REF!"}},null,490012,null,"2017-02-01"]
[null,null,{"$f":"'РАЗДЕЛ 1(АМП)'!#REF!","v":{"$error":"#REF!"}},{"$f":"'РАЗДЕЛ 1(АМП)'!#REF!","v":{"$error":"#REF!"}},{"$f":"'РАЗДЕЛ 1(АМП)'!#REF!","v":{"$error":"#REF!"}},{"$f":"'РАЗДЕЛ 1(АМП)'!#REF!","v":{"$error":"#REF!"}},null,490012,null,"2017-02-01"]
[null,null,{"$f":"'РАЗДЕЛ 1(АМП)'!#REF!","v":{"$error":"#REF!"}},{"$f":"'РАЗДЕЛ 1(АМП)'!#REF!","v":{"$error":"#REF!"}},{"$f":"'РАЗДЕЛ 1(АМП)'!#REF!","v":{"$error":"#REF!"}},{"$f":"'РАЗДЕЛ 1(АМП)'!#REF!","v":{"$error":"#REF!"}},null,490012,null,"2017-02-01"]
[null,null,{"$f":"'РАЗДЕЛ 1(АМП)'!#REF!","v":{"$error":"#REF!"}},{"$f":"'РАЗДЕЛ 1(АМП)'!#REF!","v":{"$error":"#REF!"}},{"$f":"'РАЗДЕЛ 1(АМП)'!#REF!","v":{"$error":"#REF!"}},{"$f":"'РАЗДЕЛ 1(АМП)'!#REF!","v":{"$error":"#REF!"}},null,490012,null,"2017-02-01"]
[null,null,{"$f":"'РАЗДЕЛ 1(АМП)'!#REF!","v":{"$error":"#REF!"}},{"$f":"'РАЗДЕЛ 1(АМП)'!#REF!","v":{"$error":"#REF!"}},{"$f":"'РАЗДЕЛ 1(АМП)'!#REF!","v":{"$error":"#REF!"}},{"$f":"'РАЗДЕЛ 1(АМП)'!#REF!","v":{"$error":"#REF!"}},null,490012,null,"2017-02-01"]
[null,null,{"$f":"'РАЗДЕЛ 1(АМП)'!#REF!","v":{"$error":"#REF!"}},{"$f":"'РАЗДЕЛ 1(АМП)'!#REF!","v":{"$error":"#REF!"}},{"$f":"'РАЗДЕЛ 1(АМП)'!#REF!","v":{"$error":"#REF!"}},{"$f":"'РАЗДЕЛ 1(АМП)'!#REF!","v":{"$error":"#REF!"}},null,490012,null,"2017-02-01"]
[null,null,{"$f":"'РАЗДЕЛ 1(АМП)'!#REF!","v":{"$error":"#REF!"}},{"$f":"'РАЗДЕЛ 1(АМП)'!#REF!","v":{"$error":"#REF!"}},{"$f":"'РАЗДЕЛ 1(АМП)'!#REF!","v":{"$error":"#REF!"}},{"$f":"'РАЗДЕЛ 1(АМП)'!#REF!","v":{"$error":"#REF!"}},null,490012,null,"2017-02-01"]
[null,null,{"$f":"'РАЗДЕЛ 1(АМП)'!#REF!","v":{"$error":"#REF!"}},{"$f":"'РАЗДЕЛ 1(АМП)'!#REF!","v":{"$error":"#REF!"}},{"$f":"'РАЗДЕЛ 1(АМП)'!#REF!","v":{"$error":"#REF!"}},{"$f":"'РАЗДЕЛ 1(АМП)'!#REF!","v":{"$error":"#REF!"}},null,490012,null,"2017-02-01"]
[null,null,{"$f":"'РАЗДЕЛ 1(АМП)'!#REF!","v":{"$error":"#REF!"}},{"$f":"'РАЗДЕЛ 1(АМП)'!#REF!","v":{"$error":"#REF!"}},null,{"$f":"'РАЗДЕЛ 1(АМП)'!#REF!","v":{"$error":"#REF!"}},{"$f":"'РАЗДЕЛ 1(АМП)'!#REF!","v":{"$error":"#REF!"}},490012,null,"2017-02-01"]
[null,null,{"$f":"'РАЗДЕЛ 1(АМП)'!#REF!","v":{"$error":"#REF!"}},{"$f":"'РАЗДЕЛ 1(АМП)'!#REF!","v":{"$error":"#REF!"}},{"$f":"'РАЗДЕЛ 1(АМП)'!#REF!","v":{"$error":"#REF!"}},{"$f":"'РАЗДЕЛ 1(АМП)'!#REF!","v":{"$error":"#REF!"}},null,490012,null,"2017-02-01"]
[null,null,{"$f":"'РАЗДЕЛ 1(АМП)'!#REF!","v":{"$error":"#REF!"}},{"$f":"'РАЗДЕЛ 1(АМП)'!#REF!","v":{"$error":"#REF!"}},{"$f":"'РАЗДЕЛ 1(АМП)'!#REF!","v":{"$error":"#REF!"}},{"$f":"'РАЗДЕЛ 1(АМП)'!#REF!","v":{"$error":"#REF!"}},null,490012,null,"2017-02-01"]
[null,null,{"$f":"'РАЗДЕЛ 1(АМП)'!#REF!","v":{"$error":"#REF!"}},{"$f":"'РАЗДЕЛ 1(АМП)'!#REF!","v":{"$error":"#REF!"}},{"$f":"'РАЗДЕЛ 1(АМП)'!#REF!","v":{"$error":"#REF!"}},{"$f":"'РАЗДЕЛ 1(АМП)'!#REF!","v":{"$error":"#REF!"}},null,490012,null,"2017-02-01"]
[null,null,{"$f":"'РАЗДЕЛ 1(АМП)'!#REF!","v":{"$error":"#REF!"}},{"$f":"'РАЗДЕЛ 1(АМП)'!#REF!","v":{"$error":"#REF!"}},{"$f":"'РАЗДЕЛ 1(АМП)'!#REF!","v":{"$error":"#REF!"}},{"$f":"'РАЗДЕЛ 1(АМП)'!#REF!","v":{"$error":"#REF!"}},null,490012,null,"2017-02-01"]
[null,null,{"$f":"'РАЗДЕЛ 1(АМП)'!#REF!","v":{"$error":"#REF!"}},{"$f":"'РАЗДЕЛ 1(АМП)'!#REF!","v":{"$error":"#REF!"}},{"$f":"'РАЗДЕЛ 1(АМП)'!#REF!","v":{"$error":"#REF!"}},{"$f":"'РАЗДЕЛ 1(АМП)'!#REF!","v":{"$error":"#REF!"}},null,490012,null,"2017-02-01"]
[null,null,{"$f":"'РАЗДЕЛ 1(АМП)'!#REF!","v":{"$error":"#REF!"}},{"$f":"'РАЗДЕЛ 1(АМП)'!#REF!","v":{"$error":"#REF!"}},{"$f":"'РАЗДЕЛ 1(АМП)'!#REF!","v":{"$error":"#REF!"}},{"$f":"'РАЗДЕЛ 1(АМП)'!#REF!","v":{"$error":"#REF!"}},null,490012,null,"2017-02-01"]
[null,null,{"$f":"'РАЗДЕЛ 1(АМП)'!#REF!","v":{"$error":"#REF!"}},{"$f":"'РАЗДЕЛ 1(АМП)'!#REF!","v":{"$error":"#REF!"}},{"$f":"'РАЗДЕЛ 1(АМП)'!#REF!","v":{"$error":"#REF!"}},{"$f":"'РАЗДЕЛ 1(АМП)'!#REF!","v":{"$error":"#REF!"}},null,490012,null,"2017-02-01"]
[null,null,{"$f":"'РАЗДЕЛ 1(АМП)'!#REF!","v":{"$error":"#REF!"}},{"$f":"'РАЗДЕЛ 1(АМП)'!#REF!","v":{"$error":"#REF!"}},{"$f":"'РАЗДЕЛ 1(АМП)'!#REF!","v":{"$error":"#REF!"}},{"$f":"'РАЗДЕЛ 1(АМП)'!#REF!","v":{"$error":"#REF!"}},null,490012,null,"2017-02-01"]
[null,null,{"$f":"#REF!","v":{"$error":"#REF!"}},{"$f":"#REF!","v":{"$error":"#REF!"}},{"$f":"#REF!","v":{"$error":"#REF!"}},{"$f":"#REF!","v":{"$error":"#REF!"}},null,490012,{"$f":"#REF!","v":{"$error":"#REF!"}},{"$f":"J583","v":"2017-02-01"}]
[null,null,{"$f":"#REF!","v":{"$error":"#REF!"}},{"$f":"#REF!","v":{"$error":"#REF!"}},{"$f":"#REF!","v":{"$error":"#REF!"}},{"$f":"#REF!","v":{"$error":"#REF!"}},null,{"$f":"H584","v":490012},{"$f":"#REF!","v":{"$error":"#REF!"}},"2017-02-01"]
[null,null,{"$f":"#REF!","v":{"$error":"#REF!"}},{"$f":"#REF!","v":{"$error":"#REF!"}},{"$f":"#REF!","v":{"$error":"#REF!"}},{"$f":"#REF!","v":{"$error":"#REF!"}},null,490012,{"$f":"#REF!","v":{"$error":"#REF!"}},"2017-02-01"]
[null,null,{"$f":"#REF!","v":{"$error":"#REF!"}},{"$f":"#REF!","v":{"$error":"#REF!"}},{"$f":"#REF!","v":{"$error":"#REF!"}},{"$f":"#REF!","v":{"$error":"#REF!"}},null,490012,{"$f":"#REF!","v":{"$error":"#REF!"}},"2017-02-01"]
[null,null,{"$f":"#REF!","v":{"$error":"#REF!"}},{"$f":"#REF!","v":{"$error":"#REF!"}},{"$f":"#REF!","v":{"$error":"#REF!"}},{"$f":"#REF!","v":{"$error":"#REF!"}},null,490012,{"$f":"#REF!","v":{"$error":"#REF!"}},"2017-02-01"]
[null,null,{"$f":"'РАЗДЕЛ 1(АМП)'!#REF!","v":{"$error":"#REF!"}},{"$f":"'РАЗДЕЛ 1(АМП)'!#REF!","v":{"$error":"#REF!"}},{"$f":"'РАЗДЕЛ 1(АМП)'!#REF!","v":{"$error":"#REF!"}},{"$f":"'РАЗДЕЛ 1(АМП)'!#REF!","v":{"$error":"#REF!"}},null,490014,null,"2017-02-01"]
[null,null,{"$f":"'РАЗДЕЛ 1(АМП)'!#REF!","v":{"$error":"#REF!"}},{"$f":"'РАЗДЕЛ 1(АМП)'!#REF!","v":{"$error":"#REF!"}},{"$f":"'РАЗДЕЛ 1(АМП)'!#REF!","v":{"$error":"#REF!"}},{"$f":"'РАЗДЕЛ 1(АМП)'!#REF!","v":{"$error":"#REF!"}},null,{"$f":"H589","v":490014},null,"2017-02-01"]
[null,null,{"$f":"'РАЗДЕЛ 1(АМП)'!#REF!","v":{"$error":"#REF!"}},{"$f":"'РАЗДЕЛ 1(АМП)'!#REF!","v":{"$error":"#REF!"}},{"$f":"'РАЗДЕЛ 1(АМП)'!#REF!","v":{"$error":"#REF!"}},{"$f":"'РАЗДЕЛ 1(АМП)'!#REF!","v":{"$error":"#REF!"}},null,{"$f":"H590","v":490014},null,"2017-02-01"]
[null,null,{"$f":"'РАЗДЕЛ 1(АМП)'!#REF!","v":{"$error":"#REF!"}},{"$f":"'РАЗДЕЛ 1(АМП)'!#REF!","v":{"$error":"#REF!"}},{"$f":"'РАЗДЕЛ 1(АМП)'!#REF!","v":{"$error":"#REF!"}},{"$f":"'РАЗДЕЛ 1(АМП)'!#REF!","v":{"$error":"#REF!"}},null,490014,null,"2017-02-01"]
[null,null,{"$f":"'РАЗДЕЛ 1(АМП)'!#REF!","v":{"$error":"#REF!"}},{"$f":"'РАЗДЕЛ 1(АМП)'!#REF!","v":{"$error":"#REF!"}},{"$f":"'РАЗДЕЛ 1(АМП)'!#REF!","v":{"$error":"#REF!"}},{"$f":"'РАЗДЕЛ 1(АМП)'!#REF!","v":{"$error":"#REF!"}},null,490014,null,"2017-02-01"]
[null,null,{"$f":"'РАЗДЕЛ 1(АМП)'!#REF!","v":{"$error":"#REF!"}},{"$f":"'РАЗДЕЛ 1(АМП)'!#REF!","v":{"$error":"#REF!"}},null,{"$f":"'РАЗДЕЛ 1(АМП)'!#REF!","v":{"$error":"#REF!"}},{"$f":"'РАЗДЕЛ 1(АМП)'!#REF!","v":{"$error":"#REF!"}},490014,null,"2017-02-01"]
[null,null,{"$f":"'РАЗДЕЛ 1(АМП)'!#REF!","v":{"$error":"#REF!"}},{"$f":"'РАЗДЕЛ 1(АМП)'!#REF!","v":{"$error":"#REF!"}},{"$f":"'РАЗДЕЛ 1(АМП)'!#REF!","v":{"$error":"#REF!"}},{"$f":"'РАЗДЕЛ 1(АМП)'!#REF!","v":{"$error":"#REF!"}},null,490014,null,"2017-02-01"]
[null,null,{"$f":"'РАЗДЕЛ 1(АМП)'!#REF!","v":{"$error":"#REF!"}},{"$f":"'РАЗДЕЛ 1(АМП)'!#REF!","v":{"$error":"#REF!"}},{"$f":"'РАЗДЕЛ 1(АМП)'!#REF!","v":{"$error":"#REF!"}},{"$f":"'РАЗДЕЛ 1(АМП)'!#REF!","v":{"$error":"#REF!"}},null,490014,null,"2017-02-01"]
[null,null,{"$f":"'РАЗДЕЛ 1(АМП)'!#REF!","v":{"$error":"#REF!"}},{"$f":"'РАЗДЕЛ 1(АМП)'!#REF!","v":{"$error":"#REF!"}},{"$f":"'РАЗДЕЛ 1(АМП)'!#REF!","v":{"$error":"#REF!"}},{"$f":"'РАЗДЕЛ 1(АМП)'!#REF!","v":{"$error":"#REF!"}},null,490014,null,"2017-02-01"]
[null,null,{"$f":"'РАЗДЕЛ 1(АМП)'!#REF!","v":{"$error":"#REF!"}},{"$f":"'РАЗДЕЛ 1(АМП)'!#REF!","v":{"$error":"#REF!"}},{"$f":"'РАЗДЕЛ 1(АМП)'!#REF!","v":{"$error":"#REF!"}},{"$f":"'РАЗДЕЛ 1(АМП)'!#REF!","v":{"$error":"#REF!"}},null,490014,null,"2017-02-01"]
[null,null,{"$f":"'РАЗДЕЛ 1(АМП)'!#REF!","v":{"$error":"#REF!"}},{"$f":"'РАЗДЕЛ 1(АМП)'!#REF!","v":{"$error":"#REF!"}},{"$f":"'РАЗДЕЛ 1(АМП)'!#REF!","v":{"$error":"#REF!"}},{"$f":"'РАЗДЕЛ 1(АМП)'!#REF!","v":{"$error":"#REF!"}},null,490014,null,"2017-02-01"]
[null,null,{"$f":"'РАЗДЕЛ 1(АМП)'!#REF!","v":{"$error":"#REF!"}},{"$f":"'РАЗДЕЛ 1(АМП)'!#REF!","v":{"$error":"#REF!"}},{"$f":"'РАЗДЕЛ 1(АМП)'!#REF!","v":{"$error":"#REF!"}},{"$f":"'РАЗДЕЛ 1(АМП)'!#REF!","v":{"$error":"#REF!"}},null,490014,null,"2017-02-01"]
[null,null,{"$f":"'РАЗДЕЛ 1(АМП)'!#REF!","v":{"$error":"#REF!"}},{"$f":"'РАЗДЕЛ 1(АМП)'!#REF!","v":{"$error":"#REF!"}},{"$f":"'РАЗДЕЛ 1(АМП)'!#REF!","v":{"$error":"#REF!"}},{"$f":"'РАЗДЕЛ 1(АМП)'!#REF!","v":{"$error":"#REF!"}},null,490014,null,"2017-02-01"]
[null,null,{"$f":"'РАЗДЕЛ 1(АМП)'!#REF!","v":{"$error":"#REF!"}},{"$f":"'РАЗДЕЛ 1(АМП)'!#REF!","v":{"$error":"#REF!"}},{"$f":"'РАЗДЕЛ 1(АМП)'!#REF!","v":{"$error":"#REF!"}},{"$f":"'РАЗДЕЛ 1(АМП)'!#REF!","v":{"$error":"#REF!"}},null,490014,null,"2017-02-01"]
[null,null,{"$f":"'РАЗДЕЛ 1(АМП)'!#REF!","v":{"$error":"#REF!"}},{"$f":"'РАЗДЕЛ 1(АМП)'!#REF!","v":{"$error":"#REF!"}},{"$f":"'РАЗДЕЛ 1(АМП)'!#REF!","v":{"$error":"#REF!"}},{"$f":"'РАЗДЕЛ 1(АМП)'!#REF!","v":{"$error":"#REF!"}},null,490014,null,"2017-02-01"]
[null,null,{"$f":"'РАЗДЕЛ 1(АМП)'!#REF!","v":{"$error":"#REF!"}},{"$f":"'РАЗДЕЛ 1(АМП)'!#REF!","v":{"$error":"#REF!"}},{"$f":"'РАЗДЕЛ 1(АМП)'!#REF!","v":{"$error":"#REF!"}},{"$f":"'РАЗДЕЛ 1(АМП)'!#REF!","v":{"$error":"#REF!"}},null,490014,null,"2017-02-01"]
[null,null,{"$f":"'РАЗДЕЛ 1(АМП)'!#REF!","v":{"$error":"#REF!"}},{"$f":"'РАЗДЕЛ 1(АМП)'!#REF!","v":{"$error":"#REF!"}},{"$f":"'РАЗДЕЛ 1(АМП)'!#REF!","v":{"$error":"#REF!"}},{"$f":"'РАЗДЕЛ 1(АМП)'!#REF!","v":{"$error":"#REF!"}},null,490014,null,"2017-02-01"]
[null,null,{"$f":"'РАЗДЕЛ 1(АМП)'!#REF!","v":{"$error":"#REF!"}},{"$f":"'РАЗДЕЛ 1(АМП)'!#REF!","v":{"$error":"#REF!"}},{"$f":"'РАЗДЕЛ 1(АМП)'!#REF!","v":{"$error":"#REF!"}},{"$f":"'РАЗДЕЛ 1(АМП)'!#REF!","v":{"$error":"#REF!"}},null,490014,null,"2017-02-01"]
[null,null,{"$f":"'РАЗДЕЛ 1(АМП)'!#REF!","v":{"$error":"#REF!"}},{"$f":"'РАЗДЕЛ 1(АМП)'!#REF!","v":{"$error":"#REF!"}},null,{"$f":"'РАЗДЕЛ 1(АМП)'!#REF!","v":{"$error":"#REF!"}},{"$f":"'РАЗДЕЛ 1(АМП)'!#REF!","v":{"$error":"#REF!"}},490014,null,"2017-02-01"]
[null,null,{"$f":"'РАЗДЕЛ 1(АМП)'!#REF!","v":{"$error":"#REF!"}},{"$f":"'РАЗДЕЛ 1(АМП)'!#REF!","v":{"$error":"#REF!"}},{"$f":"'РАЗДЕЛ 1(АМП)'!#REF!","v":{"$error":"#REF!"}},{"$f":"'РАЗДЕЛ 1(АМП)'!#REF!","v":{"$error":"#REF!"}},null,490014,null,"2017-02-01"]
[null,null,{"$f":"'РАЗДЕЛ 1(АМП)'!#REF!","v":{"$error":"#REF!"}},{"$f":"'РАЗДЕЛ 1(АМП)'!#REF!","v":{"$error":"#REF!"}},{"$f":"'РАЗДЕЛ 1(АМП)'!#REF!","v":{"$error":"#REF!"}},{"$f":"'РАЗДЕЛ 1(АМП)'!#REF!","v":{"$error":"#REF!"}},null,490014,null,"2017-02-01"]
[null,null,{"$f":"'РАЗДЕЛ 1(АМП)'!#REF!","v":{"$error":"#REF!"}},{"$f":"'РАЗДЕЛ 1(АМП)'!#REF!","v":{"$error":"#REF!"}},{"$f":"'РАЗДЕЛ 1(АМП)'!#REF!","v":{"$error":"#REF!"}},{"$f":"'РАЗДЕЛ 1(АМП)'!#REF!","v":{"$error":"#REF!"}},null,490014,null,"2017-02-01"]
[null,null,{"$f":"'РАЗДЕЛ 1(АМП)'!#REF!","v":{"$error":"#REF!"}},{"$f":"'РАЗДЕЛ 1(АМП)'!#REF!","v":{"$error":"#REF!"}},{"$f":"'РАЗДЕЛ 1(АМП)'!#REF!","v":{"$error":"#REF!"}},{"$f":"'РАЗДЕЛ 1(АМП)'!#REF!","v":{"$error":"#REF!"}},null,490014,null,"2017-02-01"]
[null,null,{"$f":"'РАЗДЕЛ 1(АМП)'!#REF!","v":{"$error":"#REF!"}},{"$f":"'РАЗДЕЛ 1(АМП)'!#REF!","v":{"$error":"#REF!"}},{"$f":"'РАЗДЕЛ 1(АМП)'!#REF!","v":{"$error":"#REF!"}},{"$f":"'РАЗДЕЛ 1(АМП)'!#REF!","v":{"$error":"#REF!"}},null,490014,null,"2017-02-01"]
[null,null,{"$f":"'РАЗДЕЛ 1(АМП)'!#REF!","v":{"$error":"#REF!"}},{"$f":"'РАЗДЕЛ 1(АМП)'!#REF!","v":{"$error":"#REF!"}},{"$f":"'РАЗДЕЛ 1(АМП)'!#REF!","v":{"$error":"#REF!"}},{"$f":"'РАЗДЕЛ 1(АМП)'!#REF!","v":{"$error":"#REF!"}},null,490014,null,"2017-02-01"]
[null,null,{"$f":"'РАЗДЕЛ 1(АМП)'!#REF!","v":{"$error":"#REF!"}},{"$f":"'РАЗДЕЛ 1(АМП)'!#REF!","v":{"$error":"#REF!"}},{"$f":"'РАЗДЕЛ 1(АМП)'!#REF!","v":{"$error":"#REF!"}},{"$f":"'РАЗДЕЛ 1(АМП)'!#REF!","v":{"$error":"#REF!"}},null,490014,null,"2017-02-01"]
[null,null,{"$f":"'РАЗДЕЛ 1(АМП)'!#REF!","v":{"$error":"#REF!"}},{"$f":"'РАЗДЕЛ 1(АМП)'!#REF!","v":{"$error":"#REF!"}},{"$f":"'РАЗДЕЛ 1(АМП)'!#REF!","v":{"$error":"#REF!"}},{"$f":"'РАЗДЕЛ 1(АМП)'!#REF!","v":{"$error":"#REF!"}},null,490014,null,"2017-02-01"]
[null,null,{"$f":"'РАЗДЕЛ 1(АМП)'!#REF!","v":{"$error":"#REF!"}},{"$f":"'РАЗДЕЛ 1(АМП)'!#REF!","v":{"$error":"#REF!"}},{"$f":"'РАЗДЕЛ 1(АМП)'!#REF!","v":{"$error":"#REF!"}},{"$f":"'РАЗДЕЛ 1(АМП)'!#REF!","v":{"$error":"#REF!"}},null,490014,null,"2017-02-01"]
[null,null,{"$f":"'РАЗДЕЛ 1(АМП)'!#REF!","v":{"$error":"#REF!"}},{"$f":"'РАЗДЕЛ 1(АМП)'!#REF!","v":{"$error":"#REF!"}},{"$f":"'РАЗДЕЛ 1(АМП)'!#REF!","v":{"$error":"#REF!"}},{"$f":"'РАЗДЕЛ 1(АМП)'!#REF!","v":{"$error":"#REF!"}},null,490014,null,"2017-02-01"]
[null,null,{"$f":"'РАЗДЕЛ 1(АМП)'!#REF!","v":{"$error":"#REF!"}},{"$f":"'РАЗДЕЛ 1(АМП)'!#REF!","v":{"$error":"#REF!"}},{"$f":"'РАЗДЕЛ 1(АМП)'!#REF!","v":{"$error":"#REF!"}},{"$f":"'РАЗДЕЛ 1(АМП)'!#REF!","v":{"$error":"#REF!"}},null,490014,null,"2017-02-01"]
[null,null,{"$f":"'РАЗДЕЛ 1(АМП)'!#REF!","v":{"$error":"#REF!"}},{"$f":"'РАЗДЕЛ 1(АМП)'!#REF!","v":{"$error":"#REF!"}},{"$f":"'РАЗДЕЛ 1(АМП)'!#REF!","v":{"$error":"#REF!"}},{"$f":"'РАЗДЕЛ 1(АМП)'!#REF!","v":{"$error":"#REF!"}},null,490014,null,"2017-02-01"]
[null,null,{"$f":"'РАЗДЕЛ 1(АМП)'!#REF!","v":{"$error":"#REF!"}},{"$f":"'РАЗДЕЛ 1(АМП)'!#REF!","v":{"$error":"#REF!"}},{"$f":"'РАЗДЕЛ 1(АМП)'!#REF!","v":{"$error":"#REF!"}},{"$f":"'РАЗДЕЛ 1(АМП)'!#REF!","v":{"$error":"#REF!"}},null,490014,null,"2017-02-01"]
[null,null,{"$f":"'РАЗДЕЛ 1(АМП)'!#REF!","v":{"$error":"#REF!"}},{"$f":"'РАЗДЕЛ 1(АМП)'!#REF!","v":{"$error":"#REF!"}},{"$f":"'РАЗДЕЛ 1(АМП)'!#REF!","v":{"$error":"#REF!"}},{"$f":"'РАЗДЕЛ 1(АМП)'!#REF!","v":{"$error":"#REF!"}},null,490014,null,"2017-02-01"]
[null,null,{"$f":"'РАЗДЕЛ 1(АМП)'!#REF!","v":{"$error":"#REF!"}},{"$f":"'РАЗДЕЛ 1(АМП)'!#REF!","v":{"$error":"#REF!"}},{"$f":"'РАЗДЕЛ 1(АМП)'!#REF!","v":{"$error":"#REF!"}},{"$f":"'РАЗДЕЛ 1(АМП)'!#REF!","v":{"$error":"#REF!"}},null,490014,null,"2017-02-01"]
[null,null,{"$f":"'РАЗДЕЛ 1(АМП)'!#REF!","v":{"$error":"#REF!"}},{"$f":"'РАЗДЕЛ 1(АМП)'!#REF!","v":{"$error":"#REF!"}},{"$f":"'РАЗДЕЛ 1(АМП)'!#REF!","v":{"$error":"#REF!"}},{"$f":"'РАЗДЕЛ 1(АМП)'!#REF!","v":{"$error":"#REF!"}},null,490014,null,"2017-02-01"]
[null,null,{"$f":"'РАЗДЕЛ 1(АМП)'!#REF!","v":{"$error":"#REF!"}},{"$f":"'РАЗДЕЛ 1(АМП)'!#REF!","v":{"$error":"#REF!"}},{"$f":"'РАЗДЕЛ 1(АМП)'!#REF!","v":{"$error":"#REF!"}},{"$f":"'РАЗДЕЛ 1(АМП)'!#REF!","v":{"$error":"#REF!"}},null,490014,null,"2017-02-01"]
[null,null,{"$f":"'РАЗДЕЛ 1(АМП)'!#REF!","v":{"$error":"#REF!"}},{"$f":"'РАЗДЕЛ 1(АМП)'!#REF!","v":{"$error":"#REF!"}},{"$f":"'РАЗДЕЛ 1(АМП)'!#REF!","v":{"$error":"#REF!"}},{"$f":"'РАЗДЕЛ 1(АМП)'!#REF!","v":{"$error":"#REF!"}},null,490014,null,"2017-02-01"]
[null,null,{"$f":"'РАЗДЕЛ 1(АМП)'!#REF!","v":{"$error":"#REF!"}},{"$f":"'РАЗДЕЛ 1(АМП)'!#REF!","v":{"$error":"#REF!"}},{"$f":"'РАЗДЕЛ 1(АМП)'!#REF!","v":{"$error":"#REF!"}},{"$f":"'РАЗДЕЛ 1(АМП)'!#REF!","v":{"$error":"#REF!"}},null,490014,null,"2017-02-01"]
[null,null,{"$f":"'РАЗДЕЛ 1(АМП)'!#REF!","v":{"$error":"#REF!"}},{"$f":"'РАЗДЕЛ 1(АМП)'!#REF!","v":{"$error":"#REF!"}},{"$f":"'РАЗДЕЛ 1(АМП)'!#REF!","v":{"$error":"#REF!"}},{"$f":"'РАЗДЕЛ 1(АМП)'!#REF!","v":{"$error":"#REF!"}},null,490014,null,"2017-02-01"]
[null,null,{"$f":"'РАЗДЕЛ 1(АМП)'!#REF!","v":{"$error":"#REF!"}},{"$f":"'РАЗДЕЛ 1(АМП)'!#REF!","v":{"$error":"#REF!"}},{"$f":"'РАЗДЕЛ 1(АМП)'!#REF!","v":{"$error":"#REF!"}},{"$f":"'РАЗДЕЛ 1(АМП)'!#REF!","v":{"$error":"#REF!"}},null,490014,null,"2017-02-01"]
[null,null,{"$f":"'РАЗДЕЛ 1(АМП)'!#REF!","v":{"$error":"#REF!"}},{"$f":"'РАЗДЕЛ 1(АМП)'!#REF!","v":{"$error":"#REF!"}},null,{"$f":"'РАЗДЕЛ 1(АМП)'!#REF!","v":{"$error":"#REF!"}},{"$f":"'РАЗДЕЛ 1(АМП)'!#REF!","v":{"$error":"#REF!"}},490014,null,"2017-02-01"]
[null,null,{"$f":"'РАЗДЕЛ 1(АМП)'!#REF!","v":{"$error":"#REF!"}},{"$f":"'РАЗДЕЛ 1(АМП)'!#REF!","v":{"$error":"#REF!"}},{"$f":"'РАЗДЕЛ 1(АМП)'!#REF!","v":{"$error":"#REF!"}},{"$f":"'РАЗДЕЛ 1(АМП)'!#REF!","v":{"$error":"#REF!"}},null,490014,null,"2017-02-01"]
[null,null,{"$f":"'РАЗДЕЛ 1(АМП)'!#REF!","v":{"$error":"#REF!"}},{"$f":"'РАЗДЕЛ 1(АМП)'!#REF!","v":{"$error":"#REF!"}},{"$f":"'РАЗДЕЛ 1(АМП)'!#REF!","v":{"$error":"#REF!"}},{"$f":"'РАЗДЕЛ 1(АМП)'!#REF!","v":{"$error":"#REF!"}},null,490014,null,"2017-02-01"]
[null,null,{"$f":"'РАЗДЕЛ 1(АМП)'!#REF!","v":{"$error":"#REF!"}},{"$f":"'РАЗДЕЛ 1(АМП)'!#REF!","v":{"$error":"#REF!"}},{"$f":"'РАЗДЕЛ 1(АМП)'!#REF!","v":{"$error":"#REF!"}},{"$f":"'РАЗДЕЛ 1(АМП)'!#REF!","v":{"$error":"#REF!"}},null,490014,null,"2017-02-01"]
[null,null,{"$f":"'РАЗДЕЛ 1(АМП)'!#REF!","v":{"$error":"#REF!"}},{"$f":"'РАЗДЕЛ 1(АМП)'!#REF!","v":{"$error":"#REF!"}},{"$f":"'РАЗДЕЛ 1(АМП)'!#REF!","v":{"$error":"#REF!"}},{"$f":"'РАЗДЕЛ 1(АМП)'!#REF!","v":{"$error":"#REF!"}},null,490014,null,"2017-02-01"]
[null,null,{"$f":"'РАЗДЕЛ 1(АМП)'!#REF!","v":{"$error":"#REF!"}},{"$f":"'РАЗДЕЛ 1(АМП)'!#REF!","v":{"$error":"#REF!"}},{"$f":"'РАЗДЕЛ 1(АМП)'!#REF!","v":{"$error":"#REF!"}},{"$f":"'РАЗДЕЛ 1(АМП)'!#REF!","v":{"$error":"#REF!"}},null,490014,null,"2017-02-01"]
[null,null,{"$f":"'РАЗДЕЛ 1(АМП)'!#REF!","v":{"$error":"#REF!"}},{"$f":"'РАЗДЕЛ 1(АМП)'!#REF!","v":{"$error":"#REF!"}},{"$f":"'РАЗДЕЛ 1(АМП)'!#REF!","v":{"$error":"#REF!"}},{"$f":"'РАЗДЕЛ 1(АМП)'!#REF!","v":{"$error":"#REF!"}},null,490014,null,"2017-02-01"]
[null,null,{"$f":"'РАЗДЕЛ 1(АМП)'!#REF!","v":{"$error":"#REF!"}},{"$f":"'РАЗДЕЛ 1(АМП)'!#REF!","v":{"$error":"#REF!"}},{"$f":"'РАЗДЕЛ 1(АМП)'!#REF!","v":{"$error":"#REF!"}},{"$f":"'РАЗДЕЛ 1(АМП)'!#REF!","v":{"$error":"#REF!"}},null,490014,null,"2017-02-01"]
[null,null,{"$f":"'РАЗДЕЛ 1(АМП)'!#REF!","v":{"$error":"#REF!"}},{"$f":"'РАЗДЕЛ 1(АМП)'!#REF!","v":{"$error":"#REF!"}},{"$f":"'РАЗДЕЛ 1(АМП)'!#REF!","v":{"$error":"#REF!"}},{"$f":"'РАЗДЕЛ 1(АМП)'!#REF!","v":{"$error":"#REF!"}},null,490014,null,"2017-02-01"]
[null,null,{"$f":"'РАЗДЕЛ 1(АМП)'!#REF!","v":{"$error":"#REF!"}},{"$f":"'РАЗДЕЛ 1(АМП)'!#REF!","v":{"$error":"#REF!"}},{"$f":"'РАЗДЕЛ 1(АМП)'!#REF!","v":{"$error":"#REF!"}},{"$f":"'РАЗДЕЛ 1(АМП)'!#REF!","v":{"$error":"#REF!"}},null,490014,null,"2017-02-01"]
[null,null,{"$f":"'РАЗДЕЛ 1(АМП)'!#REF!","v":{"$error":"#REF!"}},{"$f":"'РАЗДЕЛ 1(АМП)'!#REF!","v":{"$error":"#REF!"}},{"$f":"'РАЗДЕЛ 1(АМП)'!#REF!","v":{"$error":"#REF!"}},{"$f":"'РАЗДЕЛ 1(АМП)'!#REF!","v":{"$error":"#REF!"}},null,490014,null,"2017-02-01"]
[null,null,{"$f":"'РАЗДЕЛ 1(АМП)'!#REF!","v":{"$error":"#REF!"}},{"$f":"'РАЗДЕЛ 1(АМП)'!#REF!","v":{"$error":"#REF!"}},{"$f":"'РАЗДЕЛ 1(АМП)'!#REF!","v":{"$error":"#REF!"}},{"$f":"'РАЗДЕЛ 1(АМП)'!#REF!","v":{"$error":"#REF!"}},null,490014,null,"2017-02-01"]
[null,null,{"$f":"'РАЗДЕЛ 1(АМП)'!#REF!","v":{"$error":"#REF!"}},{"$f":"'РАЗДЕЛ 1(АМП)'!#REF!","v":{"$error":"#REF!"}},{"$f":"'РАЗДЕЛ 1(АМП)'!#REF!","v":{"$error":"#REF!"}},{"$f":"'РАЗДЕЛ 1(АМП)'!#REF!","v":{"$error":"#REF!"}},null,490014,null,"2017-02-01"]
[null,null,{"$f":"'РАЗДЕЛ 1(АМП)'!#REF!","v":{"$error":"#REF!"}},{"$f":"'РАЗДЕЛ 1(АМП)'!#REF!","v":{"$error":"#REF!"}},{"$f":"'РАЗДЕЛ 1(АМП)'!#REF!","v":{"$error":"#REF!"}},{"$f":"'РАЗДЕЛ 1(АМП)'!#REF!","v":{"$error":"#REF!"}},null,490014,null,"2017-02-01"]
[null,null,{"$f":"'РАЗДЕЛ 1(АМП)'!#REF!","v":{"$error":"#REF!"}},{"$f":"'РАЗДЕЛ 1(АМП)'!#REF!","v":{"$error":"#REF!"}},{"$f":"'РАЗДЕЛ 1(АМП)'!#REF!","v":{"$error":"#REF!"}},{"$f":"'РАЗДЕЛ 1(АМП)'!#REF!","v":{"$error":"#REF!"}},null,490014,null,"2017-02-01"]
[null,null,{"$f":"'РАЗДЕЛ 1(АМП)'!#REF!","v":{"$error":"#REF!"}},{"$f":"'РАЗДЕЛ 1(АМП)'!#REF!","v":{"$error":"#REF!"}},{"$f":"'РАЗДЕЛ 1(АМП)'!#REF!","v":{"$error":"#REF!"}},{"$f":"'РАЗДЕЛ 1(АМП)'!#REF!","v":{"$error":"#REF!"}},null,490014,null,"2017-02-01"]
[null,null,{"$f":"'РАЗДЕЛ 1(АМП)'!#REF!","v":{"$error":"#REF!"}},{"$f":"'РАЗДЕЛ 1(АМП)'!#REF!","v":{"$error":"#REF!"}},{"$f":"'РАЗДЕЛ 1(АМП)'!#REF!","v":{"$error":"#REF!"}},{"$f":"'РАЗДЕЛ 1(АМП)'!#REF!","v":{"$error":"#REF!"}},null,490014,null,"2017-02-01"]
[null,null,{"$f":"'РАЗДЕЛ 1(АМП)'!#REF!","v":{"$error":"#REF!"}},{"$f":"'РАЗДЕЛ 1(АМП)'!#REF!","v":{"$error":"#REF!"}},{"$f":"'РАЗДЕЛ 1(АМП)'!#REF!","v":{"$error":"#REF!"}},{"$f":"'РАЗДЕЛ 1(АМП)'!#REF!","v":{"$error":"#REF!"}},null,490014,null,{"$f":"J645","v":"2017-02-01"}]
[null,null,{"$f":"'РАЗДЕЛ 1(АМП)'!#REF!","v":{"$error":"#REF!"}},{"$f":"'РАЗДЕЛ 1(АМП)'!#REF!","v":{"$error":"#REF!"}},{"$f":"'РАЗДЕЛ 1(АМП)'!#REF!","v":{"$error":"#REF!"}},{"$f":"'РАЗДЕЛ 1(АМП)'!#REF!","v":{"$error":"#REF!"}},null,490014,null,"2017-02-01"]
[null,null,{"$f":"'РАЗДЕЛ 1(АМП)'!#REF!","v":{"$error":"#REF!"}},{"$f":"'РАЗДЕЛ 1(АМП)'!#REF!","v":{"$error":"#REF!"}},{"$f":"'РАЗДЕЛ 1(АМП)'!#REF!","v":{"$error":"#REF!"}},{"$f":"'РАЗДЕЛ 1(АМП)'!#REF!","v":{"$error":"#REF!"}},null,490014,null,"2017-02-01"]
[null,null,{"$f":"'РАЗДЕЛ 1(АМП)'!#REF!","v":{"$error":"#REF!"}},{"$f":"'РАЗДЕЛ 1(АМП)'!#REF!","v":{"$error":"#REF!"}},{"$f":"'РАЗДЕЛ 1(АМП)'!#REF!","v":{"$error":"#REF!"}},{"$f":"'РАЗДЕЛ 1(АМП)'!#REF!","v":{"$error":"#REF!"}},null,490014,null,"2017-02-01"]
[null,null,{"$f":"'РАЗДЕЛ 1(АМП)'!#REF!","v":{"$error":"#REF!"}},{"$f":"'РАЗДЕЛ 1(АМП)'!#REF!","v":{"$error":"#REF!"}},{"$f":"'РАЗДЕЛ 1(АМП)'!#REF!","v":{"$error":"#REF!"}},{"$f":"'РАЗДЕЛ 1(АМП)'!#REF!","v":{"$error":"#REF!"}},null,490014,null,"2017-02-01"]
[null,null,{"$f":"'РАЗДЕЛ 1(АМП)'!#REF!","v":{"$error":"#REF!"}},{"$f":"'РАЗДЕЛ 1(АМП)'!#REF!","v":{"$error":"#REF!"}},null,{"$f":"'РАЗДЕЛ 1(АМП)'!#REF!","v":{"$error":"#REF!"}},{"$f":"'РАЗДЕЛ 1(АМП)'!#REF!","v":{"$error":"#REF!"}},490014,null,"2017-02-01"]
[null,null,{"$f":"'РАЗДЕЛ 1(АМП)'!#REF!","v":{"$error":"#REF!"}},{"$f":"'РАЗДЕЛ 1(АМП)'!#REF!","v":{"$error":"#REF!"}},{"$f":"'РАЗДЕЛ 1(АМП)'!#REF!","v":{"$error":"#REF!"}},{"$f":"'РАЗДЕЛ 1(АМП)'!#REF!","v":{"$error":"#REF!"}},null,490014,null,"2017-02-01"]
[null,null,{"$f":"'РАЗДЕЛ 1(АМП)'!#REF!","v":{"$error":"#REF!"}},{"$f":"'РАЗДЕЛ 1(АМП)'!#REF!","v":{"$error":"#REF!"}},{"$f":"'РАЗДЕЛ 1(АМП)'!#REF!","v":{"$error":"#REF!"}},{"$f":"'РАЗДЕЛ 1(АМП)'!#REF!","v":{"$error":"#REF!"}},null,490014,null,"2017-02-01"]
[null,null,{"$f":"'РАЗДЕЛ 1(АМП)'!#REF!","v":{"$error":"#REF!"}},{"$f":"'РАЗДЕЛ 1(АМП)'!#REF!","v":{"$error":"#REF!"}},{"$f":"'РАЗДЕЛ 1(АМП)'!#REF!","v":{"$error":"#REF!"}},{"$f":"'РАЗДЕЛ 1(АМП)'!#REF!","v":{"$error":"#REF!"}},null,490014,null,"2017-02-01"]
[null,null,{"$f":"'РАЗДЕЛ 1(АМП)'!#REF!","v":{"$error":"#REF!"}},{"$f":"'РАЗДЕЛ 1(АМП)'!#REF!","v":{"$error":"#REF!"}},{"$f":"'РАЗДЕЛ 1(АМП)'!#REF!","v":{"$error":"#REF!"}},{"$f":"'РАЗДЕЛ 1(АМП)'!#REF!","v":{"$error":"#REF!"}},null,{"$f":"H654","v":490014},null,"2017-02-01"]
[null,null,{"$f":"'РАЗДЕЛ 1(АМП)'!#REF!","v":{"$error":"#REF!"}},{"$f":"'РАЗДЕЛ 1(АМП)'!#REF!","v":{"$error":"#REF!"}},{"$f":"'РАЗДЕЛ 1(АМП)'!#REF!","v":{"$error":"#REF!"}},{"$f":"'РАЗДЕЛ 1(АМП)'!#REF!","v":{"$error":"#REF!"}},null,490014,null,"2017-02-01"]
[null,null,{"$f":"'РАЗДЕЛ 1(АМП)'!#REF!","v":{"$error":"#REF!"}},{"$f":"'РАЗДЕЛ 1(АМП)'!#REF!","v":{"$error":"#REF!"}},{"$f":"'РАЗДЕЛ 1(АМП)'!#REF!","v":{"$error":"#REF!"}},{"$f":"'РАЗДЕЛ 1(АМП)'!#REF!","v":{"$error":"#REF!"}},null,490014,null,"2017-02-01"]
[null,null,{"$f":"'РАЗДЕЛ 1(АМП)'!#REF!","v":{"$error":"#REF!"}},{"$f":"'РАЗДЕЛ 1(АМП)'!#REF!","v":{"$error":"#REF!"}},{"$f":"'РАЗДЕЛ 1(АМП)'!#REF!","v":{"$error":"#REF!"}},{"$f":"'РАЗДЕЛ 1(АМП)'!#REF!","v":{"$error":"#REF!"}},null,490014,null,"2017-02-01"]
[null,null,{"$f":"'РАЗДЕЛ 1(АМП)'!#REF!","v":{"$error":"#REF!"}},{"$f":"'РАЗДЕЛ 1(АМП)'!#REF!","v":{"$error":"#REF!"}},{"$f":"'РАЗДЕЛ 1(АМП)'!#REF!","v":{"$error":"#REF!"}},{"$f":"'РАЗДЕЛ 1(АМП)'!#REF!","v":{"$error":"#REF!"}},null,490014,null,"2017-02-01"]
[null,null,{"$f":"'РАЗДЕЛ 1(АМП)'!#REF!","v":{"$error":"#REF!"}},{"$f":"'РАЗДЕЛ 1(АМП)'!#REF!","v":{"$error":"#REF!"}},{"$f":"'РАЗДЕЛ 1(АМП)'!#REF!","v":{"$error":"#REF!"}},{"$f":"'РАЗДЕЛ 1(АМП)'!#REF!","v":{"$error":"#REF!"}},null,490014,null,"2017-02-01"]
[null,null,{"$f":"#REF!","v":{"$error":"#REF!"}},{"$f":"#REF!","v":{"$error":"#REF!"}},null,{"$f":"#REF!","v":{"$error":"#REF!"}},{"$f":"#REF!","v":{"$error":"#REF!"}},490014,{"$f":"#REF!","v":{"$error":"#REF!"}},"2017-02-01"]
[null,null,{"$f":"#REF!","v":{"$error":"#REF!"}},{"$f":"#REF!","v":{"$error":"#REF!"}},{"$f":"#REF!","v":{"$error":"#REF!"}},{"$f":"#REF!","v":{"$error":"#REF!"}},null,490014,{"$f":"#REF!","v":{"$error":"#REF!"}},"2017-02-01"]
[null,null,{"$f":"#REF!","v":{"$error":"#REF!"}},{"$f":"#REF!","v":{"$error":"#REF!"}},{"$f":"#REF!","v":{"$error":"#REF!"}},{"$f":"#REF!","v":{"$error":"#REF!"}},null,490014,{"$f":"#REF!","v":{"$error":"#REF!"}},"2017-02-01"]
[null,null,{"$f":"#REF!","v":{"$error":"#REF!"}},{"$f":"#REF!","v":{"$error":"#REF!"}},{"$f":"#REF!","v":{"$error":"#REF!"}},{"$f":"#REF!","v":{"$error":"#REF!"}},null,490014,{"$f":"#REF!","v":{"$error":"#REF!"}},"2017-02-01"]
[null,null,{"$f":"#REF!","v":{"$error":"#REF!"}},{"$f":"#REF!","v":{"$error":"#REF!"}},{"$f":"#REF!","v":{"$error":"#REF!"}},{"$f":"#REF!","v":{"$error":"#REF!"}},null,490014,{"$f":"#REF!","v":{"$error":"#REF!"}},"2017-02-01"]
[null,null,{"$f":"#REF!","v":{"$error":"#REF!"}},{"$f":"#REF!","v":{"$error":"#REF!"}},{"$f":"#REF!","v":{"$error":"#REF!"}},{"$f":"#REF!","v":{"$error":"#REF!"}},null,490014,{"$f":"#REF!","v":{"$error":"#REF!"}},"2017-02-01"]
[null,null,{"$f":"#REF!","v":{"$error":"#REF!"}},{"$f":"#REF!","v":{"$error":"#REF!"}},null,{"$f":"#REF!","v":{"$error":"#REF!"}},{"$f":"#REF!","v":{"$error":"#REF!"}},490014,{"$f":"#REF!","v":{"$error":"#REF!"}},"2017-02-01"]
[null,null,{"$f":"#REF!","v":{"$error":"#REF!"}},{"$f":"#REF!","v":{"$error":"#REF!"}},{"$f":"#REF!","v":{"$error":"#REF!"}},{"$f":"#REF!","v":{"$error":"#REF!"}},null,490014,{"$f":"#REF!","v":{"$error":"#REF!"}},"2017-02-01"]
[null,null,{"$f":"#REF!","v":{"$error":"#REF!"}},{"$f":"#REF!","v":{"$error":"#REF!"}},{"$f":"#REF!","v":{"$error":"#REF!"}},{"$f":"#REF!","v":{"$error":"#REF!"}},null,490014,{"$f":"#REF!","v":{"$error":"#REF!"}},"2017-02-01"]
[null,null,{"$f":"#REF!","v":{"$error":"#REF!"}},{"$f":"#REF!","v":{"$error":"#REF!"}},{"$f":"#REF!","v":{"$error":"#REF!"}},{"$f":"#REF!","v":{"$error":"#REF!"}},null,490014,{"$f":"#REF!","v":{"$error":"#REF!"}},"2017-02-01"]
[null,null,{"$f":"#REF!","v":{"$error":"#REF!"}},{"$f":"#REF!","v":{"$error":"#REF!"}},{"$f":"#REF!","v":{"$error":"#REF!"}},{"$f":"#REF!","v":{"$error":"#REF!"}},null,490014,{"$f":"#REF!","v":{"$error":"#REF!"}},"2017-02-01"]
[null,null,{"$f":"'РАЗДЕЛ 4 (СМП) '!#REF!","v":{"$error":"#REF!"}},{"$f":"'РАЗДЕЛ 4 (СМП) '!#REF!","v":{"$error":"#REF!"}},{"$f":"'РАЗДЕЛ 4 (СМП) '!#REF!","v":{"$error":"#REF!"}},{"$f":"'РАЗДЕЛ 4 (СМП) '!#REF!","v":{"$error":"#REF!"}},null,490014,null,"2017-02-01"]
[null,null,{"$f":"'РАЗДЕЛ 1(АМП)'!#REF!","v":{"$error":"#REF!"}},{"$f":"'РАЗДЕЛ 1(АМП)'!#REF!","v":{"$error":"#REF!"}},{"$f":"'РАЗДЕЛ 1(АМП)'!#REF!","v":{"$error":"#REF!"}},{"$f":"'РАЗДЕЛ 1(АМП)'!#REF!","v":{"$error":"#REF!"}},null,490015,null,"2017-02-01"]
[null,null,{"$f":"'РАЗДЕЛ 1(АМП)'!#REF!","v":{"$error":"#REF!"}},{"$f":"'РАЗДЕЛ 1(АМП)'!#REF!","v":{"$error":"#REF!"}},{"$f":"'РАЗДЕЛ 1(АМП)'!#REF!","v":{"$error":"#REF!"}},{"$f":"'РАЗДЕЛ 1(АМП)'!#REF!","v":{"$error":"#REF!"}},null,{"$f":"H673","v":490015},null,"2017-02-01"]
[null,null,{"$f":"'РАЗДЕЛ 1(АМП)'!#REF!","v":{"$error":"#REF!"}},{"$f":"'РАЗДЕЛ 1(АМП)'!#REF!","v":{"$error":"#REF!"}},{"$f":"'РАЗДЕЛ 1(АМП)'!#REF!","v":{"$error":"#REF!"}},{"$f":"'РАЗДЕЛ 1(АМП)'!#REF!","v":{"$error":"#REF!"}},null,{"$f":"H674","v":490015},null,"2017-02-01"]
[null,null,{"$f":"'РАЗДЕЛ 1(АМП)'!#REF!","v":{"$error":"#REF!"}},{"$f":"'РАЗДЕЛ 1(АМП)'!#REF!","v":{"$error":"#REF!"}},{"$f":"'РАЗДЕЛ 1(АМП)'!#REF!","v":{"$error":"#REF!"}},{"$f":"'РАЗДЕЛ 1(АМП)'!#REF!","v":{"$error":"#REF!"}},null,490015,null,"2017-02-01"]
[null,null,{"$f":"'РАЗДЕЛ 1(АМП)'!#REF!","v":{"$error":"#REF!"}},{"$f":"'РАЗДЕЛ 1(АМП)'!#REF!","v":{"$error":"#REF!"}},{"$f":"'РАЗДЕЛ 1(АМП)'!#REF!","v":{"$error":"#REF!"}},{"$f":"'РАЗДЕЛ 1(АМП)'!#REF!","v":{"$error":"#REF!"}},null,490015,null,"2017-02-01"]
[null,null,{"$f":"'РАЗДЕЛ 1(АМП)'!#REF!","v":{"$error":"#REF!"}},{"$f":"'РАЗДЕЛ 1(АМП)'!#REF!","v":{"$error":"#REF!"}},{"$f":"'РАЗДЕЛ 1(АМП)'!#REF!","v":{"$error":"#REF!"}},{"$f":"'РАЗДЕЛ 1(АМП)'!#REF!","v":{"$error":"#REF!"}},null,490015,null,"2017-02-01"]
[null,null,{"$f":"'РАЗДЕЛ 1(АМП)'!#REF!","v":{"$error":"#REF!"}},{"$f":"'РАЗДЕЛ 1(АМП)'!#REF!","v":{"$error":"#REF!"}},{"$f":"'РАЗДЕЛ 1(АМП)'!#REF!","v":{"$error":"#REF!"}},{"$f":"'РАЗДЕЛ 1(АМП)'!#REF!","v":{"$error":"#REF!"}},null,490015,null,"2017-02-01"]
[null,null,{"$f":"'РАЗДЕЛ 1(АМП)'!#REF!","v":{"$error":"#REF!"}},{"$f":"'РАЗДЕЛ 1(АМП)'!#REF!","v":{"$error":"#REF!"}},{"$f":"'РАЗДЕЛ 1(АМП)'!#REF!","v":{"$error":"#REF!"}},{"$f":"'РАЗДЕЛ 1(АМП)'!#REF!","v":{"$error":"#REF!"}},null,490015,null,"2017-02-01"]
[null,null,{"$f":"'РАЗДЕЛ 1(АМП)'!#REF!","v":{"$error":"#REF!"}},{"$f":"'РАЗДЕЛ 1(АМП)'!#REF!","v":{"$error":"#REF!"}},{"$f":"'РАЗДЕЛ 1(АМП)'!#REF!","v":{"$error":"#REF!"}},{"$f":"'РАЗДЕЛ 1(АМП)'!#REF!","v":{"$error":"#REF!"}},null,490015,null,"2017-02-01"]
[null,null,{"$f":"'РАЗДЕЛ 1(АМП)'!#REF!","v":{"$error":"#REF!"}},{"$f":"'РАЗДЕЛ 1(АМП)'!#REF!","v":{"$error":"#REF!"}},{"$f":"'РАЗДЕЛ 1(АМП)'!#REF!","v":{"$error":"#REF!"}},{"$f":"'РАЗДЕЛ 1(АМП)'!#REF!","v":{"$error":"#REF!"}},null,490015,null,"2017-02-01"]
[null,null,{"$f":"'РАЗДЕЛ 1(АМП)'!#REF!","v":{"$error":"#REF!"}},{"$f":"'РАЗДЕЛ 1(АМП)'!#REF!","v":{"$error":"#REF!"}},{"$f":"'РАЗДЕЛ 1(АМП)'!#REF!","v":{"$error":"#REF!"}},{"$f":"'РАЗДЕЛ 1(АМП)'!#REF!","v":{"$error":"#REF!"}},null,490015,null,"2017-02-01"]
[null,null,{"$f":"'РАЗДЕЛ 1(АМП)'!#REF!","v":{"$error":"#REF!"}},{"$f":"'РАЗДЕЛ 1(АМП)'!#REF!","v":{"$error":"#REF!"}},{"$f":"'РАЗДЕЛ 1(АМП)'!#REF!","v":{"$error":"#REF!"}},{"$f":"'РАЗДЕЛ 1(АМП)'!#REF!","v":{"$error":"#REF!"}},null,490015,null,"2017-02-01"]
[null,null,{"$f":"'РАЗДЕЛ 1(АМП)'!#REF!","v":{"$error":"#REF!"}},{"$f":"'РАЗДЕЛ 1(АМП)'!#REF!","v":{"$error":"#REF!"}},{"$f":"'РАЗДЕЛ 1(АМП)'!#REF!","v":{"$error":"#REF!"}},{"$f":"'РАЗДЕЛ 1(АМП)'!#REF!","v":{"$error":"#REF!"}},null,490015,null,"2017-02-01"]
[null,null,{"$f":"'РАЗДЕЛ 1(АМП)'!#REF!","v":{"$error":"#REF!"}},{"$f":"'РАЗДЕЛ 1(АМП)'!#REF!","v":{"$error":"#REF!"}},{"$f":"'РАЗДЕЛ 1(АМП)'!#REF!","v":{"$error":"#REF!"}},{"$f":"'РАЗДЕЛ 1(АМП)'!#REF!","v":{"$error":"#REF!"}},null,490015,null,"2017-02-01"]
[null,null,{"$f":"'РАЗДЕЛ 1(АМП)'!#REF!","v":{"$error":"#REF!"}},{"$f":"'РАЗДЕЛ 1(АМП)'!#REF!","v":{"$error":"#REF!"}},null,{"$f":"'РАЗДЕЛ 1(АМП)'!#REF!","v":{"$error":"#REF!"}},{"$f":"'РАЗДЕЛ 1(АМП)'!#REF!","v":{"$error":"#REF!"}},490015,null,"2017-02-01"]
[null,null,{"$f":"'РАЗДЕЛ 1(АМП)'!#REF!","v":{"$error":"#REF!"}},{"$f":"'РАЗДЕЛ 1(АМП)'!#REF!","v":{"$error":"#REF!"}},{"$f":"'РАЗДЕЛ 1(АМП)'!#REF!","v":{"$error":"#REF!"}},{"$f":"'РАЗДЕЛ 1(АМП)'!#REF!","v":{"$error":"#REF!"}},null,490015,null,"2017-02-01"]
[null,null,{"$f":"'РАЗДЕЛ 1(АМП)'!#REF!","v":{"$error":"#REF!"}},{"$f":"'РАЗДЕЛ 1(АМП)'!#REF!","v":{"$error":"#REF!"}},{"$f":"'РАЗДЕЛ 1(АМП)'!#REF!","v":{"$error":"#REF!"}},{"$f":"'РАЗДЕЛ 1(АМП)'!#REF!","v":{"$error":"#REF!"}},null,490015,null,"2017-02-01"]
[null,null,{"$f":"'РАЗДЕЛ 1(АМП)'!#REF!","v":{"$error":"#REF!"}},{"$f":"'РАЗДЕЛ 1(АМП)'!#REF!","v":{"$error":"#REF!"}},{"$f":"'РАЗДЕЛ 1(АМП)'!#REF!","v":{"$error":"#REF!"}},{"$f":"'РАЗДЕЛ 1(АМП)'!#REF!","v":{"$error":"#REF!"}},null,490015,null,"2017-02-01"]
[null,null,{"$f":"'РАЗДЕЛ 1(АМП)'!#REF!","v":{"$error":"#REF!"}},{"$f":"'РАЗДЕЛ 1(АМП)'!#REF!","v":{"$error":"#REF!"}},{"$f":"'РАЗДЕЛ 1(АМП)'!#REF!","v":{"$error":"#REF!"}},{"$f":"'РАЗДЕЛ 1(АМП)'!#REF!","v":{"$error":"#REF!"}},null,490015,null,"2017-02-01"]
[null,null,{"$f":"'РАЗДЕЛ 1(АМП)'!#REF!","v":{"$error":"#REF!"}},{"$f":"'РАЗДЕЛ 1(АМП)'!#REF!","v":{"$error":"#REF!"}},{"$f":"'РАЗДЕЛ 1(АМП)'!#REF!","v":{"$error":"#REF!"}},{"$f":"'РАЗДЕЛ 1(АМП)'!#REF!","v":{"$error":"#REF!"}},null,490015,null,"2017-02-01"]
[null,null,{"$f":"'РАЗДЕЛ 1(АМП)'!#REF!","v":{"$error":"#REF!"}},{"$f":"'РАЗДЕЛ 1(АМП)'!#REF!","v":{"$error":"#REF!"}},{"$f":"'РАЗДЕЛ 1(АМП)'!#REF!","v":{"$error":"#REF!"}},{"$f":"'РАЗДЕЛ 1(АМП)'!#REF!","v":{"$error":"#REF!"}},null,490015,null,"2017-02-01"]
[null,null,{"$f":"'РАЗДЕЛ 1(АМП)'!#REF!","v":{"$error":"#REF!"}},{"$f":"'РАЗДЕЛ 1(АМП)'!#REF!","v":{"$error":"#REF!"}},{"$f":"'РАЗДЕЛ 1(АМП)'!#REF!","v":{"$error":"#REF!"}},{"$f":"'РАЗДЕЛ 1(АМП)'!#REF!","v":{"$error":"#REF!"}},null,490015,null,"2017-02-01"]
[null,null,{"$f":"'РАЗДЕЛ 1(АМП)'!#REF!","v":{"$error":"#REF!"}},{"$f":"'РАЗДЕЛ 1(АМП)'!#REF!","v":{"$error":"#REF!"}},{"$f":"'РАЗДЕЛ 1(АМП)'!#REF!","v":{"$error":"#REF!"}},{"$f":"'РАЗДЕЛ 1(АМП)'!#REF!","v":{"$error":"#REF!"}},null,490015,null,"2017-02-01"]
[null,null,{"$f":"'РАЗДЕЛ 1(АМП)'!#REF!","v":{"$error":"#REF!"}},{"$f":"'РАЗДЕЛ 1(АМП)'!#REF!","v":{"$error":"#REF!"}},{"$f":"'РАЗДЕЛ 1(АМП)'!#REF!","v":{"$error":"#REF!"}},{"$f":"'РАЗДЕЛ 1(АМП)'!#REF!","v":{"$error":"#REF!"}},null,490015,null,"2017-02-01"]
[null,null,{"$f":"'РАЗДЕЛ 1(АМП)'!#REF!","v":{"$error":"#REF!"}},{"$f":"'РАЗДЕЛ 1(АМП)'!#REF!","v":{"$error":"#REF!"}},{"$f":"'РАЗДЕЛ 1(АМП)'!#REF!","v":{"$error":"#REF!"}},{"$f":"'РАЗДЕЛ 1(АМП)'!#REF!","v":{"$error":"#REF!"}},null,490015,null,"2017-02-01"]
[null,null,{"$f":"'РАЗДЕЛ 1(АМП)'!#REF!","v":{"$error":"#REF!"}},{"$f":"'РАЗДЕЛ 1(АМП)'!#REF!","v":{"$error":"#REF!"}},{"$f":"'РАЗДЕЛ 1(АМП)'!#REF!","v":{"$error":"#REF!"}},{"$f":"'РАЗДЕЛ 1(АМП)'!#REF!","v":{"$error":"#REF!"}},null,490015,null,"2017-02-01"]
[null,null,{"$f":"'РАЗДЕЛ 1(АМП)'!#REF!","v":{"$error":"#REF!"}},{"$f":"'РАЗДЕЛ 1(АМП)'!#REF!","v":{"$error":"#REF!"}},{"$f":"'РАЗДЕЛ 1(АМП)'!#REF!","v":{"$error":"#REF!"}},{"$f":"'РАЗДЕЛ 1(АМП)'!#REF!","v":{"$error":"#REF!"}},null,490015,null,"2017-02-01"]
[null,null,{"$f":"'РАЗДЕЛ 1(АМП)'!#REF!","v":{"$error":"#REF!"}},{"$f":"'РАЗДЕЛ 1(АМП)'!#REF!","v":{"$error":"#REF!"}},{"$f":"'РАЗДЕЛ 1(АМП)'!#REF!","v":{"$error":"#REF!"}},{"$f":"'РАЗДЕЛ 1(АМП)'!#REF!","v":{"$error":"#REF!"}},null,490015,null,"2017-02-01"]
[null,null,{"$f":"'РАЗДЕЛ 1(АМП)'!#REF!","v":{"$error":"#REF!"}},{"$f":"'РАЗДЕЛ 1(АМП)'!#REF!","v":{"$error":"#REF!"}},{"$f":"'РАЗДЕЛ 1(АМП)'!#REF!","v":{"$error":"#REF!"}},{"$f":"'РАЗДЕЛ 1(АМП)'!#REF!","v":{"$error":"#REF!"}},null,490015,null,"2017-02-01"]
[null,null,{"$f":"'РАЗДЕЛ 1(АМП)'!#REF!","v":{"$error":"#REF!"}},{"$f":"'РАЗДЕЛ 1(АМП)'!#REF!","v":{"$error":"#REF!"}},{"$f":"'РАЗДЕЛ 1(АМП)'!#REF!","v":{"$error":"#REF!"}},{"$f":"'РАЗДЕЛ 1(АМП)'!#REF!","v":{"$error":"#REF!"}},null,490015,null,"2017-02-01"]
[null,null,{"$f":"'РАЗДЕЛ 1(АМП)'!#REF!","v":{"$error":"#REF!"}},{"$f":"'РАЗДЕЛ 1(АМП)'!#REF!","v":{"$error":"#REF!"}},{"$f":"'РАЗДЕЛ 1(АМП)'!#REF!","v":{"$error":"#REF!"}},{"$f":"'РАЗДЕЛ 1(АМП)'!#REF!","v":{"$error":"#REF!"}},null,490015,null,"2017-02-01"]
[null,null,{"$f":"'РАЗДЕЛ 1(АМП)'!#REF!","v":{"$error":"#REF!"}},{"$f":"'РАЗДЕЛ 1(АМП)'!#REF!","v":{"$error":"#REF!"}},{"$f":"'РАЗДЕЛ 1(АМП)'!#REF!","v":{"$error":"#REF!"}},{"$f":"'РАЗДЕЛ 1(АМП)'!#REF!","v":{"$error":"#REF!"}},null,490015,null,"2017-02-01"]
[null,null,{"$f":"'РАЗДЕЛ 1(АМП)'!#REF!","v":{"$error":"#REF!"}},{"$f":"'РАЗДЕЛ 1(АМП)'!#REF!","v":{"$error":"#REF!"}},{"$f":"'РАЗДЕЛ 1(АМП)'!#REF!","v":{"$error":"#REF!"}},{"$f":"'РАЗДЕЛ 1(АМП)'!#REF!","v":{"$error":"#REF!"}},null,490015,null,"2017-02-01"]
[null,null,{"$f":"'РАЗДЕЛ 1(АМП)'!#REF!","v":{"$error":"#REF!"}},{"$f":"'РАЗДЕЛ 1(АМП)'!#REF!","v":{"$error":"#REF!"}},{"$f":"'РАЗДЕЛ 1(АМП)'!#REF!","v":{"$error":"#REF!"}},{"$f":"'РАЗДЕЛ 1(АМП)'!#REF!","v":{"$error":"#REF!"}},null,490015,null,"2017-02-01"]
[null,null,{"$f":"'РАЗДЕЛ 1(АМП)'!#REF!","v":{"$error":"#REF!"}},{"$f":"'РАЗДЕЛ 1(АМП)'!#REF!","v":{"$error":"#REF!"}},{"$f":"'РАЗДЕЛ 1(АМП)'!#REF!","v":{"$error":"#REF!"}},{"$f":"'РАЗДЕЛ 1(АМП)'!#REF!","v":{"$error":"#REF!"}},null,490015,null,"2017-02-01"]
[null,null,{"$f":"'РАЗДЕЛ 1(АМП)'!#REF!","v":{"$error":"#REF!"}},{"$f":"'РАЗДЕЛ 1(АМП)'!#REF!","v":{"$error":"#REF!"}},{"$f":"'РАЗДЕЛ 1(АМП)'!#REF!","v":{"$error":"#REF!"}},{"$f":"'РАЗДЕЛ 1(АМП)'!#REF!","v":{"$error":"#REF!"}},null,490015,null,"2017-02-01"]
[null,null,{"$f":"'РАЗДЕЛ 1(АМП)'!#REF!","v":{"$error":"#REF!"}},{"$f":"'РАЗДЕЛ 1(АМП)'!#REF!","v":{"$error":"#REF!"}},null,{"$f":"'РАЗДЕЛ 1(АМП)'!#REF!","v":{"$error":"#REF!"}},{"$f":"'РАЗДЕЛ 1(АМП)'!#REF!","v":{"$error":"#REF!"}},490015,null,"2017-02-01"]
[null,null,{"$f":"'РАЗДЕЛ 1(АМП)'!#REF!","v":{"$error":"#REF!"}},{"$f":"'РАЗДЕЛ 1(АМП)'!#REF!","v":{"$error":"#REF!"}},{"$f":"'РАЗДЕЛ 1(АМП)'!#REF!","v":{"$error":"#REF!"}},{"$f":"'РАЗДЕЛ 1(АМП)'!#REF!","v":{"$error":"#REF!"}},null,490015,null,{"$f":"J709","v":"2017-02-01"}]
[null,null,{"$f":"'РАЗДЕЛ 1(АМП)'!#REF!","v":{"$error":"#REF!"}},{"$f":"'РАЗДЕЛ 1(АМП)'!#REF!","v":{"$error":"#REF!"}},{"$f":"'РАЗДЕЛ 1(АМП)'!#REF!","v":{"$error":"#REF!"}},{"$f":"'РАЗДЕЛ 1(АМП)'!#REF!","v":{"$error":"#REF!"}},null,490015,null,"2017-02-01"]
[null,null,{"$f":"'РАЗДЕЛ 1(АМП)'!#REF!","v":{"$error":"#REF!"}},{"$f":"'РАЗДЕЛ 1(АМП)'!#REF!","v":{"$error":"#REF!"}},{"$f":"'РАЗДЕЛ 1(АМП)'!#REF!","v":{"$error":"#REF!"}},{"$f":"'РАЗДЕЛ 1(АМП)'!#REF!","v":{"$error":"#REF!"}},null,490015,null,"2017-02-01"]
[null,null,{"$f":"'РАЗДЕЛ 1(АМП)'!#REF!","v":{"$error":"#REF!"}},{"$f":"'РАЗДЕЛ 1(АМП)'!#REF!","v":{"$error":"#REF!"}},{"$f":"'РАЗДЕЛ 1(АМП)'!#REF!","v":{"$error":"#REF!"}},{"$f":"'РАЗДЕЛ 1(АМП)'!#REF!","v":{"$error":"#REF!"}},null,490015,null,"2017-02-01"]
[null,null,{"$f":"'РАЗДЕЛ 1(АМП)'!#REF!","v":{"$error":"#REF!"}},{"$f":"'РАЗДЕЛ 1(АМП)'!#REF!","v":{"$error":"#REF!"}},{"$f":"'РАЗДЕЛ 1(АМП)'!#REF!","v":{"$error":"#REF!"}},{"$f":"'РАЗДЕЛ 1(АМП)'!#REF!","v":{"$error":"#REF!"}},null,490015,null,"2017-02-01"]
[null,null,{"$f":"'РАЗДЕЛ 1(АМП)'!#REF!","v":{"$error":"#REF!"}},{"$f":"'РАЗДЕЛ 1(АМП)'!#REF!","v":{"$error":"#REF!"}},{"$f":"'РАЗДЕЛ 1(АМП)'!#REF!","v":{"$error":"#REF!"}},{"$f":"'РАЗДЕЛ 1(АМП)'!#REF!","v":{"$error":"#REF!"}},null,490015,null,"2017-02-01"]
[null,null,{"$f":"'РАЗДЕЛ 1(АМП)'!#REF!","v":{"$error":"#REF!"}},{"$f":"'РАЗДЕЛ 1(АМП)'!#REF!","v":{"$error":"#REF!"}},{"$f":"'РАЗДЕЛ 1(АМП)'!#REF!","v":{"$error":"#REF!"}},{"$f":"'РАЗДЕЛ 1(АМП)'!#REF!","v":{"$error":"#REF!"}},null,490015,null,"2017-02-01"]
[null,null,{"$f":"'РАЗДЕЛ 1(АМП)'!#REF!","v":{"$error":"#REF!"}},{"$f":"'РАЗДЕЛ 1(АМП)'!#REF!","v":{"$error":"#REF!"}},null,{"$f":"'РАЗДЕЛ 1(АМП)'!#REF!","v":{"$error":"#REF!"}},null,490015,null,"2017-02-01"]
[null,null,{"$f":"'РАЗДЕЛ 1(АМП)'!#REF!","v":{"$error":"#REF!"}},{"$f":"'РАЗДЕЛ 1(АМП)'!#REF!","v":{"$error":"#REF!"}},{"$f":"'РАЗДЕЛ 1(АМП)'!#REF!","v":{"$error":"#REF!"}},{"$f":"'РАЗДЕЛ 1(АМП)'!#REF!","v":{"$error":"#REF!"}},null,490015,null,"2017-02-01"]
[null,null,{"$f":"'РАЗДЕЛ 1(АМП)'!#REF!","v":{"$error":"#REF!"}},{"$f":"'РАЗДЕЛ 1(АМП)'!#REF!","v":{"$error":"#REF!"}},{"$f":"'РАЗДЕЛ 1(АМП)'!#REF!","v":{"$error":"#REF!"}},{"$f":"'РАЗДЕЛ 1(АМП)'!#REF!","v":{"$error":"#REF!"}},null,490015,null,"2017-02-01"]
[null,null,{"$f":"'РАЗДЕЛ 1(АМП)'!#REF!","v":{"$error":"#REF!"}},{"$f":"'РАЗДЕЛ 1(АМП)'!#REF!","v":{"$error":"#REF!"}},{"$f":"'РАЗДЕЛ 1(АМП)'!#REF!","v":{"$error":"#REF!"}},{"$f":"'РАЗДЕЛ 1(АМП)'!#REF!","v":{"$error":"#REF!"}},null,490015,null,"2017-02-01"]
[null,null,{"$f":"'РАЗДЕЛ 1(АМП)'!#REF!","v":{"$error":"#REF!"}},{"$f":"'РАЗДЕЛ 1(АМП)'!#REF!","v":{"$error":"#REF!"}},{"$f":"'РАЗДЕЛ 1(АМП)'!#REF!","v":{"$error":"#REF!"}},{"$f":"'РАЗДЕЛ 1(АМП)'!#REF!","v":{"$error":"#REF!"}},null,490015,null,"2017-02-01"]
[null,null,{"$f":"'РАЗДЕЛ 1(АМП)'!#REF!","v":{"$error":"#REF!"}},{"$f":"'РАЗДЕЛ 1(АМП)'!#REF!","v":{"$error":"#REF!"}},{"$f":"'РАЗДЕЛ 1(АМП)'!#REF!","v":{"$error":"#REF!"}},{"$f":"'РАЗДЕЛ 1(АМП)'!#REF!","v":{"$error":"#REF!"}},null,490015,null,"2017-02-01"]
[null,null,{"$f":"'РАЗДЕЛ 1(АМП)'!#REF!","v":{"$error":"#REF!"}},{"$f":"'РАЗДЕЛ 1(АМП)'!#REF!","v":{"$error":"#REF!"}},{"$f":"'РАЗДЕЛ 1(АМП)'!#REF!","v":{"$error":"#REF!"}},{"$f":"'РАЗДЕЛ 1(АМП)'!#REF!","v":{"$error":"#REF!"}},null,490015,null,"2017-02-01"]
[null,null,{"$f":"'РАЗДЕЛ 1(АМП)'!#REF!","v":{"$error":"#REF!"}},{"$f":"'РАЗДЕЛ 1(АМП)'!#REF!","v":{"$error":"#REF!"}},{"$f":"'РАЗДЕЛ 1(АМП)'!#REF!","v":{"$error":"#REF!"}},{"$f":"'РАЗДЕЛ 1(АМП)'!#REF!","v":{"$error":"#REF!"}},null,490015,null,"2017-02-01"]
[null,null,{"$f":"'РАЗДЕЛ 1(АМП)'!#REF!","v":{"$error":"#REF!"}},{"$f":"'РАЗДЕЛ 1(АМП)'!#REF!","v":{"$error":"#REF!"}},{"$f":"'РАЗДЕЛ 1(АМП)'!#REF!","v":{"$error":"#REF!"}},{"$f":"'РАЗДЕЛ 1(АМП)'!#REF!","v":{"$error":"#REF!"}},null,490015,null,"2017-02-01"]
[null,null,{"$f":"'РАЗДЕЛ 1(АМП)'!#REF!","v":{"$error":"#REF!"}},{"$f":"'РАЗДЕЛ 1(АМП)'!#REF!","v":{"$error":"#REF!"}},{"$f":"'РАЗДЕЛ 1(АМП)'!#REF!","v":{"$error":"#REF!"}},{"$f":"'РАЗДЕЛ 1(АМП)'!#REF!","v":{"$error":"#REF!"}},null,490015,null,"2017-02-01"]
[null,null,{"$f":"'РАЗДЕЛ 1(АМП)'!#REF!","v":{"$error":"#REF!"}},{"$f":"'РАЗДЕЛ 1(АМП)'!#REF!","v":{"$error":"#REF!"}},{"$f":"'РАЗДЕЛ 1(АМП)'!#REF!","v":{"$error":"#REF!"}},{"$f":"'РАЗДЕЛ 1(АМП)'!#REF!","v":{"$error":"#REF!"}},null,490015,null,"2017-02-01"]
[null,null,{"$f":"'РАЗДЕЛ 1(АМП)'!#REF!","v":{"$error":"#REF!"}},{"$f":"'РАЗДЕЛ 1(АМП)'!#REF!","v":{"$error":"#REF!"}},{"$f":"'РАЗДЕЛ 1(АМП)'!#REF!","v":{"$error":"#REF!"}},{"$f":"'РАЗДЕЛ 1(АМП)'!#REF!","v":{"$error":"#REF!"}},null,490015,null,"2017-02-01"]
[null,null,{"$f":"'РАЗДЕЛ 1(АМП)'!#REF!","v":{"$error":"#REF!"}},{"$f":"'РАЗДЕЛ 1(АМП)'!#REF!","v":{"$error":"#REF!"}},{"$f":"'РАЗДЕЛ 1(АМП)'!#REF!","v":{"$error":"#REF!"}},{"$f":"'РАЗДЕЛ 1(АМП)'!#REF!","v":{"$error":"#REF!"}},null,490015,null,"2017-02-01"]
[null,null,{"$f":"'РАЗДЕЛ 1(АМП)'!#REF!","v":{"$error":"#REF!"}},{"$f":"'РАЗДЕЛ 1(АМП)'!#REF!","v":{"$error":"#REF!"}},{"$f":"'РАЗДЕЛ 1(АМП)'!#REF!","v":{"$error":"#REF!"}},{"$f":"'РАЗДЕЛ 1(АМП)'!#REF!","v":{"$error":"#REF!"}},null,490015,null,"2017-02-01"]
[null,null,{"$f":"'РАЗДЕЛ 1(АМП)'!#REF!","v":{"$error":"#REF!"}},{"$f":"'РАЗДЕЛ 1(АМП)'!#REF!","v":{"$error":"#REF!"}},{"$f":"'РАЗДЕЛ 1(АМП)'!#REF!","v":{"$error":"#REF!"}},{"$f":"'РАЗДЕЛ 1(АМП)'!#REF!","v":{"$error":"#REF!"}},null,490015,null,"2017-02-01"]
[null,null,{"$f":"'РАЗДЕЛ 1(АМП)'!#REF!","v":{"$error":"#REF!"}},{"$f":"'РАЗДЕЛ 1(АМП)'!#REF!","v":{"$error":"#REF!"}},null,{"$f":"'РАЗДЕЛ 1(АМП)'!#REF!","v":{"$error":"#REF!"}},null,490015,null,"2017-02-01"]
[null,null,{"$f":"'РАЗДЕЛ 1(АМП)'!#REF!","v":{"$error":"#REF!"}},{"$f":"'РАЗДЕЛ 1(АМП)'!#REF!","v":{"$error":"#REF!"}},{"$f":"'РАЗДЕЛ 1(АМП)'!#REF!","v":{"$error":"#REF!"}},{"$f":"'РАЗДЕЛ 1(АМП)'!#REF!","v":{"$error":"#REF!"}},{"$f":"'РАЗДЕЛ 1(АМП)'!#REF!","v":{"$error":"#REF!"}},490015,null,"2017-02-01"]
[null,null,{"$f":"'РАЗДЕЛ 1(АМП)'!#REF!","v":{"$error":"#REF!"}},{"$f":"'РАЗДЕЛ 1(АМП)'!#REF!","v":{"$error":"#REF!"}},{"$f":"'РАЗДЕЛ 1(АМП)'!#REF!","v":{"$error":"#REF!"}},{"$f":"'РАЗДЕЛ 1(АМП)'!#REF!","v":{"$error":"#REF!"}},null,490015,null,"2017-02-01"]
[null,null,{"$f":"'РАЗДЕЛ 1(АМП)'!#REF!","v":{"$error":"#REF!"}},{"$f":"'РАЗДЕЛ 1(АМП)'!#REF!","v":{"$error":"#REF!"}},{"$f":"'РАЗДЕЛ 1(АМП)'!#REF!","v":{"$error":"#REF!"}},{"$f":"'РАЗДЕЛ 1(АМП)'!#REF!","v":{"$error":"#REF!"}},null,490015,null,"2017-02-01"]
[null,null,{"$f":"'РАЗДЕЛ 1(АМП)'!#REF!","v":{"$error":"#REF!"}},{"$f":"'РАЗДЕЛ 1(АМП)'!#REF!","v":{"$error":"#REF!"}},{"$f":"'РАЗДЕЛ 1(АМП)'!#REF!","v":{"$error":"#REF!"}},{"$f":"'РАЗДЕЛ 1(АМП)'!#REF!","v":{"$error":"#REF!"}},null,490015,null,"2017-02-01"]
[null,null,{"$f":"'РАЗДЕЛ 1(АМП)'!#REF!","v":{"$error":"#REF!"}},{"$f":"'РАЗДЕЛ 1(АМП)'!#REF!","v":{"$error":"#REF!"}},{"$f":"'РАЗДЕЛ 1(АМП)'!#REF!","v":{"$error":"#REF!"}},{"$f":"'РАЗДЕЛ 1(АМП)'!#REF!","v":{"$error":"#REF!"}},null,490015,null,"2017-02-01"]
[null,null,{"$f":"'РАЗДЕЛ 1(АМП)'!#REF!","v":{"$error":"#REF!"}},{"$f":"'РАЗДЕЛ 1(АМП)'!#REF!","v":{"$error":"#REF!"}},{"$f":"'РАЗДЕЛ 1(АМП)'!#REF!","v":{"$error":"#REF!"}},{"$f":"'РАЗДЕЛ 1(АМП)'!#REF!","v":{"$error":"#REF!"}},null,{"$f":"H737","v":490015},null,"2017-02-01"]
[null,null,{"$f":"'РАЗДЕЛ 1(АМП)'!#REF!","v":{"$error":"#REF!"}},{"$f":"'РАЗДЕЛ 1(АМП)'!#REF!","v":{"$error":"#REF!"}},{"$f":"'РАЗДЕЛ 1(АМП)'!#REF!","v":{"$error":"#REF!"}},{"$f":"'РАЗДЕЛ 1(АМП)'!#REF!","v":{"$error":"#REF!"}},null,490015,null,"2017-02-01"]
[null,null,{"$f":"#REF!","v":{"$error":"#REF!"}},{"$f":"#REF!","v":{"$error":"#REF!"}},{"$f":"#REF!","v":{"$error":"#REF!"}},{"$f":"#REF!","v":{"$error":"#REF!"}},null,490015,{"$f":"#REF!","v":{"$error":"#REF!"}},"2017-02-01"]
[null,null,{"$f":"#REF!","v":{"$error":"#REF!"}},{"$f":"#REF!","v":{"$error":"#REF!"}},{"$f":"#REF!","v":{"$error":"#REF!"}},{"$f":"#REF!","v":{"$error":"#REF!"}},null,490015,{"$f":"#REF!","v":{"$error":"#REF!"}},"2017-02-01"]
[null,null,{"$f":"#REF!","v":{"$error":"#REF!"}},{"$f":"#REF!","v":{"$error":"#REF!"}},{"$f":"#REF!","v":{"$error":"#REF!"}},{"$f":"#REF!","v":{"$error":"#REF!"}},null,490015,{"$f":"#REF!","v":{"$error":"#REF!"}},"2017-02-01"]
[null,null,{"$f":"#REF!","v":{"$error":"#REF!"}},{"$f":"#REF!","v":{"$error":"#REF!"}},{"$f":"#REF!","v":{"$error":"#REF!"}},{"$f":"#REF!","v":{"$error":"#REF!"}},null,490015,{"$f":"#REF!","v":{"$error":"#REF!"}},"2017-02-01"]
[null,null,{"$f":"#REF!","v":{"$error":"#REF!"}},{"$f":"#REF!","v":{"$error":"#REF!"}},{"$f":"#REF!","v":{"$error":"#REF!"}},{"$f":"#REF!","v":{"$error":"#REF!"}},null,490015,{"$f":"#REF!","v":{"$error":"#REF!"}},"2017-02-01"]
[null,null,{"$f":"#REF!","v":{"$error":"#REF!"}},{"$f":"#REF!","v":{"$error":"#REF!"}},{"$f":"#REF!","v":{"$error":"#REF!"}},{"$f":"#REF!","v":{"$error":"#REF!"}},null,490015,{"$f":"#REF!","v":{"$error":"#REF!"}},"2017-02-01"]
[null,null,{"$f":"#REF!","v":{"$error":"#REF!"}},{"$f":"#REF!","v":{"$error":"#REF!"}},{"$f":"#REF!","v":{"$error":"#REF!"}},{"$f":"#REF!","v":{"$error":"#REF!"}},null,490015,{"$f":"#REF!","v":{"$error":"#REF!"}},"2017-02-01"]
[null,null,{"$f":"#REF!","v":{"$error":"#REF!"}},{"$f":"#REF!","v":{"$error":"#REF!"}},{"$f":"#REF!","v":{"$error":"#REF!"}},{"$f":"#REF!","v":{"$error":"#REF!"}},null,490015,{"$f":"#REF!","v":{"$error":"#REF!"}},"2017-02-01"]
[null,null,{"$f":"#REF!","v":{"$error":"#REF!"}},{"$f":"#REF!","v":{"$error":"#REF!"}},{"$f":"#REF!","v":{"$error":"#REF!"}},{"$f":"#REF!","v":{"$error":"#REF!"}},null,490015,{"$f":"#REF!","v":{"$error":"#REF!"}},"2017-02-01"]
[null,null,{"$f":"#REF!","v":{"$error":"#REF!"}},{"$f":"#REF!","v":{"$error":"#REF!"}},{"$f":"#REF!","v":{"$error":"#REF!"}},{"$f":"#REF!","v":{"$error":"#REF!"}},null,490015,{"$f":"#REF!","v":{"$error":"#REF!"}},"2017-02-01"]
[null,null,{"$f":"#REF!","v":{"$error":"#REF!"}},{"$f":"#REF!","v":{"$error":"#REF!"}},{"$f":"#REF!","v":{"$error":"#REF!"}},{"$f":"#REF!","v":{"$error":"#REF!"}},null,490015,{"$f":"#REF!","v":{"$error":"#REF!"}},"2017-02-01"]
[null,null,{"$f":"#REF!","v":{"$error":"#REF!"}},{"$f":"#REF!","v":{"$error":"#REF!"}},{"$f":"#REF!","v":{"$error":"#REF!"}},{"$f":"#REF!","v":{"$error":"#REF!"}},null,490015,{"$f":"#REF!","v":{"$error":"#REF!"}},"2017-02-01"]
[null,null,{"$f":"#REF!","v":{"$error":"#REF!"}},{"$f":"#REF!","v":{"$error":"#REF!"}},{"$f":"#REF!","v":{"$error":"#REF!"}},{"$f":"#REF!","v":{"$error":"#REF!"}},null,490015,{"$f":"#REF!","v":{"$error":"#REF!"}},"2017-02-01"]
[null,null,{"$f":"#REF!","v":{"$error":"#REF!"}},{"$f":"#REF!","v":{"$error":"#REF!"}},{"$f":"#REF!","v":{"$error":"#REF!"}},{"$f":"#REF!","v":{"$error":"#REF!"}},null,490015,{"$f":"#REF!","v":{"$error":"#REF!"}},"2017-02-01"]
[null,null,{"$f":"#REF!","v":{"$error":"#REF!"}},{"$f":"#REF!","v":{"$error":"#REF!"}},{"$f":"#REF!","v":{"$error":"#REF!"}},{"$f":"#REF!","v":{"$error":"#REF!"}},null,490015,{"$f":"#REF!","v":{"$error":"#REF!"}},"2017-02-01"]
[null,null,{"$f":"#REF!","v":{"$error":"#REF!"}},{"$f":"#REF!","v":{"$error":"#REF!"}},{"$f":"#REF!","v":{"$error":"#REF!"}},{"$f":"#REF!","v":{"$error":"#REF!"}},null,490015,{"$f":"#REF!","v":{"$error":"#REF!"}},"2017-02-01"]
[null,null,{"$f":"#REF!","v":{"$error":"#REF!"}},{"$f":"#REF!","v":{"$error":"#REF!"}},{"$f":"#REF!","v":{"$error":"#REF!"}},{"$f":"#REF!","v":{"$error":"#REF!"}},null,490015,{"$f":"#REF!","v":{"$error":"#REF!"}},"2017-02-01"]
[null,null,{"$f":"#REF!","v":{"$error":"#REF!"}},{"$f":"#REF!","v":{"$error":"#REF!"}},{"$f":"#REF!","v":{"$error":"#REF!"}},{"$f":"#REF!","v":{"$error":"#REF!"}},null,490015,{"$f":"#REF!","v":{"$error":"#REF!"}},"2017-02-01"]
[null,null,{"$f":"#REF!","v":{"$error":"#REF!"}},{"$f":"#REF!","v":{"$error":"#REF!"}},{"$f":"#REF!","v":{"$error":"#REF!"}},{"$f":"#REF!","v":{"$error":"#REF!"}},null,490015,{"$f":"#REF!","v":{"$error":"#REF!"}},"2017-02-01"]
[null,null,{"$f":"#REF!","v":{"$error":"#REF!"}},{"$f":"#REF!","v":{"$error":"#REF!"}},{"$f":"#REF!","v":{"$error":"#REF!"}},{"$f":"#REF!","v":{"$error":"#REF!"}},null,490015,{"$f":"#REF!","v":{"$error":"#REF!"}},"2017-02-01"]
[null,null,{"$f":"#REF!","v":{"$error":"#REF!"}},{"$f":"#REF!","v":{"$error":"#REF!"}},{"$f":"#REF!","v":{"$error":"#REF!"}},{"$f":"#REF!","v":{"$error":"#REF!"}},null,490015,{"$f":"#REF!","v":{"$error":"#REF!"}},"2017-02-01"]
[null,null,{"$f":"#REF!","v":{"$error":"#REF!"}},{"$f":"#REF!","v":{"$error":"#REF!"}},{"$f":"#REF!","v":{"$error":"#REF!"}},{"$f":"#REF!","v":{"$error":"#REF!"}},null,490015,{"$f":"#REF!","v":{"$error":"#REF!"}},"2017-02-01"]
[null,null,{"$f":"#REF!","v":{"$error":"#REF!"}},{"$f":"#REF!","v":{"$error":"#REF!"}},{"$f":"#REF!","v":{"$error":"#REF!"}},{"$f":"#REF!","v":{"$error":"#REF!"}},null,490015,{"$f":"#REF!","v":{"$error":"#REF!"}},"2017-02-01"]
[null,null,{"$f":"#REF!","v":{"$error":"#REF!"}},{"$f":"#REF!","v":{"$error":"#REF!"}},{"$f":"#REF!","v":{"$error":"#REF!"}},{"$f":"#REF!","v":{"$error":"#REF!"}},null,490015,{"$f":"#REF!","v":{"$error":"#REF!"}},"2017-02-01"]
[null,null,{"$f":"#REF!","v":{"$error":"#REF!"}},{"$f":"#REF!","v":{"$error":"#REF!"}},{"$f":"#REF!","v":{"$error":"#REF!"}},{"$f":"#REF!","v":{"$error":"#REF!"}},null,490015,{"$f":"#REF!","v":{"$error":"#REF!"}},"2017-02-01"]
[null,null,{"$f":"#REF!","v":{"$error":"#REF!"}},{"$f":"#REF!","v":{"$error":"#REF!"}},{"$f":"#REF!","v":{"$error":"#REF!"}},{"$f":"#REF!","v":{"$error":"#REF!"}},null,490015,{"$f":"#REF!","v":{"$error":"#REF!"}},"2017-02-01"]
[null,null,{"$f":"#REF!","v":{"$error":"#REF!"}},{"$f":"#REF!","v":{"$error":"#REF!"}},{"$f":"#REF!","v":{"$error":"#REF!"}},{"$f":"#REF!","v":{"$error":"#REF!"}},null,490015,{"$f":"#REF!","v":{"$error":"#REF!"}},"2017-02-01"]
[null,null,{"$f":"#REF!","v":{"$error":"#REF!"}},{"$f":"#REF!","v":{"$error":"#REF!"}},{"$f":"#REF!","v":{"$error":"#REF!"}},{"$f":"#REF!","v":{"$error":"#REF!"}},null,490015,{"$f":"#REF!","v":{"$error":"#REF!"}},"2017-02-01"]
[null,null,{"$f":"#REF!","v":{"$error":"#REF!"}},{"$f":"#REF!","v":{"$error":"#REF!"}},{"$f":"#REF!","v":{"$error":"#REF!"}},{"$f":"#REF!","v":{"$error":"#REF!"}},null,490015,{"$f":"#REF!","v":{"$error":"#REF!"}},"2017-02-01"]
[null,null,{"$f":"#REF!","v":{"$error":"#REF!"}},{"$f":"#REF!","v":{"$error":"#REF!"}},{"$f":"#REF!","v":{"$error":"#REF!"}},{"$f":"#REF!","v":{"$error":"#REF!"}},null,490015,{"$f":"#REF!","v":{"$error":"#REF!"}},"2017-02-01"]
[null,null,{"$f":"#REF!","v":{"$error":"#REF!"}},{"$f":"#REF!","v":{"$error":"#REF!"}},{"$f":"#REF!","v":{"$error":"#REF!"}},{"$f":"#REF!","v":{"$error":"#REF!"}},null,490015,{"$f":"#REF!","v":{"$error":"#REF!"}},"2017-02-01"]
[null,null,{"$f":"#REF!","v":{"$error":"#REF!"}},{"$f":"#REF!","v":{"$error":"#REF!"}},{"$f":"#REF!","v":{"$error":"#REF!"}},{"$f":"#REF!","v":{"$error":"#REF!"}},null,490015,{"$f":"#REF!","v":{"$error":"#REF!"}},"2017-02-01"]
[null,null,{"$f":"#REF!","v":{"$error":"#REF!"}},{"$f":"#REF!","v":{"$error":"#REF!"}},{"$f":"#REF!","v":{"$error":"#REF!"}},{"$f":"#REF!","v":{"$error":"#REF!"}},null,490015,{"$f":"#REF!","v":{"$error":"#REF!"}},"2017-02-01"]
[null,null,{"$f":"#REF!","v":{"$error":"#REF!"}},{"$f":"#REF!","v":{"$error":"#REF!"}},{"$f":"#REF!","v":{"$error":"#REF!"}},{"$f":"#REF!","v":{"$error":"#REF!"}},null,490015,{"$f":"#REF!","v":{"$error":"#REF!"}},"2017-02-01"]
[null,null,{"$f":"#REF!","v":{"$error":"#REF!"}},{"$f":"#REF!","v":{"$error":"#REF!"}},{"$f":"#REF!","v":{"$error":"#REF!"}},{"$f":"#REF!","v":{"$error":"#REF!"}},null,490015,{"$f":"#REF!","v":{"$error":"#REF!"}},"2017-02-01"]
[null,null,{"$f":"#REF!","v":{"$error":"#REF!"}},{"$f":"#REF!","v":{"$error":"#REF!"}},{"$f":"#REF!","v":{"$error":"#REF!"}},{"$f":"#REF!","v":{"$error":"#REF!"}},null,490015,{"$f":"#REF!","v":{"$error":"#REF!"}},"2017-02-01"]
[null,null,{"$f":"'РАЗДЕЛ 1(АМП)'!#REF!","v":{"$error":"#REF!"}},{"$f":"'РАЗДЕЛ 1(АМП)'!#REF!","v":{"$error":"#REF!"}},{"$f":"'РАЗДЕЛ 1(АМП)'!#REF!","v":{"$error":"#REF!"}},{"$f":"'РАЗДЕЛ 1(АМП)'!#REF!","v":{"$error":"#REF!"}},null,490016,null,{"$f":"J764","v":"2017-02-01"}]
[null,null,{"$f":"'РАЗДЕЛ 1(АМП)'!#REF!","v":{"$error":"#REF!"}},{"$f":"'РАЗДЕЛ 1(АМП)'!#REF!","v":{"$error":"#REF!"}},{"$f":"'РАЗДЕЛ 1(АМП)'!#REF!","v":{"$error":"#REF!"}},{"$f":"'РАЗДЕЛ 1(АМП)'!#REF!","v":{"$error":"#REF!"}},null,{"$f":"H776","v":490016},null,"2017-02-01"]
[null,null,{"$f":"'РАЗДЕЛ 1(АМП)'!#REF!","v":{"$error":"#REF!"}},{"$f":"'РАЗДЕЛ 1(АМП)'!#REF!","v":{"$error":"#REF!"}},{"$f":"'РАЗДЕЛ 1(АМП)'!#REF!","v":{"$error":"#REF!"}},{"$f":"'РАЗДЕЛ 1(АМП)'!#REF!","v":{"$error":"#REF!"}},null,{"$f":"H777","v":490016},null,"2017-02-01"]
[null,null,{"$f":"'РАЗДЕЛ 1(АМП)'!#REF!","v":{"$error":"#REF!"}},{"$f":"'РАЗДЕЛ 1(АМП)'!#REF!","v":{"$error":"#REF!"}},{"$f":"'РАЗДЕЛ 1(АМП)'!#REF!","v":{"$error":"#REF!"}},{"$f":"'РАЗДЕЛ 1(АМП)'!#REF!","v":{"$error":"#REF!"}},null,{"$f":"H778","v":490016},null,"2017-02-01"]
[null,null,{"$f":"'РАЗДЕЛ 1(АМП)'!#REF!","v":{"$error":"#REF!"}},{"$f":"'РАЗДЕЛ 1(АМП)'!#REF!","v":{"$error":"#REF!"}},{"$f":"'РАЗДЕЛ 1(АМП)'!#REF!","v":{"$error":"#REF!"}},{"$f":"'РАЗДЕЛ 1(АМП)'!#REF!","v":{"$error":"#REF!"}},null,{"$f":"H779","v":490016},null,"2017-02-01"]
[null,null,{"$f":"'РАЗДЕЛ 1(АМП)'!#REF!","v":{"$error":"#REF!"}},{"$f":"'РАЗДЕЛ 1(АМП)'!#REF!","v":{"$error":"#REF!"}},null,{"$f":"'РАЗДЕЛ 1(АМП)'!#REF!","v":{"$error":"#REF!"}},{"$f":"'РАЗДЕЛ 1(АМП)'!#REF!","v":{"$error":"#REF!"}},490016,null,{"$f":"J780","v":"2017-02-01"}]
[null,null,{"$f":"'РАЗДЕЛ 1(АМП)'!#REF!","v":{"$error":"#REF!"}},{"$f":"'РАЗДЕЛ 1(АМП)'!#REF!","v":{"$error":"#REF!"}},{"$f":"'РАЗДЕЛ 1(АМП)'!#REF!","v":{"$error":"#REF!"}},{"$f":"'РАЗДЕЛ 1(АМП)'!#REF!","v":{"$error":"#REF!"}},null,490016,null,"2017-02-01"]
[null,null,{"$f":"'РАЗДЕЛ 1(АМП)'!#REF!","v":{"$error":"#REF!"}},{"$f":"'РАЗДЕЛ 1(АМП)'!#REF!","v":{"$error":"#REF!"}},{"$f":"'РАЗДЕЛ 1(АМП)'!#REF!","v":{"$error":"#REF!"}},{"$f":"'РАЗДЕЛ 1(АМП)'!#REF!","v":{"$error":"#REF!"}},null,490016,null,"2017-02-01"]
[null,null,{"$f":"'РАЗДЕЛ 1(АМП)'!#REF!","v":{"$error":"#REF!"}},{"$f":"'РАЗДЕЛ 1(АМП)'!#REF!","v":{"$error":"#REF!"}},{"$f":"'РАЗДЕЛ 1(АМП)'!#REF!","v":{"$error":"#REF!"}},{"$f":"'РАЗДЕЛ 1(АМП)'!#REF!","v":{"$error":"#REF!"}},null,490016,null,"2017-02-01"]
[null,null,{"$f":"'РАЗДЕЛ 1(АМП)'!#REF!","v":{"$error":"#REF!"}},{"$f":"'РАЗДЕЛ 1(АМП)'!#REF!","v":{"$error":"#REF!"}},{"$f":"'РАЗДЕЛ 1(АМП)'!#REF!","v":{"$error":"#REF!"}},{"$f":"'РАЗДЕЛ 1(АМП)'!#REF!","v":{"$error":"#REF!"}},null,490016,null,"2017-02-01"]
[null,null,{"$f":"'РАЗДЕЛ 1(АМП)'!#REF!","v":{"$error":"#REF!"}},{"$f":"'РАЗДЕЛ 1(АМП)'!#REF!","v":{"$error":"#REF!"}},{"$f":"'РАЗДЕЛ 1(АМП)'!#REF!","v":{"$error":"#REF!"}},{"$f":"'РАЗДЕЛ 1(АМП)'!#REF!","v":{"$error":"#REF!"}},null,490016,null,"2017-02-01"]
[null,null,{"$f":"'РАЗДЕЛ 1(АМП)'!#REF!","v":{"$error":"#REF!"}},{"$f":"'РАЗДЕЛ 1(АМП)'!#REF!","v":{"$error":"#REF!"}},{"$f":"'РАЗДЕЛ 1(АМП)'!#REF!","v":{"$error":"#REF!"}},{"$f":"'РАЗДЕЛ 1(АМП)'!#REF!","v":{"$error":"#REF!"}},null,490016,null,"2017-02-01"]
[null,null,{"$f":"'РАЗДЕЛ 1(АМП)'!#REF!","v":{"$error":"#REF!"}},{"$f":"'РАЗДЕЛ 1(АМП)'!#REF!","v":{"$error":"#REF!"}},{"$f":"'РАЗДЕЛ 1(АМП)'!#REF!","v":{"$error":"#REF!"}},{"$f":"'РАЗДЕЛ 1(АМП)'!#REF!","v":{"$error":"#REF!"}},null,490016,null,"2017-02-01"]
[null,null,{"$f":"'РАЗДЕЛ 1(АМП)'!#REF!","v":{"$error":"#REF!"}},{"$f":"'РАЗДЕЛ 1(АМП)'!#REF!","v":{"$error":"#REF!"}},{"$f":"'РАЗДЕЛ 1(АМП)'!#REF!","v":{"$error":"#REF!"}},{"$f":"'РАЗДЕЛ 1(АМП)'!#REF!","v":{"$error":"#REF!"}},null,490016,null,"2017-02-01"]
[null,null,{"$f":"'РАЗДЕЛ 1(АМП)'!#REF!","v":{"$error":"#REF!"}},{"$f":"'РАЗДЕЛ 1(АМП)'!#REF!","v":{"$error":"#REF!"}},{"$f":"'РАЗДЕЛ 1(АМП)'!#REF!","v":{"$error":"#REF!"}},{"$f":"'РАЗДЕЛ 1(АМП)'!#REF!","v":{"$error":"#REF!"}},null,490016,null,"2017-02-01"]
[null,null,{"$f":"'РАЗДЕЛ 1(АМП)'!#REF!","v":{"$error":"#REF!"}},{"$f":"'РАЗДЕЛ 1(АМП)'!#REF!","v":{"$error":"#REF!"}},{"$f":"'РАЗДЕЛ 1(АМП)'!#REF!","v":{"$error":"#REF!"}},{"$f":"'РАЗДЕЛ 1(АМП)'!#REF!","v":{"$error":"#REF!"}},null,490016,null,"2017-02-01"]
[null,null,{"$f":"'РАЗДЕЛ 1(АМП)'!#REF!","v":{"$error":"#REF!"}},{"$f":"'РАЗДЕЛ 1(АМП)'!#REF!","v":{"$error":"#REF!"}},{"$f":"'РАЗДЕЛ 1(АМП)'!#REF!","v":{"$error":"#REF!"}},{"$f":"'РАЗДЕЛ 1(АМП)'!#REF!","v":{"$error":"#REF!"}},null,490016,null,"2017-02-01"]
[null,null,{"$f":"'РАЗДЕЛ 1(АМП)'!#REF!","v":{"$error":"#REF!"}},{"$f":"'РАЗДЕЛ 1(АМП)'!#REF!","v":{"$error":"#REF!"}},{"$f":"'РАЗДЕЛ 1(АМП)'!#REF!","v":{"$error":"#REF!"}},{"$f":"'РАЗДЕЛ 1(АМП)'!#REF!","v":{"$error":"#REF!"}},null,490016,null,"2017-02-01"]
[null,null,{"$f":"'РАЗДЕЛ 1(АМП)'!#REF!","v":{"$error":"#REF!"}},{"$f":"'РАЗДЕЛ 1(АМП)'!#REF!","v":{"$error":"#REF!"}},null,{"$f":"'РАЗДЕЛ 1(АМП)'!#REF!","v":{"$error":"#REF!"}},{"$f":"'РАЗДЕЛ 1(АМП)'!#REF!","v":{"$error":"#REF!"}},490016,null,"2017-02-01"]
[null,null,{"$f":"'РАЗДЕЛ 1(АМП)'!#REF!","v":{"$error":"#REF!"}},{"$f":"'РАЗДЕЛ 1(АМП)'!#REF!","v":{"$error":"#REF!"}},{"$f":"'РАЗДЕЛ 1(АМП)'!#REF!","v":{"$error":"#REF!"}},{"$f":"'РАЗДЕЛ 1(АМП)'!#REF!","v":{"$error":"#REF!"}},null,490016,null,"2017-02-01"]
[null,null,{"$f":"'РАЗДЕЛ 1(АМП)'!#REF!","v":{"$error":"#REF!"}},{"$f":"'РАЗДЕЛ 1(АМП)'!#REF!","v":{"$error":"#REF!"}},{"$f":"'РАЗДЕЛ 1(АМП)'!#REF!","v":{"$error":"#REF!"}},{"$f":"'РАЗДЕЛ 1(АМП)'!#REF!","v":{"$error":"#REF!"}},null,490016,null,"2017-02-01"]
[null,null,{"$f":"'РАЗДЕЛ 1(АМП)'!#REF!","v":{"$error":"#REF!"}},{"$f":"'РАЗДЕЛ 1(АМП)'!#REF!","v":{"$error":"#REF!"}},{"$f":"'РАЗДЕЛ 1(АМП)'!#REF!","v":{"$error":"#REF!"}},{"$f":"'РАЗДЕЛ 1(АМП)'!#REF!","v":{"$error":"#REF!"}},null,490016,null,"2017-02-01"]
[null,null,{"$f":"'РАЗДЕЛ 1(АМП)'!#REF!","v":{"$error":"#REF!"}},{"$f":"'РАЗДЕЛ 1(АМП)'!#REF!","v":{"$error":"#REF!"}},{"$f":"'РАЗДЕЛ 1(АМП)'!#REF!","v":{"$error":"#REF!"}},{"$f":"'РАЗДЕЛ 1(АМП)'!#REF!","v":{"$error":"#REF!"}},null,490016,null,"2017-02-01"]
[null,null,{"$f":"'РАЗДЕЛ 1(АМП)'!#REF!","v":{"$error":"#REF!"}},{"$f":"'РАЗДЕЛ 1(АМП)'!#REF!","v":{"$error":"#REF!"}},{"$f":"'РАЗДЕЛ 1(АМП)'!#REF!","v":{"$error":"#REF!"}},{"$f":"'РАЗДЕЛ 1(АМП)'!#REF!","v":{"$error":"#REF!"}},null,490016,null,"2017-02-01"]
[null,null,{"$f":"'РАЗДЕЛ 1(АМП)'!#REF!","v":{"$error":"#REF!"}},{"$f":"'РАЗДЕЛ 1(АМП)'!#REF!","v":{"$error":"#REF!"}},{"$f":"'РАЗДЕЛ 1(АМП)'!#REF!","v":{"$error":"#REF!"}},{"$f":"'РАЗДЕЛ 1(АМП)'!#REF!","v":{"$error":"#REF!"}},null,490016,null,"2017-02-01"]
[null,null,{"$f":"'РАЗДЕЛ 1(АМП)'!#REF!","v":{"$error":"#REF!"}},{"$f":"'РАЗДЕЛ 1(АМП)'!#REF!","v":{"$error":"#REF!"}},{"$f":"'РАЗДЕЛ 1(АМП)'!#REF!","v":{"$error":"#REF!"}},{"$f":"'РАЗДЕЛ 1(АМП)'!#REF!","v":{"$error":"#REF!"}},null,490016,null,"2017-02-01"]
[null,null,{"$f":"'РАЗДЕЛ 1(АМП)'!#REF!","v":{"$error":"#REF!"}},{"$f":"'РАЗДЕЛ 1(АМП)'!#REF!","v":{"$error":"#REF!"}},{"$f":"'РАЗДЕЛ 1(АМП)'!#REF!","v":{"$error":"#REF!"}},{"$f":"'РАЗДЕЛ 1(АМП)'!#REF!","v":{"$error":"#REF!"}},null,490016,null,"2017-02-01"]
[null,null,{"$f":"'РАЗДЕЛ 1(АМП)'!#REF!","v":{"$error":"#REF!"}},{"$f":"'РАЗДЕЛ 1(АМП)'!#REF!","v":{"$error":"#REF!"}},{"$f":"'РАЗДЕЛ 1(АМП)'!#REF!","v":{"$error":"#REF!"}},{"$f":"'РАЗДЕЛ 1(АМП)'!#REF!","v":{"$error":"#REF!"}},null,490016,null,"2017-02-01"]
[null,null,{"$f":"'РАЗДЕЛ 1(АМП)'!#REF!","v":{"$error":"#REF!"}},{"$f":"'РАЗДЕЛ 1(АМП)'!#REF!","v":{"$error":"#REF!"}},{"$f":"'РАЗДЕЛ 1(АМП)'!#REF!","v":{"$error":"#REF!"}},{"$f":"'РАЗДЕЛ 1(АМП)'!#REF!","v":{"$error":"#REF!"}},null,490016,null,"2017-02-01"]
[null,null,{"$f":"'РАЗДЕЛ 1(АМП)'!#REF!","v":{"$error":"#REF!"}},{"$f":"'РАЗДЕЛ 1(АМП)'!#REF!","v":{"$error":"#REF!"}},{"$f":"'РАЗДЕЛ 1(АМП)'!#REF!","v":{"$error":"#REF!"}},{"$f":"'РАЗДЕЛ 1(АМП)'!#REF!","v":{"$error":"#REF!"}},null,490016,null,"2017-02-01"]
[null,null,{"$f":"'РАЗДЕЛ 1(АМП)'!#REF!","v":{"$error":"#REF!"}},{"$f":"'РАЗДЕЛ 1(АМП)'!#REF!","v":{"$error":"#REF!"}},{"$f":"'РАЗДЕЛ 1(АМП)'!#REF!","v":{"$error":"#REF!"}},{"$f":"'РАЗДЕЛ 1(АМП)'!#REF!","v":{"$error":"#REF!"}},null,490016,null,"2017-02-01"]
[null,null,{"$f":"'РАЗДЕЛ 1(АМП)'!#REF!","v":{"$error":"#REF!"}},{"$f":"'РАЗДЕЛ 1(АМП)'!#REF!","v":{"$error":"#REF!"}},{"$f":"'РАЗДЕЛ 1(АМП)'!#REF!","v":{"$error":"#REF!"}},{"$f":"'РАЗДЕЛ 1(АМП)'!#REF!","v":{"$error":"#REF!"}},null,490016,null,"2017-02-01"]
[null,null,{"$f":"'РАЗДЕЛ 1(АМП)'!#REF!","v":{"$error":"#REF!"}},{"$f":"'РАЗДЕЛ 1(АМП)'!#REF!","v":{"$error":"#REF!"}},{"$f":"'РАЗДЕЛ 1(АМП)'!#REF!","v":{"$error":"#REF!"}},{"$f":"'РАЗДЕЛ 1(АМП)'!#REF!","v":{"$error":"#REF!"}},null,490016,null,"2017-02-01"]
[null,null,{"$f":"'РАЗДЕЛ 1(АМП)'!#REF!","v":{"$error":"#REF!"}},{"$f":"'РАЗДЕЛ 1(АМП)'!#REF!","v":{"$error":"#REF!"}},{"$f":"'РАЗДЕЛ 1(АМП)'!#REF!","v":{"$error":"#REF!"}},{"$f":"'РАЗДЕЛ 1(АМП)'!#REF!","v":{"$error":"#REF!"}},null,490016,null,"2017-02-01"]
[null,null,{"$f":"'РАЗДЕЛ 1(АМП)'!#REF!","v":{"$error":"#REF!"}},{"$f":"'РАЗДЕЛ 1(АМП)'!#REF!","v":{"$error":"#REF!"}},{"$f":"'РАЗДЕЛ 1(АМП)'!#REF!","v":{"$error":"#REF!"}},{"$f":"'РАЗДЕЛ 1(АМП)'!#REF!","v":{"$error":"#REF!"}},null,{"$f":"H809","v":490016},null,"2017-02-01"]
[null,null,{"$f":"'РАЗДЕЛ 1(АМП)'!#REF!","v":{"$error":"#REF!"}},{"$f":"'РАЗДЕЛ 1(АМП)'!#REF!","v":{"$error":"#REF!"}},{"$f":"'РАЗДЕЛ 1(АМП)'!#REF!","v":{"$error":"#REF!"}},{"$f":"'РАЗДЕЛ 1(АМП)'!#REF!","v":{"$error":"#REF!"}},null,490016,null,"2017-02-01"]
[null,null,{"$f":"'РАЗДЕЛ 1(АМП)'!#REF!","v":{"$error":"#REF!"}},{"$f":"'РАЗДЕЛ 1(АМП)'!#REF!","v":{"$error":"#REF!"}},{"$f":"'РАЗДЕЛ 1(АМП)'!#REF!","v":{"$error":"#REF!"}},{"$f":"'РАЗДЕЛ 1(АМП)'!#REF!","v":{"$error":"#REF!"}},null,490016,null,"2017-02-01"]
[null,null,{"$f":"'РАЗДЕЛ 1(АМП)'!#REF!","v":{"$error":"#REF!"}},{"$f":"'РАЗДЕЛ 1(АМП)'!#REF!","v":{"$error":"#REF!"}},{"$f":"'РАЗДЕЛ 1(АМП)'!#REF!","v":{"$error":"#REF!"}},{"$f":"'РАЗДЕЛ 1(АМП)'!#REF!","v":{"$error":"#REF!"}},null,490016,null,"2017-02-01"]
[null,null,{"$f":"'РАЗДЕЛ 1(АМП)'!#REF!","v":{"$error":"#REF!"}},{"$f":"'РАЗДЕЛ 1(АМП)'!#REF!","v":{"$error":"#REF!"}},{"$f":"'РАЗДЕЛ 1(АМП)'!#REF!","v":{"$error":"#REF!"}},{"$f":"'РАЗДЕЛ 1(АМП)'!#REF!","v":{"$error":"#REF!"}},null,490016,null,"2017-02-01"]
[null,null,{"$f":"'РАЗДЕЛ 1(АМП)'!#REF!","v":{"$error":"#REF!"}},{"$f":"'РАЗДЕЛ 1(АМП)'!#REF!","v":{"$error":"#REF!"}},{"$f":"'РАЗДЕЛ 1(АМП)'!#REF!","v":{"$error":"#REF!"}},{"$f":"'РАЗДЕЛ 1(АМП)'!#REF!","v":{"$error":"#REF!"}},null,490016,null,"2017-02-01"]
[null,null,{"$f":"'РАЗДЕЛ 1(АМП)'!#REF!","v":{"$error":"#REF!"}},{"$f":"'РАЗДЕЛ 1(АМП)'!#REF!","v":{"$error":"#REF!"}},null,{"$f":"'РАЗДЕЛ 1(АМП)'!#REF!","v":{"$error":"#REF!"}},{"$f":"'РАЗДЕЛ 1(АМП)'!#REF!","v":{"$error":"#REF!"}},490016,null,"2017-02-01"]
[null,null,{"$f":"'РАЗДЕЛ 1(АМП)'!#REF!","v":{"$error":"#REF!"}},{"$f":"'РАЗДЕЛ 1(АМП)'!#REF!","v":{"$error":"#REF!"}},{"$f":"'РАЗДЕЛ 1(АМП)'!#REF!","v":{"$error":"#REF!"}},{"$f":"'РАЗДЕЛ 1(АМП)'!#REF!","v":{"$error":"#REF!"}},null,490016,null,"2017-02-01"]
[null,null,{"$f":"'РАЗДЕЛ 1(АМП)'!#REF!","v":{"$error":"#REF!"}},{"$f":"'РАЗДЕЛ 1(АМП)'!#REF!","v":{"$error":"#REF!"}},{"$f":"'РАЗДЕЛ 1(АМП)'!#REF!","v":{"$error":"#REF!"}},{"$f":"'РАЗДЕЛ 1(АМП)'!#REF!","v":{"$error":"#REF!"}},null,490016,null,"2017-02-01"]
[null,null,{"$f":"'РАЗДЕЛ 1(АМП)'!#REF!","v":{"$error":"#REF!"}},{"$f":"'РАЗДЕЛ 1(АМП)'!#REF!","v":{"$error":"#REF!"}},{"$f":"'РАЗДЕЛ 1(АМП)'!#REF!","v":{"$error":"#REF!"}},{"$f":"'РАЗДЕЛ 1(АМП)'!#REF!","v":{"$error":"#REF!"}},null,490016,null,"2017-02-01"]
[null,null,{"$f":"'РАЗДЕЛ 1(АМП)'!#REF!","v":{"$error":"#REF!"}},{"$f":"'РАЗДЕЛ 1(АМП)'!#REF!","v":{"$error":"#REF!"}},{"$f":"'РАЗДЕЛ 1(АМП)'!#REF!","v":{"$error":"#REF!"}},{"$f":"'РАЗДЕЛ 1(АМП)'!#REF!","v":{"$error":"#REF!"}},null,490016,null,"2017-02-01"]
[null,null,{"$f":"'РАЗДЕЛ 1(АМП)'!#REF!","v":{"$error":"#REF!"}},{"$f":"'РАЗДЕЛ 1(АМП)'!#REF!","v":{"$error":"#REF!"}},{"$f":"'РАЗДЕЛ 1(АМП)'!#REF!","v":{"$error":"#REF!"}},{"$f":"'РАЗДЕЛ 1(АМП)'!#REF!","v":{"$error":"#REF!"}},null,490016,null,"2017-02-01"]
[null,null,{"$f":"'РАЗДЕЛ 1(АМП)'!#REF!","v":{"$error":"#REF!"}},{"$f":"'РАЗДЕЛ 1(АМП)'!#REF!","v":{"$error":"#REF!"}},{"$f":"'РАЗДЕЛ 1(АМП)'!#REF!","v":{"$error":"#REF!"}},{"$f":"'РАЗДЕЛ 1(АМП)'!#REF!","v":{"$error":"#REF!"}},null,490016,null,"2017-02-01"]
[null,null,{"$f":"'РАЗДЕЛ 1(АМП)'!#REF!","v":{"$error":"#REF!"}},{"$f":"'РАЗДЕЛ 1(АМП)'!#REF!","v":{"$error":"#REF!"}},{"$f":"'РАЗДЕЛ 1(АМП)'!#REF!","v":{"$error":"#REF!"}},{"$f":"'РАЗДЕЛ 1(АМП)'!#REF!","v":{"$error":"#REF!"}},null,490016,null,"2017-02-01"]
[null,null,{"$f":"'РАЗДЕЛ 1(АМП)'!#REF!","v":{"$error":"#REF!"}},{"$f":"'РАЗДЕЛ 1(АМП)'!#REF!","v":{"$error":"#REF!"}},{"$f":"'РАЗДЕЛ 1(АМП)'!#REF!","v":{"$error":"#REF!"}},{"$f":"'РАЗДЕЛ 1(АМП)'!#REF!","v":{"$error":"#REF!"}},null,490016,null,"2017-02-01"]
[null,null,{"$f":"'РАЗДЕЛ 1(АМП)'!#REF!","v":{"$error":"#REF!"}},{"$f":"'РАЗДЕЛ 1(АМП)'!#REF!","v":{"$error":"#REF!"}},{"$f":"'РАЗДЕЛ 1(АМП)'!#REF!","v":{"$error":"#REF!"}},{"$f":"'РАЗДЕЛ 1(АМП)'!#REF!","v":{"$error":"#REF!"}},null,490016,null,"2017-02-01"]
[null,null,{"$f":"'РАЗДЕЛ 1(АМП)'!#REF!","v":{"$error":"#REF!"}},{"$f":"'РАЗДЕЛ 1(АМП)'!#REF!","v":{"$error":"#REF!"}},{"$f":"'РАЗДЕЛ 1(АМП)'!#REF!","v":{"$error":"#REF!"}},{"$f":"'РАЗДЕЛ 1(АМП)'!#REF!","v":{"$error":"#REF!"}},null,490016,null,"2017-02-01"]
[null,null,{"$f":"'РАЗДЕЛ 1(АМП)'!#REF!","v":{"$error":"#REF!"}},{"$f":"'РАЗДЕЛ 1(АМП)'!#REF!","v":{"$error":"#REF!"}},{"$f":"'РАЗДЕЛ 1(АМП)'!#REF!","v":{"$error":"#REF!"}},{"$f":"'РАЗДЕЛ 1(АМП)'!#REF!","v":{"$error":"#REF!"}},null,490016,null,"2017-02-01"]
[null,null,{"$f":"'РАЗДЕЛ 1(АМП)'!#REF!","v":{"$error":"#REF!"}},{"$f":"'РАЗДЕЛ 1(АМП)'!#REF!","v":{"$error":"#REF!"}},{"$f":"'РАЗДЕЛ 1(АМП)'!#REF!","v":{"$error":"#REF!"}},{"$f":"'РАЗДЕЛ 1(АМП)'!#REF!","v":{"$error":"#REF!"}},null,490016,null,"2017-02-01"]
[null,null,{"$f":"'РАЗДЕЛ 1(АМП)'!#REF!","v":{"$error":"#REF!"}},{"$f":"'РАЗДЕЛ 1(АМП)'!#REF!","v":{"$error":"#REF!"}},{"$f":"'РАЗДЕЛ 1(АМП)'!#REF!","v":{"$error":"#REF!"}},{"$f":"'РАЗДЕЛ 1(АМП)'!#REF!","v":{"$error":"#REF!"}},null,490016,null,"2017-02-01"]
[null,null,{"$f":"'РАЗДЕЛ 1(АМП)'!#REF!","v":{"$error":"#REF!"}},{"$f":"'РАЗДЕЛ 1(АМП)'!#REF!","v":{"$error":"#REF!"}},{"$f":"'РАЗДЕЛ 1(АМП)'!#REF!","v":{"$error":"#REF!"}},{"$f":"'РАЗДЕЛ 1(АМП)'!#REF!","v":{"$error":"#REF!"}},null,490016,null,"2017-02-01"]
[null,null,{"$f":"'РАЗДЕЛ 1(АМП)'!#REF!","v":{"$error":"#REF!"}},{"$f":"'РАЗДЕЛ 1(АМП)'!#REF!","v":{"$error":"#REF!"}},{"$f":"'РАЗДЕЛ 1(АМП)'!#REF!","v":{"$error":"#REF!"}},{"$f":"'РАЗДЕЛ 1(АМП)'!#REF!","v":{"$error":"#REF!"}},null,490016,null,"2017-02-01"]
[null,null,{"$f":"'РАЗДЕЛ 1(АМП)'!#REF!","v":{"$error":"#REF!"}},{"$f":"'РАЗДЕЛ 1(АМП)'!#REF!","v":{"$error":"#REF!"}},{"$f":"'РАЗДЕЛ 1(АМП)'!#REF!","v":{"$error":"#REF!"}},{"$f":"'РАЗДЕЛ 1(АМП)'!#REF!","v":{"$error":"#REF!"}},null,490016,null,"2017-02-01"]
[null,null,{"$f":"'РАЗДЕЛ 1(АМП)'!#REF!","v":{"$error":"#REF!"}},{"$f":"'РАЗДЕЛ 1(АМП)'!#REF!","v":{"$error":"#REF!"}},{"$f":"'РАЗДЕЛ 1(АМП)'!#REF!","v":{"$error":"#REF!"}},{"$f":"'РАЗДЕЛ 1(АМП)'!#REF!","v":{"$error":"#REF!"}},null,490016,null,"2017-02-01"]
[null,null,{"$f":"'РАЗДЕЛ 1(АМП)'!#REF!","v":{"$error":"#REF!"}},{"$f":"'РАЗДЕЛ 1(АМП)'!#REF!","v":{"$error":"#REF!"}},{"$f":"'РАЗДЕЛ 1(АМП)'!#REF!","v":{"$error":"#REF!"}},{"$f":"'РАЗДЕЛ 1(АМП)'!#REF!","v":{"$error":"#REF!"}},null,490016,null,"2017-02-01"]
[null,null,{"$f":"'РАЗДЕЛ 1(АМП)'!#REF!","v":{"$error":"#REF!"}},{"$f":"'РАЗДЕЛ 1(АМП)'!#REF!","v":{"$error":"#REF!"}},{"$f":"'РАЗДЕЛ 1(АМП)'!#REF!","v":{"$error":"#REF!"}},{"$f":"'РАЗДЕЛ 1(АМП)'!#REF!","v":{"$error":"#REF!"}},null,490016,null,"2017-02-01"]
[null,null,{"$f":"#REF!","v":{"$error":"#REF!"}},{"$f":"#REF!","v":{"$error":"#REF!"}},null,{"$f":"#REF!","v":{"$error":"#REF!"}},{"$f":"#REF!","v":{"$error":"#REF!"}},490016,{"$f":"#REF!","v":{"$error":"#REF!"}},"2017-02-01"]
[null,null,{"$f":"#REF!","v":{"$error":"#REF!"}},{"$f":"#REF!","v":{"$error":"#REF!"}},{"$f":"#REF!","v":{"$error":"#REF!"}},{"$f":"#REF!","v":{"$error":"#REF!"}},null,490016,{"$f":"#REF!","v":{"$error":"#REF!"}},"2017-02-01"]
[null,null,{"$f":"#REF!","v":{"$error":"#REF!"}},{"$f":"#REF!","v":{"$error":"#REF!"}},{"$f":"#REF!","v":{"$error":"#REF!"}},{"$f":"#REF!","v":{"$error":"#REF!"}},null,490016,{"$f":"#REF!","v":{"$error":"#REF!"}},"2017-02-01"]
[null,null,{"$f":"#REF!","v":{"$error":"#REF!"}},{"$f":"#REF!","v":{"$error":"#REF!"}},{"$f":"#REF!","v":{"$error":"#REF!"}},{"$f":"#REF!","v":{"$error":"#REF!"}},null,490016,{"$f":"#REF!","v":{"$error":"#REF!"}},"2017-02-01"]
[null,null,{"$f":"#REF!","v":{"$error":"#REF!"}},{"$f":"#REF!","v":{"$error":"#REF!"}},{"$f":"#REF!","v":{"$error":"#REF!"}},{"$f":"#REF!","v":{"$error":"#REF!"}},null,490016,{"$f":"#REF!","v":{"$error":"#REF!"}},"2017-02-01"]
[null,null,{"$f":"#REF!","v":{"$error":"#REF!"}},{"$f":"#REF!","v":{"$error":"#REF!"}},{"$f":"#REF!","v":{"$error":"#REF!"}},{"$f":"#REF!","v":{"$error":"#REF!"}},null,490016,{"$f":"#REF!","v":{"$error":"#REF!"}},"2017-02-01"]
[null,null,{"$f":"#REF!","v":{"$error":"#REF!"}},{"$f":"#REF!","v":{"$error":"#REF!"}},null,{"$f":"#REF!","v":{"$error":"#REF!"}},{"$f":"#REF!","v":{"$error":"#REF!"}},490016,{"$f":"#REF!","v":{"$error":"#REF!"}},"2017-02-01"]
[null,null,{"$f":"#REF!","v":{"$error":"#REF!"}},{"$f":"#REF!","v":{"$error":"#REF!"}},{"$f":"#REF!","v":{"$error":"#REF!"}},{"$f":"#REF!","v":{"$error":"#REF!"}},null,490016,{"$f":"#REF!","v":{"$error":"#REF!"}},"2017-02-01"]
[null,null,{"$f":"#REF!","v":{"$error":"#REF!"}},{"$f":"#REF!","v":{"$error":"#REF!"}},{"$f":"#REF!","v":{"$error":"#REF!"}},{"$f":"#REF!","v":{"$error":"#REF!"}},null,490016,{"$f":"#REF!","v":{"$error":"#REF!"}},{"$f":"J843","v":"2017-02-01"}]
[null,null,{"$f":"#REF!","v":{"$error":"#REF!"}},{"$f":"#REF!","v":{"$error":"#REF!"}},{"$f":"#REF!","v":{"$error":"#REF!"}},{"$f":"#REF!","v":{"$error":"#REF!"}},null,490016,{"$f":"#REF!","v":{"$error":"#REF!"}},"2017-02-01"]
[null,null,{"$f":"#REF!","v":{"$error":"#REF!"}},{"$f":"#REF!","v":{"$error":"#REF!"}},{"$f":"#REF!","v":{"$error":"#REF!"}},{"$f":"#REF!","v":{"$error":"#REF!"}},null,490016,{"$f":"#REF!","v":{"$error":"#REF!"}},"2017-02-01"]
[null,null,{"$f":"#REF!","v":{"$error":"#REF!"}},{"$f":"#REF!","v":{"$error":"#REF!"}},{"$f":"#REF!","v":{"$error":"#REF!"}},{"$f":"#REF!","v":{"$error":"#REF!"}},null,490016,{"$f":"#REF!","v":{"$error":"#REF!"}},"2017-02-01"]
[null,null,{"$f":"'РАЗДЕЛ 4 (СМП) '!#REF!","v":{"$error":"#REF!"}},{"$f":"'РАЗДЕЛ 4 (СМП) '!#REF!","v":{"$error":"#REF!"}},{"$f":"'РАЗДЕЛ 4 (СМП) '!#REF!","v":{"$error":"#REF!"}},{"$f":"'РАЗДЕЛ 4 (СМП) '!#REF!","v":{"$error":"#REF!"}},null,490016,null,"2017-02-01"]
[null,null,{"$f":"'РАЗДЕЛ 1(АМП)'!#REF!","v":{"$error":"#REF!"}},{"$f":"'РАЗДЕЛ 1(АМП)'!#REF!","v":{"$error":"#REF!"}},{"$f":"'РАЗДЕЛ 1(АМП)'!#REF!","v":{"$error":"#REF!"}},{"$f":"'РАЗДЕЛ 1(АМП)'!#REF!","v":{"$error":"#REF!"}},null,490017,null,"2017-02-01"]
[null,null,{"$f":"'РАЗДЕЛ 1(АМП)'!#REF!","v":{"$error":"#REF!"}},{"$f":"'РАЗДЕЛ 1(АМП)'!#REF!","v":{"$error":"#REF!"}},{"$f":"'РАЗДЕЛ 1(АМП)'!#REF!","v":{"$error":"#REF!"}},{"$f":"'РАЗДЕЛ 1(АМП)'!#REF!","v":{"$error":"#REF!"}},null,490017,null,"2017-02-01"]
[null,null,{"$f":"'РАЗДЕЛ 1(АМП)'!#REF!","v":{"$error":"#REF!"}},{"$f":"'РАЗДЕЛ 1(АМП)'!#REF!","v":{"$error":"#REF!"}},{"$f":"'РАЗДЕЛ 1(АМП)'!#REF!","v":{"$error":"#REF!"}},{"$f":"'РАЗДЕЛ 1(АМП)'!#REF!","v":{"$error":"#REF!"}},null,490017,null,"2017-02-01"]
[null,null,{"$f":"'РАЗДЕЛ 1(АМП)'!#REF!","v":{"$error":"#REF!"}},{"$f":"'РАЗДЕЛ 1(АМП)'!#REF!","v":{"$error":"#REF!"}},{"$f":"'РАЗДЕЛ 1(АМП)'!#REF!","v":{"$error":"#REF!"}},{"$f":"'РАЗДЕЛ 1(АМП)'!#REF!","v":{"$error":"#REF!"}},null,490017,null,"2017-02-01"]
[null,null,{"$f":"'РАЗДЕЛ 1(АМП)'!#REF!","v":{"$error":"#REF!"}},{"$f":"'РАЗДЕЛ 1(АМП)'!#REF!","v":{"$error":"#REF!"}},{"$f":"'РАЗДЕЛ 1(АМП)'!#REF!","v":{"$error":"#REF!"}},{"$f":"'РАЗДЕЛ 1(АМП)'!#REF!","v":{"$error":"#REF!"}},null,490017,null,"2017-02-01"]
[null,null,{"$f":"'РАЗДЕЛ 1(АМП)'!#REF!","v":{"$error":"#REF!"}},{"$f":"'РАЗДЕЛ 1(АМП)'!#REF!","v":{"$error":"#REF!"}},{"$f":"'РАЗДЕЛ 1(АМП)'!#REF!","v":{"$error":"#REF!"}},{"$f":"'РАЗДЕЛ 1(АМП)'!#REF!","v":{"$error":"#REF!"}},null,490017,null,"2017-02-01"]
[null,null,{"$f":"'РАЗДЕЛ 1(АМП)'!#REF!","v":{"$error":"#REF!"}},{"$f":"'РАЗДЕЛ 1(АМП)'!#REF!","v":{"$error":"#REF!"}},{"$f":"'РАЗДЕЛ 1(АМП)'!#REF!","v":{"$error":"#REF!"}},{"$f":"'РАЗДЕЛ 1(АМП)'!#REF!","v":{"$error":"#REF!"}},null,490017,null,"2017-02-01"]
[null,null,{"$f":"'РАЗДЕЛ 1(АМП)'!#REF!","v":{"$error":"#REF!"}},{"$f":"'РАЗДЕЛ 1(АМП)'!#REF!","v":{"$error":"#REF!"}},{"$f":"'РАЗДЕЛ 1(АМП)'!#REF!","v":{"$error":"#REF!"}},{"$f":"'РАЗДЕЛ 1(АМП)'!#REF!","v":{"$error":"#REF!"}},null,490017,null,"2017-02-01"]
[null,null,{"$f":"'РАЗДЕЛ 1(АМП)'!#REF!","v":{"$error":"#REF!"}},{"$f":"'РАЗДЕЛ 1(АМП)'!#REF!","v":{"$error":"#REF!"}},{"$f":"'РАЗДЕЛ 1(АМП)'!#REF!","v":{"$error":"#REF!"}},{"$f":"'РАЗДЕЛ 1(АМП)'!#REF!","v":{"$error":"#REF!"}},null,490017,null,"2017-02-01"]
[null,null,{"$f":"'РАЗДЕЛ 1(АМП)'!#REF!","v":{"$error":"#REF!"}},{"$f":"'РАЗДЕЛ 1(АМП)'!#REF!","v":{"$error":"#REF!"}},{"$f":"'РАЗДЕЛ 1(АМП)'!#REF!","v":{"$error":"#REF!"}},{"$f":"'РАЗДЕЛ 1(АМП)'!#REF!","v":{"$error":"#REF!"}},null,490017,null,"2017-02-01"]
[null,null,{"$f":"'РАЗДЕЛ 1(АМП)'!#REF!","v":{"$error":"#REF!"}},{"$f":"'РАЗДЕЛ 1(АМП)'!#REF!","v":{"$error":"#REF!"}},{"$f":"'РАЗДЕЛ 1(АМП)'!#REF!","v":{"$error":"#REF!"}},{"$f":"'РАЗДЕЛ 1(АМП)'!#REF!","v":{"$error":"#REF!"}},null,490017,null,"2017-02-01"]
[null,null,{"$f":"'РАЗДЕЛ 1(АМП)'!#REF!","v":{"$error":"#REF!"}},{"$f":"'РАЗДЕЛ 1(АМП)'!#REF!","v":{"$error":"#REF!"}},{"$f":"'РАЗДЕЛ 1(АМП)'!#REF!","v":{"$error":"#REF!"}},{"$f":"'РАЗДЕЛ 1(АМП)'!#REF!","v":{"$error":"#REF!"}},null,490017,null,"2017-02-01"]
[null,null,{"$f":"'РАЗДЕЛ 1(АМП)'!#REF!","v":{"$error":"#REF!"}},{"$f":"'РАЗДЕЛ 1(АМП)'!#REF!","v":{"$error":"#REF!"}},{"$f":"'РАЗДЕЛ 1(АМП)'!#REF!","v":{"$error":"#REF!"}},{"$f":"'РАЗДЕЛ 1(АМП)'!#REF!","v":{"$error":"#REF!"}},null,490017,null,"2017-02-01"]
[null,null,{"$f":"'РАЗДЕЛ 1(АМП)'!#REF!","v":{"$error":"#REF!"}},{"$f":"'РАЗДЕЛ 1(АМП)'!#REF!","v":{"$error":"#REF!"}},{"$f":"'РАЗДЕЛ 1(АМП)'!#REF!","v":{"$error":"#REF!"}},{"$f":"'РАЗДЕЛ 1(АМП)'!#REF!","v":{"$error":"#REF!"}},null,490017,null,"2017-02-01"]
[null,null,{"$f":"'РАЗДЕЛ 1(АМП)'!#REF!","v":{"$error":"#REF!"}},{"$f":"'РАЗДЕЛ 1(АМП)'!#REF!","v":{"$error":"#REF!"}},{"$f":"'РАЗДЕЛ 1(АМП)'!#REF!","v":{"$error":"#REF!"}},{"$f":"'РАЗДЕЛ 1(АМП)'!#REF!","v":{"$error":"#REF!"}},null,490017,null,"2017-02-01"]
[null,null,{"$f":"'РАЗДЕЛ 1(АМП)'!#REF!","v":{"$error":"#REF!"}},{"$f":"'РАЗДЕЛ 1(АМП)'!#REF!","v":{"$error":"#REF!"}},{"$f":"'РАЗДЕЛ 1(АМП)'!#REF!","v":{"$error":"#REF!"}},{"$f":"'РАЗДЕЛ 1(АМП)'!#REF!","v":{"$error":"#REF!"}},null,490017,null,"2017-02-01"]
[null,null,{"$f":"'РАЗДЕЛ 1(АМП)'!#REF!","v":{"$error":"#REF!"}},{"$f":"'РАЗДЕЛ 1(АМП)'!#REF!","v":{"$error":"#REF!"}},{"$f":"'РАЗДЕЛ 1(АМП)'!#REF!","v":{"$error":"#REF!"}},{"$f":"'РАЗДЕЛ 1(АМП)'!#REF!","v":{"$error":"#REF!"}},null,490017,null,"2017-02-01"]
[null,null,{"$f":"'РАЗДЕЛ 1(АМП)'!#REF!","v":{"$error":"#REF!"}},{"$f":"'РАЗДЕЛ 1(АМП)'!#REF!","v":{"$error":"#REF!"}},null,{"$f":"'РАЗДЕЛ 1(АМП)'!#REF!","v":{"$error":"#REF!"}},{"$f":"'РАЗДЕЛ 1(АМП)'!#REF!","v":{"$error":"#REF!"}},490017,null,"2017-02-01"]
[null,null,{"$f":"'РАЗДЕЛ 1(АМП)'!#REF!","v":{"$error":"#REF!"}},{"$f":"'РАЗДЕЛ 1(АМП)'!#REF!","v":{"$error":"#REF!"}},{"$f":"'РАЗДЕЛ 1(АМП)'!#REF!","v":{"$error":"#REF!"}},{"$f":"'РАЗДЕЛ 1(АМП)'!#REF!","v":{"$error":"#REF!"}},null,490017,null,"2017-02-01"]
[null,null,{"$f":"'РАЗДЕЛ 1(АМП)'!#REF!","v":{"$error":"#REF!"}},{"$f":"'РАЗДЕЛ 1(АМП)'!#REF!","v":{"$error":"#REF!"}},{"$f":"'РАЗДЕЛ 1(АМП)'!#REF!","v":{"$error":"#REF!"}},{"$f":"'РАЗДЕЛ 1(АМП)'!#REF!","v":{"$error":"#REF!"}},null,490017,null,"2017-02-01"]
[null,null,{"$f":"'РАЗДЕЛ 1(АМП)'!#REF!","v":{"$error":"#REF!"}},{"$f":"'РАЗДЕЛ 1(АМП)'!#REF!","v":{"$error":"#REF!"}},{"$f":"'РАЗДЕЛ 1(АМП)'!#REF!","v":{"$error":"#REF!"}},{"$f":"'РАЗДЕЛ 1(АМП)'!#REF!","v":{"$error":"#REF!"}},null,490017,null,"2017-02-01"]
[null,null,{"$f":"'РАЗДЕЛ 1(АМП)'!#REF!","v":{"$error":"#REF!"}},{"$f":"'РАЗДЕЛ 1(АМП)'!#REF!","v":{"$error":"#REF!"}},{"$f":"'РАЗДЕЛ 1(АМП)'!#REF!","v":{"$error":"#REF!"}},{"$f":"'РАЗДЕЛ 1(АМП)'!#REF!","v":{"$error":"#REF!"}},null,490017,null,"2017-02-01"]
[null,null,{"$f":"'РАЗДЕЛ 1(АМП)'!#REF!","v":{"$error":"#REF!"}},{"$f":"'РАЗДЕЛ 1(АМП)'!#REF!","v":{"$error":"#REF!"}},{"$f":"'РАЗДЕЛ 1(АМП)'!#REF!","v":{"$error":"#REF!"}},{"$f":"'РАЗДЕЛ 1(АМП)'!#REF!","v":{"$error":"#REF!"}},null,490017,null,"2017-02-01"]
[null,null,{"$f":"'РАЗДЕЛ 1(АМП)'!#REF!","v":{"$error":"#REF!"}},{"$f":"'РАЗДЕЛ 1(АМП)'!#REF!","v":{"$error":"#REF!"}},{"$f":"'РАЗДЕЛ 1(АМП)'!#REF!","v":{"$error":"#REF!"}},{"$f":"'РАЗДЕЛ 1(АМП)'!#REF!","v":{"$error":"#REF!"}},null,{"$f":"H871","v":490017},null,"2017-02-01"]
[null,null,{"$f":"'РАЗДЕЛ 1(АМП)'!#REF!","v":{"$error":"#REF!"}},{"$f":"'РАЗДЕЛ 1(АМП)'!#REF!","v":{"$error":"#REF!"}},{"$f":"'РАЗДЕЛ 1(АМП)'!#REF!","v":{"$error":"#REF!"}},{"$f":"'РАЗДЕЛ 1(АМП)'!#REF!","v":{"$error":"#REF!"}},null,490017,null,"2017-02-01"]
[null,null,{"$f":"'РАЗДЕЛ 1(АМП)'!#REF!","v":{"$error":"#REF!"}},{"$f":"'РАЗДЕЛ 1(АМП)'!#REF!","v":{"$error":"#REF!"}},{"$f":"'РАЗДЕЛ 1(АМП)'!#REF!","v":{"$error":"#REF!"}},{"$f":"'РАЗДЕЛ 1(АМП)'!#REF!","v":{"$error":"#REF!"}},null,490017,null,"2017-02-01"]
[null,null,{"$f":"'РАЗДЕЛ 1(АМП)'!#REF!","v":{"$error":"#REF!"}},{"$f":"'РАЗДЕЛ 1(АМП)'!#REF!","v":{"$error":"#REF!"}},{"$f":"'РАЗДЕЛ 1(АМП)'!#REF!","v":{"$error":"#REF!"}},{"$f":"'РАЗДЕЛ 1(АМП)'!#REF!","v":{"$error":"#REF!"}},null,490017,null,"2017-02-01"]
[null,null,{"$f":"'РАЗДЕЛ 1(АМП)'!#REF!","v":{"$error":"#REF!"}},{"$f":"'РАЗДЕЛ 1(АМП)'!#REF!","v":{"$error":"#REF!"}},{"$f":"'РАЗДЕЛ 1(АМП)'!#REF!","v":{"$error":"#REF!"}},{"$f":"'РАЗДЕЛ 1(АМП)'!#REF!","v":{"$error":"#REF!"}},null,490017,null,"2017-02-01"]
[null,null,{"$f":"'РАЗДЕЛ 1(АМП)'!#REF!","v":{"$error":"#REF!"}},{"$f":"'РАЗДЕЛ 1(АМП)'!#REF!","v":{"$error":"#REF!"}},{"$f":"'РАЗДЕЛ 1(АМП)'!#REF!","v":{"$error":"#REF!"}},{"$f":"'РАЗДЕЛ 1(АМП)'!#REF!","v":{"$error":"#REF!"}},null,490017,null,"2017-02-01"]
[null,null,{"$f":"'РАЗДЕЛ 1(АМП)'!#REF!","v":{"$error":"#REF!"}},{"$f":"'РАЗДЕЛ 1(АМП)'!#REF!","v":{"$error":"#REF!"}},{"$f":"'РАЗДЕЛ 1(АМП)'!#REF!","v":{"$error":"#REF!"}},{"$f":"'РАЗДЕЛ 1(АМП)'!#REF!","v":{"$error":"#REF!"}},null,490017,null,"2017-02-01"]
[null,null,{"$f":"'РАЗДЕЛ 1(АМП)'!#REF!","v":{"$error":"#REF!"}},{"$f":"'РАЗДЕЛ 1(АМП)'!#REF!","v":{"$error":"#REF!"}},{"$f":"'РАЗДЕЛ 1(АМП)'!#REF!","v":{"$error":"#REF!"}},{"$f":"'РАЗДЕЛ 1(АМП)'!#REF!","v":{"$error":"#REF!"}},null,490017,null,"2017-02-01"]
[null,null,{"$f":"'РАЗДЕЛ 1(АМП)'!#REF!","v":{"$error":"#REF!"}},{"$f":"'РАЗДЕЛ 1(АМП)'!#REF!","v":{"$error":"#REF!"}},{"$f":"'РАЗДЕЛ 1(АМП)'!#REF!","v":{"$error":"#REF!"}},{"$f":"'РАЗДЕЛ 1(АМП)'!#REF!","v":{"$error":"#REF!"}},null,490017,null,"2017-02-01"]
[null,null,{"$f":"'РАЗДЕЛ 1(АМП)'!#REF!","v":{"$error":"#REF!"}},{"$f":"'РАЗДЕЛ 1(АМП)'!#REF!","v":{"$error":"#REF!"}},{"$f":"'РАЗДЕЛ 1(АМП)'!#REF!","v":{"$error":"#REF!"}},{"$f":"'РАЗДЕЛ 1(АМП)'!#REF!","v":{"$error":"#REF!"}},null,490017,null,"2017-02-01"]
[null,null,{"$f":"'РАЗДЕЛ 1(АМП)'!#REF!","v":{"$error":"#REF!"}},{"$f":"'РАЗДЕЛ 1(АМП)'!#REF!","v":{"$error":"#REF!"}},{"$f":"'РАЗДЕЛ 1(АМП)'!#REF!","v":{"$error":"#REF!"}},{"$f":"'РАЗДЕЛ 1(АМП)'!#REF!","v":{"$error":"#REF!"}},null,490017,null,"2017-02-01"]
[null,null,{"$f":"'РАЗДЕЛ 1(АМП)'!#REF!","v":{"$error":"#REF!"}},{"$f":"'РАЗДЕЛ 1(АМП)'!#REF!","v":{"$error":"#REF!"}},{"$f":"'РАЗДЕЛ 1(АМП)'!#REF!","v":{"$error":"#REF!"}},{"$f":"'РАЗДЕЛ 1(АМП)'!#REF!","v":{"$error":"#REF!"}},null,490017,null,"2017-02-01"]
[null,null,{"$f":"'РАЗДЕЛ 1(АМП)'!#REF!","v":{"$error":"#REF!"}},{"$f":"'РАЗДЕЛ 1(АМП)'!#REF!","v":{"$error":"#REF!"}},{"$f":"'РАЗДЕЛ 1(АМП)'!#REF!","v":{"$error":"#REF!"}},{"$f":"'РАЗДЕЛ 1(АМП)'!#REF!","v":{"$error":"#REF!"}},null,490017,null,"2017-02-01"]
[null,null,{"$f":"'РАЗДЕЛ 1(АМП)'!#REF!","v":{"$error":"#REF!"}},{"$f":"'РАЗДЕЛ 1(АМП)'!#REF!","v":{"$error":"#REF!"}},{"$f":"'РАЗДЕЛ 1(АМП)'!#REF!","v":{"$error":"#REF!"}},{"$f":"'РАЗДЕЛ 1(АМП)'!#REF!","v":{"$error":"#REF!"}},null,490017,null,"2017-02-01"]
[null,null,{"$f":"'РАЗДЕЛ 1(АМП)'!#REF!","v":{"$error":"#REF!"}},{"$f":"'РАЗДЕЛ 1(АМП)'!#REF!","v":{"$error":"#REF!"}},{"$f":"'РАЗДЕЛ 1(АМП)'!#REF!","v":{"$error":"#REF!"}},{"$f":"'РАЗДЕЛ 1(АМП)'!#REF!","v":{"$error":"#REF!"}},null,490017,null,"2017-02-01"]
[null,null,{"$f":"'РАЗДЕЛ 1(АМП)'!#REF!","v":{"$error":"#REF!"}},{"$f":"'РАЗДЕЛ 1(АМП)'!#REF!","v":{"$error":"#REF!"}},null,{"$f":"'РАЗДЕЛ 1(АМП)'!#REF!","v":{"$error":"#REF!"}},{"$f":"'РАЗДЕЛ 1(АМП)'!#REF!","v":{"$error":"#REF!"}},490017,null,"2017-02-01"]
[null,null,{"$f":"'РАЗДЕЛ 1(АМП)'!#REF!","v":{"$error":"#REF!"}},{"$f":"'РАЗДЕЛ 1(АМП)'!#REF!","v":{"$error":"#REF!"}},{"$f":"'РАЗДЕЛ 1(АМП)'!#REF!","v":{"$error":"#REF!"}},{"$f":"'РАЗДЕЛ 1(АМП)'!#REF!","v":{"$error":"#REF!"}},null,490017,null,"2017-02-01"]
[null,null,{"$f":"'РАЗДЕЛ 1(АМП)'!#REF!","v":{"$error":"#REF!"}},{"$f":"'РАЗДЕЛ 1(АМП)'!#REF!","v":{"$error":"#REF!"}},{"$f":"'РАЗДЕЛ 1(АМП)'!#REF!","v":{"$error":"#REF!"}},{"$f":"'РАЗДЕЛ 1(АМП)'!#REF!","v":{"$error":"#REF!"}},null,490017,null,"2017-02-01"]
[null,null,{"$f":"'РАЗДЕЛ 1(АМП)'!#REF!","v":{"$error":"#REF!"}},{"$f":"'РАЗДЕЛ 1(АМП)'!#REF!","v":{"$error":"#REF!"}},{"$f":"'РАЗДЕЛ 1(АМП)'!#REF!","v":{"$error":"#REF!"}},{"$f":"'РАЗДЕЛ 1(АМП)'!#REF!","v":{"$error":"#REF!"}},null,490017,null,"2017-02-01"]
[null,null,{"$f":"'РАЗДЕЛ 1(АМП)'!#REF!","v":{"$error":"#REF!"}},{"$f":"'РАЗДЕЛ 1(АМП)'!#REF!","v":{"$error":"#REF!"}},{"$f":"'РАЗДЕЛ 1(АМП)'!#REF!","v":{"$error":"#REF!"}},{"$f":"'РАЗДЕЛ 1(АМП)'!#REF!","v":{"$error":"#REF!"}},null,490017,null,"2017-02-01"]
[null,null,{"$f":"'РАЗДЕЛ 1(АМП)'!#REF!","v":{"$error":"#REF!"}},{"$f":"'РАЗДЕЛ 1(АМП)'!#REF!","v":{"$error":"#REF!"}},{"$f":"'РАЗДЕЛ 1(АМП)'!#REF!","v":{"$error":"#REF!"}},{"$f":"'РАЗДЕЛ 1(АМП)'!#REF!","v":{"$error":"#REF!"}},null,490017,null,"2017-02-01"]
[null,null,{"$f":"'РАЗДЕЛ 1(АМП)'!#REF!","v":{"$error":"#REF!"}},{"$f":"'РАЗДЕЛ 1(АМП)'!#REF!","v":{"$error":"#REF!"}},{"$f":"'РАЗДЕЛ 1(АМП)'!#REF!","v":{"$error":"#REF!"}},{"$f":"'РАЗДЕЛ 1(АМП)'!#REF!","v":{"$error":"#REF!"}},null,490017,null,"2017-02-01"]
[null,null,{"$f":"'РАЗДЕЛ 1(АМП)'!#REF!","v":{"$error":"#REF!"}},{"$f":"'РАЗДЕЛ 1(АМП)'!#REF!","v":{"$error":"#REF!"}},{"$f":"'РАЗДЕЛ 1(АМП)'!#REF!","v":{"$error":"#REF!"}},{"$f":"'РАЗДЕЛ 1(АМП)'!#REF!","v":{"$error":"#REF!"}},null,490017,null,"2017-02-01"]
[null,null,{"$f":"'РАЗДЕЛ 1(АМП)'!#REF!","v":{"$error":"#REF!"}},{"$f":"'РАЗДЕЛ 1(АМП)'!#REF!","v":{"$error":"#REF!"}},{"$f":"'РАЗДЕЛ 1(АМП)'!#REF!","v":{"$error":"#REF!"}},{"$f":"'РАЗДЕЛ 1(АМП)'!#REF!","v":{"$error":"#REF!"}},null,490017,null,"2017-02-01"]
[null,null,{"$f":"'РАЗДЕЛ 1(АМП)'!#REF!","v":{"$error":"#REF!"}},{"$f":"'РАЗДЕЛ 1(АМП)'!#REF!","v":{"$error":"#REF!"}},{"$f":"'РАЗДЕЛ 1(АМП)'!#REF!","v":{"$error":"#REF!"}},{"$f":"'РАЗДЕЛ 1(АМП)'!#REF!","v":{"$error":"#REF!"}},null,490017,null,"2017-02-01"]
[null,null,{"$f":"'РАЗДЕЛ 1(АМП)'!#REF!","v":{"$error":"#REF!"}},{"$f":"'РАЗДЕЛ 1(АМП)'!#REF!","v":{"$error":"#REF!"}},{"$f":"'РАЗДЕЛ 1(АМП)'!#REF!","v":{"$error":"#REF!"}},{"$f":"'РАЗДЕЛ 1(АМП)'!#REF!","v":{"$error":"#REF!"}},null,490017,null,"2017-02-01"]
[null,null,{"$f":"'РАЗДЕЛ 1(АМП)'!#REF!","v":{"$error":"#REF!"}},{"$f":"'РАЗДЕЛ 1(АМП)'!#REF!","v":{"$error":"#REF!"}},{"$f":"'РАЗДЕЛ 1(АМП)'!#REF!","v":{"$error":"#REF!"}},{"$f":"'РАЗДЕЛ 1(АМП)'!#REF!","v":{"$error":"#REF!"}},null,490017,null,"2017-02-01"]
[null,null,{"$f":"'РАЗДЕЛ 1(АМП)'!#REF!","v":{"$error":"#REF!"}},{"$f":"'РАЗДЕЛ 1(АМП)'!#REF!","v":{"$error":"#REF!"}},{"$f":"'РАЗДЕЛ 1(АМП)'!#REF!","v":{"$error":"#REF!"}},{"$f":"'РАЗДЕЛ 1(АМП)'!#REF!","v":{"$error":"#REF!"}},null,490017,null,"2017-02-01"]
[null,null,{"$f":"'РАЗДЕЛ 1(АМП)'!#REF!","v":{"$error":"#REF!"}},{"$f":"'РАЗДЕЛ 1(АМП)'!#REF!","v":{"$error":"#REF!"}},{"$f":"'РАЗДЕЛ 1(АМП)'!#REF!","v":{"$error":"#REF!"}},{"$f":"'РАЗДЕЛ 1(АМП)'!#REF!","v":{"$error":"#REF!"}},null,490017,null,"2017-02-01"]
[null,null,{"$f":"'РАЗДЕЛ 1(АМП)'!#REF!","v":{"$error":"#REF!"}},{"$f":"'РАЗДЕЛ 1(АМП)'!#REF!","v":{"$error":"#REF!"}},{"$f":"'РАЗДЕЛ 1(АМП)'!#REF!","v":{"$error":"#REF!"}},{"$f":"'РАЗДЕЛ 1(АМП)'!#REF!","v":{"$error":"#REF!"}},null,490017,null,"2017-02-01"]
[null,null,{"$f":"'РАЗДЕЛ 1(АМП)'!#REF!","v":{"$error":"#REF!"}},{"$f":"'РАЗДЕЛ 1(АМП)'!#REF!","v":{"$error":"#REF!"}},{"$f":"'РАЗДЕЛ 1(АМП)'!#REF!","v":{"$error":"#REF!"}},{"$f":"'РАЗДЕЛ 1(АМП)'!#REF!","v":{"$error":"#REF!"}},null,490017,null,"2017-02-01"]
[null,null,{"$f":"'РАЗДЕЛ 1(АМП)'!#REF!","v":{"$error":"#REF!"}},{"$f":"'РАЗДЕЛ 1(АМП)'!#REF!","v":{"$error":"#REF!"}},{"$f":"'РАЗДЕЛ 1(АМП)'!#REF!","v":{"$error":"#REF!"}},{"$f":"'РАЗДЕЛ 1(АМП)'!#REF!","v":{"$error":"#REF!"}},null,490017,null,"2017-02-01"]
[null,null,{"$f":"'РАЗДЕЛ 1(АМП)'!#REF!","v":{"$error":"#REF!"}},{"$f":"'РАЗДЕЛ 1(АМП)'!#REF!","v":{"$error":"#REF!"}},{"$f":"'РАЗДЕЛ 1(АМП)'!#REF!","v":{"$error":"#REF!"}},{"$f":"'РАЗДЕЛ 1(АМП)'!#REF!","v":{"$error":"#REF!"}},null,490017,null,{"$f":"J903","v":"2017-02-01"}]
[null,null,{"$f":"'РАЗДЕЛ 1(АМП)'!#REF!","v":{"$error":"#REF!"}},{"$f":"'РАЗДЕЛ 1(АМП)'!#REF!","v":{"$error":"#REF!"}},{"$f":"'РАЗДЕЛ 1(АМП)'!#REF!","v":{"$error":"#REF!"}},{"$f":"'РАЗДЕЛ 1(АМП)'!#REF!","v":{"$error":"#REF!"}},null,490017,null,"2017-02-01"]
[null,null,{"$f":"'РАЗДЕЛ 1(АМП)'!#REF!","v":{"$error":"#REF!"}},{"$f":"'РАЗДЕЛ 1(АМП)'!#REF!","v":{"$error":"#REF!"}},{"$f":"'РАЗДЕЛ 1(АМП)'!#REF!","v":{"$error":"#REF!"}},{"$f":"'РАЗДЕЛ 1(АМП)'!#REF!","v":{"$error":"#REF!"}},null,490017,null,"2017-02-01"]
[null,null,{"$f":"'РАЗДЕЛ 1(АМП)'!#REF!","v":{"$error":"#REF!"}},{"$f":"'РАЗДЕЛ 1(АМП)'!#REF!","v":{"$error":"#REF!"}},{"$f":"'РАЗДЕЛ 1(АМП)'!#REF!","v":{"$error":"#REF!"}},{"$f":"'РАЗДЕЛ 1(АМП)'!#REF!","v":{"$error":"#REF!"}},null,490017,null,"2017-02-01"]
[null,null,{"$f":"'РАЗДЕЛ 1(АМП)'!#REF!","v":{"$error":"#REF!"}},{"$f":"'РАЗДЕЛ 1(АМП)'!#REF!","v":{"$error":"#REF!"}},null,{"$f":"'РАЗДЕЛ 1(АМП)'!#REF!","v":{"$error":"#REF!"}},{"$f":"'РАЗДЕЛ 1(АМП)'!#REF!","v":{"$error":"#REF!"}},490017,null,"2017-02-01"]
[null,null,{"$f":"'РАЗДЕЛ 1(АМП)'!#REF!","v":{"$error":"#REF!"}},{"$f":"'РАЗДЕЛ 1(АМП)'!#REF!","v":{"$error":"#REF!"}},{"$f":"'РАЗДЕЛ 1(АМП)'!#REF!","v":{"$error":"#REF!"}},{"$f":"'РАЗДЕЛ 1(АМП)'!#REF!","v":{"$error":"#REF!"}},null,490017,null,"2017-02-01"]
[null,null,{"$f":"'РАЗДЕЛ 1(АМП)'!#REF!","v":{"$error":"#REF!"}},{"$f":"'РАЗДЕЛ 1(АМП)'!#REF!","v":{"$error":"#REF!"}},{"$f":"'РАЗДЕЛ 1(АМП)'!#REF!","v":{"$error":"#REF!"}},{"$f":"'РАЗДЕЛ 1(АМП)'!#REF!","v":{"$error":"#REF!"}},null,490017,null,"2017-02-01"]
[null,null,{"$f":"'РАЗДЕЛ 1(АМП)'!#REF!","v":{"$error":"#REF!"}},{"$f":"'РАЗДЕЛ 1(АМП)'!#REF!","v":{"$error":"#REF!"}},{"$f":"'РАЗДЕЛ 1(АМП)'!#REF!","v":{"$error":"#REF!"}},{"$f":"'РАЗДЕЛ 1(АМП)'!#REF!","v":{"$error":"#REF!"}},null,490017,null,"2017-02-01"]
[null,null,{"$f":"'РАЗДЕЛ 1(АМП)'!#REF!","v":{"$error":"#REF!"}},{"$f":"'РАЗДЕЛ 1(АМП)'!#REF!","v":{"$error":"#REF!"}},{"$f":"'РАЗДЕЛ 1(АМП)'!#REF!","v":{"$error":"#REF!"}},{"$f":"'РАЗДЕЛ 1(АМП)'!#REF!","v":{"$error":"#REF!"}},null,490017,null,"2017-02-01"]
[null,null,{"$f":"'РАЗДЕЛ 1(АМП)'!#REF!","v":{"$error":"#REF!"}},{"$f":"'РАЗДЕЛ 1(АМП)'!#REF!","v":{"$error":"#REF!"}},{"$f":"'РАЗДЕЛ 1(АМП)'!#REF!","v":{"$error":"#REF!"}},{"$f":"'РАЗДЕЛ 1(АМП)'!#REF!","v":{"$error":"#REF!"}},null,490017,null,"2017-02-01"]
[null,null,{"$f":"'РАЗДЕЛ 1(АМП)'!#REF!","v":{"$error":"#REF!"}},{"$f":"'РАЗДЕЛ 1(АМП)'!#REF!","v":{"$error":"#REF!"}},{"$f":"'РАЗДЕЛ 1(АМП)'!#REF!","v":{"$error":"#REF!"}},{"$f":"'РАЗДЕЛ 1(АМП)'!#REF!","v":{"$error":"#REF!"}},null,490017,null,"2017-02-01"]
[null,null,{"$f":"'РАЗДЕЛ 1(АМП)'!#REF!","v":{"$error":"#REF!"}},{"$f":"'РАЗДЕЛ 1(АМП)'!#REF!","v":{"$error":"#REF!"}},{"$f":"'РАЗДЕЛ 1(АМП)'!#REF!","v":{"$error":"#REF!"}},{"$f":"'РАЗДЕЛ 1(АМП)'!#REF!","v":{"$error":"#REF!"}},null,490017,null,"2017-02-01"]
[null,null,{"$f":"'РАЗДЕЛ 1(АМП)'!#REF!","v":{"$error":"#REF!"}},{"$f":"'РАЗДЕЛ 1(АМП)'!#REF!","v":{"$error":"#REF!"}},{"$f":"'РАЗДЕЛ 1(АМП)'!#REF!","v":{"$error":"#REF!"}},{"$f":"'РАЗДЕЛ 1(АМП)'!#REF!","v":{"$error":"#REF!"}},null,490017,null,"2017-02-01"]
[null,null,{"$f":"#REF!","v":{"$error":"#REF!"}},{"$f":"#REF!","v":{"$error":"#REF!"}},null,{"$f":"#REF!","v":{"$error":"#REF!"}},{"$f":"#REF!","v":{"$error":"#REF!"}},490017,{"$f":"#REF!","v":{"$error":"#REF!"}},"2017-02-01"]
[null,null,{"$f":"#REF!","v":{"$error":"#REF!"}},{"$f":"#REF!","v":{"$error":"#REF!"}},{"$f":"#REF!","v":{"$error":"#REF!"}},{"$f":"#REF!","v":{"$error":"#REF!"}},null,490017,{"$f":"#REF!","v":{"$error":"#REF!"}},"2017-02-01"]
[null,null,{"$f":"#REF!","v":{"$error":"#REF!"}},{"$f":"#REF!","v":{"$error":"#REF!"}},{"$f":"#REF!","v":{"$error":"#REF!"}},{"$f":"#REF!","v":{"$error":"#REF!"}},null,490017,{"$f":"#REF!","v":{"$error":"#REF!"}},"2017-02-01"]
[null,null,{"$f":"#REF!","v":{"$error":"#REF!"}},{"$f":"#REF!","v":{"$error":"#REF!"}},{"$f":"#REF!","v":{"$error":"#REF!"}},{"$f":"#REF!","v":{"$error":"#REF!"}},null,490017,{"$f":"#REF!","v":{"$error":"#REF!"}},"2017-02-01"]
[null,null,{"$f":"#REF!","v":{"$error":"#REF!"}},{"$f":"#REF!","v":{"$error":"#REF!"}},{"$f":"#REF!","v":{"$error":"#REF!"}},{"$f":"#REF!","v":{"$error":"#REF!"}},null,490017,{"$f":"#REF!","v":{"$error":"#REF!"}},"2017-02-01"]
[null,null,{"$f":"#REF!","v":{"$error":"#REF!"}},{"$f":"#REF!","v":{"$error":"#REF!"}},{"$f":"#REF!","v":{"$error":"#REF!"}},{"$f":"#REF!","v":{"$error":"#REF!"}},null,490017,{"$f":"#REF!","v":{"$error":"#REF!"}},"2017-02-01"]
[null,null,{"$f":"'РАЗДЕЛ 1(АМП)'!#REF!","v":{"$error":"#REF!"}},{"$f":"'РАЗДЕЛ 1(АМП)'!#REF!","v":{"$error":"#REF!"}},{"$f":"'РАЗДЕЛ 1(АМП)'!#REF!","v":{"$error":"#REF!"}},{"$f":"'РАЗДЕЛ 1(АМП)'!#REF!","v":{"$error":"#REF!"}},null,490018,null,"2017-02-01"]
[null,null,{"$f":"'РАЗДЕЛ 1(АМП)'!#REF!","v":{"$error":"#REF!"}},{"$f":"'РАЗДЕЛ 1(АМП)'!#REF!","v":{"$error":"#REF!"}},{"$f":"'РАЗДЕЛ 1(АМП)'!#REF!","v":{"$error":"#REF!"}},{"$f":"'РАЗДЕЛ 1(АМП)'!#REF!","v":{"$error":"#REF!"}},null,490018,null,"2017-02-01"]
[null,null,{"$f":"'РАЗДЕЛ 1(АМП)'!#REF!","v":{"$error":"#REF!"}},{"$f":"'РАЗДЕЛ 1(АМП)'!#REF!","v":{"$error":"#REF!"}},{"$f":"'РАЗДЕЛ 1(АМП)'!#REF!","v":{"$error":"#REF!"}},{"$f":"'РАЗДЕЛ 1(АМП)'!#REF!","v":{"$error":"#REF!"}},null,490018,null,"2017-02-01"]
[null,null,{"$f":"'РАЗДЕЛ 1(АМП)'!#REF!","v":{"$error":"#REF!"}},{"$f":"'РАЗДЕЛ 1(АМП)'!#REF!","v":{"$error":"#REF!"}},{"$f":"'РАЗДЕЛ 1(АМП)'!#REF!","v":{"$error":"#REF!"}},{"$f":"'РАЗДЕЛ 1(АМП)'!#REF!","v":{"$error":"#REF!"}},null,490018,null,"2017-02-01"]
[null,null,{"$f":"'РАЗДЕЛ 1(АМП)'!#REF!","v":{"$error":"#REF!"}},{"$f":"'РАЗДЕЛ 1(АМП)'!#REF!","v":{"$error":"#REF!"}},{"$f":"'РАЗДЕЛ 1(АМП)'!#REF!","v":{"$error":"#REF!"}},{"$f":"'РАЗДЕЛ 1(АМП)'!#REF!","v":{"$error":"#REF!"}},null,490018,null,"2017-02-01"]
[null,null,{"$f":"'РАЗДЕЛ 1(АМП)'!#REF!","v":{"$error":"#REF!"}},{"$f":"'РАЗДЕЛ 1(АМП)'!#REF!","v":{"$error":"#REF!"}},{"$f":"'РАЗДЕЛ 1(АМП)'!#REF!","v":{"$error":"#REF!"}},{"$f":"'РАЗДЕЛ 1(АМП)'!#REF!","v":{"$error":"#REF!"}},null,490018,null,"2017-02-01"]
[null,null,{"$f":"'РАЗДЕЛ 1(АМП)'!#REF!","v":{"$error":"#REF!"}},{"$f":"'РАЗДЕЛ 1(АМП)'!#REF!","v":{"$error":"#REF!"}},{"$f":"'РАЗДЕЛ 1(АМП)'!#REF!","v":{"$error":"#REF!"}},{"$f":"'РАЗДЕЛ 1(АМП)'!#REF!","v":{"$error":"#REF!"}},null,490018,null,"2017-02-01"]
[null,null,{"$f":"'РАЗДЕЛ 1(АМП)'!#REF!","v":{"$error":"#REF!"}},{"$f":"'РАЗДЕЛ 1(АМП)'!#REF!","v":{"$error":"#REF!"}},{"$f":"'РАЗДЕЛ 1(АМП)'!#REF!","v":{"$error":"#REF!"}},{"$f":"'РАЗДЕЛ 1(АМП)'!#REF!","v":{"$error":"#REF!"}},null,490018,null,"2017-02-01"]
[null,null,{"$f":"'РАЗДЕЛ 1(АМП)'!#REF!","v":{"$error":"#REF!"}},{"$f":"'РАЗДЕЛ 1(АМП)'!#REF!","v":{"$error":"#REF!"}},{"$f":"'РАЗДЕЛ 1(АМП)'!#REF!","v":{"$error":"#REF!"}},{"$f":"'РАЗДЕЛ 1(АМП)'!#REF!","v":{"$error":"#REF!"}},null,490018,null,"2017-02-01"]
[null,null,{"$f":"'РАЗДЕЛ 1(АМП)'!#REF!","v":{"$error":"#REF!"}},{"$f":"'РАЗДЕЛ 1(АМП)'!#REF!","v":{"$error":"#REF!"}},{"$f":"'РАЗДЕЛ 1(АМП)'!#REF!","v":{"$error":"#REF!"}},{"$f":"'РАЗДЕЛ 1(АМП)'!#REF!","v":{"$error":"#REF!"}},null,490018,null,"2017-02-01"]
[null,null,{"$f":"'РАЗДЕЛ 1(АМП)'!#REF!","v":{"$error":"#REF!"}},{"$f":"'РАЗДЕЛ 1(АМП)'!#REF!","v":{"$error":"#REF!"}},{"$f":"'РАЗДЕЛ 1(АМП)'!#REF!","v":{"$error":"#REF!"}},{"$f":"'РАЗДЕЛ 1(АМП)'!#REF!","v":{"$error":"#REF!"}},null,{"$f":"H932","v":490018},null,"2017-02-01"]
[null,null,{"$f":"'РАЗДЕЛ 1(АМП)'!#REF!","v":{"$error":"#REF!"}},{"$f":"'РАЗДЕЛ 1(АМП)'!#REF!","v":{"$error":"#REF!"}},{"$f":"'РАЗДЕЛ 1(АМП)'!#REF!","v":{"$error":"#REF!"}},{"$f":"'РАЗДЕЛ 1(АМП)'!#REF!","v":{"$error":"#REF!"}},null,490018,null,"2017-02-01"]
[null,null,{"$f":"'РАЗДЕЛ 1(АМП)'!#REF!","v":{"$error":"#REF!"}},{"$f":"'РАЗДЕЛ 1(АМП)'!#REF!","v":{"$error":"#REF!"}},{"$f":"'РАЗДЕЛ 1(АМП)'!#REF!","v":{"$error":"#REF!"}},{"$f":"'РАЗДЕЛ 1(АМП)'!#REF!","v":{"$error":"#REF!"}},null,490018,null,"2017-02-01"]
[null,null,{"$f":"'РАЗДЕЛ 1(АМП)'!#REF!","v":{"$error":"#REF!"}},{"$f":"'РАЗДЕЛ 1(АМП)'!#REF!","v":{"$error":"#REF!"}},{"$f":"'РАЗДЕЛ 1(АМП)'!#REF!","v":{"$error":"#REF!"}},{"$f":"'РАЗДЕЛ 1(АМП)'!#REF!","v":{"$error":"#REF!"}},null,490018,null,"2017-02-01"]
[null,null,{"$f":"'РАЗДЕЛ 1(АМП)'!#REF!","v":{"$error":"#REF!"}},{"$f":"'РАЗДЕЛ 1(АМП)'!#REF!","v":{"$error":"#REF!"}},null,{"$f":"'РАЗДЕЛ 1(АМП)'!#REF!","v":{"$error":"#REF!"}},{"$f":"'РАЗДЕЛ 1(АМП)'!#REF!","v":{"$error":"#REF!"}},490018,null,"2017-02-01"]
[null,null,{"$f":"'РАЗДЕЛ 1(АМП)'!#REF!","v":{"$error":"#REF!"}},{"$f":"'РАЗДЕЛ 1(АМП)'!#REF!","v":{"$error":"#REF!"}},{"$f":"'РАЗДЕЛ 1(АМП)'!#REF!","v":{"$error":"#REF!"}},{"$f":"'РАЗДЕЛ 1(АМП)'!#REF!","v":{"$error":"#REF!"}},null,490018,null,"2017-02-01"]
[null,null,{"$f":"'РАЗДЕЛ 1(АМП)'!#REF!","v":{"$error":"#REF!"}},{"$f":"'РАЗДЕЛ 1(АМП)'!#REF!","v":{"$error":"#REF!"}},{"$f":"'РАЗДЕЛ 1(АМП)'!#REF!","v":{"$error":"#REF!"}},{"$f":"'РАЗДЕЛ 1(АМП)'!#REF!","v":{"$error":"#REF!"}},null,490018,null,"2017-02-01"]
[null,null,{"$f":"'РАЗДЕЛ 1(АМП)'!#REF!","v":{"$error":"#REF!"}},{"$f":"'РАЗДЕЛ 1(АМП)'!#REF!","v":{"$error":"#REF!"}},{"$f":"'РАЗДЕЛ 1(АМП)'!#REF!","v":{"$error":"#REF!"}},{"$f":"'РАЗДЕЛ 1(АМП)'!#REF!","v":{"$error":"#REF!"}},null,490018,null,"2017-02-01"]
[null,null,{"$f":"'РАЗДЕЛ 1(АМП)'!#REF!","v":{"$error":"#REF!"}},{"$f":"'РАЗДЕЛ 1(АМП)'!#REF!","v":{"$error":"#REF!"}},{"$f":"'РАЗДЕЛ 1(АМП)'!#REF!","v":{"$error":"#REF!"}},{"$f":"'РАЗДЕЛ 1(АМП)'!#REF!","v":{"$error":"#REF!"}},null,490018,null,"2017-02-01"]
[null,null,{"$f":"'РАЗДЕЛ 1(АМП)'!#REF!","v":{"$error":"#REF!"}},{"$f":"'РАЗДЕЛ 1(АМП)'!#REF!","v":{"$error":"#REF!"}},{"$f":"'РАЗДЕЛ 1(АМП)'!#REF!","v":{"$error":"#REF!"}},{"$f":"'РАЗДЕЛ 1(АМП)'!#REF!","v":{"$error":"#REF!"}},null,490018,null,"2017-02-01"]
[null,null,{"$f":"'РАЗДЕЛ 1(АМП)'!#REF!","v":{"$error":"#REF!"}},{"$f":"'РАЗДЕЛ 1(АМП)'!#REF!","v":{"$error":"#REF!"}},{"$f":"'РАЗДЕЛ 1(АМП)'!#REF!","v":{"$error":"#REF!"}},{"$f":"'РАЗДЕЛ 1(АМП)'!#REF!","v":{"$error":"#REF!"}},null,490018,null,"2017-02-01"]
[null,null,{"$f":"'РАЗДЕЛ 1(АМП)'!#REF!","v":{"$error":"#REF!"}},{"$f":"'РАЗДЕЛ 1(АМП)'!#REF!","v":{"$error":"#REF!"}},{"$f":"'РАЗДЕЛ 1(АМП)'!#REF!","v":{"$error":"#REF!"}},{"$f":"'РАЗДЕЛ 1(АМП)'!#REF!","v":{"$error":"#REF!"}},null,490018,null,"2017-02-01"]
[null,null,{"$f":"'РАЗДЕЛ 1(АМП)'!#REF!","v":{"$error":"#REF!"}},{"$f":"'РАЗДЕЛ 1(АМП)'!#REF!","v":{"$error":"#REF!"}},null,{"$f":"'РАЗДЕЛ 1(АМП)'!#REF!","v":{"$error":"#REF!"}},null,490018,null,"2017-02-01"]
[null,null,{"$f":"'РАЗДЕЛ 1(АМП)'!#REF!","v":{"$error":"#REF!"}},{"$f":"'РАЗДЕЛ 1(АМП)'!#REF!","v":{"$error":"#REF!"}},{"$f":"'РАЗДЕЛ 1(АМП)'!#REF!","v":{"$error":"#REF!"}},{"$f":"'РАЗДЕЛ 1(АМП)'!#REF!","v":{"$error":"#REF!"}},null,490018,null,"2017-02-01"]
[null,null,{"$f":"'РАЗДЕЛ 1(АМП)'!#REF!","v":{"$error":"#REF!"}},{"$f":"'РАЗДЕЛ 1(АМП)'!#REF!","v":{"$error":"#REF!"}},{"$f":"'РАЗДЕЛ 1(АМП)'!#REF!","v":{"$error":"#REF!"}},{"$f":"'РАЗДЕЛ 1(АМП)'!#REF!","v":{"$error":"#REF!"}},null,490018,null,"2017-02-01"]
[null,null,{"$f":"'РАЗДЕЛ 1(АМП)'!#REF!","v":{"$error":"#REF!"}},{"$f":"'РАЗДЕЛ 1(АМП)'!#REF!","v":{"$error":"#REF!"}},{"$f":"'РАЗДЕЛ 1(АМП)'!#REF!","v":{"$error":"#REF!"}},{"$f":"'РАЗДЕЛ 1(АМП)'!#REF!","v":{"$error":"#REF!"}},null,490018,null,"2017-02-01"]
[null,null,{"$f":"'РАЗДЕЛ 1(АМП)'!#REF!","v":{"$error":"#REF!"}},{"$f":"'РАЗДЕЛ 1(АМП)'!#REF!","v":{"$error":"#REF!"}},{"$f":"'РАЗДЕЛ 1(АМП)'!#REF!","v":{"$error":"#REF!"}},{"$f":"'РАЗДЕЛ 1(АМП)'!#REF!","v":{"$error":"#REF!"}},null,490018,null,"2017-02-01"]
[null,null,{"$f":"'РАЗДЕЛ 1(АМП)'!#REF!","v":{"$error":"#REF!"}},{"$f":"'РАЗДЕЛ 1(АМП)'!#REF!","v":{"$error":"#REF!"}},{"$f":"'РАЗДЕЛ 1(АМП)'!#REF!","v":{"$error":"#REF!"}},{"$f":"'РАЗДЕЛ 1(АМП)'!#REF!","v":{"$error":"#REF!"}},null,490018,null,"2017-02-01"]
[null,null,{"$f":"'РАЗДЕЛ 1(АМП)'!#REF!","v":{"$error":"#REF!"}},{"$f":"'РАЗДЕЛ 1(АМП)'!#REF!","v":{"$error":"#REF!"}},{"$f":"'РАЗДЕЛ 1(АМП)'!#REF!","v":{"$error":"#REF!"}},{"$f":"'РАЗДЕЛ 1(АМП)'!#REF!","v":{"$error":"#REF!"}},null,490018,null,"2017-02-01"]
[null,null,{"$f":"'РАЗДЕЛ 1(АМП)'!#REF!","v":{"$error":"#REF!"}},{"$f":"'РАЗДЕЛ 1(АМП)'!#REF!","v":{"$error":"#REF!"}},{"$f":"'РАЗДЕЛ 1(АМП)'!#REF!","v":{"$error":"#REF!"}},{"$f":"'РАЗДЕЛ 1(АМП)'!#REF!","v":{"$error":"#REF!"}},null,490018,null,"2017-02-01"]
[null,null,{"$f":"'РАЗДЕЛ 1(АМП)'!#REF!","v":{"$error":"#REF!"}},{"$f":"'РАЗДЕЛ 1(АМП)'!#REF!","v":{"$error":"#REF!"}},{"$f":"'РАЗДЕЛ 1(АМП)'!#REF!","v":{"$error":"#REF!"}},{"$f":"'РАЗДЕЛ 1(АМП)'!#REF!","v":{"$error":"#REF!"}},null,490018,null,"2017-02-01"]
[null,null,{"$f":"'РАЗДЕЛ 1(АМП)'!#REF!","v":{"$error":"#REF!"}},{"$f":"'РАЗДЕЛ 1(АМП)'!#REF!","v":{"$error":"#REF!"}},{"$f":"'РАЗДЕЛ 1(АМП)'!#REF!","v":{"$error":"#REF!"}},{"$f":"'РАЗДЕЛ 1(АМП)'!#REF!","v":{"$error":"#REF!"}},null,490018,null,"2017-02-01"]
[null,null,{"$f":"'РАЗДЕЛ 1(АМП)'!#REF!","v":{"$error":"#REF!"}},{"$f":"'РАЗДЕЛ 1(АМП)'!#REF!","v":{"$error":"#REF!"}},{"$f":"'РАЗДЕЛ 1(АМП)'!#REF!","v":{"$error":"#REF!"}},{"$f":"'РАЗДЕЛ 1(АМП)'!#REF!","v":{"$error":"#REF!"}},null,490018,null,"2017-02-01"]
[null,null,{"$f":"'РАЗДЕЛ 1(АМП)'!#REF!","v":{"$error":"#REF!"}},{"$f":"'РАЗДЕЛ 1(АМП)'!#REF!","v":{"$error":"#REF!"}},{"$f":"'РАЗДЕЛ 1(АМП)'!#REF!","v":{"$error":"#REF!"}},{"$f":"'РАЗДЕЛ 1(АМП)'!#REF!","v":{"$error":"#REF!"}},null,490018,null,"2017-02-01"]
[null,null,{"$f":"'РАЗДЕЛ 1(АМП)'!#REF!","v":{"$error":"#REF!"}},{"$f":"'РАЗДЕЛ 1(АМП)'!#REF!","v":{"$error":"#REF!"}},{"$f":"'РАЗДЕЛ 1(АМП)'!#REF!","v":{"$error":"#REF!"}},{"$f":"'РАЗДЕЛ 1(АМП)'!#REF!","v":{"$error":"#REF!"}},null,490018,null,"2017-02-01"]
[null,null,{"$f":"'РАЗДЕЛ 1(АМП)'!#REF!","v":{"$error":"#REF!"}},{"$f":"'РАЗДЕЛ 1(АМП)'!#REF!","v":{"$error":"#REF!"}},{"$f":"'РАЗДЕЛ 1(АМП)'!#REF!","v":{"$error":"#REF!"}},{"$f":"'РАЗДЕЛ 1(АМП)'!#REF!","v":{"$error":"#REF!"}},null,490018,null,"2017-02-01"]
[null,null,{"$f":"'РАЗДЕЛ 1(АМП)'!#REF!","v":{"$error":"#REF!"}},{"$f":"'РАЗДЕЛ 1(АМП)'!#REF!","v":{"$error":"#REF!"}},{"$f":"'РАЗДЕЛ 1(АМП)'!#REF!","v":{"$error":"#REF!"}},{"$f":"'РАЗДЕЛ 1(АМП)'!#REF!","v":{"$error":"#REF!"}},null,490018,null,"2017-02-01"]
[null,null,{"$f":"'РАЗДЕЛ 1(АМП)'!#REF!","v":{"$error":"#REF!"}},{"$f":"'РАЗДЕЛ 1(АМП)'!#REF!","v":{"$error":"#REF!"}},null,{"$f":"'РАЗДЕЛ 1(АМП)'!#REF!","v":{"$error":"#REF!"}},{"$f":"'РАЗДЕЛ 1(АМП)'!#REF!","v":{"$error":"#REF!"}},490018,null,"2017-02-01"]
[null,null,{"$f":"'РАЗДЕЛ 1(АМП)'!#REF!","v":{"$error":"#REF!"}},{"$f":"'РАЗДЕЛ 1(АМП)'!#REF!","v":{"$error":"#REF!"}},{"$f":"'РАЗДЕЛ 1(АМП)'!#REF!","v":{"$error":"#REF!"}},{"$f":"'РАЗДЕЛ 1(АМП)'!#REF!","v":{"$error":"#REF!"}},null,490018,null,"2017-02-01"]
[null,null,{"$f":"'РАЗДЕЛ 1(АМП)'!#REF!","v":{"$error":"#REF!"}},{"$f":"'РАЗДЕЛ 1(АМП)'!#REF!","v":{"$error":"#REF!"}},{"$f":"'РАЗДЕЛ 1(АМП)'!#REF!","v":{"$error":"#REF!"}},{"$f":"'РАЗДЕЛ 1(АМП)'!#REF!","v":{"$error":"#REF!"}},null,490018,null,"2017-02-01"]
[null,null,{"$f":"'РАЗДЕЛ 1(АМП)'!#REF!","v":{"$error":"#REF!"}},{"$f":"'РАЗДЕЛ 1(АМП)'!#REF!","v":{"$error":"#REF!"}},{"$f":"'РАЗДЕЛ 1(АМП)'!#REF!","v":{"$error":"#REF!"}},{"$f":"'РАЗДЕЛ 1(АМП)'!#REF!","v":{"$error":"#REF!"}},null,490018,null,"2017-02-01"]
[null,null,{"$f":"'РАЗДЕЛ 1(АМП)'!#REF!","v":{"$error":"#REF!"}},{"$f":"'РАЗДЕЛ 1(АМП)'!#REF!","v":{"$error":"#REF!"}},{"$f":"'РАЗДЕЛ 1(АМП)'!#REF!","v":{"$error":"#REF!"}},{"$f":"'РАЗДЕЛ 1(АМП)'!#REF!","v":{"$error":"#REF!"}},null,490018,null,"2017-02-01"]
[null,null,{"$f":"'РАЗДЕЛ 1(АМП)'!#REF!","v":{"$error":"#REF!"}},{"$f":"'РАЗДЕЛ 1(АМП)'!#REF!","v":{"$error":"#REF!"}},{"$f":"'РАЗДЕЛ 1(АМП)'!#REF!","v":{"$error":"#REF!"}},{"$f":"'РАЗДЕЛ 1(АМП)'!#REF!","v":{"$error":"#REF!"}},null,490018,null,"2017-02-01"]
[null,null,{"$f":"'РАЗДЕЛ 1(АМП)'!#REF!","v":{"$error":"#REF!"}},{"$f":"'РАЗДЕЛ 1(АМП)'!#REF!","v":{"$error":"#REF!"}},{"$f":"'РАЗДЕЛ 1(АМП)'!#REF!","v":{"$error":"#REF!"}},{"$f":"'РАЗДЕЛ 1(АМП)'!#REF!","v":{"$error":"#REF!"}},null,490018,null,"2017-02-01"]
[null,null,{"$f":"'РАЗДЕЛ 1(АМП)'!#REF!","v":{"$error":"#REF!"}},{"$f":"'РАЗДЕЛ 1(АМП)'!#REF!","v":{"$error":"#REF!"}},{"$f":"'РАЗДЕЛ 1(АМП)'!#REF!","v":{"$error":"#REF!"}},{"$f":"'РАЗДЕЛ 1(АМП)'!#REF!","v":{"$error":"#REF!"}},null,490018,null,{"$f":"J966","v":"2017-02-01"}]
[null,null,{"$f":"#REF!","v":{"$error":"#REF!"}},{"$f":"#REF!","v":{"$error":"#REF!"}},{"$f":"#REF!","v":{"$error":"#REF!"}},{"$f":"#REF!","v":{"$error":"#REF!"}},null,490018,{"$f":"#REF!","v":{"$error":"#REF!"}},"2017-02-01"]
[null,null,{"$f":"#REF!","v":{"$error":"#REF!"}},{"$f":"#REF!","v":{"$error":"#REF!"}},{"$f":"#REF!","v":{"$error":"#REF!"}},{"$f":"#REF!","v":{"$error":"#REF!"}},null,490018,{"$f":"#REF!","v":{"$error":"#REF!"}},"2017-02-01"]
[null,null,{"$f":"#REF!","v":{"$error":"#REF!"}},{"$f":"#REF!","v":{"$error":"#REF!"}},{"$f":"#REF!","v":{"$error":"#REF!"}},{"$f":"#REF!","v":{"$error":"#REF!"}},null,490018,{"$f":"#REF!","v":{"$error":"#REF!"}},"2017-02-01"]
[null,null,{"$f":"#REF!","v":{"$error":"#REF!"}},{"$f":"#REF!","v":{"$error":"#REF!"}},{"$f":"#REF!","v":{"$error":"#REF!"}},{"$f":"#REF!","v":{"$error":"#REF!"}},null,490018,{"$f":"#REF!","v":{"$error":"#REF!"}},"2017-02-01"]
[null,null,{"$f":"#REF!","v":{"$error":"#REF!"}},{"$f":"#REF!","v":{"$error":"#REF!"}},{"$f":"#REF!","v":{"$error":"#REF!"}},{"$f":"#REF!","v":{"$error":"#REF!"}},null,490018,{"$f":"#REF!","v":{"$error":"#REF!"}},"2017-02-01"]
[null,null,{"$f":"'РАЗДЕЛ 1(АМП)'!#REF!","v":{"$error":"#REF!"}},{"$f":"'РАЗДЕЛ 1(АМП)'!#REF!","v":{"$error":"#REF!"}},{"$f":"'РАЗДЕЛ 1(АМП)'!#REF!","v":{"$error":"#REF!"}},{"$f":"'РАЗДЕЛ 1(АМП)'!#REF!","v":{"$error":"#REF!"}},null,490019,null,"2017-02-01"]
[null,null,{"$f":"'РАЗДЕЛ 1(АМП)'!#REF!","v":{"$error":"#REF!"}},{"$f":"'РАЗДЕЛ 1(АМП)'!#REF!","v":{"$error":"#REF!"}},{"$f":"'РАЗДЕЛ 1(АМП)'!#REF!","v":{"$error":"#REF!"}},{"$f":"'РАЗДЕЛ 1(АМП)'!#REF!","v":{"$error":"#REF!"}},null,490019,null,"2017-02-01"]
[null,null,{"$f":"'РАЗДЕЛ 1(АМП)'!#REF!","v":{"$error":"#REF!"}},{"$f":"'РАЗДЕЛ 1(АМП)'!#REF!","v":{"$error":"#REF!"}},{"$f":"'РАЗДЕЛ 1(АМП)'!#REF!","v":{"$error":"#REF!"}},{"$f":"'РАЗДЕЛ 1(АМП)'!#REF!","v":{"$error":"#REF!"}},null,490019,null,"2017-02-01"]
[null,null,{"$f":"'РАЗДЕЛ 1(АМП)'!#REF!","v":{"$error":"#REF!"}},{"$f":"'РАЗДЕЛ 1(АМП)'!#REF!","v":{"$error":"#REF!"}},{"$f":"'РАЗДЕЛ 1(АМП)'!#REF!","v":{"$error":"#REF!"}},{"$f":"'РАЗДЕЛ 1(АМП)'!#REF!","v":{"$error":"#REF!"}},null,490019,null,"2017-02-01"]
[null,null,{"$f":"'РАЗДЕЛ 1(АМП)'!#REF!","v":{"$error":"#REF!"}},{"$f":"'РАЗДЕЛ 1(АМП)'!#REF!","v":{"$error":"#REF!"}},{"$f":"'РАЗДЕЛ 1(АМП)'!#REF!","v":{"$error":"#REF!"}},{"$f":"'РАЗДЕЛ 1(АМП)'!#REF!","v":{"$error":"#REF!"}},null,490019,null,"2017-02-01"]
[null,null,{"$f":"'РАЗДЕЛ 1(АМП)'!#REF!","v":{"$error":"#REF!"}},{"$f":"'РАЗДЕЛ 1(АМП)'!#REF!","v":{"$error":"#REF!"}},{"$f":"'РАЗДЕЛ 1(АМП)'!#REF!","v":{"$error":"#REF!"}},{"$f":"'РАЗДЕЛ 1(АМП)'!#REF!","v":{"$error":"#REF!"}},null,490019,null,"2017-02-01"]
[null,null,{"$f":"'РАЗДЕЛ 1(АМП)'!#REF!","v":{"$error":"#REF!"}},{"$f":"'РАЗДЕЛ 1(АМП)'!#REF!","v":{"$error":"#REF!"}},{"$f":"'РАЗДЕЛ 1(АМП)'!#REF!","v":{"$error":"#REF!"}},{"$f":"'РАЗДЕЛ 1(АМП)'!#REF!","v":{"$error":"#REF!"}},null,490019,null,"2017-02-01"]
[null,null,{"$f":"'РАЗДЕЛ 1(АМП)'!#REF!","v":{"$error":"#REF!"}},{"$f":"'РАЗДЕЛ 1(АМП)'!#REF!","v":{"$error":"#REF!"}},{"$f":"'РАЗДЕЛ 1(АМП)'!#REF!","v":{"$error":"#REF!"}},{"$f":"'РАЗДЕЛ 1(АМП)'!#REF!","v":{"$error":"#REF!"}},null,490019,null,"2017-02-01"]
[null,null,{"$f":"'РАЗДЕЛ 1(АМП)'!#REF!","v":{"$error":"#REF!"}},{"$f":"'РАЗДЕЛ 1(АМП)'!#REF!","v":{"$error":"#REF!"}},{"$f":"'РАЗДЕЛ 1(АМП)'!#REF!","v":{"$error":"#REF!"}},{"$f":"'РАЗДЕЛ 1(АМП)'!#REF!","v":{"$error":"#REF!"}},null,490019,null,"2017-02-01"]
[null,null,{"$f":"'РАЗДЕЛ 1(АМП)'!#REF!","v":{"$error":"#REF!"}},{"$f":"'РАЗДЕЛ 1(АМП)'!#REF!","v":{"$error":"#REF!"}},{"$f":"'РАЗДЕЛ 1(АМП)'!#REF!","v":{"$error":"#REF!"}},{"$f":"'РАЗДЕЛ 1(АМП)'!#REF!","v":{"$error":"#REF!"}},null,490019,null,"2017-02-01"]
[null,null,{"$f":"'РАЗДЕЛ 1(АМП)'!#REF!","v":{"$error":"#REF!"}},{"$f":"'РАЗДЕЛ 1(АМП)'!#REF!","v":{"$error":"#REF!"}},{"$f":"'РАЗДЕЛ 1(АМП)'!#REF!","v":{"$error":"#REF!"}},{"$f":"'РАЗДЕЛ 1(АМП)'!#REF!","v":{"$error":"#REF!"}},null,490019,null,"2017-02-01"]
[null,null,{"$f":"'РАЗДЕЛ 1(АМП)'!#REF!","v":{"$error":"#REF!"}},{"$f":"'РАЗДЕЛ 1(АМП)'!#REF!","v":{"$error":"#REF!"}},{"$f":"'РАЗДЕЛ 1(АМП)'!#REF!","v":{"$error":"#REF!"}},{"$f":"'РАЗДЕЛ 1(АМП)'!#REF!","v":{"$error":"#REF!"}},null,490019,null,"2017-02-01"]
[null,null,{"$f":"'РАЗДЕЛ 1(АМП)'!#REF!","v":{"$error":"#REF!"}},{"$f":"'РАЗДЕЛ 1(АМП)'!#REF!","v":{"$error":"#REF!"}},{"$f":"'РАЗДЕЛ 1(АМП)'!#REF!","v":{"$error":"#REF!"}},{"$f":"'РАЗДЕЛ 1(АМП)'!#REF!","v":{"$error":"#REF!"}},null,490019,null,"2017-02-01"]
[null,null,{"$f":"'РАЗДЕЛ 1(АМП)'!#REF!","v":{"$error":"#REF!"}},{"$f":"'РАЗДЕЛ 1(АМП)'!#REF!","v":{"$error":"#REF!"}},{"$f":"'РАЗДЕЛ 1(АМП)'!#REF!","v":{"$error":"#REF!"}},{"$f":"'РАЗДЕЛ 1(АМП)'!#REF!","v":{"$error":"#REF!"}},null,490019,null,"2017-02-01"]
[null,null,{"$f":"'РАЗДЕЛ 1(АМП)'!#REF!","v":{"$error":"#REF!"}},{"$f":"'РАЗДЕЛ 1(АМП)'!#REF!","v":{"$error":"#REF!"}},{"$f":"'РАЗДЕЛ 1(АМП)'!#REF!","v":{"$error":"#REF!"}},{"$f":"'РАЗДЕЛ 1(АМП)'!#REF!","v":{"$error":"#REF!"}},null,490019,null,"2017-02-01"]
[null,null,{"$f":"'РАЗДЕЛ 1(АМП)'!#REF!","v":{"$error":"#REF!"}},{"$f":"'РАЗДЕЛ 1(АМП)'!#REF!","v":{"$error":"#REF!"}},{"$f":"'РАЗДЕЛ 1(АМП)'!#REF!","v":{"$error":"#REF!"}},{"$f":"'РАЗДЕЛ 1(АМП)'!#REF!","v":{"$error":"#REF!"}},null,490019,null,"2017-02-01"]
[null,null,{"$f":"'РАЗДЕЛ 1(АМП)'!#REF!","v":{"$error":"#REF!"}},{"$f":"'РАЗДЕЛ 1(АМП)'!#REF!","v":{"$error":"#REF!"}},null,{"$f":"'РАЗДЕЛ 1(АМП)'!#REF!","v":{"$error":"#REF!"}},{"$f":"'РАЗДЕЛ 1(АМП)'!#REF!","v":{"$error":"#REF!"}},490019,null,"2017-02-01"]
[null,null,{"$f":"'РАЗДЕЛ 1(АМП)'!#REF!","v":{"$error":"#REF!"}},{"$f":"'РАЗДЕЛ 1(АМП)'!#REF!","v":{"$error":"#REF!"}},{"$f":"'РАЗДЕЛ 1(АМП)'!#REF!","v":{"$error":"#REF!"}},{"$f":"'РАЗДЕЛ 1(АМП)'!#REF!","v":{"$error":"#REF!"}},null,490019,null,"2017-02-01"]
[null,null,{"$f":"'РАЗДЕЛ 1(АМП)'!#REF!","v":{"$error":"#REF!"}},{"$f":"'РАЗДЕЛ 1(АМП)'!#REF!","v":{"$error":"#REF!"}},{"$f":"'РАЗДЕЛ 1(АМП)'!#REF!","v":{"$error":"#REF!"}},{"$f":"'РАЗДЕЛ 1(АМП)'!#REF!","v":{"$error":"#REF!"}},null,490019,null,"2017-02-01"]
[null,null,{"$f":"'РАЗДЕЛ 1(АМП)'!#REF!","v":{"$error":"#REF!"}},{"$f":"'РАЗДЕЛ 1(АМП)'!#REF!","v":{"$error":"#REF!"}},{"$f":"'РАЗДЕЛ 1(АМП)'!#REF!","v":{"$error":"#REF!"}},{"$f":"'РАЗДЕЛ 1(АМП)'!#REF!","v":{"$error":"#REF!"}},null,490019,null,"2017-02-01"]
[null,null,{"$f":"'РАЗДЕЛ 1(АМП)'!#REF!","v":{"$error":"#REF!"}},{"$f":"'РАЗДЕЛ 1(АМП)'!#REF!","v":{"$error":"#REF!"}},{"$f":"'РАЗДЕЛ 1(АМП)'!#REF!","v":{"$error":"#REF!"}},{"$f":"'РАЗДЕЛ 1(АМП)'!#REF!","v":{"$error":"#REF!"}},null,490019,null,"2017-02-01"]
[null,null,{"$f":"'РАЗДЕЛ 1(АМП)'!#REF!","v":{"$error":"#REF!"}},{"$f":"'РАЗДЕЛ 1(АМП)'!#REF!","v":{"$error":"#REF!"}},{"$f":"'РАЗДЕЛ 1(АМП)'!#REF!","v":{"$error":"#REF!"}},{"$f":"'РАЗДЕЛ 1(АМП)'!#REF!","v":{"$error":"#REF!"}},null,{"$f":"H993","v":490019},null,"2017-02-01"]
[null,null,{"$f":"'РАЗДЕЛ 1(АМП)'!#REF!","v":{"$error":"#REF!"}},{"$f":"'РАЗДЕЛ 1(АМП)'!#REF!","v":{"$error":"#REF!"}},{"$f":"'РАЗДЕЛ 1(АМП)'!#REF!","v":{"$error":"#REF!"}},{"$f":"'РАЗДЕЛ 1(АМП)'!#REF!","v":{"$error":"#REF!"}},null,490019,null,"2017-02-01"]
[null,null,{"$f":"'РАЗДЕЛ 1(АМП)'!#REF!","v":{"$error":"#REF!"}},{"$f":"'РАЗДЕЛ 1(АМП)'!#REF!","v":{"$error":"#REF!"}},{"$f":"'РАЗДЕЛ 1(АМП)'!#REF!","v":{"$error":"#REF!"}},{"$f":"'РАЗДЕЛ 1(АМП)'!#REF!","v":{"$error":"#REF!"}},null,490019,null,"2017-02-01"]
[null,null,{"$f":"'РАЗДЕЛ 1(АМП)'!#REF!","v":{"$error":"#REF!"}},{"$f":"'РАЗДЕЛ 1(АМП)'!#REF!","v":{"$error":"#REF!"}},{"$f":"'РАЗДЕЛ 1(АМП)'!#REF!","v":{"$error":"#REF!"}},{"$f":"'РАЗДЕЛ 1(АМП)'!#REF!","v":{"$error":"#REF!"}},null,490019,null,"2017-02-01"]
[null,null,{"$f":"'РАЗДЕЛ 1(АМП)'!#REF!","v":{"$error":"#REF!"}},{"$f":"'РАЗДЕЛ 1(АМП)'!#REF!","v":{"$error":"#REF!"}},{"$f":"'РАЗДЕЛ 1(АМП)'!#REF!","v":{"$error":"#REF!"}},{"$f":"'РАЗДЕЛ 1(АМП)'!#REF!","v":{"$error":"#REF!"}},null,490019,null,"2017-02-01"]
[null,null,{"$f":"'РАЗДЕЛ 1(АМП)'!#REF!","v":{"$error":"#REF!"}},{"$f":"'РАЗДЕЛ 1(АМП)'!#REF!","v":{"$error":"#REF!"}},{"$f":"'РАЗДЕЛ 1(АМП)'!#REF!","v":{"$error":"#REF!"}},{"$f":"'РАЗДЕЛ 1(АМП)'!#REF!","v":{"$error":"#REF!"}},null,490019,null,"2017-02-01"]
[null,null,{"$f":"'РАЗДЕЛ 1(АМП)'!#REF!","v":{"$error":"#REF!"}},{"$f":"'РАЗДЕЛ 1(АМП)'!#REF!","v":{"$error":"#REF!"}},{"$f":"'РАЗДЕЛ 1(АМП)'!#REF!","v":{"$error":"#REF!"}},{"$f":"'РАЗДЕЛ 1(АМП)'!#REF!","v":{"$error":"#REF!"}},null,490019,null,"2017-02-01"]
[null,null,{"$f":"'РАЗДЕЛ 1(АМП)'!#REF!","v":{"$error":"#REF!"}},{"$f":"'РАЗДЕЛ 1(АМП)'!#REF!","v":{"$error":"#REF!"}},{"$f":"'РАЗДЕЛ 1(АМП)'!#REF!","v":{"$error":"#REF!"}},{"$f":"'РАЗДЕЛ 1(АМП)'!#REF!","v":{"$error":"#REF!"}},null,490019,null,"2017-02-01"]
[null,null,{"$f":"'РАЗДЕЛ 1(АМП)'!#REF!","v":{"$error":"#REF!"}},{"$f":"'РАЗДЕЛ 1(АМП)'!#REF!","v":{"$error":"#REF!"}},{"$f":"'РАЗДЕЛ 1(АМП)'!#REF!","v":{"$error":"#REF!"}},{"$f":"'РАЗДЕЛ 1(АМП)'!#REF!","v":{"$error":"#REF!"}},null,490019,null,"2017-02-01"]
[null,null,{"$f":"'РАЗДЕЛ 1(АМП)'!#REF!","v":{"$error":"#REF!"}},{"$f":"'РАЗДЕЛ 1(АМП)'!#REF!","v":{"$error":"#REF!"}},{"$f":"'РАЗДЕЛ 1(АМП)'!#REF!","v":{"$error":"#REF!"}},{"$f":"'РАЗДЕЛ 1(АМП)'!#REF!","v":{"$error":"#REF!"}},null,490019,null,"2017-02-01"]
[null,null,{"$f":"'РАЗДЕЛ 1(АМП)'!#REF!","v":{"$error":"#REF!"}},{"$f":"'РАЗДЕЛ 1(АМП)'!#REF!","v":{"$error":"#REF!"}},{"$f":"'РАЗДЕЛ 1(АМП)'!#REF!","v":{"$error":"#REF!"}},{"$f":"'РАЗДЕЛ 1(АМП)'!#REF!","v":{"$error":"#REF!"}},null,490019,null,"2017-02-01"]
[null,null,{"$f":"'РАЗДЕЛ 1(АМП)'!#REF!","v":{"$error":"#REF!"}},{"$f":"'РАЗДЕЛ 1(АМП)'!#REF!","v":{"$error":"#REF!"}},{"$f":"'РАЗДЕЛ 1(АМП)'!#REF!","v":{"$error":"#REF!"}},{"$f":"'РАЗДЕЛ 1(АМП)'!#REF!","v":{"$error":"#REF!"}},null,490019,null,"2017-02-01"]
[null,null,{"$f":"'РАЗДЕЛ 1(АМП)'!#REF!","v":{"$error":"#REF!"}},{"$f":"'РАЗДЕЛ 1(АМП)'!#REF!","v":{"$error":"#REF!"}},{"$f":"'РАЗДЕЛ 1(АМП)'!#REF!","v":{"$error":"#REF!"}},{"$f":"'РАЗДЕЛ 1(АМП)'!#REF!","v":{"$error":"#REF!"}},null,490019,null,"2017-02-01"]
[null,null,{"$f":"'РАЗДЕЛ 1(АМП)'!#REF!","v":{"$error":"#REF!"}},{"$f":"'РАЗДЕЛ 1(АМП)'!#REF!","v":{"$error":"#REF!"}},{"$f":"'РАЗДЕЛ 1(АМП)'!#REF!","v":{"$error":"#REF!"}},{"$f":"'РАЗДЕЛ 1(АМП)'!#REF!","v":{"$error":"#REF!"}},null,490019,null,"2017-02-01"]
[null,null,{"$f":"'РАЗДЕЛ 1(АМП)'!#REF!","v":{"$error":"#REF!"}},{"$f":"'РАЗДЕЛ 1(АМП)'!#REF!","v":{"$error":"#REF!"}},{"$f":"'РАЗДЕЛ 1(АМП)'!#REF!","v":{"$error":"#REF!"}},{"$f":"'РАЗДЕЛ 1(АМП)'!#REF!","v":{"$error":"#REF!"}},null,490019,null,"2017-02-01"]
[null,null,{"$f":"'РАЗДЕЛ 1(АМП)'!#REF!","v":{"$error":"#REF!"}},{"$f":"'РАЗДЕЛ 1(АМП)'!#REF!","v":{"$error":"#REF!"}},{"$f":"'РАЗДЕЛ 1(АМП)'!#REF!","v":{"$error":"#REF!"}},{"$f":"'РАЗДЕЛ 1(АМП)'!#REF!","v":{"$error":"#REF!"}},null,490019,null,"2017-02-01"]
[null,null,{"$f":"'РАЗДЕЛ 1(АМП)'!#REF!","v":{"$error":"#REF!"}},{"$f":"'РАЗДЕЛ 1(АМП)'!#REF!","v":{"$error":"#REF!"}},{"$f":"'РАЗДЕЛ 1(АМП)'!#REF!","v":{"$error":"#REF!"}},{"$f":"'РАЗДЕЛ 1(АМП)'!#REF!","v":{"$error":"#REF!"}},null,490019,null,"2017-02-01"]
[null,null,{"$f":"'РАЗДЕЛ 1(АМП)'!#REF!","v":{"$error":"#REF!"}},{"$f":"'РАЗДЕЛ 1(АМП)'!#REF!","v":{"$error":"#REF!"}},null,{"$f":"'РАЗДЕЛ 1(АМП)'!#REF!","v":{"$error":"#REF!"}},{"$f":"'РАЗДЕЛ 1(АМП)'!#REF!","v":{"$error":"#REF!"}},490019,null,"2017-02-01"]
[null,null,{"$f":"'РАЗДЕЛ 1(АМП)'!#REF!","v":{"$error":"#REF!"}},{"$f":"'РАЗДЕЛ 1(АМП)'!#REF!","v":{"$error":"#REF!"}},{"$f":"'РАЗДЕЛ 1(АМП)'!#REF!","v":{"$error":"#REF!"}},{"$f":"'РАЗДЕЛ 1(АМП)'!#REF!","v":{"$error":"#REF!"}},null,490019,null,"2017-02-01"]
[null,null,{"$f":"'РАЗДЕЛ 1(АМП)'!#REF!","v":{"$error":"#REF!"}},{"$f":"'РАЗДЕЛ 1(АМП)'!#REF!","v":{"$error":"#REF!"}},{"$f":"'РАЗДЕЛ 1(АМП)'!#REF!","v":{"$error":"#REF!"}},{"$f":"'РАЗДЕЛ 1(АМП)'!#REF!","v":{"$error":"#REF!"}},null,490019,null,"2017-02-01"]
[null,null,{"$f":"'РАЗДЕЛ 1(АМП)'!#REF!","v":{"$error":"#REF!"}},{"$f":"'РАЗДЕЛ 1(АМП)'!#REF!","v":{"$error":"#REF!"}},{"$f":"'РАЗДЕЛ 1(АМП)'!#REF!","v":{"$error":"#REF!"}},{"$f":"'РАЗДЕЛ 1(АМП)'!#REF!","v":{"$error":"#REF!"}},null,490019,null,"2017-02-01"]
[null,null,{"$f":"'РАЗДЕЛ 1(АМП)'!#REF!","v":{"$error":"#REF!"}},{"$f":"'РАЗДЕЛ 1(АМП)'!#REF!","v":{"$error":"#REF!"}},{"$f":"'РАЗДЕЛ 1(АМП)'!#REF!","v":{"$error":"#REF!"}},{"$f":"'РАЗДЕЛ 1(АМП)'!#REF!","v":{"$error":"#REF!"}},null,490019,null,"2017-02-01"]
[null,null,{"$f":"'РАЗДЕЛ 1(АМП)'!#REF!","v":{"$error":"#REF!"}},{"$f":"'РАЗДЕЛ 1(АМП)'!#REF!","v":{"$error":"#REF!"}},{"$f":"'РАЗДЕЛ 1(АМП)'!#REF!","v":{"$error":"#REF!"}},{"$f":"'РАЗДЕЛ 1(АМП)'!#REF!","v":{"$error":"#REF!"}},null,490019,null,"2017-02-01"]
[null,null,{"$f":"'РАЗДЕЛ 1(АМП)'!#REF!","v":{"$error":"#REF!"}},{"$f":"'РАЗДЕЛ 1(АМП)'!#REF!","v":{"$error":"#REF!"}},{"$f":"'РАЗДЕЛ 1(АМП)'!#REF!","v":{"$error":"#REF!"}},{"$f":"'РАЗДЕЛ 1(АМП)'!#REF!","v":{"$error":"#REF!"}},null,490019,null,"2017-02-01"]
[null,null,{"$f":"'РАЗДЕЛ 1(АМП)'!#REF!","v":{"$error":"#REF!"}},{"$f":"'РАЗДЕЛ 1(АМП)'!#REF!","v":{"$error":"#REF!"}},{"$f":"'РАЗДЕЛ 1(АМП)'!#REF!","v":{"$error":"#REF!"}},{"$f":"'РАЗДЕЛ 1(АМП)'!#REF!","v":{"$error":"#REF!"}},null,490019,null,"2017-02-01"]
[null,null,{"$f":"'РАЗДЕЛ 1(АМП)'!#REF!","v":{"$error":"#REF!"}},{"$f":"'РАЗДЕЛ 1(АМП)'!#REF!","v":{"$error":"#REF!"}},{"$f":"'РАЗДЕЛ 1(АМП)'!#REF!","v":{"$error":"#REF!"}},{"$f":"'РАЗДЕЛ 1(АМП)'!#REF!","v":{"$error":"#REF!"}},null,490019,null,"2017-02-01"]
[null,null,{"$f":"'РАЗДЕЛ 1(АМП)'!#REF!","v":{"$error":"#REF!"}},{"$f":"'РАЗДЕЛ 1(АМП)'!#REF!","v":{"$error":"#REF!"}},{"$f":"'РАЗДЕЛ 1(АМП)'!#REF!","v":{"$error":"#REF!"}},{"$f":"'РАЗДЕЛ 1(АМП)'!#REF!","v":{"$error":"#REF!"}},null,490019,null,"2017-02-01"]
[null,null,{"$f":"'РАЗДЕЛ 1(АМП)'!#REF!","v":{"$error":"#REF!"}},{"$f":"'РАЗДЕЛ 1(АМП)'!#REF!","v":{"$error":"#REF!"}},{"$f":"'РАЗДЕЛ 1(АМП)'!#REF!","v":{"$error":"#REF!"}},{"$f":"'РАЗДЕЛ 1(АМП)'!#REF!","v":{"$error":"#REF!"}},null,490019,null,"2017-02-01"]
[null,null,{"$f":"'РАЗДЕЛ 1(АМП)'!#REF!","v":{"$error":"#REF!"}},{"$f":"'РАЗДЕЛ 1(АМП)'!#REF!","v":{"$error":"#REF!"}},{"$f":"'РАЗДЕЛ 1(АМП)'!#REF!","v":{"$error":"#REF!"}},{"$f":"'РАЗДЕЛ 1(АМП)'!#REF!","v":{"$error":"#REF!"}},null,490019,null,"2017-02-01"]
[null,null,{"$f":"'РАЗДЕЛ 1(АМП)'!#REF!","v":{"$error":"#REF!"}},{"$f":"'РАЗДЕЛ 1(АМП)'!#REF!","v":{"$error":"#REF!"}},{"$f":"'РАЗДЕЛ 1(АМП)'!#REF!","v":{"$error":"#REF!"}},{"$f":"'РАЗДЕЛ 1(АМП)'!#REF!","v":{"$error":"#REF!"}},null,490019,null,"2017-02-01"]
[null,null,{"$f":"'РАЗДЕЛ 1(АМП)'!#REF!","v":{"$error":"#REF!"}},{"$f":"'РАЗДЕЛ 1(АМП)'!#REF!","v":{"$error":"#REF!"}},{"$f":"'РАЗДЕЛ 1(АМП)'!#REF!","v":{"$error":"#REF!"}},{"$f":"'РАЗДЕЛ 1(АМП)'!#REF!","v":{"$error":"#REF!"}},null,490019,null,"2017-02-01"]
[null,null,{"$f":"'РАЗДЕЛ 1(АМП)'!#REF!","v":{"$error":"#REF!"}},{"$f":"'РАЗДЕЛ 1(АМП)'!#REF!","v":{"$error":"#REF!"}},{"$f":"'РАЗДЕЛ 1(АМП)'!#REF!","v":{"$error":"#REF!"}},{"$f":"'РАЗДЕЛ 1(АМП)'!#REF!","v":{"$error":"#REF!"}},null,490019,null,"2017-02-01"]
[null,null,{"$f":"'РАЗДЕЛ 1(АМП)'!#REF!","v":{"$error":"#REF!"}},{"$f":"'РАЗДЕЛ 1(АМП)'!#REF!","v":{"$error":"#REF!"}},{"$f":"'РАЗДЕЛ 1(АМП)'!#REF!","v":{"$error":"#REF!"}},{"$f":"'РАЗДЕЛ 1(АМП)'!#REF!","v":{"$error":"#REF!"}},null,490019,null,"2017-02-01"]
[null,null,{"$f":"'РАЗДЕЛ 1(АМП)'!#REF!","v":{"$error":"#REF!"}},{"$f":"'РАЗДЕЛ 1(АМП)'!#REF!","v":{"$error":"#REF!"}},{"$f":"'РАЗДЕЛ 1(АМП)'!#REF!","v":{"$error":"#REF!"}},{"$f":"'РАЗДЕЛ 1(АМП)'!#REF!","v":{"$error":"#REF!"}},null,490019,null,"2017-02-01"]
[null,null,{"$f":"'РАЗДЕЛ 1(АМП)'!#REF!","v":{"$error":"#REF!"}},{"$f":"'РАЗДЕЛ 1(АМП)'!#REF!","v":{"$error":"#REF!"}},{"$f":"'РАЗДЕЛ 1(АМП)'!#REF!","v":{"$error":"#REF!"}},{"$f":"'РАЗДЕЛ 1(АМП)'!#REF!","v":{"$error":"#REF!"}},null,490019,null,{"$f":"J1027","v":"2017-02-01"}]
[null,null,{"$f":"'РАЗДЕЛ 1(АМП)'!#REF!","v":{"$error":"#REF!"}},{"$f":"'РАЗДЕЛ 1(АМП)'!#REF!","v":{"$error":"#REF!"}},{"$f":"'РАЗДЕЛ 1(АМП)'!#REF!","v":{"$error":"#REF!"}},{"$f":"'РАЗДЕЛ 1(АМП)'!#REF!","v":{"$error":"#REF!"}},null,490019,null,"2017-02-01"]
[null,null,{"$f":"'РАЗДЕЛ 1(АМП)'!#REF!","v":{"$error":"#REF!"}},{"$f":"'РАЗДЕЛ 1(АМП)'!#REF!","v":{"$error":"#REF!"}},{"$f":"'РАЗДЕЛ 1(АМП)'!#REF!","v":{"$error":"#REF!"}},{"$f":"'РАЗДЕЛ 1(АМП)'!#REF!","v":{"$error":"#REF!"}},null,490019,null,"2017-02-01"]
[null,null,{"$f":"'РАЗДЕЛ 1(АМП)'!#REF!","v":{"$error":"#REF!"}},{"$f":"'РАЗДЕЛ 1(АМП)'!#REF!","v":{"$error":"#REF!"}},{"$f":"'РАЗДЕЛ 1(АМП)'!#REF!","v":{"$error":"#REF!"}},{"$f":"'РАЗДЕЛ 1(АМП)'!#REF!","v":{"$error":"#REF!"}},null,490019,null,"2017-02-01"]
[null,null,{"$f":"'РАЗДЕЛ 1(АМП)'!#REF!","v":{"$error":"#REF!"}},{"$f":"'РАЗДЕЛ 1(АМП)'!#REF!","v":{"$error":"#REF!"}},{"$f":"'РАЗДЕЛ 1(АМП)'!#REF!","v":{"$error":"#REF!"}},{"$f":"'РАЗДЕЛ 1(АМП)'!#REF!","v":{"$error":"#REF!"}},null,490019,null,"2017-02-01"]
[null,null,{"$f":"'РАЗДЕЛ 1(АМП)'!#REF!","v":{"$error":"#REF!"}},{"$f":"'РАЗДЕЛ 1(АМП)'!#REF!","v":{"$error":"#REF!"}},null,{"$f":"'РАЗДЕЛ 1(АМП)'!#REF!","v":{"$error":"#REF!"}},{"$f":"'РАЗДЕЛ 1(АМП)'!#REF!","v":{"$error":"#REF!"}},490019,null,"2017-02-01"]
[null,null,{"$f":"'РАЗДЕЛ 1(АМП)'!#REF!","v":{"$error":"#REF!"}},{"$f":"'РАЗДЕЛ 1(АМП)'!#REF!","v":{"$error":"#REF!"}},{"$f":"'РАЗДЕЛ 1(АМП)'!#REF!","v":{"$error":"#REF!"}},{"$f":"'РАЗДЕЛ 1(АМП)'!#REF!","v":{"$error":"#REF!"}},null,490019,null,"2017-02-01"]
[null,null,{"$f":"'РАЗДЕЛ 1(АМП)'!#REF!","v":{"$error":"#REF!"}},{"$f":"'РАЗДЕЛ 1(АМП)'!#REF!","v":{"$error":"#REF!"}},{"$f":"'РАЗДЕЛ 1(АМП)'!#REF!","v":{"$error":"#REF!"}},{"$f":"'РАЗДЕЛ 1(АМП)'!#REF!","v":{"$error":"#REF!"}},null,490019,null,"2017-02-01"]
[null,null,{"$f":"'РАЗДЕЛ 1(АМП)'!#REF!","v":{"$error":"#REF!"}},{"$f":"'РАЗДЕЛ 1(АМП)'!#REF!","v":{"$error":"#REF!"}},{"$f":"'РАЗДЕЛ 1(АМП)'!#REF!","v":{"$error":"#REF!"}},{"$f":"'РАЗДЕЛ 1(АМП)'!#REF!","v":{"$error":"#REF!"}},null,490019,null,"2017-02-01"]
[null,null,{"$f":"'РАЗДЕЛ 1(АМП)'!#REF!","v":{"$error":"#REF!"}},{"$f":"'РАЗДЕЛ 1(АМП)'!#REF!","v":{"$error":"#REF!"}},{"$f":"'РАЗДЕЛ 1(АМП)'!#REF!","v":{"$error":"#REF!"}},{"$f":"'РАЗДЕЛ 1(АМП)'!#REF!","v":{"$error":"#REF!"}},null,490019,null,"2017-02-01"]
[null,null,{"$f":"'РАЗДЕЛ 1(АМП)'!#REF!","v":{"$error":"#REF!"}},{"$f":"'РАЗДЕЛ 1(АМП)'!#REF!","v":{"$error":"#REF!"}},{"$f":"'РАЗДЕЛ 1(АМП)'!#REF!","v":{"$error":"#REF!"}},{"$f":"'РАЗДЕЛ 1(АМП)'!#REF!","v":{"$error":"#REF!"}},null,490019,null,"2017-02-01"]
[null,null,{"$f":"'РАЗДЕЛ 1(АМП)'!#REF!","v":{"$error":"#REF!"}},{"$f":"'РАЗДЕЛ 1(АМП)'!#REF!","v":{"$error":"#REF!"}},{"$f":"'РАЗДЕЛ 1(АМП)'!#REF!","v":{"$error":"#REF!"}},{"$f":"'РАЗДЕЛ 1(АМП)'!#REF!","v":{"$error":"#REF!"}},null,490019,null,"2017-02-01"]
[null,null,{"$f":"'РАЗДЕЛ 1(АМП)'!#REF!","v":{"$error":"#REF!"}},{"$f":"'РАЗДЕЛ 1(АМП)'!#REF!","v":{"$error":"#REF!"}},{"$f":"'РАЗДЕЛ 1(АМП)'!#REF!","v":{"$error":"#REF!"}},{"$f":"'РАЗДЕЛ 1(АМП)'!#REF!","v":{"$error":"#REF!"}},null,490019,null,"2017-02-01"]
[null,null,{"$f":"'РАЗДЕЛ 1(АМП)'!#REF!","v":{"$error":"#REF!"}},{"$f":"'РАЗДЕЛ 1(АМП)'!#REF!","v":{"$error":"#REF!"}},{"$f":"'РАЗДЕЛ 1(АМП)'!#REF!","v":{"$error":"#REF!"}},{"$f":"'РАЗДЕЛ 1(АМП)'!#REF!","v":{"$error":"#REF!"}},null,490019,null,"2017-02-01"]
[null,null,{"$f":"'РАЗДЕЛ 1(АМП)'!#REF!","v":{"$error":"#REF!"}},{"$f":"'РАЗДЕЛ 1(АМП)'!#REF!","v":{"$error":"#REF!"}},{"$f":"'РАЗДЕЛ 1(АМП)'!#REF!","v":{"$error":"#REF!"}},{"$f":"'РАЗДЕЛ 1(АМП)'!#REF!","v":{"$error":"#REF!"}},null,490019,null,"2017-02-01"]
[null,null,{"$f":"#REF!","v":{"$error":"#REF!"}},{"$f":"#REF!","v":{"$error":"#REF!"}},null,{"$f":"#REF!","v":{"$error":"#REF!"}},{"$f":"#REF!","v":{"$error":"#REF!"}},490019,{"$f":"#REF!","v":{"$error":"#REF!"}},"2017-02-01"]
[null,null,{"$f":"#REF!","v":{"$error":"#REF!"}},{"$f":"#REF!","v":{"$error":"#REF!"}},{"$f":"#REF!","v":{"$error":"#REF!"}},{"$f":"#REF!","v":{"$error":"#REF!"}},null,490019,{"$f":"#REF!","v":{"$error":"#REF!"}},"2017-02-01"]
[null,null,{"$f":"#REF!","v":{"$error":"#REF!"}},{"$f":"#REF!","v":{"$error":"#REF!"}},{"$f":"#REF!","v":{"$error":"#REF!"}},{"$f":"#REF!","v":{"$error":"#REF!"}},null,490019,{"$f":"#REF!","v":{"$error":"#REF!"}},"2017-02-01"]
[null,null,{"$f":"#REF!","v":{"$error":"#REF!"}},{"$f":"#REF!","v":{"$error":"#REF!"}},{"$f":"#REF!","v":{"$error":"#REF!"}},{"$f":"#REF!","v":{"$error":"#REF!"}},null,490019,{"$f":"#REF!","v":{"$error":"#REF!"}},"2017-02-01"]
[null,null,{"$f":"#REF!","v":{"$error":"#REF!"}},{"$f":"#REF!","v":{"$error":"#REF!"}},{"$f":"#REF!","v":{"$error":"#REF!"}},{"$f":"#REF!","v":{"$error":"#REF!"}},null,490019,{"$f":"#REF!","v":{"$error":"#REF!"}},"2017-02-01"]
[null,null,{"$f":"#REF!","v":{"$error":"#REF!"}},{"$f":"#REF!","v":{"$error":"#REF!"}},{"$f":"#REF!","v":{"$error":"#REF!"}},{"$f":"#REF!","v":{"$error":"#REF!"}},null,490019,{"$f":"#REF!","v":{"$error":"#REF!"}},"2017-02-01"]
[null,null,{"$f":"'РАЗДЕЛ 1(АМП)'!#REF!","v":{"$error":"#REF!"}},{"$f":"'РАЗДЕЛ 1(АМП)'!#REF!","v":{"$error":"#REF!"}},{"$f":"'РАЗДЕЛ 1(АМП)'!#REF!","v":{"$error":"#REF!"}},{"$f":"'РАЗДЕЛ 1(АМП)'!#REF!","v":{"$error":"#REF!"}},null,490021,null,"2017-02-01"]
[null,null,{"$f":"'РАЗДЕЛ 1(АМП)'!#REF!","v":{"$error":"#REF!"}},{"$f":"'РАЗДЕЛ 1(АМП)'!#REF!","v":{"$error":"#REF!"}},null,{"$f":"'РАЗДЕЛ 1(АМП)'!#REF!","v":{"$error":"#REF!"}},{"$f":"'РАЗДЕЛ 1(АМП)'!#REF!","v":{"$error":"#REF!"}},490021,null,"2017-02-01"]
[null,null,{"$f":"'РАЗДЕЛ 1(АМП)'!#REF!","v":{"$error":"#REF!"}},{"$f":"'РАЗДЕЛ 1(АМП)'!#REF!","v":{"$error":"#REF!"}},{"$f":"'РАЗДЕЛ 1(АМП)'!#REF!","v":{"$error":"#REF!"}},{"$f":"'РАЗДЕЛ 1(АМП)'!#REF!","v":{"$error":"#REF!"}},null,490022,null,"2017-02-01"]
[null,null,{"$f":"'РАЗДЕЛ 1(АМП)'!#REF!","v":{"$error":"#REF!"}},{"$f":"'РАЗДЕЛ 1(АМП)'!#REF!","v":{"$error":"#REF!"}},null,{"$f":"'РАЗДЕЛ 1(АМП)'!#REF!","v":{"$error":"#REF!"}},{"$f":"'РАЗДЕЛ 1(АМП)'!#REF!","v":{"$error":"#REF!"}},490022,null,"2017-02-01"]
[null,null,{"$f":"'РАЗДЕЛ 1(АМП)'!#REF!","v":{"$error":"#REF!"}},{"$f":"'РАЗДЕЛ 1(АМП)'!#REF!","v":{"$error":"#REF!"}},null,{"$f":"'РАЗДЕЛ 1(АМП)'!#REF!","v":{"$error":"#REF!"}},{"$f":"'РАЗДЕЛ 1(АМП)'!#REF!","v":{"$error":"#REF!"}},490022,null,"2017-02-01"]
[null,null,{"$f":"'РАЗДЕЛ 1(АМП)'!#REF!","v":{"$error":"#REF!"}},{"$f":"'РАЗДЕЛ 1(АМП)'!#REF!","v":{"$error":"#REF!"}},null,{"$f":"'РАЗДЕЛ 1(АМП)'!#REF!","v":{"$error":"#REF!"}},{"$f":"'РАЗДЕЛ 1(АМП)'!#REF!","v":{"$error":"#REF!"}},490022,null,"2017-02-01"]
[null,null,{"$f":"'РАЗДЕЛ 1(АМП)'!#REF!","v":{"$error":"#REF!"}},{"$f":"'РАЗДЕЛ 1(АМП)'!#REF!","v":{"$error":"#REF!"}},null,{"$f":"'РАЗДЕЛ 1(АМП)'!#REF!","v":{"$error":"#REF!"}},{"$f":"'РАЗДЕЛ 1(АМП)'!#REF!","v":{"$error":"#REF!"}},490022,null,"2017-02-01"]
[null,null,{"$f":"'РАЗДЕЛ 1(АМП)'!#REF!","v":{"$error":"#REF!"}},{"$f":"'РАЗДЕЛ 1(АМП)'!#REF!","v":{"$error":"#REF!"}},null,{"$f":"'РАЗДЕЛ 1(АМП)'!#REF!","v":{"$error":"#REF!"}},{"$f":"'РАЗДЕЛ 1(АМП)'!#REF!","v":{"$error":"#REF!"}},490022,null,"2017-02-01"]
[null,null,{"$f":"'РАЗДЕЛ 1(АМП)'!#REF!","v":{"$error":"#REF!"}},{"$f":"'РАЗДЕЛ 1(АМП)'!#REF!","v":{"$error":"#REF!"}},null,{"$f":"'РАЗДЕЛ 1(АМП)'!#REF!","v":{"$error":"#REF!"}},{"$f":"'РАЗДЕЛ 1(АМП)'!#REF!","v":{"$error":"#REF!"}},{"$f":"H1056","v":490022},null,"2017-02-01"]
[null,null,{"$f":"'РАЗДЕЛ 1(АМП)'!#REF!","v":{"$error":"#REF!"}},{"$f":"'РАЗДЕЛ 1(АМП)'!#REF!","v":{"$error":"#REF!"}},null,{"$f":"'РАЗДЕЛ 1(АМП)'!#REF!","v":{"$error":"#REF!"}},{"$f":"'РАЗДЕЛ 1(АМП)'!#REF!","v":{"$error":"#REF!"}},490022,null,"2017-02-01"]
[null,null,{"$f":"'РАЗДЕЛ 1(АМП)'!#REF!","v":{"$error":"#REF!"}},{"$f":"'РАЗДЕЛ 1(АМП)'!#REF!","v":{"$error":"#REF!"}},null,{"$f":"'РАЗДЕЛ 1(АМП)'!#REF!","v":{"$error":"#REF!"}},{"$f":"'РАЗДЕЛ 1(АМП)'!#REF!","v":{"$error":"#REF!"}},490022,null,"2017-02-01"]
[null,null,{"$f":"'РАЗДЕЛ 1(АМП)'!#REF!","v":{"$error":"#REF!"}},{"$f":"'РАЗДЕЛ 1(АМП)'!#REF!","v":{"$error":"#REF!"}},null,{"$f":"'РАЗДЕЛ 1(АМП)'!#REF!","v":{"$error":"#REF!"}},{"$f":"'РАЗДЕЛ 1(АМП)'!#REF!","v":{"$error":"#REF!"}},490022,null,"2017-02-01"]
[null,null,{"$f":"'РАЗДЕЛ 1(АМП)'!#REF!","v":{"$error":"#REF!"}},{"$f":"'РАЗДЕЛ 1(АМП)'!#REF!","v":{"$error":"#REF!"}},null,{"$f":"'РАЗДЕЛ 1(АМП)'!#REF!","v":{"$error":"#REF!"}},{"$f":"'РАЗДЕЛ 1(АМП)'!#REF!","v":{"$error":"#REF!"}},490022,null,"2017-02-01"]
[null,null,{"$f":"'РАЗДЕЛ 1(АМП)'!#REF!","v":{"$error":"#REF!"}},{"$f":"'РАЗДЕЛ 1(АМП)'!#REF!","v":{"$error":"#REF!"}},null,{"$f":"'РАЗДЕЛ 1(АМП)'!#REF!","v":{"$error":"#REF!"}},{"$f":"'РАЗДЕЛ 1(АМП)'!#REF!","v":{"$error":"#REF!"}},490022,null,"2017-02-01"]
[null,null,{"$f":"'РАЗДЕЛ 1(АМП)'!#REF!","v":{"$error":"#REF!"}},{"$f":"'РАЗДЕЛ 1(АМП)'!#REF!","v":{"$error":"#REF!"}},null,{"$f":"'РАЗДЕЛ 1(АМП)'!#REF!","v":{"$error":"#REF!"}},{"$f":"'РАЗДЕЛ 1(АМП)'!#REF!","v":{"$error":"#REF!"}},490022,null,"2017-02-01"]
[null,null,{"$f":"'РАЗДЕЛ 1(АМП)'!#REF!","v":{"$error":"#REF!"}},{"$f":"'РАЗДЕЛ 1(АМП)'!#REF!","v":{"$error":"#REF!"}},null,{"$f":"'РАЗДЕЛ 1(АМП)'!#REF!","v":{"$error":"#REF!"}},{"$f":"'РАЗДЕЛ 1(АМП)'!#REF!","v":{"$error":"#REF!"}},490022,null,"2017-02-01"]
[null,null,{"$f":"'РАЗДЕЛ 1(АМП)'!#REF!","v":{"$error":"#REF!"}},{"$f":"'РАЗДЕЛ 1(АМП)'!#REF!","v":{"$error":"#REF!"}},null,{"$f":"'РАЗДЕЛ 1(АМП)'!#REF!","v":{"$error":"#REF!"}},{"$f":"'РАЗДЕЛ 1(АМП)'!#REF!","v":{"$error":"#REF!"}},490022,null,"2017-02-01"]
[null,null,{"$f":"'РАЗДЕЛ 1(АМП)'!#REF!","v":{"$error":"#REF!"}},{"$f":"'РАЗДЕЛ 1(АМП)'!#REF!","v":{"$error":"#REF!"}},null,{"$f":"'РАЗДЕЛ 1(АМП)'!#REF!","v":{"$error":"#REF!"}},{"$f":"'РАЗДЕЛ 1(АМП)'!#REF!","v":{"$error":"#REF!"}},490022,null,"2017-02-01"]
[null,null,{"$f":"'РАЗДЕЛ 1(АМП)'!#REF!","v":{"$error":"#REF!"}},{"$f":"'РАЗДЕЛ 1(АМП)'!#REF!","v":{"$error":"#REF!"}},null,{"$f":"'РАЗДЕЛ 1(АМП)'!#REF!","v":{"$error":"#REF!"}},{"$f":"'РАЗДЕЛ 1(АМП)'!#REF!","v":{"$error":"#REF!"}},490022,null,"2017-02-01"]
[null,null,{"$f":"'РАЗДЕЛ 1(АМП)'!#REF!","v":{"$error":"#REF!"}},{"$f":"'РАЗДЕЛ 1(АМП)'!#REF!","v":{"$error":"#REF!"}},null,{"$f":"'РАЗДЕЛ 1(АМП)'!#REF!","v":{"$error":"#REF!"}},{"$f":"'РАЗДЕЛ 1(АМП)'!#REF!","v":{"$error":"#REF!"}},490022,null,"2017-02-01"]
[null,null,{"$f":"'РАЗДЕЛ 1(АМП)'!#REF!","v":{"$error":"#REF!"}},{"$f":"'РАЗДЕЛ 1(АМП)'!#REF!","v":{"$error":"#REF!"}},null,{"$f":"'РАЗДЕЛ 1(АМП)'!#REF!","v":{"$error":"#REF!"}},{"$f":"'РАЗДЕЛ 1(АМП)'!#REF!","v":{"$error":"#REF!"}},490022,null,"2017-02-01"]
[null,null,{"$f":"'РАЗДЕЛ 1(АМП)'!#REF!","v":{"$error":"#REF!"}},{"$f":"'РАЗДЕЛ 1(АМП)'!#REF!","v":{"$error":"#REF!"}},null,{"$f":"'РАЗДЕЛ 1(АМП)'!#REF!","v":{"$error":"#REF!"}},{"$f":"'РАЗДЕЛ 1(АМП)'!#REF!","v":{"$error":"#REF!"}},490022,null,"2017-02-01"]
[null,null,{"$f":"'РАЗДЕЛ 1(АМП)'!#REF!","v":{"$error":"#REF!"}},{"$f":"'РАЗДЕЛ 1(АМП)'!#REF!","v":{"$error":"#REF!"}},null,{"$f":"'РАЗДЕЛ 1(АМП)'!#REF!","v":{"$error":"#REF!"}},{"$f":"'РАЗДЕЛ 1(АМП)'!#REF!","v":{"$error":"#REF!"}},490022,null,"2017-02-01"]
[null,null,{"$f":"'РАЗДЕЛ 1(АМП)'!#REF!","v":{"$error":"#REF!"}},{"$f":"'РАЗДЕЛ 1(АМП)'!#REF!","v":{"$error":"#REF!"}},null,{"$f":"'РАЗДЕЛ 1(АМП)'!#REF!","v":{"$error":"#REF!"}},{"$f":"'РАЗДЕЛ 1(АМП)'!#REF!","v":{"$error":"#REF!"}},490022,null,"2017-02-01"]
[null,null,{"$f":"'РАЗДЕЛ 1(АМП)'!#REF!","v":{"$error":"#REF!"}},{"$f":"'РАЗДЕЛ 1(АМП)'!#REF!","v":{"$error":"#REF!"}},null,{"$f":"'РАЗДЕЛ 1(АМП)'!#REF!","v":{"$error":"#REF!"}},{"$f":"'РАЗДЕЛ 1(АМП)'!#REF!","v":{"$error":"#REF!"}},490022,null,"2017-02-01"]
[null,null,{"$f":"'РАЗДЕЛ 1(АМП)'!#REF!","v":{"$error":"#REF!"}},{"$f":"'РАЗДЕЛ 1(АМП)'!#REF!","v":{"$error":"#REF!"}},null,{"$f":"'РАЗДЕЛ 1(АМП)'!#REF!","v":{"$error":"#REF!"}},{"$f":"'РАЗДЕЛ 1(АМП)'!#REF!","v":{"$error":"#REF!"}},490022,null,"2017-02-01"]
[null,null,{"$f":"'РАЗДЕЛ 1(АМП)'!#REF!","v":{"$error":"#REF!"}},{"$f":"'РАЗДЕЛ 1(АМП)'!#REF!","v":{"$error":"#REF!"}},null,{"$f":"'РАЗДЕЛ 1(АМП)'!#REF!","v":{"$error":"#REF!"}},{"$f":"'РАЗДЕЛ 1(АМП)'!#REF!","v":{"$error":"#REF!"}},490022,null,"2017-02-01"]
[null,null,{"$f":"'РАЗДЕЛ 1(АМП)'!#REF!","v":{"$error":"#REF!"}},{"$f":"'РАЗДЕЛ 1(АМП)'!#REF!","v":{"$error":"#REF!"}},null,{"$f":"'РАЗДЕЛ 1(АМП)'!#REF!","v":{"$error":"#REF!"}},{"$f":"'РАЗДЕЛ 1(АМП)'!#REF!","v":{"$error":"#REF!"}},490022,null,"2017-02-01"]
[null,null,{"$f":"'РАЗДЕЛ 1(АМП)'!#REF!","v":{"$error":"#REF!"}},{"$f":"'РАЗДЕЛ 1(АМП)'!#REF!","v":{"$error":"#REF!"}},null,{"$f":"'РАЗДЕЛ 1(АМП)'!#REF!","v":{"$error":"#REF!"}},{"$f":"'РАЗДЕЛ 1(АМП)'!#REF!","v":{"$error":"#REF!"}},490022,null,"2017-02-01"]
[null,null,{"$f":"'РАЗДЕЛ 1(АМП)'!#REF!","v":{"$error":"#REF!"}},{"$f":"'РАЗДЕЛ 1(АМП)'!#REF!","v":{"$error":"#REF!"}},null,{"$f":"'РАЗДЕЛ 1(АМП)'!#REF!","v":{"$error":"#REF!"}},{"$f":"'РАЗДЕЛ 1(АМП)'!#REF!","v":{"$error":"#REF!"}},490022,null,"2017-02-01"]
[null,null,{"$f":"'РАЗДЕЛ 1(АМП)'!#REF!","v":{"$error":"#REF!"}},{"$f":"'РАЗДЕЛ 1(АМП)'!#REF!","v":{"$error":"#REF!"}},null,{"$f":"'РАЗДЕЛ 1(АМП)'!#REF!","v":{"$error":"#REF!"}},{"$f":"'РАЗДЕЛ 1(АМП)'!#REF!","v":{"$error":"#REF!"}},490022,null,"2017-02-01"]
[null,null,{"$f":"'РАЗДЕЛ 1(АМП)'!#REF!","v":{"$error":"#REF!"}},{"$f":"'РАЗДЕЛ 1(АМП)'!#REF!","v":{"$error":"#REF!"}},null,{"$f":"'РАЗДЕЛ 1(АМП)'!#REF!","v":{"$error":"#REF!"}},{"$f":"'РАЗДЕЛ 1(АМП)'!#REF!","v":{"$error":"#REF!"}},490022,null,"2017-02-01"]
[null,null,{"$f":"'РАЗДЕЛ 1(АМП)'!#REF!","v":{"$error":"#REF!"}},{"$f":"'РАЗДЕЛ 1(АМП)'!#REF!","v":{"$error":"#REF!"}},null,{"$f":"'РАЗДЕЛ 1(АМП)'!#REF!","v":{"$error":"#REF!"}},{"$f":"'РАЗДЕЛ 1(АМП)'!#REF!","v":{"$error":"#REF!"}},490022,null,"2017-02-01"]
[null,null,{"$f":"'РАЗДЕЛ 1(АМП)'!#REF!","v":{"$error":"#REF!"}},{"$f":"'РАЗДЕЛ 1(АМП)'!#REF!","v":{"$error":"#REF!"}},null,{"$f":"'РАЗДЕЛ 1(АМП)'!#REF!","v":{"$error":"#REF!"}},{"$f":"'РАЗДЕЛ 1(АМП)'!#REF!","v":{"$error":"#REF!"}},490022,null,"2017-02-01"]
[null,null,{"$f":"'РАЗДЕЛ 1(АМП)'!#REF!","v":{"$error":"#REF!"}},{"$f":"'РАЗДЕЛ 1(АМП)'!#REF!","v":{"$error":"#REF!"}},null,{"$f":"'РАЗДЕЛ 1(АМП)'!#REF!","v":{"$error":"#REF!"}},{"$f":"'РАЗДЕЛ 1(АМП)'!#REF!","v":{"$error":"#REF!"}},490022,null,"2017-02-01"]
[null,null,{"$f":"'РАЗДЕЛ 1(АМП)'!#REF!","v":{"$error":"#REF!"}},{"$f":"'РАЗДЕЛ 1(АМП)'!#REF!","v":{"$error":"#REF!"}},null,{"$f":"'РАЗДЕЛ 1(АМП)'!#REF!","v":{"$error":"#REF!"}},{"$f":"'РАЗДЕЛ 1(АМП)'!#REF!","v":{"$error":"#REF!"}},490022,null,"2017-02-01"]
[null,null,{"$f":"'РАЗДЕЛ 1(АМП)'!#REF!","v":{"$error":"#REF!"}},{"$f":"'РАЗДЕЛ 1(АМП)'!#REF!","v":{"$error":"#REF!"}},null,{"$f":"'РАЗДЕЛ 1(АМП)'!#REF!","v":{"$error":"#REF!"}},{"$f":"'РАЗДЕЛ 1(АМП)'!#REF!","v":{"$error":"#REF!"}},490022,null,"2017-02-01"]
[null,null,{"$f":"'РАЗДЕЛ 1(АМП)'!#REF!","v":{"$error":"#REF!"}},{"$f":"'РАЗДЕЛ 1(АМП)'!#REF!","v":{"$error":"#REF!"}},null,{"$f":"'РАЗДЕЛ 1(АМП)'!#REF!","v":{"$error":"#REF!"}},{"$f":"'РАЗДЕЛ 1(АМП)'!#REF!","v":{"$error":"#REF!"}},490022,null,"2017-02-01"]
[null,null,{"$f":"'РАЗДЕЛ 1(АМП)'!#REF!","v":{"$error":"#REF!"}},{"$f":"'РАЗДЕЛ 1(АМП)'!#REF!","v":{"$error":"#REF!"}},null,{"$f":"'РАЗДЕЛ 1(АМП)'!#REF!","v":{"$error":"#REF!"}},{"$f":"'РАЗДЕЛ 1(АМП)'!#REF!","v":{"$error":"#REF!"}},490022,null,"2017-02-01"]
[null,null,{"$f":"'РАЗДЕЛ 1(АМП)'!#REF!","v":{"$error":"#REF!"}},{"$f":"'РАЗДЕЛ 1(АМП)'!#REF!","v":{"$error":"#REF!"}},null,{"$f":"'РАЗДЕЛ 1(АМП)'!#REF!","v":{"$error":"#REF!"}},{"$f":"'РАЗДЕЛ 1(АМП)'!#REF!","v":{"$error":"#REF!"}},490022,null,"2017-02-01"]
[null,null,{"$f":"'РАЗДЕЛ 1(АМП)'!#REF!","v":{"$error":"#REF!"}},{"$f":"'РАЗДЕЛ 1(АМП)'!#REF!","v":{"$error":"#REF!"}},null,{"$f":"'РАЗДЕЛ 1(АМП)'!#REF!","v":{"$error":"#REF!"}},{"$f":"'РАЗДЕЛ 1(АМП)'!#REF!","v":{"$error":"#REF!"}},490022,null,"2017-02-01"]
[null,null,{"$f":"'РАЗДЕЛ 1(АМП)'!#REF!","v":{"$error":"#REF!"}},{"$f":"'РАЗДЕЛ 1(АМП)'!#REF!","v":{"$error":"#REF!"}},null,{"$f":"'РАЗДЕЛ 1(АМП)'!#REF!","v":{"$error":"#REF!"}},{"$f":"'РАЗДЕЛ 1(АМП)'!#REF!","v":{"$error":"#REF!"}},490022,null,"2017-02-01"]
[null,null,{"$f":"'РАЗДЕЛ 1(АМП)'!#REF!","v":{"$error":"#REF!"}},{"$f":"'РАЗДЕЛ 1(АМП)'!#REF!","v":{"$error":"#REF!"}},null,{"$f":"'РАЗДЕЛ 1(АМП)'!#REF!","v":{"$error":"#REF!"}},{"$f":"'РАЗДЕЛ 1(АМП)'!#REF!","v":{"$error":"#REF!"}},490022,null,"2017-02-01"]
[null,null,{"$f":"'РАЗДЕЛ 1(АМП)'!#REF!","v":{"$error":"#REF!"}},{"$f":"'РАЗДЕЛ 1(АМП)'!#REF!","v":{"$error":"#REF!"}},null,{"$f":"'РАЗДЕЛ 1(АМП)'!#REF!","v":{"$error":"#REF!"}},{"$f":"'РАЗДЕЛ 1(АМП)'!#REF!","v":{"$error":"#REF!"}},490022,null,{"$f":"J1091","v":"2017-02-01"}]
[null,null,{"$f":"'РАЗДЕЛ 1(АМП)'!#REF!","v":{"$error":"#REF!"}},{"$f":"'РАЗДЕЛ 1(АМП)'!#REF!","v":{"$error":"#REF!"}},null,{"$f":"'РАЗДЕЛ 1(АМП)'!#REF!","v":{"$error":"#REF!"}},{"$f":"'РАЗДЕЛ 1(АМП)'!#REF!","v":{"$error":"#REF!"}},490022,null,"2017-02-01"]
[null,null,{"$f":"'РАЗДЕЛ 1(АМП)'!#REF!","v":{"$error":"#REF!"}},{"$f":"'РАЗДЕЛ 1(АМП)'!#REF!","v":{"$error":"#REF!"}},null,{"$f":"'РАЗДЕЛ 1(АМП)'!#REF!","v":{"$error":"#REF!"}},{"$f":"'РАЗДЕЛ 1(АМП)'!#REF!","v":{"$error":"#REF!"}},490022,null,"2017-02-01"]
[null,null,{"$f":"'РАЗДЕЛ 1(АМП)'!#REF!","v":{"$error":"#REF!"}},{"$f":"'РАЗДЕЛ 1(АМП)'!#REF!","v":{"$error":"#REF!"}},null,{"$f":"'РАЗДЕЛ 1(АМП)'!#REF!","v":{"$error":"#REF!"}},{"$f":"'РАЗДЕЛ 1(АМП)'!#REF!","v":{"$error":"#REF!"}},490022,null,"2017-02-01"]
[null,null,{"$f":"'РАЗДЕЛ 1(АМП)'!#REF!","v":{"$error":"#REF!"}},{"$f":"'РАЗДЕЛ 1(АМП)'!#REF!","v":{"$error":"#REF!"}},null,{"$f":"'РАЗДЕЛ 1(АМП)'!#REF!","v":{"$error":"#REF!"}},{"$f":"'РАЗДЕЛ 1(АМП)'!#REF!","v":{"$error":"#REF!"}},490022,null,"2017-02-01"]
[null,null,{"$f":"'РАЗДЕЛ 1(АМП)'!#REF!","v":{"$error":"#REF!"}},{"$f":"'РАЗДЕЛ 1(АМП)'!#REF!","v":{"$error":"#REF!"}},null,{"$f":"'РАЗДЕЛ 1(АМП)'!#REF!","v":{"$error":"#REF!"}},{"$f":"'РАЗДЕЛ 1(АМП)'!#REF!","v":{"$error":"#REF!"}},490022,null,"2017-02-01"]
[null,null,{"$f":"'РАЗДЕЛ 1(АМП)'!#REF!","v":{"$error":"#REF!"}},{"$f":"'РАЗДЕЛ 1(АМП)'!#REF!","v":{"$error":"#REF!"}},null,{"$f":"'РАЗДЕЛ 1(АМП)'!#REF!","v":{"$error":"#REF!"}},{"$f":"'РАЗДЕЛ 1(АМП)'!#REF!","v":{"$error":"#REF!"}},490022,null,"2017-02-01"]
[null,null,{"$f":"'РАЗДЕЛ 1(АМП)'!#REF!","v":{"$error":"#REF!"}},{"$f":"'РАЗДЕЛ 1(АМП)'!#REF!","v":{"$error":"#REF!"}},null,{"$f":"'РАЗДЕЛ 1(АМП)'!#REF!","v":{"$error":"#REF!"}},{"$f":"'РАЗДЕЛ 1(АМП)'!#REF!","v":{"$error":"#REF!"}},490022,null,"2017-02-01"]
[null,null,{"$f":"'РАЗДЕЛ 1(АМП)'!#REF!","v":{"$error":"#REF!"}},{"$f":"'РАЗДЕЛ 1(АМП)'!#REF!","v":{"$error":"#REF!"}},null,{"$f":"'РАЗДЕЛ 1(АМП)'!#REF!","v":{"$error":"#REF!"}},{"$f":"'РАЗДЕЛ 1(АМП)'!#REF!","v":{"$error":"#REF!"}},490022,null,"2017-02-01"]
[null,null,{"$f":"'РАЗДЕЛ 1(АМП)'!#REF!","v":{"$error":"#REF!"}},{"$f":"'РАЗДЕЛ 1(АМП)'!#REF!","v":{"$error":"#REF!"}},null,{"$f":"'РАЗДЕЛ 1(АМП)'!#REF!","v":{"$error":"#REF!"}},{"$f":"'РАЗДЕЛ 1(АМП)'!#REF!","v":{"$error":"#REF!"}},490022,null,"2017-02-01"]
[null,null,{"$f":"'РАЗДЕЛ 1(АМП)'!#REF!","v":{"$error":"#REF!"}},{"$f":"'РАЗДЕЛ 1(АМП)'!#REF!","v":{"$error":"#REF!"}},null,{"$f":"'РАЗДЕЛ 1(АМП)'!#REF!","v":{"$error":"#REF!"}},{"$f":"'РАЗДЕЛ 1(АМП)'!#REF!","v":{"$error":"#REF!"}},490022,null,"2017-02-01"]
[null,null,{"$f":"'РАЗДЕЛ 1(АМП)'!#REF!","v":{"$error":"#REF!"}},{"$f":"'РАЗДЕЛ 1(АМП)'!#REF!","v":{"$error":"#REF!"}},null,{"$f":"'РАЗДЕЛ 1(АМП)'!#REF!","v":{"$error":"#REF!"}},{"$f":"'РАЗДЕЛ 1(АМП)'!#REF!","v":{"$error":"#REF!"}},490022,null,"2017-02-01"]
[null,null,{"$f":"'РАЗДЕЛ 1(АМП)'!#REF!","v":{"$error":"#REF!"}},{"$f":"'РАЗДЕЛ 1(АМП)'!#REF!","v":{"$error":"#REF!"}},null,{"$f":"'РАЗДЕЛ 1(АМП)'!#REF!","v":{"$error":"#REF!"}},{"$f":"'РАЗДЕЛ 1(АМП)'!#REF!","v":{"$error":"#REF!"}},490022,null,"2017-02-01"]
[null,null,{"$f":"'РАЗДЕЛ 1(АМП)'!#REF!","v":{"$error":"#REF!"}},{"$f":"'РАЗДЕЛ 1(АМП)'!#REF!","v":{"$error":"#REF!"}},null,{"$f":"'РАЗДЕЛ 1(АМП)'!#REF!","v":{"$error":"#REF!"}},{"$f":"'РАЗДЕЛ 1(АМП)'!#REF!","v":{"$error":"#REF!"}},490022,null,"2017-02-01"]
[null,null,{"$f":"'РАЗДЕЛ 1(АМП)'!#REF!","v":{"$error":"#REF!"}},{"$f":"'РАЗДЕЛ 1(АМП)'!#REF!","v":{"$error":"#REF!"}},null,{"$f":"'РАЗДЕЛ 1(АМП)'!#REF!","v":{"$error":"#REF!"}},{"$f":"'РАЗДЕЛ 1(АМП)'!#REF!","v":{"$error":"#REF!"}},490022,null,"2017-02-01"]
[null,null,{"$f":"'РАЗДЕЛ 1(АМП)'!#REF!","v":{"$error":"#REF!"}},{"$f":"'РАЗДЕЛ 1(АМП)'!#REF!","v":{"$error":"#REF!"}},null,{"$f":"'РАЗДЕЛ 1(АМП)'!#REF!","v":{"$error":"#REF!"}},{"$f":"'РАЗДЕЛ 1(АМП)'!#REF!","v":{"$error":"#REF!"}},490022,null,"2017-02-01"]
[null,null,{"$f":"'РАЗДЕЛ 1(АМП)'!#REF!","v":{"$error":"#REF!"}},{"$f":"'РАЗДЕЛ 1(АМП)'!#REF!","v":{"$error":"#REF!"}},null,{"$f":"'РАЗДЕЛ 1(АМП)'!#REF!","v":{"$error":"#REF!"}},{"$f":"'РАЗДЕЛ 1(АМП)'!#REF!","v":{"$error":"#REF!"}},490022,null,"2017-02-01"]
[null,null,{"$f":"'РАЗДЕЛ 1(АМП)'!#REF!","v":{"$error":"#REF!"}},{"$f":"'РАЗДЕЛ 1(АМП)'!#REF!","v":{"$error":"#REF!"}},null,{"$f":"'РАЗДЕЛ 1(АМП)'!#REF!","v":{"$error":"#REF!"}},{"$f":"'РАЗДЕЛ 1(АМП)'!#REF!","v":{"$error":"#REF!"}},490022,null,"2017-02-01"]
[null,null,{"$f":"'РАЗДЕЛ 1(АМП)'!#REF!","v":{"$error":"#REF!"}},{"$f":"'РАЗДЕЛ 1(АМП)'!#REF!","v":{"$error":"#REF!"}},null,{"$f":"'РАЗДЕЛ 1(АМП)'!#REF!","v":{"$error":"#REF!"}},{"$f":"'РАЗДЕЛ 1(АМП)'!#REF!","v":{"$error":"#REF!"}},490022,null,"2017-02-01"]
[null,null,{"$f":"'РАЗДЕЛ 1(АМП)'!#REF!","v":{"$error":"#REF!"}},{"$f":"'РАЗДЕЛ 1(АМП)'!#REF!","v":{"$error":"#REF!"}},null,{"$f":"'РАЗДЕЛ 1(АМП)'!#REF!","v":{"$error":"#REF!"}},{"$f":"'РАЗДЕЛ 1(АМП)'!#REF!","v":{"$error":"#REF!"}},490022,null,"2017-02-01"]
[null,null,{"$f":"'РАЗДЕЛ 1(АМП)'!#REF!","v":{"$error":"#REF!"}},{"$f":"'РАЗДЕЛ 1(АМП)'!#REF!","v":{"$error":"#REF!"}},null,{"$f":"'РАЗДЕЛ 1(АМП)'!#REF!","v":{"$error":"#REF!"}},{"$f":"'РАЗДЕЛ 1(АМП)'!#REF!","v":{"$error":"#REF!"}},490022,null,"2017-02-01"]
[null,null,{"$f":"'РАЗДЕЛ 1(АМП)'!#REF!","v":{"$error":"#REF!"}},{"$f":"'РАЗДЕЛ 1(АМП)'!#REF!","v":{"$error":"#REF!"}},null,{"$f":"'РАЗДЕЛ 1(АМП)'!#REF!","v":{"$error":"#REF!"}},{"$f":"'РАЗДЕЛ 1(АМП)'!#REF!","v":{"$error":"#REF!"}},490022,null,"2017-02-01"]
[null,null,{"$f":"'РАЗДЕЛ 1(АМП)'!#REF!","v":{"$error":"#REF!"}},{"$f":"'РАЗДЕЛ 1(АМП)'!#REF!","v":{"$error":"#REF!"}},null,{"$f":"'РАЗДЕЛ 1(АМП)'!#REF!","v":{"$error":"#REF!"}},{"$f":"'РАЗДЕЛ 1(АМП)'!#REF!","v":{"$error":"#REF!"}},490022,null,"2017-02-01"]
[null,null,{"$f":"'РАЗДЕЛ 1(АМП)'!#REF!","v":{"$error":"#REF!"}},{"$f":"'РАЗДЕЛ 1(АМП)'!#REF!","v":{"$error":"#REF!"}},null,{"$f":"'РАЗДЕЛ 1(АМП)'!#REF!","v":{"$error":"#REF!"}},{"$f":"'РАЗДЕЛ 1(АМП)'!#REF!","v":{"$error":"#REF!"}},490022,null,"2017-02-01"]
[null,null,{"$f":"'РАЗДЕЛ 1(АМП)'!#REF!","v":{"$error":"#REF!"}},{"$f":"'РАЗДЕЛ 1(АМП)'!#REF!","v":{"$error":"#REF!"}},null,{"$f":"'РАЗДЕЛ 1(АМП)'!#REF!","v":{"$error":"#REF!"}},{"$f":"'РАЗДЕЛ 1(АМП)'!#REF!","v":{"$error":"#REF!"}},490022,null,"2017-02-01"]
[null,null,{"$f":"'РАЗДЕЛ 1(АМП)'!#REF!","v":{"$error":"#REF!"}},{"$f":"'РАЗДЕЛ 1(АМП)'!#REF!","v":{"$error":"#REF!"}},null,{"$f":"'РАЗДЕЛ 1(АМП)'!#REF!","v":{"$error":"#REF!"}},{"$f":"'РАЗДЕЛ 1(АМП)'!#REF!","v":{"$error":"#REF!"}},490022,null,"2017-02-01"]
[null,null,{"$f":"'РАЗДЕЛ 1(АМП)'!#REF!","v":{"$error":"#REF!"}},{"$f":"'РАЗДЕЛ 1(АМП)'!#REF!","v":{"$error":"#REF!"}},null,{"$f":"'РАЗДЕЛ 1(АМП)'!#REF!","v":{"$error":"#REF!"}},{"$f":"'РАЗДЕЛ 1(АМП)'!#REF!","v":{"$error":"#REF!"}},490022,null,"2017-02-01"]
[null,null,{"$f":"'РАЗДЕЛ 1(АМП)'!#REF!","v":{"$error":"#REF!"}},{"$f":"'РАЗДЕЛ 1(АМП)'!#REF!","v":{"$error":"#REF!"}},null,{"$f":"'РАЗДЕЛ 1(АМП)'!#REF!","v":{"$error":"#REF!"}},{"$f":"'РАЗДЕЛ 1(АМП)'!#REF!","v":{"$error":"#REF!"}},490022,null,"2017-02-01"]
[null,null,{"$f":"'РАЗДЕЛ 1(АМП)'!#REF!","v":{"$error":"#REF!"}},{"$f":"'РАЗДЕЛ 1(АМП)'!#REF!","v":{"$error":"#REF!"}},null,{"$f":"'РАЗДЕЛ 1(АМП)'!#REF!","v":{"$error":"#REF!"}},{"$f":"'РАЗДЕЛ 1(АМП)'!#REF!","v":{"$error":"#REF!"}},{"$f":"H1119","v":490022},null,"2017-02-01"]
[null,null,{"$f":"'РАЗДЕЛ 1(АМП)'!#REF!","v":{"$error":"#REF!"}},{"$f":"'РАЗДЕЛ 1(АМП)'!#REF!","v":{"$error":"#REF!"}},null,{"$f":"'РАЗДЕЛ 1(АМП)'!#REF!","v":{"$error":"#REF!"}},{"$f":"'РАЗДЕЛ 1(АМП)'!#REF!","v":{"$error":"#REF!"}},490022,null,"2017-02-01"]
[null,null,{"$f":"'РАЗДЕЛ 1(АМП)'!#REF!","v":{"$error":"#REF!"}},{"$f":"'РАЗДЕЛ 1(АМП)'!#REF!","v":{"$error":"#REF!"}},null,{"$f":"'РАЗДЕЛ 1(АМП)'!#REF!","v":{"$error":"#REF!"}},{"$f":"'РАЗДЕЛ 1(АМП)'!#REF!","v":{"$error":"#REF!"}},490022,null,"2017-02-01"]
[null,null,{"$f":"'РАЗДЕЛ 1(АМП)'!#REF!","v":{"$error":"#REF!"}},{"$f":"'РАЗДЕЛ 1(АМП)'!#REF!","v":{"$error":"#REF!"}},null,{"$f":"'РАЗДЕЛ 1(АМП)'!#REF!","v":{"$error":"#REF!"}},{"$f":"'РАЗДЕЛ 1(АМП)'!#REF!","v":{"$error":"#REF!"}},490022,null,"2017-02-01"]
[null,null,{"$f":"'РАЗДЕЛ 1(АМП)'!#REF!","v":{"$error":"#REF!"}},{"$f":"'РАЗДЕЛ 1(АМП)'!#REF!","v":{"$error":"#REF!"}},null,{"$f":"'РАЗДЕЛ 1(АМП)'!#REF!","v":{"$error":"#REF!"}},{"$f":"'РАЗДЕЛ 1(АМП)'!#REF!","v":{"$error":"#REF!"}},490022,null,"2017-02-01"]
[null,null,{"$f":"#REF!","v":{"$error":"#REF!"}},{"$f":"#REF!","v":{"$error":"#REF!"}},null,{"$f":"#REF!","v":{"$error":"#REF!"}},{"$f":"#REF!","v":{"$error":"#REF!"}},490022,{"$f":"#REF!","v":{"$error":"#REF!"}},"2017-02-01"]
[null,null,{"$f":"#REF!","v":{"$error":"#REF!"}},{"$f":"#REF!","v":{"$error":"#REF!"}},null,{"$f":"#REF!","v":{"$error":"#REF!"}},{"$f":"#REF!","v":{"$error":"#REF!"}},490022,{"$f":"#REF!","v":{"$error":"#REF!"}},"2017-02-01"]
[null,null,{"$f":"#REF!","v":{"$error":"#REF!"}},{"$f":"#REF!","v":{"$error":"#REF!"}},null,{"$f":"#REF!","v":{"$error":"#REF!"}},{"$f":"#REF!","v":{"$error":"#REF!"}},490022,{"$f":"#REF!","v":{"$error":"#REF!"}},"2017-02-01"]
[null,null,{"$f":"#REF!","v":{"$error":"#REF!"}},{"$f":"#REF!","v":{"$error":"#REF!"}},null,{"$f":"#REF!","v":{"$error":"#REF!"}},{"$f":"#REF!","v":{"$error":"#REF!"}},490022,{"$f":"#REF!","v":{"$error":"#REF!"}},"2017-02-01"]
[null,null,{"$f":"#REF!","v":{"$error":"#REF!"}},{"$f":"#REF!","v":{"$error":"#REF!"}},null,{"$f":"#REF!","v":{"$error":"#REF!"}},{"$f":"#REF!","v":{"$error":"#REF!"}},490022,{"$f":"#REF!","v":{"$error":"#REF!"}},"2017-02-01"]
[null,null,{"$f":"#REF!","v":{"$error":"#REF!"}},{"$f":"#REF!","v":{"$error":"#REF!"}},null,{"$f":"#REF!","v":{"$error":"#REF!"}},{"$f":"#REF!","v":{"$error":"#REF!"}},490022,{"$f":"#REF!","v":{"$error":"#REF!"}},"2017-02-01"]
[null,null,{"$f":"#REF!","v":{"$error":"#REF!"}},{"$f":"#REF!","v":{"$error":"#REF!"}},null,{"$f":"#REF!","v":{"$error":"#REF!"}},{"$f":"#REF!","v":{"$error":"#REF!"}},490022,{"$f":"#REF!","v":{"$error":"#REF!"}},"2017-02-01"]
[null,null,{"$f":"#REF!","v":{"$error":"#REF!"}},{"$f":"#REF!","v":{"$error":"#REF!"}},null,{"$f":"#REF!","v":{"$error":"#REF!"}},{"$f":"#REF!","v":{"$error":"#REF!"}},490022,{"$f":"#REF!","v":{"$error":"#REF!"}},"2017-02-01"]
[null,null,{"$f":"#REF!","v":{"$error":"#REF!"}},{"$f":"#REF!","v":{"$error":"#REF!"}},null,{"$f":"#REF!","v":{"$error":"#REF!"}},{"$f":"#REF!","v":{"$error":"#REF!"}},490022,{"$f":"#REF!","v":{"$error":"#REF!"}},"2017-02-01"]
[null,null,{"$f":"#REF!","v":{"$error":"#REF!"}},{"$f":"#REF!","v":{"$error":"#REF!"}},null,{"$f":"#REF!","v":{"$error":"#REF!"}},{"$f":"#REF!","v":{"$error":"#REF!"}},490022,{"$f":"#REF!","v":{"$error":"#REF!"}},"2017-02-01"]
[null,null,{"$f":"#REF!","v":{"$error":"#REF!"}},{"$f":"#REF!","v":{"$error":"#REF!"}},null,{"$f":"#REF!","v":{"$error":"#REF!"}},{"$f":"#REF!","v":{"$error":"#REF!"}},490022,{"$f":"#REF!","v":{"$error":"#REF!"}},"2017-02-01"]
[null,null,{"$f":"#REF!","v":{"$error":"#REF!"}},{"$f":"#REF!","v":{"$error":"#REF!"}},null,{"$f":"#REF!","v":{"$error":"#REF!"}},{"$f":"#REF!","v":{"$error":"#REF!"}},490022,{"$f":"#REF!","v":{"$error":"#REF!"}},"2017-02-01"]
[null,null,{"$f":"#REF!","v":{"$error":"#REF!"}},{"$f":"#REF!","v":{"$error":"#REF!"}},null,{"$f":"#REF!","v":{"$error":"#REF!"}},{"$f":"#REF!","v":{"$error":"#REF!"}},490022,{"$f":"#REF!","v":{"$error":"#REF!"}},"2017-02-01"]
[null,null,{"$f":"#REF!","v":{"$error":"#REF!"}},{"$f":"#REF!","v":{"$error":"#REF!"}},null,{"$f":"#REF!","v":{"$error":"#REF!"}},{"$f":"#REF!","v":{"$error":"#REF!"}},490022,{"$f":"#REF!","v":{"$error":"#REF!"}},"2017-02-01"]
[null,null,{"$f":"#REF!","v":{"$error":"#REF!"}},{"$f":"#REF!","v":{"$error":"#REF!"}},null,{"$f":"#REF!","v":{"$error":"#REF!"}},{"$f":"#REF!","v":{"$error":"#REF!"}},490022,{"$f":"#REF!","v":{"$error":"#REF!"}},"2017-02-01"]
[null,null,{"$f":"#REF!","v":{"$error":"#REF!"}},{"$f":"#REF!","v":{"$error":"#REF!"}},null,{"$f":"#REF!","v":{"$error":"#REF!"}},{"$f":"#REF!","v":{"$error":"#REF!"}},490022,{"$f":"#REF!","v":{"$error":"#REF!"}},"2017-02-01"]
[null,null,{"$f":"'РАЗДЕЛ 1(АМП)'!#REF!","v":{"$error":"#REF!"}},{"$f":"'РАЗДЕЛ 1(АМП)'!#REF!","v":{"$error":"#REF!"}},{"$f":"'РАЗДЕЛ 1(АМП)'!#REF!","v":{"$error":"#REF!"}},{"$f":"'РАЗДЕЛ 1(АМП)'!#REF!","v":{"$error":"#REF!"}},null,490023,null,"2017-02-01"]
[null,null,{"$f":"'РАЗДЕЛ 1(АМП)'!#REF!","v":{"$error":"#REF!"}},{"$f":"'РАЗДЕЛ 1(АМП)'!#REF!","v":{"$error":"#REF!"}},{"$f":"'РАЗДЕЛ 1(АМП)'!#REF!","v":{"$error":"#REF!"}},{"$f":"'РАЗДЕЛ 1(АМП)'!#REF!","v":{"$error":"#REF!"}},null,490023,null,"2017-02-01"]
[null,null,{"$f":"'РАЗДЕЛ 1(АМП)'!#REF!","v":{"$error":"#REF!"}},{"$f":"'РАЗДЕЛ 1(АМП)'!#REF!","v":{"$error":"#REF!"}},{"$f":"'РАЗДЕЛ 1(АМП)'!#REF!","v":{"$error":"#REF!"}},{"$f":"'РАЗДЕЛ 1(АМП)'!#REF!","v":{"$error":"#REF!"}},null,490023,null,"2017-02-01"]
[null,null,{"$f":"'РАЗДЕЛ 1(АМП)'!#REF!","v":{"$error":"#REF!"}},{"$f":"'РАЗДЕЛ 1(АМП)'!#REF!","v":{"$error":"#REF!"}},{"$f":"'РАЗДЕЛ 1(АМП)'!#REF!","v":{"$error":"#REF!"}},{"$f":"'РАЗДЕЛ 1(АМП)'!#REF!","v":{"$error":"#REF!"}},null,490023,null,"2017-02-01"]
[null,null,{"$f":"'РАЗДЕЛ 1(АМП)'!#REF!","v":{"$error":"#REF!"}},{"$f":"'РАЗДЕЛ 1(АМП)'!#REF!","v":{"$error":"#REF!"}},{"$f":"'РАЗДЕЛ 1(АМП)'!#REF!","v":{"$error":"#REF!"}},{"$f":"'РАЗДЕЛ 1(АМП)'!#REF!","v":{"$error":"#REF!"}},null,490023,null,"2017-02-01"]
[null,null,{"$f":"'РАЗДЕЛ 1(АМП)'!#REF!","v":{"$error":"#REF!"}},{"$f":"'РАЗДЕЛ 1(АМП)'!#REF!","v":{"$error":"#REF!"}},{"$f":"'РАЗДЕЛ 1(АМП)'!#REF!","v":{"$error":"#REF!"}},{"$f":"'РАЗДЕЛ 1(АМП)'!#REF!","v":{"$error":"#REF!"}},null,490023,null,"2017-02-01"]
[null,null,{"$f":"'РАЗДЕЛ 1(АМП)'!#REF!","v":{"$error":"#REF!"}},{"$f":"'РАЗДЕЛ 1(АМП)'!#REF!","v":{"$error":"#REF!"}},{"$f":"'РАЗДЕЛ 1(АМП)'!#REF!","v":{"$error":"#REF!"}},{"$f":"'РАЗДЕЛ 1(АМП)'!#REF!","v":{"$error":"#REF!"}},null,490023,null,"2017-02-01"]
[null,null,{"$f":"'РАЗДЕЛ 1(АМП)'!#REF!","v":{"$error":"#REF!"}},{"$f":"'РАЗДЕЛ 1(АМП)'!#REF!","v":{"$error":"#REF!"}},{"$f":"'РАЗДЕЛ 1(АМП)'!#REF!","v":{"$error":"#REF!"}},{"$f":"'РАЗДЕЛ 1(АМП)'!#REF!","v":{"$error":"#REF!"}},null,490023,null,"2017-02-01"]
[null,null,{"$f":"'РАЗДЕЛ 1(АМП)'!#REF!","v":{"$error":"#REF!"}},{"$f":"'РАЗДЕЛ 1(АМП)'!#REF!","v":{"$error":"#REF!"}},{"$f":"'РАЗДЕЛ 1(АМП)'!#REF!","v":{"$error":"#REF!"}},{"$f":"'РАЗДЕЛ 1(АМП)'!#REF!","v":{"$error":"#REF!"}},null,490023,null,"2017-02-01"]
[null,null,{"$f":"'РАЗДЕЛ 1(АМП)'!#REF!","v":{"$error":"#REF!"}},{"$f":"'РАЗДЕЛ 1(АМП)'!#REF!","v":{"$error":"#REF!"}},{"$f":"'РАЗДЕЛ 1(АМП)'!#REF!","v":{"$error":"#REF!"}},{"$f":"'РАЗДЕЛ 1(АМП)'!#REF!","v":{"$error":"#REF!"}},null,490023,null,"2017-02-01"]
[null,null,{"$f":"'РАЗДЕЛ 1(АМП)'!#REF!","v":{"$error":"#REF!"}},{"$f":"'РАЗДЕЛ 1(АМП)'!#REF!","v":{"$error":"#REF!"}},{"$f":"'РАЗДЕЛ 1(АМП)'!#REF!","v":{"$error":"#REF!"}},{"$f":"'РАЗДЕЛ 1(АМП)'!#REF!","v":{"$error":"#REF!"}},null,490023,null,"2017-02-01"]
[null,null,{"$f":"'РАЗДЕЛ 1(АМП)'!#REF!","v":{"$error":"#REF!"}},{"$f":"'РАЗДЕЛ 1(АМП)'!#REF!","v":{"$error":"#REF!"}},{"$f":"'РАЗДЕЛ 1(АМП)'!#REF!","v":{"$error":"#REF!"}},{"$f":"'РАЗДЕЛ 1(АМП)'!#REF!","v":{"$error":"#REF!"}},null,490023,null,"2017-02-01"]
[null,null,{"$f":"'РАЗДЕЛ 1(АМП)'!#REF!","v":{"$error":"#REF!"}},{"$f":"'РАЗДЕЛ 1(АМП)'!#REF!","v":{"$error":"#REF!"}},{"$f":"'РАЗДЕЛ 1(АМП)'!#REF!","v":{"$error":"#REF!"}},{"$f":"'РАЗДЕЛ 1(АМП)'!#REF!","v":{"$error":"#REF!"}},null,490023,null,"2017-02-01"]
[null,null,{"$f":"'РАЗДЕЛ 1(АМП)'!#REF!","v":{"$error":"#REF!"}},{"$f":"'РАЗДЕЛ 1(АМП)'!#REF!","v":{"$error":"#REF!"}},{"$f":"'РАЗДЕЛ 1(АМП)'!#REF!","v":{"$error":"#REF!"}},{"$f":"'РАЗДЕЛ 1(АМП)'!#REF!","v":{"$error":"#REF!"}},null,490023,null,"2017-02-01"]
[null,null,{"$f":"'РАЗДЕЛ 1(АМП)'!#REF!","v":{"$error":"#REF!"}},{"$f":"'РАЗДЕЛ 1(АМП)'!#REF!","v":{"$error":"#REF!"}},null,{"$f":"'РАЗДЕЛ 1(АМП)'!#REF!","v":{"$error":"#REF!"}},{"$f":"'РАЗДЕЛ 1(АМП)'!#REF!","v":{"$error":"#REF!"}},490023,null,{"$f":"J1154","v":"2017-02-01"}]
[null,null,{"$f":"'РАЗДЕЛ 1(АМП)'!#REF!","v":{"$error":"#REF!"}},{"$f":"'РАЗДЕЛ 1(АМП)'!#REF!","v":{"$error":"#REF!"}},{"$f":"'РАЗДЕЛ 1(АМП)'!#REF!","v":{"$error":"#REF!"}},{"$f":"'РАЗДЕЛ 1(АМП)'!#REF!","v":{"$error":"#REF!"}},null,490023,null,"2017-02-01"]
[null,null,{"$f":"'РАЗДЕЛ 1(АМП)'!#REF!","v":{"$error":"#REF!"}},{"$f":"'РАЗДЕЛ 1(АМП)'!#REF!","v":{"$error":"#REF!"}},{"$f":"'РАЗДЕЛ 1(АМП)'!#REF!","v":{"$error":"#REF!"}},{"$f":"'РАЗДЕЛ 1(АМП)'!#REF!","v":{"$error":"#REF!"}},null,490023,null,"2017-02-01"]
[null,null,{"$f":"'РАЗДЕЛ 1(АМП)'!#REF!","v":{"$error":"#REF!"}},{"$f":"'РАЗДЕЛ 1(АМП)'!#REF!","v":{"$error":"#REF!"}},{"$f":"'РАЗДЕЛ 1(АМП)'!#REF!","v":{"$error":"#REF!"}},{"$f":"'РАЗДЕЛ 1(АМП)'!#REF!","v":{"$error":"#REF!"}},null,490023,null,"2017-02-01"]
[null,null,{"$f":"'РАЗДЕЛ 1(АМП)'!#REF!","v":{"$error":"#REF!"}},{"$f":"'РАЗДЕЛ 1(АМП)'!#REF!","v":{"$error":"#REF!"}},{"$f":"'РАЗДЕЛ 1(АМП)'!#REF!","v":{"$error":"#REF!"}},{"$f":"'РАЗДЕЛ 1(АМП)'!#REF!","v":{"$error":"#REF!"}},null,490023,null,"2017-02-01"]
[null,null,{"$f":"'РАЗДЕЛ 1(АМП)'!#REF!","v":{"$error":"#REF!"}},{"$f":"'РАЗДЕЛ 1(АМП)'!#REF!","v":{"$error":"#REF!"}},{"$f":"'РАЗДЕЛ 1(АМП)'!#REF!","v":{"$error":"#REF!"}},{"$f":"'РАЗДЕЛ 1(АМП)'!#REF!","v":{"$error":"#REF!"}},null,490023,null,"2017-02-01"]
[null,null,{"$f":"'РАЗДЕЛ 1(АМП)'!#REF!","v":{"$error":"#REF!"}},{"$f":"'РАЗДЕЛ 1(АМП)'!#REF!","v":{"$error":"#REF!"}},{"$f":"'РАЗДЕЛ 1(АМП)'!#REF!","v":{"$error":"#REF!"}},{"$f":"'РАЗДЕЛ 1(АМП)'!#REF!","v":{"$error":"#REF!"}},null,490023,null,"2017-02-01"]
[null,null,{"$f":"'РАЗДЕЛ 1(АМП)'!#REF!","v":{"$error":"#REF!"}},{"$f":"'РАЗДЕЛ 1(АМП)'!#REF!","v":{"$error":"#REF!"}},{"$f":"'РАЗДЕЛ 1(АМП)'!#REF!","v":{"$error":"#REF!"}},{"$f":"'РАЗДЕЛ 1(АМП)'!#REF!","v":{"$error":"#REF!"}},null,490023,null,"2017-02-01"]
[null,null,{"$f":"'РАЗДЕЛ 1(АМП)'!#REF!","v":{"$error":"#REF!"}},{"$f":"'РАЗДЕЛ 1(АМП)'!#REF!","v":{"$error":"#REF!"}},{"$f":"'РАЗДЕЛ 1(АМП)'!#REF!","v":{"$error":"#REF!"}},{"$f":"'РАЗДЕЛ 1(АМП)'!#REF!","v":{"$error":"#REF!"}},null,490023,null,"2017-02-01"]
[null,null,{"$f":"'РАЗДЕЛ 1(АМП)'!#REF!","v":{"$error":"#REF!"}},{"$f":"'РАЗДЕЛ 1(АМП)'!#REF!","v":{"$error":"#REF!"}},{"$f":"'РАЗДЕЛ 1(АМП)'!#REF!","v":{"$error":"#REF!"}},{"$f":"'РАЗДЕЛ 1(АМП)'!#REF!","v":{"$error":"#REF!"}},null,490023,null,"2017-02-01"]
[null,null,{"$f":"'РАЗДЕЛ 1(АМП)'!#REF!","v":{"$error":"#REF!"}},{"$f":"'РАЗДЕЛ 1(АМП)'!#REF!","v":{"$error":"#REF!"}},{"$f":"'РАЗДЕЛ 1(АМП)'!#REF!","v":{"$error":"#REF!"}},{"$f":"'РАЗДЕЛ 1(АМП)'!#REF!","v":{"$error":"#REF!"}},null,490023,null,"2017-02-01"]
[null,null,{"$f":"'РАЗДЕЛ 1(АМП)'!#REF!","v":{"$error":"#REF!"}},{"$f":"'РАЗДЕЛ 1(АМП)'!#REF!","v":{"$error":"#REF!"}},{"$f":"'РАЗДЕЛ 1(АМП)'!#REF!","v":{"$error":"#REF!"}},{"$f":"'РАЗДЕЛ 1(АМП)'!#REF!","v":{"$error":"#REF!"}},null,490023,null,"2017-02-01"]
[null,null,{"$f":"'РАЗДЕЛ 1(АМП)'!#REF!","v":{"$error":"#REF!"}},{"$f":"'РАЗДЕЛ 1(АМП)'!#REF!","v":{"$error":"#REF!"}},{"$f":"'РАЗДЕЛ 1(АМП)'!#REF!","v":{"$error":"#REF!"}},{"$f":"'РАЗДЕЛ 1(АМП)'!#REF!","v":{"$error":"#REF!"}},null,490023,null,"2017-02-01"]
[null,null,{"$f":"'РАЗДЕЛ 1(АМП)'!#REF!","v":{"$error":"#REF!"}},{"$f":"'РАЗДЕЛ 1(АМП)'!#REF!","v":{"$error":"#REF!"}},{"$f":"'РАЗДЕЛ 1(АМП)'!#REF!","v":{"$error":"#REF!"}},{"$f":"'РАЗДЕЛ 1(АМП)'!#REF!","v":{"$error":"#REF!"}},null,490023,null,"2017-02-01"]
[null,null,{"$f":"'РАЗДЕЛ 1(АМП)'!#REF!","v":{"$error":"#REF!"}},{"$f":"'РАЗДЕЛ 1(АМП)'!#REF!","v":{"$error":"#REF!"}},{"$f":"'РАЗДЕЛ 1(АМП)'!#REF!","v":{"$error":"#REF!"}},{"$f":"'РАЗДЕЛ 1(АМП)'!#REF!","v":{"$error":"#REF!"}},null,490023,null,"2017-02-01"]
[null,null,{"$f":"'РАЗДЕЛ 1(АМП)'!#REF!","v":{"$error":"#REF!"}},{"$f":"'РАЗДЕЛ 1(АМП)'!#REF!","v":{"$error":"#REF!"}},{"$f":"'РАЗДЕЛ 1(АМП)'!#REF!","v":{"$error":"#REF!"}},{"$f":"'РАЗДЕЛ 1(АМП)'!#REF!","v":{"$error":"#REF!"}},null,490023,null,"2017-02-01"]
[null,null,{"$f":"'РАЗДЕЛ 1(АМП)'!#REF!","v":{"$error":"#REF!"}},{"$f":"'РАЗДЕЛ 1(АМП)'!#REF!","v":{"$error":"#REF!"}},{"$f":"'РАЗДЕЛ 1(АМП)'!#REF!","v":{"$error":"#REF!"}},{"$f":"'РАЗДЕЛ 1(АМП)'!#REF!","v":{"$error":"#REF!"}},null,490023,null,"2017-02-01"]
[null,null,{"$f":"'РАЗДЕЛ 1(АМП)'!#REF!","v":{"$error":"#REF!"}},{"$f":"'РАЗДЕЛ 1(АМП)'!#REF!","v":{"$error":"#REF!"}},{"$f":"'РАЗДЕЛ 1(АМП)'!#REF!","v":{"$error":"#REF!"}},{"$f":"'РАЗДЕЛ 1(АМП)'!#REF!","v":{"$error":"#REF!"}},null,490023,null,"2017-02-01"]
[null,null,{"$f":"'РАЗДЕЛ 1(АМП)'!#REF!","v":{"$error":"#REF!"}},{"$f":"'РАЗДЕЛ 1(АМП)'!#REF!","v":{"$error":"#REF!"}},{"$f":"'РАЗДЕЛ 1(АМП)'!#REF!","v":{"$error":"#REF!"}},{"$f":"'РАЗДЕЛ 1(АМП)'!#REF!","v":{"$error":"#REF!"}},null,490023,null,"2017-02-01"]
[null,null,{"$f":"'РАЗДЕЛ 1(АМП)'!#REF!","v":{"$error":"#REF!"}},{"$f":"'РАЗДЕЛ 1(АМП)'!#REF!","v":{"$error":"#REF!"}},{"$f":"'РАЗДЕЛ 1(АМП)'!#REF!","v":{"$error":"#REF!"}},{"$f":"'РАЗДЕЛ 1(АМП)'!#REF!","v":{"$error":"#REF!"}},null,490023,null,"2017-02-01"]
[null,null,{"$f":"'РАЗДЕЛ 1(АМП)'!#REF!","v":{"$error":"#REF!"}},{"$f":"'РАЗДЕЛ 1(АМП)'!#REF!","v":{"$error":"#REF!"}},{"$f":"'РАЗДЕЛ 1(АМП)'!#REF!","v":{"$error":"#REF!"}},{"$f":"'РАЗДЕЛ 1(АМП)'!#REF!","v":{"$error":"#REF!"}},null,490023,null,"2017-02-01"]
[null,null,{"$f":"'РАЗДЕЛ 1(АМП)'!#REF!","v":{"$error":"#REF!"}},{"$f":"'РАЗДЕЛ 1(АМП)'!#REF!","v":{"$error":"#REF!"}},{"$f":"'РАЗДЕЛ 1(АМП)'!#REF!","v":{"$error":"#REF!"}},{"$f":"'РАЗДЕЛ 1(АМП)'!#REF!","v":{"$error":"#REF!"}},null,490023,null,"2017-02-01"]
[null,null,{"$f":"'РАЗДЕЛ 1(АМП)'!#REF!","v":{"$error":"#REF!"}},{"$f":"'РАЗДЕЛ 1(АМП)'!#REF!","v":{"$error":"#REF!"}},{"$f":"'РАЗДЕЛ 1(АМП)'!#REF!","v":{"$error":"#REF!"}},{"$f":"'РАЗДЕЛ 1(АМП)'!#REF!","v":{"$error":"#REF!"}},null,490023,null,"2017-02-01"]
[null,null,{"$f":"'РАЗДЕЛ 1(АМП)'!#REF!","v":{"$error":"#REF!"}},{"$f":"'РАЗДЕЛ 1(АМП)'!#REF!","v":{"$error":"#REF!"}},{"$f":"'РАЗДЕЛ 1(АМП)'!#REF!","v":{"$error":"#REF!"}},{"$f":"'РАЗДЕЛ 1(АМП)'!#REF!","v":{"$error":"#REF!"}},null,490023,null,"2017-02-01"]
[null,null,{"$f":"'РАЗДЕЛ 1(АМП)'!#REF!","v":{"$error":"#REF!"}},{"$f":"'РАЗДЕЛ 1(АМП)'!#REF!","v":{"$error":"#REF!"}},null,{"$f":"'РАЗДЕЛ 1(АМП)'!#REF!","v":{"$error":"#REF!"}},{"$f":"'РАЗДЕЛ 1(АМП)'!#REF!","v":{"$error":"#REF!"}},490023,null,"2017-02-01"]
[null,null,{"$f":"'РАЗДЕЛ 1(АМП)'!#REF!","v":{"$error":"#REF!"}},{"$f":"'РАЗДЕЛ 1(АМП)'!#REF!","v":{"$error":"#REF!"}},{"$f":"'РАЗДЕЛ 1(АМП)'!#REF!","v":{"$error":"#REF!"}},{"$f":"'РАЗДЕЛ 1(АМП)'!#REF!","v":{"$error":"#REF!"}},null,490023,null,"2017-02-01"]
[null,null,{"$f":"'РАЗДЕЛ 1(АМП)'!#REF!","v":{"$error":"#REF!"}},{"$f":"'РАЗДЕЛ 1(АМП)'!#REF!","v":{"$error":"#REF!"}},{"$f":"'РАЗДЕЛ 1(АМП)'!#REF!","v":{"$error":"#REF!"}},{"$f":"'РАЗДЕЛ 1(АМП)'!#REF!","v":{"$error":"#REF!"}},null,490023,null,"2017-02-01"]
[null,null,{"$f":"'РАЗДЕЛ 1(АМП)'!#REF!","v":{"$error":"#REF!"}},{"$f":"'РАЗДЕЛ 1(АМП)'!#REF!","v":{"$error":"#REF!"}},{"$f":"'РАЗДЕЛ 1(АМП)'!#REF!","v":{"$error":"#REF!"}},{"$f":"'РАЗДЕЛ 1(АМП)'!#REF!","v":{"$error":"#REF!"}},null,490023,null,"2017-02-01"]
[null,null,{"$f":"'РАЗДЕЛ 1(АМП)'!#REF!","v":{"$error":"#REF!"}},{"$f":"'РАЗДЕЛ 1(АМП)'!#REF!","v":{"$error":"#REF!"}},{"$f":"'РАЗДЕЛ 1(АМП)'!#REF!","v":{"$error":"#REF!"}},{"$f":"'РАЗДЕЛ 1(АМП)'!#REF!","v":{"$error":"#REF!"}},null,{"$f":"H1182","v":490023},null,"2017-02-01"]
[null,null,{"$f":"'РАЗДЕЛ 1(АМП)'!#REF!","v":{"$error":"#REF!"}},{"$f":"'РАЗДЕЛ 1(АМП)'!#REF!","v":{"$error":"#REF!"}},{"$f":"'РАЗДЕЛ 1(АМП)'!#REF!","v":{"$error":"#REF!"}},{"$f":"'РАЗДЕЛ 1(АМП)'!#REF!","v":{"$error":"#REF!"}},null,490023,null,"2017-02-01"]
[null,null,{"$f":"'РАЗДЕЛ 1(АМП)'!#REF!","v":{"$error":"#REF!"}},{"$f":"'РАЗДЕЛ 1(АМП)'!#REF!","v":{"$error":"#REF!"}},{"$f":"'РАЗДЕЛ 1(АМП)'!#REF!","v":{"$error":"#REF!"}},{"$f":"'РАЗДЕЛ 1(АМП)'!#REF!","v":{"$error":"#REF!"}},null,490023,null,"2017-02-01"]
[null,null,{"$f":"'РАЗДЕЛ 1(АМП)'!#REF!","v":{"$error":"#REF!"}},{"$f":"'РАЗДЕЛ 1(АМП)'!#REF!","v":{"$error":"#REF!"}},{"$f":"'РАЗДЕЛ 1(АМП)'!#REF!","v":{"$error":"#REF!"}},{"$f":"'РАЗДЕЛ 1(АМП)'!#REF!","v":{"$error":"#REF!"}},null,490023,null,"2017-02-01"]
[null,null,{"$f":"'РАЗДЕЛ 1(АМП)'!#REF!","v":{"$error":"#REF!"}},{"$f":"'РАЗДЕЛ 1(АМП)'!#REF!","v":{"$error":"#REF!"}},{"$f":"'РАЗДЕЛ 1(АМП)'!#REF!","v":{"$error":"#REF!"}},{"$f":"'РАЗДЕЛ 1(АМП)'!#REF!","v":{"$error":"#REF!"}},null,490023,null,"2017-02-01"]
[null,null,{"$f":"'РАЗДЕЛ 1(АМП)'!#REF!","v":{"$error":"#REF!"}},{"$f":"'РАЗДЕЛ 1(АМП)'!#REF!","v":{"$error":"#REF!"}},{"$f":"'РАЗДЕЛ 1(АМП)'!#REF!","v":{"$error":"#REF!"}},{"$f":"'РАЗДЕЛ 1(АМП)'!#REF!","v":{"$error":"#REF!"}},null,490023,null,"2017-02-01"]
[null,null,{"$f":"'РАЗДЕЛ 1(АМП)'!#REF!","v":{"$error":"#REF!"}},{"$f":"'РАЗДЕЛ 1(АМП)'!#REF!","v":{"$error":"#REF!"}},{"$f":"'РАЗДЕЛ 1(АМП)'!#REF!","v":{"$error":"#REF!"}},{"$f":"'РАЗДЕЛ 1(АМП)'!#REF!","v":{"$error":"#REF!"}},null,490024,null,"2017-02-01"]
[null,null,{"$f":"'РАЗДЕЛ 1(АМП)'!#REF!","v":{"$error":"#REF!"}},{"$f":"'РАЗДЕЛ 1(АМП)'!#REF!","v":{"$error":"#REF!"}},{"$f":"'РАЗДЕЛ 1(АМП)'!#REF!","v":{"$error":"#REF!"}},{"$f":"'РАЗДЕЛ 1(АМП)'!#REF!","v":{"$error":"#REF!"}},null,490024,null,"2017-02-01"]
[null,null,{"$f":"'РАЗДЕЛ 1(АМП)'!#REF!","v":{"$error":"#REF!"}},{"$f":"'РАЗДЕЛ 1(АМП)'!#REF!","v":{"$error":"#REF!"}},{"$f":"'РАЗДЕЛ 1(АМП)'!#REF!","v":{"$error":"#REF!"}},{"$f":"'РАЗДЕЛ 1(АМП)'!#REF!","v":{"$error":"#REF!"}},null,490024,null,"2017-02-01"]
[null,null,{"$f":"'РАЗДЕЛ 1(АМП)'!#REF!","v":{"$error":"#REF!"}},{"$f":"'РАЗДЕЛ 1(АМП)'!#REF!","v":{"$error":"#REF!"}},{"$f":"'РАЗДЕЛ 1(АМП)'!#REF!","v":{"$error":"#REF!"}},{"$f":"'РАЗДЕЛ 1(АМП)'!#REF!","v":{"$error":"#REF!"}},null,490024,null,"2017-02-01"]
[null,null,{"$f":"'РАЗДЕЛ 1(АМП)'!#REF!","v":{"$error":"#REF!"}},{"$f":"'РАЗДЕЛ 1(АМП)'!#REF!","v":{"$error":"#REF!"}},{"$f":"'РАЗДЕЛ 1(АМП)'!#REF!","v":{"$error":"#REF!"}},{"$f":"'РАЗДЕЛ 1(АМП)'!#REF!","v":{"$error":"#REF!"}},null,490024,null,"2017-02-01"]
[null,null,{"$f":"'РАЗДЕЛ 1(АМП)'!#REF!","v":{"$error":"#REF!"}},{"$f":"'РАЗДЕЛ 1(АМП)'!#REF!","v":{"$error":"#REF!"}},{"$f":"'РАЗДЕЛ 1(АМП)'!#REF!","v":{"$error":"#REF!"}},{"$f":"'РАЗДЕЛ 1(АМП)'!#REF!","v":{"$error":"#REF!"}},null,490024,null,"2017-02-01"]
[null,null,{"$f":"'РАЗДЕЛ 1(АМП)'!#REF!","v":{"$error":"#REF!"}},{"$f":"'РАЗДЕЛ 1(АМП)'!#REF!","v":{"$error":"#REF!"}},{"$f":"'РАЗДЕЛ 1(АМП)'!#REF!","v":{"$error":"#REF!"}},{"$f":"'РАЗДЕЛ 1(АМП)'!#REF!","v":{"$error":"#REF!"}},null,490024,null,"2017-02-01"]
[null,null,{"$f":"'РАЗДЕЛ 1(АМП)'!#REF!","v":{"$error":"#REF!"}},{"$f":"'РАЗДЕЛ 1(АМП)'!#REF!","v":{"$error":"#REF!"}},{"$f":"'РАЗДЕЛ 1(АМП)'!#REF!","v":{"$error":"#REF!"}},{"$f":"'РАЗДЕЛ 1(АМП)'!#REF!","v":{"$error":"#REF!"}},null,490024,null,"2017-02-01"]
[null,null,{"$f":"'РАЗДЕЛ 1(АМП)'!#REF!","v":{"$error":"#REF!"}},{"$f":"'РАЗДЕЛ 1(АМП)'!#REF!","v":{"$error":"#REF!"}},{"$f":"'РАЗДЕЛ 1(АМП)'!#REF!","v":{"$error":"#REF!"}},{"$f":"'РАЗДЕЛ 1(АМП)'!#REF!","v":{"$error":"#REF!"}},null,490024,null,"2017-02-01"]
[null,null,{"$f":"'РАЗДЕЛ 1(АМП)'!#REF!","v":{"$error":"#REF!"}},{"$f":"'РАЗДЕЛ 1(АМП)'!#REF!","v":{"$error":"#REF!"}},{"$f":"'РАЗДЕЛ 1(АМП)'!#REF!","v":{"$error":"#REF!"}},{"$f":"'РАЗДЕЛ 1(АМП)'!#REF!","v":{"$error":"#REF!"}},null,490024,null,"2017-02-01"]
[null,null,{"$f":"'РАЗДЕЛ 1(АМП)'!#REF!","v":{"$error":"#REF!"}},{"$f":"'РАЗДЕЛ 1(АМП)'!#REF!","v":{"$error":"#REF!"}},{"$f":"'РАЗДЕЛ 1(АМП)'!#REF!","v":{"$error":"#REF!"}},{"$f":"'РАЗДЕЛ 1(АМП)'!#REF!","v":{"$error":"#REF!"}},null,490024,null,"2017-02-01"]
[null,null,{"$f":"'РАЗДЕЛ 1(АМП)'!#REF!","v":{"$error":"#REF!"}},{"$f":"'РАЗДЕЛ 1(АМП)'!#REF!","v":{"$error":"#REF!"}},{"$f":"'РАЗДЕЛ 1(АМП)'!#REF!","v":{"$error":"#REF!"}},{"$f":"'РАЗДЕЛ 1(АМП)'!#REF!","v":{"$error":"#REF!"}},null,490024,null,"2017-02-01"]
[null,null,{"$f":"'РАЗДЕЛ 1(АМП)'!#REF!","v":{"$error":"#REF!"}},{"$f":"'РАЗДЕЛ 1(АМП)'!#REF!","v":{"$error":"#REF!"}},{"$f":"'РАЗДЕЛ 1(АМП)'!#REF!","v":{"$error":"#REF!"}},{"$f":"'РАЗДЕЛ 1(АМП)'!#REF!","v":{"$error":"#REF!"}},null,490024,null,"2017-02-01"]
[null,null,{"$f":"'РАЗДЕЛ 1(АМП)'!#REF!","v":{"$error":"#REF!"}},{"$f":"'РАЗДЕЛ 1(АМП)'!#REF!","v":{"$error":"#REF!"}},{"$f":"'РАЗДЕЛ 1(АМП)'!#REF!","v":{"$error":"#REF!"}},{"$f":"'РАЗДЕЛ 1(АМП)'!#REF!","v":{"$error":"#REF!"}},null,490024,null,"2017-02-01"]
[null,null,{"$f":"'РАЗДЕЛ 1(АМП)'!#REF!","v":{"$error":"#REF!"}},{"$f":"'РАЗДЕЛ 1(АМП)'!#REF!","v":{"$error":"#REF!"}},{"$f":"'РАЗДЕЛ 1(АМП)'!#REF!","v":{"$error":"#REF!"}},{"$f":"'РАЗДЕЛ 1(АМП)'!#REF!","v":{"$error":"#REF!"}},null,490024,null,"2017-02-01"]
[null,null,{"$f":"'РАЗДЕЛ 1(АМП)'!#REF!","v":{"$error":"#REF!"}},{"$f":"'РАЗДЕЛ 1(АМП)'!#REF!","v":{"$error":"#REF!"}},{"$f":"'РАЗДЕЛ 1(АМП)'!#REF!","v":{"$error":"#REF!"}},{"$f":"'РАЗДЕЛ 1(АМП)'!#REF!","v":{"$error":"#REF!"}},null,490024,null,"2017-02-01"]
[null,null,{"$f":"'РАЗДЕЛ 1(АМП)'!#REF!","v":{"$error":"#REF!"}},{"$f":"'РАЗДЕЛ 1(АМП)'!#REF!","v":{"$error":"#REF!"}},null,{"$f":"'РАЗДЕЛ 1(АМП)'!#REF!","v":{"$error":"#REF!"}},{"$f":"'РАЗДЕЛ 1(АМП)'!#REF!","v":{"$error":"#REF!"}},490024,null,"2017-02-01"]
[null,null,{"$f":"'РАЗДЕЛ 1(АМП)'!#REF!","v":{"$error":"#REF!"}},{"$f":"'РАЗДЕЛ 1(АМП)'!#REF!","v":{"$error":"#REF!"}},{"$f":"'РАЗДЕЛ 1(АМП)'!#REF!","v":{"$error":"#REF!"}},{"$f":"'РАЗДЕЛ 1(АМП)'!#REF!","v":{"$error":"#REF!"}},null,490024,null,"2017-02-01"]
[null,null,{"$f":"'РАЗДЕЛ 1(АМП)'!#REF!","v":{"$error":"#REF!"}},{"$f":"'РАЗДЕЛ 1(АМП)'!#REF!","v":{"$error":"#REF!"}},{"$f":"'РАЗДЕЛ 1(АМП)'!#REF!","v":{"$error":"#REF!"}},{"$f":"'РАЗДЕЛ 1(АМП)'!#REF!","v":{"$error":"#REF!"}},null,490024,null,"2017-02-01"]
[null,null,{"$f":"'РАЗДЕЛ 1(АМП)'!#REF!","v":{"$error":"#REF!"}},{"$f":"'РАЗДЕЛ 1(АМП)'!#REF!","v":{"$error":"#REF!"}},{"$f":"'РАЗДЕЛ 1(АМП)'!#REF!","v":{"$error":"#REF!"}},{"$f":"'РАЗДЕЛ 1(АМП)'!#REF!","v":{"$error":"#REF!"}},null,490024,null,"2017-02-01"]
[null,null,{"$f":"'РАЗДЕЛ 1(АМП)'!#REF!","v":{"$error":"#REF!"}},{"$f":"'РАЗДЕЛ 1(АМП)'!#REF!","v":{"$error":"#REF!"}},{"$f":"'РАЗДЕЛ 1(АМП)'!#REF!","v":{"$error":"#REF!"}},{"$f":"'РАЗДЕЛ 1(АМП)'!#REF!","v":{"$error":"#REF!"}},null,490024,null,"2017-02-01"]
[null,null,{"$f":"'РАЗДЕЛ 1(АМП)'!#REF!","v":{"$error":"#REF!"}},{"$f":"'РАЗДЕЛ 1(АМП)'!#REF!","v":{"$error":"#REF!"}},{"$f":"'РАЗДЕЛ 1(АМП)'!#REF!","v":{"$error":"#REF!"}},{"$f":"'РАЗДЕЛ 1(АМП)'!#REF!","v":{"$error":"#REF!"}},null,490024,null,"2017-02-01"]
[null,null,{"$f":"'РАЗДЕЛ 1(АМП)'!#REF!","v":{"$error":"#REF!"}},{"$f":"'РАЗДЕЛ 1(АМП)'!#REF!","v":{"$error":"#REF!"}},{"$f":"'РАЗДЕЛ 1(АМП)'!#REF!","v":{"$error":"#REF!"}},{"$f":"'РАЗДЕЛ 1(АМП)'!#REF!","v":{"$error":"#REF!"}},null,490024,null,"2017-02-01"]
[null,null,{"$f":"'РАЗДЕЛ 1(АМП)'!#REF!","v":{"$error":"#REF!"}},{"$f":"'РАЗДЕЛ 1(АМП)'!#REF!","v":{"$error":"#REF!"}},{"$f":"'РАЗДЕЛ 1(АМП)'!#REF!","v":{"$error":"#REF!"}},{"$f":"'РАЗДЕЛ 1(АМП)'!#REF!","v":{"$error":"#REF!"}},null,490024,null,"2017-02-01"]
[null,null,{"$f":"'РАЗДЕЛ 1(АМП)'!#REF!","v":{"$error":"#REF!"}},{"$f":"'РАЗДЕЛ 1(АМП)'!#REF!","v":{"$error":"#REF!"}},{"$f":"'РАЗДЕЛ 1(АМП)'!#REF!","v":{"$error":"#REF!"}},{"$f":"'РАЗДЕЛ 1(АМП)'!#REF!","v":{"$error":"#REF!"}},null,490024,null,"2017-02-01"]
[null,null,{"$f":"'РАЗДЕЛ 1(АМП)'!#REF!","v":{"$error":"#REF!"}},{"$f":"'РАЗДЕЛ 1(АМП)'!#REF!","v":{"$error":"#REF!"}},{"$f":"'РАЗДЕЛ 1(АМП)'!#REF!","v":{"$error":"#REF!"}},{"$f":"'РАЗДЕЛ 1(АМП)'!#REF!","v":{"$error":"#REF!"}},null,490024,null,"2017-02-01"]
[null,null,{"$f":"'РАЗДЕЛ 1(АМП)'!#REF!","v":{"$error":"#REF!"}},{"$f":"'РАЗДЕЛ 1(АМП)'!#REF!","v":{"$error":"#REF!"}},{"$f":"'РАЗДЕЛ 1(АМП)'!#REF!","v":{"$error":"#REF!"}},{"$f":"'РАЗДЕЛ 1(АМП)'!#REF!","v":{"$error":"#REF!"}},null,490024,null,"2017-02-01"]
[null,null,{"$f":"'РАЗДЕЛ 1(АМП)'!#REF!","v":{"$error":"#REF!"}},{"$f":"'РАЗДЕЛ 1(АМП)'!#REF!","v":{"$error":"#REF!"}},{"$f":"'РАЗДЕЛ 1(АМП)'!#REF!","v":{"$error":"#REF!"}},{"$f":"'РАЗДЕЛ 1(АМП)'!#REF!","v":{"$error":"#REF!"}},null,490024,null,"2017-02-01"]
[null,null,{"$f":"'РАЗДЕЛ 1(АМП)'!#REF!","v":{"$error":"#REF!"}},{"$f":"'РАЗДЕЛ 1(АМП)'!#REF!","v":{"$error":"#REF!"}},{"$f":"'РАЗДЕЛ 1(АМП)'!#REF!","v":{"$error":"#REF!"}},{"$f":"'РАЗДЕЛ 1(АМП)'!#REF!","v":{"$error":"#REF!"}},null,490024,null,{"$f":"J1216","v":"2017-02-01"}]
[null,null,{"$f":"'РАЗДЕЛ 1(АМП)'!#REF!","v":{"$error":"#REF!"}},{"$f":"'РАЗДЕЛ 1(АМП)'!#REF!","v":{"$error":"#REF!"}},{"$f":"'РАЗДЕЛ 1(АМП)'!#REF!","v":{"$error":"#REF!"}},{"$f":"'РАЗДЕЛ 1(АМП)'!#REF!","v":{"$error":"#REF!"}},null,490024,null,"2017-02-01"]
[null,null,{"$f":"'РАЗДЕЛ 1(АМП)'!#REF!","v":{"$error":"#REF!"}},{"$f":"'РАЗДЕЛ 1(АМП)'!#REF!","v":{"$error":"#REF!"}},{"$f":"'РАЗДЕЛ 1(АМП)'!#REF!","v":{"$error":"#REF!"}},{"$f":"'РАЗДЕЛ 1(АМП)'!#REF!","v":{"$error":"#REF!"}},null,490024,null,"2017-02-01"]
[null,null,{"$f":"'РАЗДЕЛ 1(АМП)'!#REF!","v":{"$error":"#REF!"}},{"$f":"'РАЗДЕЛ 1(АМП)'!#REF!","v":{"$error":"#REF!"}},{"$f":"'РАЗДЕЛ 1(АМП)'!#REF!","v":{"$error":"#REF!"}},{"$f":"'РАЗДЕЛ 1(АМП)'!#REF!","v":{"$error":"#REF!"}},null,490024,null,"2017-02-01"]
[null,null,{"$f":"'РАЗДЕЛ 1(АМП)'!#REF!","v":{"$error":"#REF!"}},{"$f":"'РАЗДЕЛ 1(АМП)'!#REF!","v":{"$error":"#REF!"}},{"$f":"'РАЗДЕЛ 1(АМП)'!#REF!","v":{"$error":"#REF!"}},{"$f":"'РАЗДЕЛ 1(АМП)'!#REF!","v":{"$error":"#REF!"}},null,490024,null,"2017-02-01"]
[null,null,{"$f":"'РАЗДЕЛ 1(АМП)'!#REF!","v":{"$error":"#REF!"}},{"$f":"'РАЗДЕЛ 1(АМП)'!#REF!","v":{"$error":"#REF!"}},{"$f":"'РАЗДЕЛ 1(АМП)'!#REF!","v":{"$error":"#REF!"}},{"$f":"'РАЗДЕЛ 1(АМП)'!#REF!","v":{"$error":"#REF!"}},null,490024,null,"2017-02-01"]
[null,null,{"$f":"'РАЗДЕЛ 1(АМП)'!#REF!","v":{"$error":"#REF!"}},{"$f":"'РАЗДЕЛ 1(АМП)'!#REF!","v":{"$error":"#REF!"}},{"$f":"'РАЗДЕЛ 1(АМП)'!#REF!","v":{"$error":"#REF!"}},{"$f":"'РАЗДЕЛ 1(АМП)'!#REF!","v":{"$error":"#REF!"}},null,490024,null,"2017-02-01"]
[null,null,{"$f":"'РАЗДЕЛ 1(АМП)'!#REF!","v":{"$error":"#REF!"}},{"$f":"'РАЗДЕЛ 1(АМП)'!#REF!","v":{"$error":"#REF!"}},{"$f":"'РАЗДЕЛ 1(АМП)'!#REF!","v":{"$error":"#REF!"}},{"$f":"'РАЗДЕЛ 1(АМП)'!#REF!","v":{"$error":"#REF!"}},null,490024,null,"2017-02-01"]
[null,null,{"$f":"'РАЗДЕЛ 1(АМП)'!#REF!","v":{"$error":"#REF!"}},{"$f":"'РАЗДЕЛ 1(АМП)'!#REF!","v":{"$error":"#REF!"}},{"$f":"'РАЗДЕЛ 1(АМП)'!#REF!","v":{"$error":"#REF!"}},{"$f":"'РАЗДЕЛ 1(АМП)'!#REF!","v":{"$error":"#REF!"}},null,490024,null,"2017-02-01"]
[null,null,{"$f":"'РАЗДЕЛ 1(АМП)'!#REF!","v":{"$error":"#REF!"}},{"$f":"'РАЗДЕЛ 1(АМП)'!#REF!","v":{"$error":"#REF!"}},{"$f":"'РАЗДЕЛ 1(АМП)'!#REF!","v":{"$error":"#REF!"}},{"$f":"'РАЗДЕЛ 1(АМП)'!#REF!","v":{"$error":"#REF!"}},null,490024,null,"2017-02-01"]
[null,null,{"$f":"'РАЗДЕЛ 1(АМП)'!#REF!","v":{"$error":"#REF!"}},{"$f":"'РАЗДЕЛ 1(АМП)'!#REF!","v":{"$error":"#REF!"}},null,{"$f":"'РАЗДЕЛ 1(АМП)'!#REF!","v":{"$error":"#REF!"}},{"$f":"'РАЗДЕЛ 1(АМП)'!#REF!","v":{"$error":"#REF!"}},490024,null,"2017-02-01"]
[null,null,{"$f":"'РАЗДЕЛ 1(АМП)'!#REF!","v":{"$error":"#REF!"}},{"$f":"'РАЗДЕЛ 1(АМП)'!#REF!","v":{"$error":"#REF!"}},{"$f":"'РАЗДЕЛ 1(АМП)'!#REF!","v":{"$error":"#REF!"}},{"$f":"'РАЗДЕЛ 1(АМП)'!#REF!","v":{"$error":"#REF!"}},null,490024,null,"2017-02-01"]
[null,null,{"$f":"'РАЗДЕЛ 1(АМП)'!#REF!","v":{"$error":"#REF!"}},{"$f":"'РАЗДЕЛ 1(АМП)'!#REF!","v":{"$error":"#REF!"}},{"$f":"'РАЗДЕЛ 1(АМП)'!#REF!","v":{"$error":"#REF!"}},{"$f":"'РАЗДЕЛ 1(АМП)'!#REF!","v":{"$error":"#REF!"}},null,490024,null,"2017-02-01"]
[null,null,{"$f":"'РАЗДЕЛ 1(АМП)'!#REF!","v":{"$error":"#REF!"}},{"$f":"'РАЗДЕЛ 1(АМП)'!#REF!","v":{"$error":"#REF!"}},{"$f":"'РАЗДЕЛ 1(АМП)'!#REF!","v":{"$error":"#REF!"}},{"$f":"'РАЗДЕЛ 1(АМП)'!#REF!","v":{"$error":"#REF!"}},null,490024,null,"2017-02-01"]
[null,null,{"$f":"'РАЗДЕЛ 1(АМП)'!#REF!","v":{"$error":"#REF!"}},{"$f":"'РАЗДЕЛ 1(АМП)'!#REF!","v":{"$error":"#REF!"}},{"$f":"'РАЗДЕЛ 1(АМП)'!#REF!","v":{"$error":"#REF!"}},{"$f":"'РАЗДЕЛ 1(АМП)'!#REF!","v":{"$error":"#REF!"}},null,490024,null,"2017-02-01"]
[null,null,{"$f":"'РАЗДЕЛ 1(АМП)'!#REF!","v":{"$error":"#REF!"}},{"$f":"'РАЗДЕЛ 1(АМП)'!#REF!","v":{"$error":"#REF!"}},{"$f":"'РАЗДЕЛ 1(АМП)'!#REF!","v":{"$error":"#REF!"}},{"$f":"'РАЗДЕЛ 1(АМП)'!#REF!","v":{"$error":"#REF!"}},null,490024,null,"2017-02-01"]
[null,null,{"$f":"'РАЗДЕЛ 1(АМП)'!#REF!","v":{"$error":"#REF!"}},{"$f":"'РАЗДЕЛ 1(АМП)'!#REF!","v":{"$error":"#REF!"}},{"$f":"'РАЗДЕЛ 1(АМП)'!#REF!","v":{"$error":"#REF!"}},{"$f":"'РАЗДЕЛ 1(АМП)'!#REF!","v":{"$error":"#REF!"}},null,490024,null,"2017-02-01"]
[null,null,{"$f":"'РАЗДЕЛ 1(АМП)'!#REF!","v":{"$error":"#REF!"}},{"$f":"'РАЗДЕЛ 1(АМП)'!#REF!","v":{"$error":"#REF!"}},{"$f":"'РАЗДЕЛ 1(АМП)'!#REF!","v":{"$error":"#REF!"}},{"$f":"'РАЗДЕЛ 1(АМП)'!#REF!","v":{"$error":"#REF!"}},null,490024,null,"2017-02-01"]
[null,null,{"$f":"'РАЗДЕЛ 1(АМП)'!#REF!","v":{"$error":"#REF!"}},{"$f":"'РАЗДЕЛ 1(АМП)'!#REF!","v":{"$error":"#REF!"}},{"$f":"'РАЗДЕЛ 1(АМП)'!#REF!","v":{"$error":"#REF!"}},{"$f":"'РАЗДЕЛ 1(АМП)'!#REF!","v":{"$error":"#REF!"}},null,490024,null,"2017-02-01"]
[null,null,{"$f":"'РАЗДЕЛ 1(АМП)'!#REF!","v":{"$error":"#REF!"}},{"$f":"'РАЗДЕЛ 1(АМП)'!#REF!","v":{"$error":"#REF!"}},{"$f":"'РАЗДЕЛ 1(АМП)'!#REF!","v":{"$error":"#REF!"}},{"$f":"'РАЗДЕЛ 1(АМП)'!#REF!","v":{"$error":"#REF!"}},null,490024,null,"2017-02-01"]
[null,null,{"$f":"'РАЗДЕЛ 1(АМП)'!#REF!","v":{"$error":"#REF!"}},{"$f":"'РАЗДЕЛ 1(АМП)'!#REF!","v":{"$error":"#REF!"}},{"$f":"'РАЗДЕЛ 1(АМП)'!#REF!","v":{"$error":"#REF!"}},{"$f":"'РАЗДЕЛ 1(АМП)'!#REF!","v":{"$error":"#REF!"}},null,490024,null,"2017-02-01"]
[null,null,{"$f":"'РАЗДЕЛ 1(АМП)'!#REF!","v":{"$error":"#REF!"}},{"$f":"'РАЗДЕЛ 1(АМП)'!#REF!","v":{"$error":"#REF!"}},{"$f":"'РАЗДЕЛ 1(АМП)'!#REF!","v":{"$error":"#REF!"}},{"$f":"'РАЗДЕЛ 1(АМП)'!#REF!","v":{"$error":"#REF!"}},null,490024,null,"2017-02-01"]
[null,null,{"$f":"'РАЗДЕЛ 1(АМП)'!#REF!","v":{"$error":"#REF!"}},{"$f":"'РАЗДЕЛ 1(АМП)'!#REF!","v":{"$error":"#REF!"}},{"$f":"'РАЗДЕЛ 1(АМП)'!#REF!","v":{"$error":"#REF!"}},{"$f":"'РАЗДЕЛ 1(АМП)'!#REF!","v":{"$error":"#REF!"}},null,490024,null,"2017-02-01"]
[null,null,{"$f":"'РАЗДЕЛ 1(АМП)'!#REF!","v":{"$error":"#REF!"}},{"$f":"'РАЗДЕЛ 1(АМП)'!#REF!","v":{"$error":"#REF!"}},{"$f":"'РАЗДЕЛ 1(АМП)'!#REF!","v":{"$error":"#REF!"}},{"$f":"'РАЗДЕЛ 1(АМП)'!#REF!","v":{"$error":"#REF!"}},null,490024,null,"2017-02-01"]
[null,null,{"$f":"'РАЗДЕЛ 1(АМП)'!#REF!","v":{"$error":"#REF!"}},{"$f":"'РАЗДЕЛ 1(АМП)'!#REF!","v":{"$error":"#REF!"}},{"$f":"'РАЗДЕЛ 1(АМП)'!#REF!","v":{"$error":"#REF!"}},{"$f":"'РАЗДЕЛ 1(АМП)'!#REF!","v":{"$error":"#REF!"}},null,490024,null,"2017-02-01"]
[null,null,{"$f":"'РАЗДЕЛ 1(АМП)'!#REF!","v":{"$error":"#REF!"}},{"$f":"'РАЗДЕЛ 1(АМП)'!#REF!","v":{"$error":"#REF!"}},{"$f":"'РАЗДЕЛ 1(АМП)'!#REF!","v":{"$error":"#REF!"}},{"$f":"'РАЗДЕЛ 1(АМП)'!#REF!","v":{"$error":"#REF!"}},null,490024,null,"2017-02-01"]
[null,null,{"$f":"'РАЗДЕЛ 1(АМП)'!#REF!","v":{"$error":"#REF!"}},{"$f":"'РАЗДЕЛ 1(АМП)'!#REF!","v":{"$error":"#REF!"}},{"$f":"'РАЗДЕЛ 1(АМП)'!#REF!","v":{"$error":"#REF!"}},{"$f":"'РАЗДЕЛ 1(АМП)'!#REF!","v":{"$error":"#REF!"}},null,490024,null,"2017-02-01"]
[null,null,{"$f":"'РАЗДЕЛ 1(АМП)'!#REF!","v":{"$error":"#REF!"}},{"$f":"'РАЗДЕЛ 1(АМП)'!#REF!","v":{"$error":"#REF!"}},{"$f":"'РАЗДЕЛ 1(АМП)'!#REF!","v":{"$error":"#REF!"}},{"$f":"'РАЗДЕЛ 1(АМП)'!#REF!","v":{"$error":"#REF!"}},null,490024,null,"2017-02-01"]
[null,null,{"$f":"'РАЗДЕЛ 1(АМП)'!#REF!","v":{"$error":"#REF!"}},{"$f":"'РАЗДЕЛ 1(АМП)'!#REF!","v":{"$error":"#REF!"}},{"$f":"'РАЗДЕЛ 1(АМП)'!#REF!","v":{"$error":"#REF!"}},{"$f":"'РАЗДЕЛ 1(АМП)'!#REF!","v":{"$error":"#REF!"}},null,{"$f":"H1244","v":490024},null,"2017-02-01"]
[null,null,{"$f":"'РАЗДЕЛ 1(АМП)'!#REF!","v":{"$error":"#REF!"}},{"$f":"'РАЗДЕЛ 1(АМП)'!#REF!","v":{"$error":"#REF!"}},{"$f":"'РАЗДЕЛ 1(АМП)'!#REF!","v":{"$error":"#REF!"}},{"$f":"'РАЗДЕЛ 1(АМП)'!#REF!","v":{"$error":"#REF!"}},null,490024,null,"2017-02-01"]
[null,null,{"$f":"'РАЗДЕЛ 1(АМП)'!#REF!","v":{"$error":"#REF!"}},{"$f":"'РАЗДЕЛ 1(АМП)'!#REF!","v":{"$error":"#REF!"}},{"$f":"'РАЗДЕЛ 1(АМП)'!#REF!","v":{"$error":"#REF!"}},{"$f":"'РАЗДЕЛ 1(АМП)'!#REF!","v":{"$error":"#REF!"}},null,490024,null,"2017-02-01"]
[null,null,{"$f":"'РАЗДЕЛ 1(АМП)'!#REF!","v":{"$error":"#REF!"}},{"$f":"'РАЗДЕЛ 1(АМП)'!#REF!","v":{"$error":"#REF!"}},{"$f":"'РАЗДЕЛ 1(АМП)'!#REF!","v":{"$error":"#REF!"}},{"$f":"'РАЗДЕЛ 1(АМП)'!#REF!","v":{"$error":"#REF!"}},null,490024,null,"2017-02-01"]
[null,null,{"$f":"'РАЗДЕЛ 1(АМП)'!#REF!","v":{"$error":"#REF!"}},{"$f":"'РАЗДЕЛ 1(АМП)'!#REF!","v":{"$error":"#REF!"}},null,{"$f":"'РАЗДЕЛ 1(АМП)'!#REF!","v":{"$error":"#REF!"}},{"$f":"'РАЗДЕЛ 1(АМП)'!#REF!","v":{"$error":"#REF!"}},490024,null,"2017-02-01"]
[null,null,{"$f":"'РАЗДЕЛ 1(АМП)'!#REF!","v":{"$error":"#REF!"}},{"$f":"'РАЗДЕЛ 1(АМП)'!#REF!","v":{"$error":"#REF!"}},{"$f":"'РАЗДЕЛ 1(АМП)'!#REF!","v":{"$error":"#REF!"}},{"$f":"'РАЗДЕЛ 1(АМП)'!#REF!","v":{"$error":"#REF!"}},null,490024,null,"2017-02-01"]
[null,null,{"$f":"'РАЗДЕЛ 1(АМП)'!#REF!","v":{"$error":"#REF!"}},{"$f":"'РАЗДЕЛ 1(АМП)'!#REF!","v":{"$error":"#REF!"}},{"$f":"'РАЗДЕЛ 1(АМП)'!#REF!","v":{"$error":"#REF!"}},{"$f":"'РАЗДЕЛ 1(АМП)'!#REF!","v":{"$error":"#REF!"}},null,490024,null,"2017-02-01"]
[null,null,{"$f":"'РАЗДЕЛ 1(АМП)'!#REF!","v":{"$error":"#REF!"}},{"$f":"'РАЗДЕЛ 1(АМП)'!#REF!","v":{"$error":"#REF!"}},{"$f":"'РАЗДЕЛ 1(АМП)'!#REF!","v":{"$error":"#REF!"}},{"$f":"'РАЗДЕЛ 1(АМП)'!#REF!","v":{"$error":"#REF!"}},null,490024,null,"2017-02-01"]
[null,null,{"$f":"'РАЗДЕЛ 1(АМП)'!#REF!","v":{"$error":"#REF!"}},{"$f":"'РАЗДЕЛ 1(АМП)'!#REF!","v":{"$error":"#REF!"}},{"$f":"'РАЗДЕЛ 1(АМП)'!#REF!","v":{"$error":"#REF!"}},{"$f":"'РАЗДЕЛ 1(АМП)'!#REF!","v":{"$error":"#REF!"}},null,490024,null,"2017-02-01"]
[null,null,{"$f":"'РАЗДЕЛ 1(АМП)'!#REF!","v":{"$error":"#REF!"}},{"$f":"'РАЗДЕЛ 1(АМП)'!#REF!","v":{"$error":"#REF!"}},{"$f":"'РАЗДЕЛ 1(АМП)'!#REF!","v":{"$error":"#REF!"}},{"$f":"'РАЗДЕЛ 1(АМП)'!#REF!","v":{"$error":"#REF!"}},null,490024,null,"2017-02-01"]
[null,null,{"$f":"'РАЗДЕЛ 1(АМП)'!#REF!","v":{"$error":"#REF!"}},{"$f":"'РАЗДЕЛ 1(АМП)'!#REF!","v":{"$error":"#REF!"}},{"$f":"'РАЗДЕЛ 1(АМП)'!#REF!","v":{"$error":"#REF!"}},{"$f":"'РАЗДЕЛ 1(АМП)'!#REF!","v":{"$error":"#REF!"}},null,490024,null,"2017-02-01"]
[null,null,{"$f":"'РАЗДЕЛ 1(АМП)'!#REF!","v":{"$error":"#REF!"}},{"$f":"'РАЗДЕЛ 1(АМП)'!#REF!","v":{"$error":"#REF!"}},{"$f":"'РАЗДЕЛ 1(АМП)'!#REF!","v":{"$error":"#REF!"}},{"$f":"'РАЗДЕЛ 1(АМП)'!#REF!","v":{"$error":"#REF!"}},null,490024,null,"2017-02-01"]
[null,null,{"$f":"'РАЗДЕЛ 1(АМП)'!#REF!","v":{"$error":"#REF!"}},{"$f":"'РАЗДЕЛ 1(АМП)'!#REF!","v":{"$error":"#REF!"}},{"$f":"'РАЗДЕЛ 1(АМП)'!#REF!","v":{"$error":"#REF!"}},{"$f":"'РАЗДЕЛ 1(АМП)'!#REF!","v":{"$error":"#REF!"}},null,490024,null,"2017-02-01"]
[null,null,{"$f":"'РАЗДЕЛ 1(АМП)'!#REF!","v":{"$error":"#REF!"}},{"$f":"'РАЗДЕЛ 1(АМП)'!#REF!","v":{"$error":"#REF!"}},{"$f":"'РАЗДЕЛ 1(АМП)'!#REF!","v":{"$error":"#REF!"}},{"$f":"'РАЗДЕЛ 1(АМП)'!#REF!","v":{"$error":"#REF!"}},null,490024,null,"2017-02-01"]
[null,null,{"$f":"#REF!","v":{"$error":"#REF!"}},{"$f":"#REF!","v":{"$error":"#REF!"}},null,{"$f":"#REF!","v":{"$error":"#REF!"}},{"$f":"#REF!","v":{"$error":"#REF!"}},490024,{"$f":"#REF!","v":{"$error":"#REF!"}},"2017-02-01"]
[null,null,{"$f":"#REF!","v":{"$error":"#REF!"}},{"$f":"#REF!","v":{"$error":"#REF!"}},{"$f":"#REF!","v":{"$error":"#REF!"}},{"$f":"#REF!","v":{"$error":"#REF!"}},null,490024,{"$f":"#REF!","v":{"$error":"#REF!"}},"2017-02-01"]
[null,null,{"$f":"#REF!","v":{"$error":"#REF!"}},{"$f":"#REF!","v":{"$error":"#REF!"}},{"$f":"#REF!","v":{"$error":"#REF!"}},{"$f":"#REF!","v":{"$error":"#REF!"}},null,490024,{"$f":"#REF!","v":{"$error":"#REF!"}},"2017-02-01"]
[null,null,{"$f":"#REF!","v":{"$error":"#REF!"}},{"$f":"#REF!","v":{"$error":"#REF!"}},{"$f":"#REF!","v":{"$error":"#REF!"}},{"$f":"#REF!","v":{"$error":"#REF!"}},null,490024,{"$f":"#REF!","v":{"$error":"#REF!"}},"2017-02-01"]
[null,null,{"$f":"#REF!","v":{"$error":"#REF!"}},{"$f":"#REF!","v":{"$error":"#REF!"}},{"$f":"#REF!","v":{"$error":"#REF!"}},{"$f":"#REF!","v":{"$error":"#REF!"}},null,490024,{"$f":"#REF!","v":{"$error":"#REF!"}},"2017-02-01"]
[null,null,{"$f":"#REF!","v":{"$error":"#REF!"}},{"$f":"#REF!","v":{"$error":"#REF!"}},{"$f":"#REF!","v":{"$error":"#REF!"}},{"$f":"#REF!","v":{"$error":"#REF!"}},null,490024,{"$f":"#REF!","v":{"$error":"#REF!"}},"2017-02-01"]
[null,null,{"$f":"'РАЗДЕЛ 1(АМП)'!#REF!","v":{"$error":"#REF!"}},{"$f":"'РАЗДЕЛ 1(АМП)'!#REF!","v":{"$error":"#REF!"}},{"$f":"'РАЗДЕЛ 1(АМП)'!#REF!","v":{"$error":"#REF!"}},{"$f":"'РАЗДЕЛ 1(АМП)'!#REF!","v":{"$error":"#REF!"}},null,490026,null,"2017-02-01"]
[null,null,{"$f":"'РАЗДЕЛ 1(АМП)'!#REF!","v":{"$error":"#REF!"}},{"$f":"'РАЗДЕЛ 1(АМП)'!#REF!","v":{"$error":"#REF!"}},{"$f":"'РАЗДЕЛ 1(АМП)'!#REF!","v":{"$error":"#REF!"}},{"$f":"'РАЗДЕЛ 1(АМП)'!#REF!","v":{"$error":"#REF!"}},null,490026,null,"2017-02-01"]
[null,null,{"$f":"'РАЗДЕЛ 1(АМП)'!#REF!","v":{"$error":"#REF!"}},{"$f":"'РАЗДЕЛ 1(АМП)'!#REF!","v":{"$error":"#REF!"}},{"$f":"'РАЗДЕЛ 1(АМП)'!#REF!","v":{"$error":"#REF!"}},{"$f":"'РАЗДЕЛ 1(АМП)'!#REF!","v":{"$error":"#REF!"}},null,490026,null,"2017-02-01"]
[null,null,{"$f":"'РАЗДЕЛ 1(АМП)'!#REF!","v":{"$error":"#REF!"}},{"$f":"'РАЗДЕЛ 1(АМП)'!#REF!","v":{"$error":"#REF!"}},{"$f":"'РАЗДЕЛ 1(АМП)'!#REF!","v":{"$error":"#REF!"}},{"$f":"'РАЗДЕЛ 1(АМП)'!#REF!","v":{"$error":"#REF!"}},null,490026,null,"2017-02-01"]
[null,null,{"$f":"'РАЗДЕЛ 1(АМП)'!#REF!","v":{"$error":"#REF!"}},{"$f":"'РАЗДЕЛ 1(АМП)'!#REF!","v":{"$error":"#REF!"}},{"$f":"'РАЗДЕЛ 1(АМП)'!#REF!","v":{"$error":"#REF!"}},{"$f":"'РАЗДЕЛ 1(АМП)'!#REF!","v":{"$error":"#REF!"}},null,490026,null,"2017-02-01"]
[null,null,{"$f":"'РАЗДЕЛ 1(АМП)'!#REF!","v":{"$error":"#REF!"}},{"$f":"'РАЗДЕЛ 1(АМП)'!#REF!","v":{"$error":"#REF!"}},null,{"$f":"'РАЗДЕЛ 1(АМП)'!#REF!","v":{"$error":"#REF!"}},{"$f":"'РАЗДЕЛ 1(АМП)'!#REF!","v":{"$error":"#REF!"}},490026,null,"2017-02-01"]
[null,null,{"$f":"'РАЗДЕЛ 1(АМП)'!#REF!","v":{"$error":"#REF!"}},{"$f":"'РАЗДЕЛ 1(АМП)'!#REF!","v":{"$error":"#REF!"}},{"$f":"'РАЗДЕЛ 1(АМП)'!#REF!","v":{"$error":"#REF!"}},{"$f":"'РАЗДЕЛ 1(АМП)'!#REF!","v":{"$error":"#REF!"}},null,490026,null,"2017-02-01"]
[null,null,{"$f":"'РАЗДЕЛ 1(АМП)'!#REF!","v":{"$error":"#REF!"}},{"$f":"'РАЗДЕЛ 1(АМП)'!#REF!","v":{"$error":"#REF!"}},{"$f":"'РАЗДЕЛ 1(АМП)'!#REF!","v":{"$error":"#REF!"}},{"$f":"'РАЗДЕЛ 1(АМП)'!#REF!","v":{"$error":"#REF!"}},null,490026,null,"2017-02-01"]
[null,null,{"$f":"'РАЗДЕЛ 1(АМП)'!#REF!","v":{"$error":"#REF!"}},{"$f":"'РАЗДЕЛ 1(АМП)'!#REF!","v":{"$error":"#REF!"}},{"$f":"'РАЗДЕЛ 1(АМП)'!#REF!","v":{"$error":"#REF!"}},{"$f":"'РАЗДЕЛ 1(АМП)'!#REF!","v":{"$error":"#REF!"}},null,490026,null,"2017-02-01"]
[null,null,{"$f":"'РАЗДЕЛ 1(АМП)'!#REF!","v":{"$error":"#REF!"}},{"$f":"'РАЗДЕЛ 1(АМП)'!#REF!","v":{"$error":"#REF!"}},{"$f":"'РАЗДЕЛ 1(АМП)'!#REF!","v":{"$error":"#REF!"}},{"$f":"'РАЗДЕЛ 1(АМП)'!#REF!","v":{"$error":"#REF!"}},null,490026,null,"2017-02-01"]
[null,null,{"$f":"'РАЗДЕЛ 1(АМП)'!#REF!","v":{"$error":"#REF!"}},{"$f":"'РАЗДЕЛ 1(АМП)'!#REF!","v":{"$error":"#REF!"}},{"$f":"'РАЗДЕЛ 1(АМП)'!#REF!","v":{"$error":"#REF!"}},{"$f":"'РАЗДЕЛ 1(АМП)'!#REF!","v":{"$error":"#REF!"}},null,490026,null,"2017-02-01"]
[null,null,{"$f":"'РАЗДЕЛ 1(АМП)'!#REF!","v":{"$error":"#REF!"}},{"$f":"'РАЗДЕЛ 1(АМП)'!#REF!","v":{"$error":"#REF!"}},{"$f":"'РАЗДЕЛ 1(АМП)'!#REF!","v":{"$error":"#REF!"}},{"$f":"'РАЗДЕЛ 1(АМП)'!#REF!","v":{"$error":"#REF!"}},null,490026,null,"2017-02-01"]
[null,null,{"$f":"'РАЗДЕЛ 1(АМП)'!#REF!","v":{"$error":"#REF!"}},{"$f":"'РАЗДЕЛ 1(АМП)'!#REF!","v":{"$error":"#REF!"}},{"$f":"'РАЗДЕЛ 1(АМП)'!#REF!","v":{"$error":"#REF!"}},{"$f":"'РАЗДЕЛ 1(АМП)'!#REF!","v":{"$error":"#REF!"}},null,490026,null,"2017-02-01"]
[null,null,{"$f":"'РАЗДЕЛ 1(АМП)'!#REF!","v":{"$error":"#REF!"}},{"$f":"'РАЗДЕЛ 1(АМП)'!#REF!","v":{"$error":"#REF!"}},{"$f":"'РАЗДЕЛ 1(АМП)'!#REF!","v":{"$error":"#REF!"}},{"$f":"'РАЗДЕЛ 1(АМП)'!#REF!","v":{"$error":"#REF!"}},null,490026,null,"2017-02-01"]
[null,null,{"$f":"'РАЗДЕЛ 1(АМП)'!#REF!","v":{"$error":"#REF!"}},{"$f":"'РАЗДЕЛ 1(АМП)'!#REF!","v":{"$error":"#REF!"}},{"$f":"'РАЗДЕЛ 1(АМП)'!#REF!","v":{"$error":"#REF!"}},{"$f":"'РАЗДЕЛ 1(АМП)'!#REF!","v":{"$error":"#REF!"}},null,490026,null,{"$f":"J1278","v":"2017-02-01"}]
[null,null,{"$f":"'РАЗДЕЛ 1(АМП)'!#REF!","v":{"$error":"#REF!"}},{"$f":"'РАЗДЕЛ 1(АМП)'!#REF!","v":{"$error":"#REF!"}},{"$f":"'РАЗДЕЛ 1(АМП)'!#REF!","v":{"$error":"#REF!"}},{"$f":"'РАЗДЕЛ 1(АМП)'!#REF!","v":{"$error":"#REF!"}},null,490026,null,"2017-02-01"]
[null,null,{"$f":"'РАЗДЕЛ 1(АМП)'!#REF!","v":{"$error":"#REF!"}},{"$f":"'РАЗДЕЛ 1(АМП)'!#REF!","v":{"$error":"#REF!"}},{"$f":"'РАЗДЕЛ 1(АМП)'!#REF!","v":{"$error":"#REF!"}},{"$f":"'РАЗДЕЛ 1(АМП)'!#REF!","v":{"$error":"#REF!"}},null,490026,null,"2017-02-01"]
[null,null,{"$f":"'РАЗДЕЛ 1(АМП)'!#REF!","v":{"$error":"#REF!"}},{"$f":"'РАЗДЕЛ 1(АМП)'!#REF!","v":{"$error":"#REF!"}},{"$f":"'РАЗДЕЛ 1(АМП)'!#REF!","v":{"$error":"#REF!"}},{"$f":"'РАЗДЕЛ 1(АМП)'!#REF!","v":{"$error":"#REF!"}},null,490026,null,"2017-02-01"]
[null,null,{"$f":"'РАЗДЕЛ 1(АМП)'!#REF!","v":{"$error":"#REF!"}},{"$f":"'РАЗДЕЛ 1(АМП)'!#REF!","v":{"$error":"#REF!"}},null,{"$f":"'РАЗДЕЛ 1(АМП)'!#REF!","v":{"$error":"#REF!"}},{"$f":"'РАЗДЕЛ 1(АМП)'!#REF!","v":{"$error":"#REF!"}},490026,null,"2017-02-01"]
[null,null,{"$f":"'РАЗДЕЛ 1(АМП)'!#REF!","v":{"$error":"#REF!"}},{"$f":"'РАЗДЕЛ 1(АМП)'!#REF!","v":{"$error":"#REF!"}},{"$f":"'РАЗДЕЛ 1(АМП)'!#REF!","v":{"$error":"#REF!"}},{"$f":"'РАЗДЕЛ 1(АМП)'!#REF!","v":{"$error":"#REF!"}},null,490026,null,"2017-02-01"]
[null,null,{"$f":"'РАЗДЕЛ 1(АМП)'!#REF!","v":{"$error":"#REF!"}},{"$f":"'РАЗДЕЛ 1(АМП)'!#REF!","v":{"$error":"#REF!"}},{"$f":"'РАЗДЕЛ 1(АМП)'!#REF!","v":{"$error":"#REF!"}},{"$f":"'РАЗДЕЛ 1(АМП)'!#REF!","v":{"$error":"#REF!"}},null,490026,null,"2017-02-01"]
[null,null,{"$f":"'РАЗДЕЛ 1(АМП)'!#REF!","v":{"$error":"#REF!"}},{"$f":"'РАЗДЕЛ 1(АМП)'!#REF!","v":{"$error":"#REF!"}},{"$f":"'РАЗДЕЛ 1(АМП)'!#REF!","v":{"$error":"#REF!"}},{"$f":"'РАЗДЕЛ 1(АМП)'!#REF!","v":{"$error":"#REF!"}},null,490026,null,"2017-02-01"]
[null,null,{"$f":"'РАЗДЕЛ 1(АМП)'!#REF!","v":{"$error":"#REF!"}},{"$f":"'РАЗДЕЛ 1(АМП)'!#REF!","v":{"$error":"#REF!"}},{"$f":"'РАЗДЕЛ 1(АМП)'!#REF!","v":{"$error":"#REF!"}},{"$f":"'РАЗДЕЛ 1(АМП)'!#REF!","v":{"$error":"#REF!"}},null,490026,null,"2017-02-01"]
[null,null,{"$f":"'РАЗДЕЛ 1(АМП)'!#REF!","v":{"$error":"#REF!"}},{"$f":"'РАЗДЕЛ 1(АМП)'!#REF!","v":{"$error":"#REF!"}},{"$f":"'РАЗДЕЛ 1(АМП)'!#REF!","v":{"$error":"#REF!"}},{"$f":"'РАЗДЕЛ 1(АМП)'!#REF!","v":{"$error":"#REF!"}},null,490026,null,"2017-02-01"]
[null,null,{"$f":"'РАЗДЕЛ 1(АМП)'!#REF!","v":{"$error":"#REF!"}},{"$f":"'РАЗДЕЛ 1(АМП)'!#REF!","v":{"$error":"#REF!"}},{"$f":"'РАЗДЕЛ 1(АМП)'!#REF!","v":{"$error":"#REF!"}},{"$f":"'РАЗДЕЛ 1(АМП)'!#REF!","v":{"$error":"#REF!"}},null,490026,null,"2017-02-01"]
[null,null,{"$f":"'РАЗДЕЛ 1(АМП)'!#REF!","v":{"$error":"#REF!"}},{"$f":"'РАЗДЕЛ 1(АМП)'!#REF!","v":{"$error":"#REF!"}},{"$f":"'РАЗДЕЛ 1(АМП)'!#REF!","v":{"$error":"#REF!"}},{"$f":"'РАЗДЕЛ 1(АМП)'!#REF!","v":{"$error":"#REF!"}},null,490026,null,"2017-02-01"]
[null,null,{"$f":"'РАЗДЕЛ 1(АМП)'!#REF!","v":{"$error":"#REF!"}},{"$f":"'РАЗДЕЛ 1(АМП)'!#REF!","v":{"$error":"#REF!"}},{"$f":"'РАЗДЕЛ 1(АМП)'!#REF!","v":{"$error":"#REF!"}},{"$f":"'РАЗДЕЛ 1(АМП)'!#REF!","v":{"$error":"#REF!"}},null,490026,null,"2017-02-01"]
[null,null,{"$f":"'РАЗДЕЛ 1(АМП)'!#REF!","v":{"$error":"#REF!"}},{"$f":"'РАЗДЕЛ 1(АМП)'!#REF!","v":{"$error":"#REF!"}},{"$f":"'РАЗДЕЛ 1(АМП)'!#REF!","v":{"$error":"#REF!"}},{"$f":"'РАЗДЕЛ 1(АМП)'!#REF!","v":{"$error":"#REF!"}},null,490026,null,"2017-02-01"]
[null,null,{"$f":"'РАЗДЕЛ 1(АМП)'!#REF!","v":{"$error":"#REF!"}},{"$f":"'РАЗДЕЛ 1(АМП)'!#REF!","v":{"$error":"#REF!"}},{"$f":"'РАЗДЕЛ 1(АМП)'!#REF!","v":{"$error":"#REF!"}},{"$f":"'РАЗДЕЛ 1(АМП)'!#REF!","v":{"$error":"#REF!"}},null,490026,null,"2017-02-01"]
[null,null,{"$f":"'РАЗДЕЛ 1(АМП)'!#REF!","v":{"$error":"#REF!"}},{"$f":"'РАЗДЕЛ 1(АМП)'!#REF!","v":{"$error":"#REF!"}},{"$f":"'РАЗДЕЛ 1(АМП)'!#REF!","v":{"$error":"#REF!"}},{"$f":"'РАЗДЕЛ 1(АМП)'!#REF!","v":{"$error":"#REF!"}},null,490026,null,"2017-02-01"]
[null,null,{"$f":"'РАЗДЕЛ 1(АМП)'!#REF!","v":{"$error":"#REF!"}},{"$f":"'РАЗДЕЛ 1(АМП)'!#REF!","v":{"$error":"#REF!"}},{"$f":"'РАЗДЕЛ 1(АМП)'!#REF!","v":{"$error":"#REF!"}},{"$f":"'РАЗДЕЛ 1(АМП)'!#REF!","v":{"$error":"#REF!"}},null,490026,null,"2017-02-01"]
[null,null,{"$f":"'РАЗДЕЛ 1(АМП)'!#REF!","v":{"$error":"#REF!"}},{"$f":"'РАЗДЕЛ 1(АМП)'!#REF!","v":{"$error":"#REF!"}},{"$f":"'РАЗДЕЛ 1(АМП)'!#REF!","v":{"$error":"#REF!"}},{"$f":"'РАЗДЕЛ 1(АМП)'!#REF!","v":{"$error":"#REF!"}},null,490026,null,"2017-02-01"]
[null,null,{"$f":"'РАЗДЕЛ 1(АМП)'!#REF!","v":{"$error":"#REF!"}},{"$f":"'РАЗДЕЛ 1(АМП)'!#REF!","v":{"$error":"#REF!"}},{"$f":"'РАЗДЕЛ 1(АМП)'!#REF!","v":{"$error":"#REF!"}},{"$f":"'РАЗДЕЛ 1(АМП)'!#REF!","v":{"$error":"#REF!"}},null,490026,null,"2017-02-01"]
[null,null,{"$f":"'РАЗДЕЛ 1(АМП)'!#REF!","v":{"$error":"#REF!"}},{"$f":"'РАЗДЕЛ 1(АМП)'!#REF!","v":{"$error":"#REF!"}},{"$f":"'РАЗДЕЛ 1(АМП)'!#REF!","v":{"$error":"#REF!"}},{"$f":"'РАЗДЕЛ 1(АМП)'!#REF!","v":{"$error":"#REF!"}},null,490026,null,"2017-02-01"]
[null,null,{"$f":"'РАЗДЕЛ 1(АМП)'!#REF!","v":{"$error":"#REF!"}},{"$f":"'РАЗДЕЛ 1(АМП)'!#REF!","v":{"$error":"#REF!"}},{"$f":"'РАЗДЕЛ 1(АМП)'!#REF!","v":{"$error":"#REF!"}},{"$f":"'РАЗДЕЛ 1(АМП)'!#REF!","v":{"$error":"#REF!"}},null,490026,null,"2017-02-01"]
[null,null,{"$f":"'РАЗДЕЛ 1(АМП)'!#REF!","v":{"$error":"#REF!"}},{"$f":"'РАЗДЕЛ 1(АМП)'!#REF!","v":{"$error":"#REF!"}},{"$f":"'РАЗДЕЛ 1(АМП)'!#REF!","v":{"$error":"#REF!"}},{"$f":"'РАЗДЕЛ 1(АМП)'!#REF!","v":{"$error":"#REF!"}},null,490026,null,"2017-02-01"]
[null,null,{"$f":"'РАЗДЕЛ 1(АМП)'!#REF!","v":{"$error":"#REF!"}},{"$f":"'РАЗДЕЛ 1(АМП)'!#REF!","v":{"$error":"#REF!"}},{"$f":"'РАЗДЕЛ 1(АМП)'!#REF!","v":{"$error":"#REF!"}},{"$f":"'РАЗДЕЛ 1(АМП)'!#REF!","v":{"$error":"#REF!"}},null,490026,null,"2017-02-01"]
[null,null,{"$f":"'РАЗДЕЛ 1(АМП)'!#REF!","v":{"$error":"#REF!"}},{"$f":"'РАЗДЕЛ 1(АМП)'!#REF!","v":{"$error":"#REF!"}},{"$f":"'РАЗДЕЛ 1(АМП)'!#REF!","v":{"$error":"#REF!"}},{"$f":"'РАЗДЕЛ 1(АМП)'!#REF!","v":{"$error":"#REF!"}},null,490026,null,"2017-02-01"]
[null,null,{"$f":"'РАЗДЕЛ 1(АМП)'!#REF!","v":{"$error":"#REF!"}},{"$f":"'РАЗДЕЛ 1(АМП)'!#REF!","v":{"$error":"#REF!"}},{"$f":"'РАЗДЕЛ 1(АМП)'!#REF!","v":{"$error":"#REF!"}},{"$f":"'РАЗДЕЛ 1(АМП)'!#REF!","v":{"$error":"#REF!"}},null,490026,null,"2017-02-01"]
[null,null,{"$f":"'РАЗДЕЛ 1(АМП)'!#REF!","v":{"$error":"#REF!"}},{"$f":"'РАЗДЕЛ 1(АМП)'!#REF!","v":{"$error":"#REF!"}},{"$f":"'РАЗДЕЛ 1(АМП)'!#REF!","v":{"$error":"#REF!"}},{"$f":"'РАЗДЕЛ 1(АМП)'!#REF!","v":{"$error":"#REF!"}},null,490026,null,"2017-02-01"]
[null,null,{"$f":"'РАЗДЕЛ 1(АМП)'!#REF!","v":{"$error":"#REF!"}},{"$f":"'РАЗДЕЛ 1(АМП)'!#REF!","v":{"$error":"#REF!"}},null,{"$f":"'РАЗДЕЛ 1(АМП)'!#REF!","v":{"$error":"#REF!"}},{"$f":"'РАЗДЕЛ 1(АМП)'!#REF!","v":{"$error":"#REF!"}},490026,null,"2017-02-01"]
[null,null,{"$f":"'РАЗДЕЛ 1(АМП)'!#REF!","v":{"$error":"#REF!"}},{"$f":"'РАЗДЕЛ 1(АМП)'!#REF!","v":{"$error":"#REF!"}},{"$f":"'РАЗДЕЛ 1(АМП)'!#REF!","v":{"$error":"#REF!"}},{"$f":"'РАЗДЕЛ 1(АМП)'!#REF!","v":{"$error":"#REF!"}},null,490026,null,"2017-02-01"]
[null,null,{"$f":"'РАЗДЕЛ 1(АМП)'!#REF!","v":{"$error":"#REF!"}},{"$f":"'РАЗДЕЛ 1(АМП)'!#REF!","v":{"$error":"#REF!"}},{"$f":"'РАЗДЕЛ 1(АМП)'!#REF!","v":{"$error":"#REF!"}},{"$f":"'РАЗДЕЛ 1(АМП)'!#REF!","v":{"$error":"#REF!"}},null,490026,null,"2017-02-01"]
[null,null,{"$f":"'РАЗДЕЛ 1(АМП)'!#REF!","v":{"$error":"#REF!"}},{"$f":"'РАЗДЕЛ 1(АМП)'!#REF!","v":{"$error":"#REF!"}},{"$f":"'РАЗДЕЛ 1(АМП)'!#REF!","v":{"$error":"#REF!"}},{"$f":"'РАЗДЕЛ 1(АМП)'!#REF!","v":{"$error":"#REF!"}},null,{"$f":"H1307","v":490026},null,"2017-02-01"]
[null,null,{"$f":"'РАЗДЕЛ 1(АМП)'!#REF!","v":{"$error":"#REF!"}},{"$f":"'РАЗДЕЛ 1(АМП)'!#REF!","v":{"$error":"#REF!"}},{"$f":"'РАЗДЕЛ 1(АМП)'!#REF!","v":{"$error":"#REF!"}},{"$f":"'РАЗДЕЛ 1(АМП)'!#REF!","v":{"$error":"#REF!"}},null,490026,null,"2017-02-01"]
[null,null,{"$f":"'РАЗДЕЛ 1(АМП)'!#REF!","v":{"$error":"#REF!"}},{"$f":"'РАЗДЕЛ 1(АМП)'!#REF!","v":{"$error":"#REF!"}},{"$f":"'РАЗДЕЛ 1(АМП)'!#REF!","v":{"$error":"#REF!"}},{"$f":"'РАЗДЕЛ 1(АМП)'!#REF!","v":{"$error":"#REF!"}},null,490026,null,"2017-02-01"]
[null,null,{"$f":"'РАЗДЕЛ 1(АМП)'!#REF!","v":{"$error":"#REF!"}},{"$f":"'РАЗДЕЛ 1(АМП)'!#REF!","v":{"$error":"#REF!"}},{"$f":"'РАЗДЕЛ 1(АМП)'!#REF!","v":{"$error":"#REF!"}},{"$f":"'РАЗДЕЛ 1(АМП)'!#REF!","v":{"$error":"#REF!"}},null,490026,null,"2017-02-01"]
[null,null,{"$f":"'РАЗДЕЛ 1(АМП)'!#REF!","v":{"$error":"#REF!"}},{"$f":"'РАЗДЕЛ 1(АМП)'!#REF!","v":{"$error":"#REF!"}},{"$f":"'РАЗДЕЛ 1(АМП)'!#REF!","v":{"$error":"#REF!"}},{"$f":"'РАЗДЕЛ 1(АМП)'!#REF!","v":{"$error":"#REF!"}},null,490026,null,"2017-02-01"]
[null,null,{"$f":"'РАЗДЕЛ 1(АМП)'!#REF!","v":{"$error":"#REF!"}},{"$f":"'РАЗДЕЛ 1(АМП)'!#REF!","v":{"$error":"#REF!"}},{"$f":"'РАЗДЕЛ 1(АМП)'!#REF!","v":{"$error":"#REF!"}},{"$f":"'РАЗДЕЛ 1(АМП)'!#REF!","v":{"$error":"#REF!"}},null,490026,null,"2017-02-01"]
[null,null,{"$f":"'РАЗДЕЛ 1(АМП)'!#REF!","v":{"$error":"#REF!"}},{"$f":"'РАЗДЕЛ 1(АМП)'!#REF!","v":{"$error":"#REF!"}},{"$f":"'РАЗДЕЛ 1(АМП)'!#REF!","v":{"$error":"#REF!"}},{"$f":"'РАЗДЕЛ 1(АМП)'!#REF!","v":{"$error":"#REF!"}},null,490026,null,"2017-02-01"]
[null,null,{"$f":"'РАЗДЕЛ 1(АМП)'!#REF!","v":{"$error":"#REF!"}},{"$f":"'РАЗДЕЛ 1(АМП)'!#REF!","v":{"$error":"#REF!"}},{"$f":"'РАЗДЕЛ 1(АМП)'!#REF!","v":{"$error":"#REF!"}},{"$f":"'РАЗДЕЛ 1(АМП)'!#REF!","v":{"$error":"#REF!"}},null,490026,null,"2017-02-01"]
[null,null,{"$f":"'РАЗДЕЛ 1(АМП)'!#REF!","v":{"$error":"#REF!"}},{"$f":"'РАЗДЕЛ 1(АМП)'!#REF!","v":{"$error":"#REF!"}},{"$f":"'РАЗДЕЛ 1(АМП)'!#REF!","v":{"$error":"#REF!"}},{"$f":"'РАЗДЕЛ 1(АМП)'!#REF!","v":{"$error":"#REF!"}},null,490026,null,"2017-02-01"]
[null,null,{"$f":"'РАЗДЕЛ 1(АМП)'!#REF!","v":{"$error":"#REF!"}},{"$f":"'РАЗДЕЛ 1(АМП)'!#REF!","v":{"$error":"#REF!"}},{"$f":"'РАЗДЕЛ 1(АМП)'!#REF!","v":{"$error":"#REF!"}},{"$f":"'РАЗДЕЛ 1(АМП)'!#REF!","v":{"$error":"#REF!"}},null,490026,null,"2017-02-01"]
[null,null,{"$f":"'РАЗДЕЛ 1(АМП)'!#REF!","v":{"$error":"#REF!"}},{"$f":"'РАЗДЕЛ 1(АМП)'!#REF!","v":{"$error":"#REF!"}},{"$f":"'РАЗДЕЛ 1(АМП)'!#REF!","v":{"$error":"#REF!"}},{"$f":"'РАЗДЕЛ 1(АМП)'!#REF!","v":{"$error":"#REF!"}},null,490026,null,"2017-02-01"]
[null,null,{"$f":"'РАЗДЕЛ 1(АМП)'!#REF!","v":{"$error":"#REF!"}},{"$f":"'РАЗДЕЛ 1(АМП)'!#REF!","v":{"$error":"#REF!"}},{"$f":"'РАЗДЕЛ 1(АМП)'!#REF!","v":{"$error":"#REF!"}},{"$f":"'РАЗДЕЛ 1(АМП)'!#REF!","v":{"$error":"#REF!"}},null,490026,null,"2017-02-01"]
[null,null,{"$f":"'РАЗДЕЛ 1(АМП)'!#REF!","v":{"$error":"#REF!"}},{"$f":"'РАЗДЕЛ 1(АМП)'!#REF!","v":{"$error":"#REF!"}},{"$f":"'РАЗДЕЛ 1(АМП)'!#REF!","v":{"$error":"#REF!"}},{"$f":"'РАЗДЕЛ 1(АМП)'!#REF!","v":{"$error":"#REF!"}},null,490026,null,"2017-02-01"]
[null,null,{"$f":"'РАЗДЕЛ 1(АМП)'!#REF!","v":{"$error":"#REF!"}},{"$f":"'РАЗДЕЛ 1(АМП)'!#REF!","v":{"$error":"#REF!"}},{"$f":"'РАЗДЕЛ 1(АМП)'!#REF!","v":{"$error":"#REF!"}},{"$f":"'РАЗДЕЛ 1(АМП)'!#REF!","v":{"$error":"#REF!"}},null,490026,null,"2017-02-01"]
[null,null,{"$f":"'РАЗДЕЛ 1(АМП)'!#REF!","v":{"$error":"#REF!"}},{"$f":"'РАЗДЕЛ 1(АМП)'!#REF!","v":{"$error":"#REF!"}},{"$f":"'РАЗДЕЛ 1(АМП)'!#REF!","v":{"$error":"#REF!"}},{"$f":"'РАЗДЕЛ 1(АМП)'!#REF!","v":{"$error":"#REF!"}},null,490026,null,"2017-02-01"]
[null,null,{"$f":"'РАЗДЕЛ 1(АМП)'!#REF!","v":{"$error":"#REF!"}},{"$f":"'РАЗДЕЛ 1(АМП)'!#REF!","v":{"$error":"#REF!"}},{"$f":"'РАЗДЕЛ 1(АМП)'!#REF!","v":{"$error":"#REF!"}},{"$f":"'РАЗДЕЛ 1(АМП)'!#REF!","v":{"$error":"#REF!"}},null,490026,null,"2017-02-01"]
[null,null,{"$f":"'РАЗДЕЛ 1(АМП)'!#REF!","v":{"$error":"#REF!"}},{"$f":"'РАЗДЕЛ 1(АМП)'!#REF!","v":{"$error":"#REF!"}},{"$f":"'РАЗДЕЛ 1(АМП)'!#REF!","v":{"$error":"#REF!"}},{"$f":"'РАЗДЕЛ 1(АМП)'!#REF!","v":{"$error":"#REF!"}},null,490026,null,"2017-02-01"]
[null,null,{"$f":"'РАЗДЕЛ 1(АМП)'!#REF!","v":{"$error":"#REF!"}},{"$f":"'РАЗДЕЛ 1(АМП)'!#REF!","v":{"$error":"#REF!"}},{"$f":"'РАЗДЕЛ 1(АМП)'!#REF!","v":{"$error":"#REF!"}},{"$f":"'РАЗДЕЛ 1(АМП)'!#REF!","v":{"$error":"#REF!"}},null,490026,null,"2017-02-01"]
[null,null,{"$f":"'РАЗДЕЛ 1(АМП)'!#REF!","v":{"$error":"#REF!"}},{"$f":"'РАЗДЕЛ 1(АМП)'!#REF!","v":{"$error":"#REF!"}},{"$f":"'РАЗДЕЛ 1(АМП)'!#REF!","v":{"$error":"#REF!"}},{"$f":"'РАЗДЕЛ 1(АМП)'!#REF!","v":{"$error":"#REF!"}},null,490026,null,"2017-02-01"]
[null,null,{"$f":"'РАЗДЕЛ 1(АМП)'!#REF!","v":{"$error":"#REF!"}},{"$f":"'РАЗДЕЛ 1(АМП)'!#REF!","v":{"$error":"#REF!"}},null,{"$f":"'РАЗДЕЛ 1(АМП)'!#REF!","v":{"$error":"#REF!"}},{"$f":"'РАЗДЕЛ 1(АМП)'!#REF!","v":{"$error":"#REF!"}},490026,null,"2017-02-01"]
[null,null,{"$f":"'РАЗДЕЛ 1(АМП)'!#REF!","v":{"$error":"#REF!"}},{"$f":"'РАЗДЕЛ 1(АМП)'!#REF!","v":{"$error":"#REF!"}},{"$f":"'РАЗДЕЛ 1(АМП)'!#REF!","v":{"$error":"#REF!"}},{"$f":"'РАЗДЕЛ 1(АМП)'!#REF!","v":{"$error":"#REF!"}},null,490026,null,"2017-02-01"]
[null,null,{"$f":"'РАЗДЕЛ 1(АМП)'!#REF!","v":{"$error":"#REF!"}},{"$f":"'РАЗДЕЛ 1(АМП)'!#REF!","v":{"$error":"#REF!"}},{"$f":"'РАЗДЕЛ 1(АМП)'!#REF!","v":{"$error":"#REF!"}},{"$f":"'РАЗДЕЛ 1(АМП)'!#REF!","v":{"$error":"#REF!"}},null,490026,null,"2017-02-01"]
[null,null,{"$f":"'РАЗДЕЛ 1(АМП)'!#REF!","v":{"$error":"#REF!"}},{"$f":"'РАЗДЕЛ 1(АМП)'!#REF!","v":{"$error":"#REF!"}},{"$f":"'РАЗДЕЛ 1(АМП)'!#REF!","v":{"$error":"#REF!"}},{"$f":"'РАЗДЕЛ 1(АМП)'!#REF!","v":{"$error":"#REF!"}},null,490026,null,"2017-02-01"]
[null,null,{"$f":"'РАЗДЕЛ 1(АМП)'!#REF!","v":{"$error":"#REF!"}},{"$f":"'РАЗДЕЛ 1(АМП)'!#REF!","v":{"$error":"#REF!"}},{"$f":"'РАЗДЕЛ 1(АМП)'!#REF!","v":{"$error":"#REF!"}},{"$f":"'РАЗДЕЛ 1(АМП)'!#REF!","v":{"$error":"#REF!"}},null,490026,null,"2017-02-01"]
[null,null,{"$f":"'РАЗДЕЛ 1(АМП)'!#REF!","v":{"$error":"#REF!"}},{"$f":"'РАЗДЕЛ 1(АМП)'!#REF!","v":{"$error":"#REF!"}},{"$f":"'РАЗДЕЛ 1(АМП)'!#REF!","v":{"$error":"#REF!"}},{"$f":"'РАЗДЕЛ 1(АМП)'!#REF!","v":{"$error":"#REF!"}},null,490026,null,"2017-02-01"]
[null,null,{"$f":"'РАЗДЕЛ 1(АМП)'!#REF!","v":{"$error":"#REF!"}},{"$f":"'РАЗДЕЛ 1(АМП)'!#REF!","v":{"$error":"#REF!"}},{"$f":"'РАЗДЕЛ 1(АМП)'!#REF!","v":{"$error":"#REF!"}},{"$f":"'РАЗДЕЛ 1(АМП)'!#REF!","v":{"$error":"#REF!"}},null,490026,null,"2017-02-01"]
[null,null,{"$f":"'РАЗДЕЛ 1(АМП)'!#REF!","v":{"$error":"#REF!"}},{"$f":"'РАЗДЕЛ 1(АМП)'!#REF!","v":{"$error":"#REF!"}},{"$f":"'РАЗДЕЛ 1(АМП)'!#REF!","v":{"$error":"#REF!"}},{"$f":"'РАЗДЕЛ 1(АМП)'!#REF!","v":{"$error":"#REF!"}},null,490026,null,"2017-02-01"]
[null,null,{"$f":"'РАЗДЕЛ 1(АМП)'!#REF!","v":{"$error":"#REF!"}},{"$f":"'РАЗДЕЛ 1(АМП)'!#REF!","v":{"$error":"#REF!"}},{"$f":"'РАЗДЕЛ 1(АМП)'!#REF!","v":{"$error":"#REF!"}},{"$f":"'РАЗДЕЛ 1(АМП)'!#REF!","v":{"$error":"#REF!"}},null,490026,null,"2017-02-01"]
[null,null,{"$f":"'РАЗДЕЛ 1(АМП)'!#REF!","v":{"$error":"#REF!"}},{"$f":"'РАЗДЕЛ 1(АМП)'!#REF!","v":{"$error":"#REF!"}},{"$f":"'РАЗДЕЛ 1(АМП)'!#REF!","v":{"$error":"#REF!"}},{"$f":"'РАЗДЕЛ 1(АМП)'!#REF!","v":{"$error":"#REF!"}},null,490026,null,"2017-02-01"]
[null,null,{"$f":"#REF!","v":{"$error":"#REF!"}},{"$f":"#REF!","v":{"$error":"#REF!"}},null,{"$f":"#REF!","v":{"$error":"#REF!"}},{"$f":"#REF!","v":{"$error":"#REF!"}},490026,{"$f":"#REF!","v":{"$error":"#REF!"}},"2017-02-01"]
[null,null,{"$f":"#REF!","v":{"$error":"#REF!"}},{"$f":"#REF!","v":{"$error":"#REF!"}},{"$f":"#REF!","v":{"$error":"#REF!"}},{"$f":"#REF!","v":{"$error":"#REF!"}},null,490026,{"$f":"#REF!","v":{"$error":"#REF!"}},"2017-02-01"]
[null,null,{"$f":"#REF!","v":{"$error":"#REF!"}},{"$f":"#REF!","v":{"$error":"#REF!"}},{"$f":"#REF!","v":{"$error":"#REF!"}},{"$f":"#REF!","v":{"$error":"#REF!"}},null,490026,{"$f":"#REF!","v":{"$error":"#REF!"}},"2017-02-01"]
[null,null,{"$f":"#REF!","v":{"$error":"#REF!"}},{"$f":"#REF!","v":{"$error":"#REF!"}},{"$f":"#REF!","v":{"$error":"#REF!"}},{"$f":"#REF!","v":{"$error":"#REF!"}},null,490026,{"$f":"#REF!","v":{"$error":"#REF!"}},"2017-02-01"]
[null,null,{"$f":"#REF!","v":{"$error":"#REF!"}},{"$f":"#REF!","v":{"$error":"#REF!"}},{"$f":"#REF!","v":{"$error":"#REF!"}},{"$f":"#REF!","v":{"$error":"#REF!"}},null,490026,{"$f":"#REF!","v":{"$error":"#REF!"}},"2017-02-01"]
[null,null,{"$f":"#REF!","v":{"$error":"#REF!"}},{"$f":"#REF!","v":{"$error":"#REF!"}},{"$f":"#REF!","v":{"$error":"#REF!"}},{"$f":"#REF!","v":{"$error":"#REF!"}},null,490026,{"$f":"#REF!","v":{"$error":"#REF!"}},{"$f":"J1341","v":"2017-02-01"}]
[null,null,{"$f":"#REF!","v":{"$error":"#REF!"}},{"$f":"#REF!","v":{"$error":"#REF!"}},null,{"$f":"#REF!","v":{"$error":"#REF!"}},{"$f":"#REF!","v":{"$error":"#REF!"}},490026,{"$f":"#REF!","v":{"$error":"#REF!"}},"2017-02-01"]
[null,null,{"$f":"#REF!","v":{"$error":"#REF!"}},{"$f":"#REF!","v":{"$error":"#REF!"}},{"$f":"#REF!","v":{"$error":"#REF!"}},{"$f":"#REF!","v":{"$error":"#REF!"}},null,490026,{"$f":"#REF!","v":{"$error":"#REF!"}},"2017-02-01"]
[null,null,{"$f":"#REF!","v":{"$error":"#REF!"}},{"$f":"#REF!","v":{"$error":"#REF!"}},{"$f":"#REF!","v":{"$error":"#REF!"}},{"$f":"#REF!","v":{"$error":"#REF!"}},null,490026,{"$f":"#REF!","v":{"$error":"#REF!"}},"2017-02-01"]
[null,null,{"$f":"#REF!","v":{"$error":"#REF!"}},{"$f":"#REF!","v":{"$error":"#REF!"}},{"$f":"#REF!","v":{"$error":"#REF!"}},{"$f":"#REF!","v":{"$error":"#REF!"}},null,490026,{"$f":"#REF!","v":{"$error":"#REF!"}},"2017-02-01"]
[null,null,{"$f":"#REF!","v":{"$error":"#REF!"}},{"$f":"#REF!","v":{"$error":"#REF!"}},{"$f":"#REF!","v":{"$error":"#REF!"}},{"$f":"#REF!","v":{"$error":"#REF!"}},null,490026,{"$f":"#REF!","v":{"$error":"#REF!"}},"2017-02-01"]
[null,null,{"$f":"'РАЗДЕЛ 1(АМП)'!#REF!","v":{"$error":"#REF!"}},{"$f":"'РАЗДЕЛ 1(АМП)'!#REF!","v":{"$error":"#REF!"}},{"$f":"'РАЗДЕЛ 1(АМП)'!#REF!","v":{"$error":"#REF!"}},{"$f":"'РАЗДЕЛ 1(АМП)'!#REF!","v":{"$error":"#REF!"}},null,490027,null,"2017-02-01"]
[null,null,{"$f":"'РАЗДЕЛ 1(АМП)'!#REF!","v":{"$error":"#REF!"}},{"$f":"'РАЗДЕЛ 1(АМП)'!#REF!","v":{"$error":"#REF!"}},null,{"$f":"'РАЗДЕЛ 1(АМП)'!#REF!","v":{"$error":"#REF!"}},{"$f":"'РАЗДЕЛ 1(АМП)'!#REF!","v":{"$error":"#REF!"}},490027,null,"2017-02-01"]
[null,null,{"$f":"'РАЗДЕЛ 4 (СМП) '!#REF!","v":{"$error":"#REF!"}},{"$f":"'РАЗДЕЛ 4 (СМП) '!#REF!","v":{"$error":"#REF!"}},{"$f":"'РАЗДЕЛ 4 (СМП) '!#REF!","v":{"$error":"#REF!"}},{"$f":"'РАЗДЕЛ 4 (СМП) '!#REF!","v":{"$error":"#REF!"}},null,490028,null,"2017-02-01"]
[null,null,{"$f":"'РАЗДЕЛ 1(АМП)'!#REF!","v":{"$error":"#REF!"}},{"$f":"'РАЗДЕЛ 1(АМП)'!#REF!","v":{"$error":"#REF!"}},{"$f":"'РАЗДЕЛ 1(АМП)'!#REF!","v":{"$error":"#REF!"}},{"$f":"'РАЗДЕЛ 1(АМП)'!#REF!","v":{"$error":"#REF!"}},null,490029,null,"2017-02-01"]
[null,null,{"$f":"'РАЗДЕЛ 1(АМП)'!#REF!","v":{"$error":"#REF!"}},{"$f":"'РАЗДЕЛ 1(АМП)'!#REF!","v":{"$error":"#REF!"}},null,{"$f":"'РАЗДЕЛ 1(АМП)'!#REF!","v":{"$error":"#REF!"}},{"$f":"'РАЗДЕЛ 1(АМП)'!#REF!","v":{"$error":"#REF!"}},490029,null,"2017-02-01"]
[null,null,{"$f":"'РАЗДЕЛ 1(АМП)'!#REF!","v":{"$error":"#REF!"}},{"$f":"'РАЗДЕЛ 1(АМП)'!#REF!","v":{"$error":"#REF!"}},{"$f":"'РАЗДЕЛ 1(АМП)'!#REF!","v":{"$error":"#REF!"}},{"$f":"'РАЗДЕЛ 1(АМП)'!#REF!","v":{"$error":"#REF!"}},null,490035,null,"2017-02-01"]
[null,null,{"$f":"'РАЗДЕЛ 1(АМП)'!#REF!","v":{"$error":"#REF!"}},{"$f":"'РАЗДЕЛ 1(АМП)'!#REF!","v":{"$error":"#REF!"}},null,{"$f":"'РАЗДЕЛ 1(АМП)'!#REF!","v":{"$error":"#REF!"}},{"$f":"'РАЗДЕЛ 1(АМП)'!#REF!","v":{"$error":"#REF!"}},490035,null,"2017-02-01"]
[null,null,{"$f":"'РАЗДЕЛ 1(АМП)'!#REF!","v":{"$error":"#REF!"}},{"$f":"'РАЗДЕЛ 1(АМП)'!#REF!","v":{"$error":"#REF!"}},{"$f":"'РАЗДЕЛ 1(АМП)'!#REF!","v":{"$error":"#REF!"}},{"$f":"'РАЗДЕЛ 1(АМП)'!#REF!","v":{"$error":"#REF!"}},null,490036,null,"2017-02-01"]
[null,null,{"$f":"'РАЗДЕЛ 1(АМП)'!#REF!","v":{"$error":"#REF!"}},{"$f":"'РАЗДЕЛ 1(АМП)'!#REF!","v":{"$error":"#REF!"}},null,{"$f":"'РАЗДЕЛ 1(АМП)'!#REF!","v":{"$error":"#REF!"}},{"$f":"'РАЗДЕЛ 1(АМП)'!#REF!","v":{"$error":"#REF!"}},490036,null,"2017-02-01"]
[null,null,{"$f":"'РАЗДЕЛ 1(АМП)'!#REF!","v":{"$error":"#REF!"}},{"$f":"'РАЗДЕЛ 1(АМП)'!#REF!","v":{"$error":"#REF!"}},{"$f":"'РАЗДЕЛ 1(АМП)'!#REF!","v":{"$error":"#REF!"}},{"$f":"'РАЗДЕЛ 1(АМП)'!#REF!","v":{"$error":"#REF!"}},null,490037,null,"2017-02-01"]
[null,null,{"$f":"'РАЗДЕЛ 1(АМП)'!#REF!","v":{"$error":"#REF!"}},{"$f":"'РАЗДЕЛ 1(АМП)'!#REF!","v":{"$error":"#REF!"}},null,{"$f":"'РАЗДЕЛ 1(АМП)'!#REF!","v":{"$error":"#REF!"}},{"$f":"'РАЗДЕЛ 1(АМП)'!#REF!","v":{"$error":"#REF!"}},490037,null,"2017-02-01"]
[null,null,{"$f":"'РАЗДЕЛ 1(АМП)'!#REF!","v":{"$error":"#REF!"}},{"$f":"'РАЗДЕЛ 1(АМП)'!#REF!","v":{"$error":"#REF!"}},{"$f":"'РАЗДЕЛ 1(АМП)'!#REF!","v":{"$error":"#REF!"}},{"$f":"'РАЗДЕЛ 1(АМП)'!#REF!","v":{"$error":"#REF!"}},null,490040,null,"2017-02-01"]
[null,null,{"$f":"'РАЗДЕЛ 1(АМП)'!#REF!","v":{"$error":"#REF!"}},{"$f":"'РАЗДЕЛ 1(АМП)'!#REF!","v":{"$error":"#REF!"}},null,{"$f":"'РАЗДЕЛ 1(АМП)'!#REF!","v":{"$error":"#REF!"}},{"$f":"'РАЗДЕЛ 1(АМП)'!#REF!","v":{"$error":"#REF!"}},490040,null,"2017-02-01"]
[null,null,{"$f":"#REF!","v":{"$error":"#REF!"}},{"$f":"#REF!","v":{"$error":"#REF!"}},{"$f":"#REF!","v":{"$error":"#REF!"}},{"$f":"#REF!","v":{"$error":"#REF!"}},null,490047,{"$f":"#REF!","v":{"$error":"#REF!"}},"2017-02-01"]
[null,null,{"$f":"#REF!","v":{"$error":"#REF!"}},{"$f":"#REF!","v":{"$error":"#REF!"}},{"$f":"#REF!","v":{"$error":"#REF!"}},{"$f":"#REF!","v":{"$error":"#REF!"}},null,490047,{"$f":"#REF!","v":{"$error":"#REF!"}},"2017-02-01"]
[null,null,{"$f":"'РАЗДЕЛ 1(АМП)'!#REF!","v":{"$error":"#REF!"}},{"$f":"'РАЗДЕЛ 1(АМП)'!#REF!","v":{"$error":"#REF!"}},{"$f":"'РАЗДЕЛ 1(АМП)'!#REF!","v":{"$error":"#REF!"}},{"$f":"'РАЗДЕЛ 1(АМП)'!#REF!","v":{"$error":"#REF!"}},null,490049,null,"2017-02-01"]
[null,null,{"$f":"'РАЗДЕЛ 1(АМП)'!#REF!","v":{"$error":"#REF!"}},{"$f":"'РАЗДЕЛ 1(АМП)'!#REF!","v":{"$error":"#REF!"}},null,{"$f":"'РАЗДЕЛ 1(АМП)'!#REF!","v":{"$error":"#REF!"}},{"$f":"'РАЗДЕЛ 1(АМП)'!#REF!","v":{"$error":"#REF!"}},490049,null,"2017-02-01"]
[null,null,{"$f":"'РАЗДЕЛ 1(АМП)'!#REF!","v":{"$error":"#REF!"}},{"$f":"'РАЗДЕЛ 1(АМП)'!#REF!","v":{"$error":"#REF!"}},{"$f":"'РАЗДЕЛ 1(АМП)'!#REF!","v":{"$error":"#REF!"}},{"$f":"'РАЗДЕЛ 1(АМП)'!#REF!","v":{"$error":"#REF!"}},null,490051,null,"2017-02-01"]
[null,null,{"$f":"'РАЗДЕЛ 1(АМП)'!#REF!","v":{"$error":"#REF!"}},{"$f":"'РАЗДЕЛ 1(АМП)'!#REF!","v":{"$error":"#REF!"}},null,{"$f":"'РАЗДЕЛ 1(АМП)'!#REF!","v":{"$error":"#REF!"}},{"$f":"'РАЗДЕЛ 1(АМП)'!#REF!","v":{"$error":"#REF!"}},490051,null,"2017-02-01"]
[null,null,{"$f":"'РАЗДЕЛ 1(АМП)'!#REF!","v":{"$error":"#REF!"}},{"$f":"'РАЗДЕЛ 1(АМП)'!#REF!","v":{"$error":"#REF!"}},{"$f":"'РАЗДЕЛ 1(АМП)'!#REF!","v":{"$error":"#REF!"}},{"$f":"'РАЗДЕЛ 1(АМП)'!#REF!","v":{"$error":"#REF!"}},null,490053,null,"2017-02-01"]
[null,null,{"$f":"'РАЗДЕЛ 1(АМП)'!#REF!","v":{"$error":"#REF!"}},{"$f":"'РАЗДЕЛ 1(АМП)'!#REF!","v":{"$error":"#REF!"}},null,{"$f":"'РАЗДЕЛ 1(АМП)'!#REF!","v":{"$error":"#REF!"}},{"$f":"'РАЗДЕЛ 1(АМП)'!#REF!","v":{"$error":"#REF!"}},490053,null,"2017-02-01"]
[null,null,{"$f":"'РАЗДЕЛ 1(АМП)'!#REF!","v":{"$error":"#REF!"}},{"$f":"'РАЗДЕЛ 1(АМП)'!#REF!","v":{"$error":"#REF!"}},{"$f":"'РАЗДЕЛ 1(АМП)'!#REF!","v":{"$error":"#REF!"}},{"$f":"'РАЗДЕЛ 1(АМП)'!#REF!","v":{"$error":"#REF!"}},null,490053,null,"2017-02-01"]
[null,null,{"$f":"'РАЗДЕЛ 1(АМП)'!#REF!","v":{"$error":"#REF!"}},{"$f":"'РАЗДЕЛ 1(АМП)'!#REF!","v":{"$error":"#REF!"}},{"$f":"'РАЗДЕЛ 1(АМП)'!#REF!","v":{"$error":"#REF!"}},{"$f":"'РАЗДЕЛ 1(АМП)'!#REF!","v":{"$error":"#REF!"}},null,{"$f":"H1369","v":490053},null,"2017-02-01"]
[null,null,{"$f":"'РАЗДЕЛ 1(АМП)'!#REF!","v":{"$error":"#REF!"}},{"$f":"'РАЗДЕЛ 1(АМП)'!#REF!","v":{"$error":"#REF!"}},{"$f":"'РАЗДЕЛ 1(АМП)'!#REF!","v":{"$error":"#REF!"}},{"$f":"'РАЗДЕЛ 1(АМП)'!#REF!","v":{"$error":"#REF!"}},null,490053,null,"2017-02-01"]
[null,null,{"$f":"'РАЗДЕЛ 1(АМП)'!#REF!","v":{"$error":"#REF!"}},{"$f":"'РАЗДЕЛ 1(АМП)'!#REF!","v":{"$error":"#REF!"}},{"$f":"'РАЗДЕЛ 1(АМП)'!#REF!","v":{"$error":"#REF!"}},{"$f":"'РАЗДЕЛ 1(АМП)'!#REF!","v":{"$error":"#REF!"}},null,490053,null,"2017-02-01"]
[null,null,{"$f":"'РАЗДЕЛ 1(АМП)'!#REF!","v":{"$error":"#REF!"}},{"$f":"'РАЗДЕЛ 1(АМП)'!#REF!","v":{"$error":"#REF!"}},{"$f":"'РАЗДЕЛ 1(АМП)'!#REF!","v":{"$error":"#REF!"}},{"$f":"'РАЗДЕЛ 1(АМП)'!#REF!","v":{"$error":"#REF!"}},null,490053,null,"2017-02-01"]
[null,null,{"$f":"'РАЗДЕЛ 1(АМП)'!#REF!","v":{"$error":"#REF!"}},{"$f":"'РАЗДЕЛ 1(АМП)'!#REF!","v":{"$error":"#REF!"}},{"$f":"'РАЗДЕЛ 1(АМП)'!#REF!","v":{"$error":"#REF!"}},{"$f":"'РАЗДЕЛ 1(АМП)'!#REF!","v":{"$error":"#REF!"}},null,490053,null,"2017-02-01"]
[null,null,{"$f":"'РАЗДЕЛ 1(АМП)'!#REF!","v":{"$error":"#REF!"}},{"$f":"'РАЗДЕЛ 1(АМП)'!#REF!","v":{"$error":"#REF!"}},{"$f":"'РАЗДЕЛ 1(АМП)'!#REF!","v":{"$error":"#REF!"}},{"$f":"'РАЗДЕЛ 1(АМП)'!#REF!","v":{"$error":"#REF!"}},null,490053,null,"2017-02-01"]
[null,null,{"$f":"'РАЗДЕЛ 1(АМП)'!#REF!","v":{"$error":"#REF!"}},{"$f":"'РАЗДЕЛ 1(АМП)'!#REF!","v":{"$error":"#REF!"}},{"$f":"'РАЗДЕЛ 1(АМП)'!#REF!","v":{"$error":"#REF!"}},{"$f":"'РАЗДЕЛ 1(АМП)'!#REF!","v":{"$error":"#REF!"}},null,490053,null,"2017-02-01"]
[null,null,{"$f":"'РАЗДЕЛ 1(АМП)'!#REF!","v":{"$error":"#REF!"}},{"$f":"'РАЗДЕЛ 1(АМП)'!#REF!","v":{"$error":"#REF!"}},{"$f":"'РАЗДЕЛ 1(АМП)'!#REF!","v":{"$error":"#REF!"}},{"$f":"'РАЗДЕЛ 1(АМП)'!#REF!","v":{"$error":"#REF!"}},null,490053,null,"2017-02-01"]
[null,null,{"$f":"'РАЗДЕЛ 1(АМП)'!#REF!","v":{"$error":"#REF!"}},{"$f":"'РАЗДЕЛ 1(АМП)'!#REF!","v":{"$error":"#REF!"}},{"$f":"'РАЗДЕЛ 1(АМП)'!#REF!","v":{"$error":"#REF!"}},{"$f":"'РАЗДЕЛ 1(АМП)'!#REF!","v":{"$error":"#REF!"}},null,490053,null,"2017-02-01"]
[null,null,{"$f":"'РАЗДЕЛ 1(АМП)'!#REF!","v":{"$error":"#REF!"}},{"$f":"'РАЗДЕЛ 1(АМП)'!#REF!","v":{"$error":"#REF!"}},{"$f":"'РАЗДЕЛ 1(АМП)'!#REF!","v":{"$error":"#REF!"}},{"$f":"'РАЗДЕЛ 1(АМП)'!#REF!","v":{"$error":"#REF!"}},null,490053,null,"2017-02-01"]
[null,null,{"$f":"'РАЗДЕЛ 1(АМП)'!#REF!","v":{"$error":"#REF!"}},{"$f":"'РАЗДЕЛ 1(АМП)'!#REF!","v":{"$error":"#REF!"}},{"$f":"'РАЗДЕЛ 1(АМП)'!#REF!","v":{"$error":"#REF!"}},{"$f":"'РАЗДЕЛ 1(АМП)'!#REF!","v":{"$error":"#REF!"}},null,490053,null,"2017-02-01"]
[null,null,{"$f":"'РАЗДЕЛ 1(АМП)'!#REF!","v":{"$error":"#REF!"}},{"$f":"'РАЗДЕЛ 1(АМП)'!#REF!","v":{"$error":"#REF!"}},{"$f":"'РАЗДЕЛ 1(АМП)'!#REF!","v":{"$error":"#REF!"}},{"$f":"'РАЗДЕЛ 1(АМП)'!#REF!","v":{"$error":"#REF!"}},null,490053,null,"2017-02-01"]
[null,null,{"$f":"'РАЗДЕЛ 1(АМП)'!#REF!","v":{"$error":"#REF!"}},{"$f":"'РАЗДЕЛ 1(АМП)'!#REF!","v":{"$error":"#REF!"}},{"$f":"'РАЗДЕЛ 1(АМП)'!#REF!","v":{"$error":"#REF!"}},{"$f":"'РАЗДЕЛ 1(АМП)'!#REF!","v":{"$error":"#REF!"}},null,490053,null,"2017-02-01"]
[null,null,{"$f":"'РАЗДЕЛ 1(АМП)'!#REF!","v":{"$error":"#REF!"}},{"$f":"'РАЗДЕЛ 1(АМП)'!#REF!","v":{"$error":"#REF!"}},null,{"$f":"'РАЗДЕЛ 1(АМП)'!#REF!","v":{"$error":"#REF!"}},{"$f":"'РАЗДЕЛ 1(АМП)'!#REF!","v":{"$error":"#REF!"}},490053,null,"2017-02-01"]
[null,null,{"$f":"'РАЗДЕЛ 1(АМП)'!#REF!","v":{"$error":"#REF!"}},{"$f":"'РАЗДЕЛ 1(АМП)'!#REF!","v":{"$error":"#REF!"}},{"$f":"'РАЗДЕЛ 1(АМП)'!#REF!","v":{"$error":"#REF!"}},{"$f":"'РАЗДЕЛ 1(АМП)'!#REF!","v":{"$error":"#REF!"}},null,490053,null,"2017-02-01"]
[null,null,{"$f":"'РАЗДЕЛ 1(АМП)'!#REF!","v":{"$error":"#REF!"}},{"$f":"'РАЗДЕЛ 1(АМП)'!#REF!","v":{"$error":"#REF!"}},{"$f":"'РАЗДЕЛ 1(АМП)'!#REF!","v":{"$error":"#REF!"}},{"$f":"'РАЗДЕЛ 1(АМП)'!#REF!","v":{"$error":"#REF!"}},null,490053,null,"2017-02-01"]
[null,null,{"$f":"'РАЗДЕЛ 1(АМП)'!#REF!","v":{"$error":"#REF!"}},{"$f":"'РАЗДЕЛ 1(АМП)'!#REF!","v":{"$error":"#REF!"}},{"$f":"'РАЗДЕЛ 1(АМП)'!#REF!","v":{"$error":"#REF!"}},{"$f":"'РАЗДЕЛ 1(АМП)'!#REF!","v":{"$error":"#REF!"}},null,490053,null,"2017-02-01"]
[null,null,{"$f":"'РАЗДЕЛ 1(АМП)'!#REF!","v":{"$error":"#REF!"}},{"$f":"'РАЗДЕЛ 1(АМП)'!#REF!","v":{"$error":"#REF!"}},{"$f":"'РАЗДЕЛ 1(АМП)'!#REF!","v":{"$error":"#REF!"}},{"$f":"'РАЗДЕЛ 1(АМП)'!#REF!","v":{"$error":"#REF!"}},null,490053,null,"2017-02-01"]
[null,null,{"$f":"'РАЗДЕЛ 1(АМП)'!#REF!","v":{"$error":"#REF!"}},{"$f":"'РАЗДЕЛ 1(АМП)'!#REF!","v":{"$error":"#REF!"}},{"$f":"'РАЗДЕЛ 1(АМП)'!#REF!","v":{"$error":"#REF!"}},{"$f":"'РАЗДЕЛ 1(АМП)'!#REF!","v":{"$error":"#REF!"}},null,490053,null,"2017-02-01"]
[null,null,{"$f":"'РАЗДЕЛ 1(АМП)'!#REF!","v":{"$error":"#REF!"}},{"$f":"'РАЗДЕЛ 1(АМП)'!#REF!","v":{"$error":"#REF!"}},{"$f":"'РАЗДЕЛ 1(АМП)'!#REF!","v":{"$error":"#REF!"}},{"$f":"'РАЗДЕЛ 1(АМП)'!#REF!","v":{"$error":"#REF!"}},null,490053,null,"2017-02-01"]
[null,null,{"$f":"'РАЗДЕЛ 1(АМП)'!#REF!","v":{"$error":"#REF!"}},{"$f":"'РАЗДЕЛ 1(АМП)'!#REF!","v":{"$error":"#REF!"}},{"$f":"'РАЗДЕЛ 1(АМП)'!#REF!","v":{"$error":"#REF!"}},{"$f":"'РАЗДЕЛ 1(АМП)'!#REF!","v":{"$error":"#REF!"}},null,490053,null,"2017-02-01"]
[null,null,{"$f":"'РАЗДЕЛ 1(АМП)'!#REF!","v":{"$error":"#REF!"}},{"$f":"'РАЗДЕЛ 1(АМП)'!#REF!","v":{"$error":"#REF!"}},{"$f":"'РАЗДЕЛ 1(АМП)'!#REF!","v":{"$error":"#REF!"}},{"$f":"'РАЗДЕЛ 1(АМП)'!#REF!","v":{"$error":"#REF!"}},null,490053,null,"2017-02-01"]
[null,null,{"$f":"'РАЗДЕЛ 1(АМП)'!#REF!","v":{"$error":"#REF!"}},{"$f":"'РАЗДЕЛ 1(АМП)'!#REF!","v":{"$error":"#REF!"}},{"$f":"'РАЗДЕЛ 1(АМП)'!#REF!","v":{"$error":"#REF!"}},{"$f":"'РАЗДЕЛ 1(АМП)'!#REF!","v":{"$error":"#REF!"}},null,490053,null,"2017-02-01"]
[null,null,{"$f":"'РАЗДЕЛ 1(АМП)'!#REF!","v":{"$error":"#REF!"}},{"$f":"'РАЗДЕЛ 1(АМП)'!#REF!","v":{"$error":"#REF!"}},{"$f":"'РАЗДЕЛ 1(АМП)'!#REF!","v":{"$error":"#REF!"}},{"$f":"'РАЗДЕЛ 1(АМП)'!#REF!","v":{"$error":"#REF!"}},null,490053,null,"2017-02-01"]
[null,null,{"$f":"'РАЗДЕЛ 1(АМП)'!#REF!","v":{"$error":"#REF!"}},{"$f":"'РАЗДЕЛ 1(АМП)'!#REF!","v":{"$error":"#REF!"}},{"$f":"'РАЗДЕЛ 1(АМП)'!#REF!","v":{"$error":"#REF!"}},{"$f":"'РАЗДЕЛ 1(АМП)'!#REF!","v":{"$error":"#REF!"}},null,490053,null,"2017-02-01"]
[null,null,{"$f":"'РАЗДЕЛ 1(АМП)'!#REF!","v":{"$error":"#REF!"}},{"$f":"'РАЗДЕЛ 1(АМП)'!#REF!","v":{"$error":"#REF!"}},{"$f":"'РАЗДЕЛ 1(АМП)'!#REF!","v":{"$error":"#REF!"}},{"$f":"'РАЗДЕЛ 1(АМП)'!#REF!","v":{"$error":"#REF!"}},null,490053,null,"2017-02-01"]
[null,null,{"$f":"'РАЗДЕЛ 1(АМП)'!#REF!","v":{"$error":"#REF!"}},{"$f":"'РАЗДЕЛ 1(АМП)'!#REF!","v":{"$error":"#REF!"}},{"$f":"'РАЗДЕЛ 1(АМП)'!#REF!","v":{"$error":"#REF!"}},{"$f":"'РАЗДЕЛ 1(АМП)'!#REF!","v":{"$error":"#REF!"}},null,490053,null,"2017-02-01"]
[null,null,{"$f":"'РАЗДЕЛ 1(АМП)'!#REF!","v":{"$error":"#REF!"}},{"$f":"'РАЗДЕЛ 1(АМП)'!#REF!","v":{"$error":"#REF!"}},{"$f":"'РАЗДЕЛ 1(АМП)'!#REF!","v":{"$error":"#REF!"}},{"$f":"'РАЗДЕЛ 1(АМП)'!#REF!","v":{"$error":"#REF!"}},null,490053,null,"2017-02-01"]
[null,null,{"$f":"'РАЗДЕЛ 1(АМП)'!#REF!","v":{"$error":"#REF!"}},{"$f":"'РАЗДЕЛ 1(АМП)'!#REF!","v":{"$error":"#REF!"}},{"$f":"'РАЗДЕЛ 1(АМП)'!#REF!","v":{"$error":"#REF!"}},{"$f":"'РАЗДЕЛ 1(АМП)'!#REF!","v":{"$error":"#REF!"}},null,490053,null,"2017-02-01"]
[null,null,{"$f":"'РАЗДЕЛ 1(АМП)'!#REF!","v":{"$error":"#REF!"}},{"$f":"'РАЗДЕЛ 1(АМП)'!#REF!","v":{"$error":"#REF!"}},{"$f":"'РАЗДЕЛ 1(АМП)'!#REF!","v":{"$error":"#REF!"}},{"$f":"'РАЗДЕЛ 1(АМП)'!#REF!","v":{"$error":"#REF!"}},null,490053,null,"2017-02-01"]
[null,null,{"$f":"'РАЗДЕЛ 1(АМП)'!#REF!","v":{"$error":"#REF!"}},{"$f":"'РАЗДЕЛ 1(АМП)'!#REF!","v":{"$error":"#REF!"}},{"$f":"'РАЗДЕЛ 1(АМП)'!#REF!","v":{"$error":"#REF!"}},{"$f":"'РАЗДЕЛ 1(АМП)'!#REF!","v":{"$error":"#REF!"}},null,490053,null,"2017-02-01"]
[null,null,{"$f":"'РАЗДЕЛ 1(АМП)'!#REF!","v":{"$error":"#REF!"}},{"$f":"'РАЗДЕЛ 1(АМП)'!#REF!","v":{"$error":"#REF!"}},{"$f":"'РАЗДЕЛ 1(АМП)'!#REF!","v":{"$error":"#REF!"}},{"$f":"'РАЗДЕЛ 1(АМП)'!#REF!","v":{"$error":"#REF!"}},null,490053,null,"2017-02-01"]
[null,null,{"$f":"'РАЗДЕЛ 1(АМП)'!#REF!","v":{"$error":"#REF!"}},{"$f":"'РАЗДЕЛ 1(АМП)'!#REF!","v":{"$error":"#REF!"}},{"$f":"'РАЗДЕЛ 1(АМП)'!#REF!","v":{"$error":"#REF!"}},{"$f":"'РАЗДЕЛ 1(АМП)'!#REF!","v":{"$error":"#REF!"}},null,490053,null,"2017-02-01"]
[null,null,{"$f":"'РАЗДЕЛ 1(АМП)'!#REF!","v":{"$error":"#REF!"}},{"$f":"'РАЗДЕЛ 1(АМП)'!#REF!","v":{"$error":"#REF!"}},{"$f":"'РАЗДЕЛ 1(АМП)'!#REF!","v":{"$error":"#REF!"}},{"$f":"'РАЗДЕЛ 1(АМП)'!#REF!","v":{"$error":"#REF!"}},null,490053,null,"2017-02-01"]
[null,null,{"$f":"'РАЗДЕЛ 1(АМП)'!#REF!","v":{"$error":"#REF!"}},{"$f":"'РАЗДЕЛ 1(АМП)'!#REF!","v":{"$error":"#REF!"}},{"$f":"'РАЗДЕЛ 1(АМП)'!#REF!","v":{"$error":"#REF!"}},{"$f":"'РАЗДЕЛ 1(АМП)'!#REF!","v":{"$error":"#REF!"}},null,490053,null,"2017-02-01"]
[null,null,{"$f":"'РАЗДЕЛ 1(АМП)'!#REF!","v":{"$error":"#REF!"}},{"$f":"'РАЗДЕЛ 1(АМП)'!#REF!","v":{"$error":"#REF!"}},{"$f":"'РАЗДЕЛ 1(АМП)'!#REF!","v":{"$error":"#REF!"}},{"$f":"'РАЗДЕЛ 1(АМП)'!#REF!","v":{"$error":"#REF!"}},null,490053,null,"2017-02-01"]
[null,null,{"$f":"'РАЗДЕЛ 1(АМП)'!#REF!","v":{"$error":"#REF!"}},{"$f":"'РАЗДЕЛ 1(АМП)'!#REF!","v":{"$error":"#REF!"}},{"$f":"'РАЗДЕЛ 1(АМП)'!#REF!","v":{"$error":"#REF!"}},{"$f":"'РАЗДЕЛ 1(АМП)'!#REF!","v":{"$error":"#REF!"}},null,490053,null,{"$f":"J1405","v":"2017-02-01"}]
[null,null,{"$f":"'РАЗДЕЛ 1(АМП)'!#REF!","v":{"$error":"#REF!"}},{"$f":"'РАЗДЕЛ 1(АМП)'!#REF!","v":{"$error":"#REF!"}},null,{"$f":"'РАЗДЕЛ 1(АМП)'!#REF!","v":{"$error":"#REF!"}},{"$f":"'РАЗДЕЛ 1(АМП)'!#REF!","v":{"$error":"#REF!"}},490053,null,"2017-02-01"]
[null,null,{"$f":"'РАЗДЕЛ 1(АМП)'!#REF!","v":{"$error":"#REF!"}},{"$f":"'РАЗДЕЛ 1(АМП)'!#REF!","v":{"$error":"#REF!"}},{"$f":"'РАЗДЕЛ 1(АМП)'!#REF!","v":{"$error":"#REF!"}},{"$f":"'РАЗДЕЛ 1(АМП)'!#REF!","v":{"$error":"#REF!"}},null,490053,null,"2017-02-01"]
[null,null,{"$f":"'РАЗДЕЛ 1(АМП)'!#REF!","v":{"$error":"#REF!"}},{"$f":"'РАЗДЕЛ 1(АМП)'!#REF!","v":{"$error":"#REF!"}},{"$f":"'РАЗДЕЛ 1(АМП)'!#REF!","v":{"$error":"#REF!"}},{"$f":"'РАЗДЕЛ 1(АМП)'!#REF!","v":{"$error":"#REF!"}},null,490053,null,"2017-02-01"]
[null,null,{"$f":"'РАЗДЕЛ 1(АМП)'!#REF!","v":{"$error":"#REF!"}},{"$f":"'РАЗДЕЛ 1(АМП)'!#REF!","v":{"$error":"#REF!"}},{"$f":"'РАЗДЕЛ 1(АМП)'!#REF!","v":{"$error":"#REF!"}},{"$f":"'РАЗДЕЛ 1(АМП)'!#REF!","v":{"$error":"#REF!"}},null,490053,null,"2017-02-01"]
[null,null,{"$f":"'РАЗДЕЛ 1(АМП)'!#REF!","v":{"$error":"#REF!"}},{"$f":"'РАЗДЕЛ 1(АМП)'!#REF!","v":{"$error":"#REF!"}},{"$f":"'РАЗДЕЛ 1(АМП)'!#REF!","v":{"$error":"#REF!"}},{"$f":"'РАЗДЕЛ 1(АМП)'!#REF!","v":{"$error":"#REF!"}},null,490053,null,"2017-02-01"]
[null,null,{"$f":"'РАЗДЕЛ 1(АМП)'!#REF!","v":{"$error":"#REF!"}},{"$f":"'РАЗДЕЛ 1(АМП)'!#REF!","v":{"$error":"#REF!"}},{"$f":"'РАЗДЕЛ 1(АМП)'!#REF!","v":{"$error":"#REF!"}},{"$f":"'РАЗДЕЛ 1(АМП)'!#REF!","v":{"$error":"#REF!"}},null,490053,null,"2017-02-01"]
[null,null,{"$f":"'РАЗДЕЛ 1(АМП)'!#REF!","v":{"$error":"#REF!"}},{"$f":"'РАЗДЕЛ 1(АМП)'!#REF!","v":{"$error":"#REF!"}},{"$f":"'РАЗДЕЛ 1(АМП)'!#REF!","v":{"$error":"#REF!"}},{"$f":"'РАЗДЕЛ 1(АМП)'!#REF!","v":{"$error":"#REF!"}},null,490053,null,"2017-02-01"]
[null,null,{"$f":"'РАЗДЕЛ 1(АМП)'!#REF!","v":{"$error":"#REF!"}},{"$f":"'РАЗДЕЛ 1(АМП)'!#REF!","v":{"$error":"#REF!"}},{"$f":"'РАЗДЕЛ 1(АМП)'!#REF!","v":{"$error":"#REF!"}},{"$f":"'РАЗДЕЛ 1(АМП)'!#REF!","v":{"$error":"#REF!"}},null,490053,null,"2017-02-01"]
[null,null,{"$f":"'РАЗДЕЛ 1(АМП)'!#REF!","v":{"$error":"#REF!"}},{"$f":"'РАЗДЕЛ 1(АМП)'!#REF!","v":{"$error":"#REF!"}},{"$f":"'РАЗДЕЛ 1(АМП)'!#REF!","v":{"$error":"#REF!"}},{"$f":"'РАЗДЕЛ 1(АМП)'!#REF!","v":{"$error":"#REF!"}},null,490053,null,"2017-02-01"]
[null,null,{"$f":"'РАЗДЕЛ 1(АМП)'!#REF!","v":{"$error":"#REF!"}},{"$f":"'РАЗДЕЛ 1(АМП)'!#REF!","v":{"$error":"#REF!"}},{"$f":"'РАЗДЕЛ 1(АМП)'!#REF!","v":{"$error":"#REF!"}},{"$f":"'РАЗДЕЛ 1(АМП)'!#REF!","v":{"$error":"#REF!"}},null,490053,null,"2017-02-01"]
[null,null,{"$f":"'РАЗДЕЛ 1(АМП)'!#REF!","v":{"$error":"#REF!"}},{"$f":"'РАЗДЕЛ 1(АМП)'!#REF!","v":{"$error":"#REF!"}},{"$f":"'РАЗДЕЛ 1(АМП)'!#REF!","v":{"$error":"#REF!"}},{"$f":"'РАЗДЕЛ 1(АМП)'!#REF!","v":{"$error":"#REF!"}},null,490053,null,"2017-02-01"]
[null,null,{"$f":"'РАЗДЕЛ 1(АМП)'!#REF!","v":{"$error":"#REF!"}},{"$f":"'РАЗДЕЛ 1(АМП)'!#REF!","v":{"$error":"#REF!"}},{"$f":"'РАЗДЕЛ 1(АМП)'!#REF!","v":{"$error":"#REF!"}},{"$f":"'РАЗДЕЛ 1(АМП)'!#REF!","v":{"$error":"#REF!"}},null,490053,null,"2017-02-01"]
[null,null,{"$f":"'РАЗДЕЛ 1(АМП)'!#REF!","v":{"$error":"#REF!"}},{"$f":"'РАЗДЕЛ 1(АМП)'!#REF!","v":{"$error":"#REF!"}},{"$f":"'РАЗДЕЛ 1(АМП)'!#REF!","v":{"$error":"#REF!"}},{"$f":"'РАЗДЕЛ 1(АМП)'!#REF!","v":{"$error":"#REF!"}},null,490053,null,"2017-02-01"]
[null,null,{"$f":"'РАЗДЕЛ 1(АМП)'!#REF!","v":{"$error":"#REF!"}},{"$f":"'РАЗДЕЛ 1(АМП)'!#REF!","v":{"$error":"#REF!"}},{"$f":"'РАЗДЕЛ 1(АМП)'!#REF!","v":{"$error":"#REF!"}},{"$f":"'РАЗДЕЛ 1(АМП)'!#REF!","v":{"$error":"#REF!"}},null,490053,null,"2017-02-01"]
[null,null,{"$f":"'РАЗДЕЛ 1(АМП)'!#REF!","v":{"$error":"#REF!"}},{"$f":"'РАЗДЕЛ 1(АМП)'!#REF!","v":{"$error":"#REF!"}},{"$f":"'РАЗДЕЛ 1(АМП)'!#REF!","v":{"$error":"#REF!"}},{"$f":"'РАЗДЕЛ 1(АМП)'!#REF!","v":{"$error":"#REF!"}},null,490053,null,"2017-02-01"]
[null,null,{"$f":"'РАЗДЕЛ 1(АМП)'!#REF!","v":{"$error":"#REF!"}},{"$f":"'РАЗДЕЛ 1(АМП)'!#REF!","v":{"$error":"#REF!"}},{"$f":"'РАЗДЕЛ 1(АМП)'!#REF!","v":{"$error":"#REF!"}},{"$f":"'РАЗДЕЛ 1(АМП)'!#REF!","v":{"$error":"#REF!"}},null,490053,null,"2017-02-01"]
[null,null,{"$f":"'РАЗДЕЛ 1(АМП)'!#REF!","v":{"$error":"#REF!"}},{"$f":"'РАЗДЕЛ 1(АМП)'!#REF!","v":{"$error":"#REF!"}},{"$f":"'РАЗДЕЛ 1(АМП)'!#REF!","v":{"$error":"#REF!"}},{"$f":"'РАЗДЕЛ 1(АМП)'!#REF!","v":{"$error":"#REF!"}},null,490053,null,"2017-02-01"]
[null,null,{"$f":"'РАЗДЕЛ 1(АМП)'!#REF!","v":{"$error":"#REF!"}},{"$f":"'РАЗДЕЛ 1(АМП)'!#REF!","v":{"$error":"#REF!"}},{"$f":"'РАЗДЕЛ 1(АМП)'!#REF!","v":{"$error":"#REF!"}},{"$f":"'РАЗДЕЛ 1(АМП)'!#REF!","v":{"$error":"#REF!"}},null,490053,null,"2017-02-01"]
[null,null,{"$f":"'РАЗДЕЛ 1(АМП)'!#REF!","v":{"$error":"#REF!"}},{"$f":"'РАЗДЕЛ 1(АМП)'!#REF!","v":{"$error":"#REF!"}},{"$f":"'РАЗДЕЛ 1(АМП)'!#REF!","v":{"$error":"#REF!"}},{"$f":"'РАЗДЕЛ 1(АМП)'!#REF!","v":{"$error":"#REF!"}},null,490053,null,"2017-02-01"]
[null,null,{"$f":"'РАЗДЕЛ 1(АМП)'!#REF!","v":{"$error":"#REF!"}},{"$f":"'РАЗДЕЛ 1(АМП)'!#REF!","v":{"$error":"#REF!"}},{"$f":"'РАЗДЕЛ 1(АМП)'!#REF!","v":{"$error":"#REF!"}},{"$f":"'РАЗДЕЛ 1(АМП)'!#REF!","v":{"$error":"#REF!"}},null,490053,null,"2017-02-01"]
[null,null,{"$f":"'РАЗДЕЛ 1(АМП)'!#REF!","v":{"$error":"#REF!"}},{"$f":"'РАЗДЕЛ 1(АМП)'!#REF!","v":{"$error":"#REF!"}},{"$f":"'РАЗДЕЛ 1(АМП)'!#REF!","v":{"$error":"#REF!"}},{"$f":"'РАЗДЕЛ 1(АМП)'!#REF!","v":{"$error":"#REF!"}},null,490053,null,"2017-02-01"]
[null,null,{"$f":"'РАЗДЕЛ 1(АМП)'!#REF!","v":{"$error":"#REF!"}},{"$f":"'РАЗДЕЛ 1(АМП)'!#REF!","v":{"$error":"#REF!"}},{"$f":"'РАЗДЕЛ 1(АМП)'!#REF!","v":{"$error":"#REF!"}},{"$f":"'РАЗДЕЛ 1(АМП)'!#REF!","v":{"$error":"#REF!"}},null,490053,null,"2017-02-01"]
[null,null,{"$f":"'РАЗДЕЛ 1(АМП)'!#REF!","v":{"$error":"#REF!"}},{"$f":"'РАЗДЕЛ 1(АМП)'!#REF!","v":{"$error":"#REF!"}},{"$f":"'РАЗДЕЛ 1(АМП)'!#REF!","v":{"$error":"#REF!"}},{"$f":"'РАЗДЕЛ 1(АМП)'!#REF!","v":{"$error":"#REF!"}},null,490053,null,"2017-02-01"]
[null,null,{"$f":"'РАЗДЕЛ 1(АМП)'!#REF!","v":{"$error":"#REF!"}},{"$f":"'РАЗДЕЛ 1(АМП)'!#REF!","v":{"$error":"#REF!"}},{"$f":"'РАЗДЕЛ 1(АМП)'!#REF!","v":{"$error":"#REF!"}},{"$f":"'РАЗДЕЛ 1(АМП)'!#REF!","v":{"$error":"#REF!"}},null,490053,null,"2017-02-01"]
[null,null,{"$f":"'РАЗДЕЛ 1(АМП)'!#REF!","v":{"$error":"#REF!"}},{"$f":"'РАЗДЕЛ 1(АМП)'!#REF!","v":{"$error":"#REF!"}},null,{"$f":"'РАЗДЕЛ 1(АМП)'!#REF!","v":{"$error":"#REF!"}},{"$f":"'РАЗДЕЛ 1(АМП)'!#REF!","v":{"$error":"#REF!"}},490053,null,"2017-02-01"]
[null,null,{"$f":"'РАЗДЕЛ 1(АМП)'!#REF!","v":{"$error":"#REF!"}},{"$f":"'РАЗДЕЛ 1(АМП)'!#REF!","v":{"$error":"#REF!"}},{"$f":"'РАЗДЕЛ 1(АМП)'!#REF!","v":{"$error":"#REF!"}},{"$f":"'РАЗДЕЛ 1(АМП)'!#REF!","v":{"$error":"#REF!"}},null,490053,null,"2017-02-01"]
[null,null,{"$f":"'РАЗДЕЛ 1(АМП)'!#REF!","v":{"$error":"#REF!"}},{"$f":"'РАЗДЕЛ 1(АМП)'!#REF!","v":{"$error":"#REF!"}},{"$f":"'РАЗДЕЛ 1(АМП)'!#REF!","v":{"$error":"#REF!"}},{"$f":"'РАЗДЕЛ 1(АМП)'!#REF!","v":{"$error":"#REF!"}},null,{"$f":"H1432","v":490053},null,"2017-02-01"]
[null,null,{"$f":"'РАЗДЕЛ 1(АМП)'!#REF!","v":{"$error":"#REF!"}},{"$f":"'РАЗДЕЛ 1(АМП)'!#REF!","v":{"$error":"#REF!"}},{"$f":"'РАЗДЕЛ 1(АМП)'!#REF!","v":{"$error":"#REF!"}},{"$f":"'РАЗДЕЛ 1(АМП)'!#REF!","v":{"$error":"#REF!"}},null,490053,null,"2017-02-01"]
[null,null,{"$f":"'РАЗДЕЛ 1(АМП)'!#REF!","v":{"$error":"#REF!"}},{"$f":"'РАЗДЕЛ 1(АМП)'!#REF!","v":{"$error":"#REF!"}},{"$f":"'РАЗДЕЛ 1(АМП)'!#REF!","v":{"$error":"#REF!"}},{"$f":"'РАЗДЕЛ 1(АМП)'!#REF!","v":{"$error":"#REF!"}},null,490053,null,"2017-02-01"]
[null,null,{"$f":"'РАЗДЕЛ 1(АМП)'!#REF!","v":{"$error":"#REF!"}},{"$f":"'РАЗДЕЛ 1(АМП)'!#REF!","v":{"$error":"#REF!"}},{"$f":"'РАЗДЕЛ 1(АМП)'!#REF!","v":{"$error":"#REF!"}},{"$f":"'РАЗДЕЛ 1(АМП)'!#REF!","v":{"$error":"#REF!"}},null,490053,null,"2017-02-01"]
[null,null,{"$f":"'РАЗДЕЛ 1(АМП)'!#REF!","v":{"$error":"#REF!"}},{"$f":"'РАЗДЕЛ 1(АМП)'!#REF!","v":{"$error":"#REF!"}},{"$f":"'РАЗДЕЛ 1(АМП)'!#REF!","v":{"$error":"#REF!"}},{"$f":"'РАЗДЕЛ 1(АМП)'!#REF!","v":{"$error":"#REF!"}},null,490053,null,"2017-02-01"]
[null,null,{"$f":"'РАЗДЕЛ 1(АМП)'!#REF!","v":{"$error":"#REF!"}},{"$f":"'РАЗДЕЛ 1(АМП)'!#REF!","v":{"$error":"#REF!"}},{"$f":"'РАЗДЕЛ 1(АМП)'!#REF!","v":{"$error":"#REF!"}},{"$f":"'РАЗДЕЛ 1(АМП)'!#REF!","v":{"$error":"#REF!"}},null,490053,null,"2017-02-01"]
[null,null,{"$f":"'РАЗДЕЛ 1(АМП)'!#REF!","v":{"$error":"#REF!"}},{"$f":"'РАЗДЕЛ 1(АМП)'!#REF!","v":{"$error":"#REF!"}},{"$f":"'РАЗДЕЛ 1(АМП)'!#REF!","v":{"$error":"#REF!"}},{"$f":"'РАЗДЕЛ 1(АМП)'!#REF!","v":{"$error":"#REF!"}},null,490053,null,"2017-02-01"]
[null,null,{"$f":"'РАЗДЕЛ 1(АМП)'!#REF!","v":{"$error":"#REF!"}},{"$f":"'РАЗДЕЛ 1(АМП)'!#REF!","v":{"$error":"#REF!"}},{"$f":"'РАЗДЕЛ 1(АМП)'!#REF!","v":{"$error":"#REF!"}},{"$f":"'РАЗДЕЛ 1(АМП)'!#REF!","v":{"$error":"#REF!"}},null,490053,null,"2017-02-01"]
[null,null,{"$f":"#REF!","v":{"$error":"#REF!"}},{"$f":"#REF!","v":{"$error":"#REF!"}},null,{"$f":"#REF!","v":{"$error":"#REF!"}},{"$f":"#REF!","v":{"$error":"#REF!"}},490053,{"$f":"#REF!","v":{"$error":"#REF!"}},"2017-02-01"]
[null,null,{"$f":"#REF!","v":{"$error":"#REF!"}},{"$f":"#REF!","v":{"$error":"#REF!"}},{"$f":"#REF!","v":{"$error":"#REF!"}},{"$f":"#REF!","v":{"$error":"#REF!"}},null,490053,{"$f":"#REF!","v":{"$error":"#REF!"}},"2017-02-01"]
[null,null,{"$f":"#REF!","v":{"$error":"#REF!"}},{"$f":"#REF!","v":{"$error":"#REF!"}},{"$f":"#REF!","v":{"$error":"#REF!"}},{"$f":"#REF!","v":{"$error":"#REF!"}},null,490053,{"$f":"#REF!","v":{"$error":"#REF!"}},"2017-02-01"]
[null,null,{"$f":"#REF!","v":{"$error":"#REF!"}},{"$f":"#REF!","v":{"$error":"#REF!"}},{"$f":"#REF!","v":{"$error":"#REF!"}},{"$f":"#REF!","v":{"$error":"#REF!"}},null,490053,{"$f":"#REF!","v":{"$error":"#REF!"}},"2017-02-01"]
[null,null,{"$f":"#REF!","v":{"$error":"#REF!"}},{"$f":"#REF!","v":{"$error":"#REF!"}},{"$f":"#REF!","v":{"$error":"#REF!"}},{"$f":"#REF!","v":{"$error":"#REF!"}},null,490053,{"$f":"#REF!","v":{"$error":"#REF!"}},"2017-02-01"]
[null,null,{"$f":"#REF!","v":{"$error":"#REF!"}},{"$f":"#REF!","v":{"$error":"#REF!"}},{"$f":"#REF!","v":{"$error":"#REF!"}},{"$f":"#REF!","v":{"$error":"#REF!"}},null,490053,{"$f":"#REF!","v":{"$error":"#REF!"}},"2017-02-01"]
[null,null,{"$f":"#REF!","v":{"$error":"#REF!"}},{"$f":"#REF!","v":{"$error":"#REF!"}},{"$f":"#REF!","v":{"$error":"#REF!"}},{"$f":"#REF!","v":{"$error":"#REF!"}},null,490053,{"$f":"#REF!","v":{"$error":"#REF!"}},"2017-02-01"]
[null,null,{"$f":"#REF!","v":{"$error":"#REF!"}},{"$f":"#REF!","v":{"$error":"#REF!"}},{"$f":"#REF!","v":{"$error":"#REF!"}},{"$f":"#REF!","v":{"$error":"#REF!"}},null,490053,{"$f":"#REF!","v":{"$error":"#REF!"}},"2017-02-01"]
[null,null,{"$f":"#REF!","v":{"$error":"#REF!"}},{"$f":"#REF!","v":{"$error":"#REF!"}},null,{"$f":"#REF!","v":{"$error":"#REF!"}},{"$f":"#REF!","v":{"$error":"#REF!"}},490053,{"$f":"#REF!","v":{"$error":"#REF!"}},"2017-02-01"]
[null,null,{"$f":"#REF!","v":{"$error":"#REF!"}},{"$f":"#REF!","v":{"$error":"#REF!"}},{"$f":"#REF!","v":{"$error":"#REF!"}},{"$f":"#REF!","v":{"$error":"#REF!"}},null,490053,{"$f":"#REF!","v":{"$error":"#REF!"}},"2017-02-01"]