{"text_format":"2","workbook":"xlsx","n_sheets":2,"sheets":["1. ФАП (Перечень)","2. ФАП_ПН (руб.) с 01.07"],"not_rendered":{"charts":0,"images":0,"macros":0,"external_links":0,"defined_names":2,"comments":0,"pivot_tables":0},"unopened":[],"bounds":{"document_bytes":16777216,"sheet_cells":100000,"run_cost":"one","rows_first":2000,"rows_last":500,"rows_between":2000,"halvings":0,"cell_chars":16384,"cell_head_chars":4096},"cells_cut":0,"cells_raw":0,"read":"whole","date_system":"1900"}

{"sheet":"1. ФАП (Перечень)","index":0,"n_rows":37,"n_cols":19,"rows_kept":37,"cut":false,"hidden":false,"merged":[[4,0,4,18],[5,0,5,18],[6,0,6,18],[7,0,9,0],[7,1,9,1],[7,2,7,16],[7,17,8,18],[8,2,8,6],[8,7,8,11],[8,12,8,16]]}
[{"$nulls":18},"Приложение № 3"]
[{"$nulls":18},"к Дополнительному соглашению № 4"]
[{"$nulls":18}," от \"19\" июля 2023 года"]
[]
["ПЕРЕЧЕНЬ  "]
["ФП, ФАП с указанием диапазона численности обслуживаемого населения, годового размера финансового обеспечения, а также информации о соответствии/несоответствии   ФП, ФАП требованиям, установленным положением об организации оказания первичной медико-санитарной помощи взрослому населению"]
["Таблица 1"]
["п/п","Наименование МО","Объём финансирования ФП/ФАПов ",{"$nulls":14},"Всего по МО"]
[null,null,"до 100 жителей                                                      ",{"$nulls":4},"от 100 до 900 жителей (соответствующие приказу МЗ)",{"$nulls":4},"от 100 до 900 жителей ( не соответствующие приказу МЗ)"]
[null,null,"кол-во ФП/ ФАПов","БНФФАП","КУмо","КСБНФ","ОСфап тыс.руб. ","кол-во ФП/ ФАПов","БНФФАП","КУмо","КСБНФ","ОСфап тыс.руб. ","кол-во ФП/ ФАПов","БНФФАП","КУмо","КСБНФ","ОСфап тыс.руб. ","кол-во ФП/ ФАПов","сумма тыс.руб."]
[1,2,"3","4","5","6","7","8","9","10","11","12","13","14","15","16","17","18","19"]
["1.","ГБУЗ \"Магаданская областная больница\",  в том числе:",{"$f":"C13+C20+C22+C27+C30+C33+C36","v":3},null,null,null,{"$f":"G13+G20+G22+G27+G30+G33+G36","v":4887.25},{"$f":"H13+H20+H22+H27+H30+H33+H36","v":14},null,null,null,{"$f":"L13+L20+L22+L27+L30+L33+L36","v":36330},{"$f":"M13+M20+M22+M27+M30+M33+M36","v":1},null,null,null,{"$f":"Q13+Q20+Q22+Q27+Q30+Q33+Q36","v":955.83},{"$f":"R13+R20+R22+R27+R30+R33+R36","v":18},{"$f":"S13+S20+S22+S27+S30+S33+S36","v":42173.08}]
[" 1.1","филиал \"Ольская районная больница\"",{"$f":"SUM(C14:C19)","v":1},null,null,null,735.25,5,null,null,null,18078.5,0,null,null,null,0,{"$f":"C13+H13+M13","v":6},{"$f":"G13+L13+Q13","v":18813.75}]
["-","ФАП с.Балаганное",0,null,null,null,{"$f":"ROUND(D14*E14*F14*C14,1)","v":0},1,4152,1,1,{"$f":"ROUND(I14*J14*K14,2)*H14","v":4152},0,null,null,null,{"$f":"ROUND(1087.7*3.402*0.65,1)*M14","v":0},1,{"$f":"G14+L14+Q14","v":4152}]
["-","ФАП с.Гадля \nс 01.01.23г по 11.05.23г",0,null,null,null,{"$f":"ROUND(1087.7*3.402*0.5,1)*C15","v":0},1,{"$f":"4152/12*4.25","v":1470.5},1,1,1470.5,0,null,null,null,0,1,1470.5]
["-","ФАП с.Клёпка",0,null,null,null,0,1,4152,1,1,4152,0,null,null,null,0,1,4152]
["-","ФАП с.Талон",0,null,null,null,0,1,4152,1,1,4152,0,null,null,null,0,1,4152]
["-","ФАП с. Тахтоямск",0,null,null,null,{"$f":"ROUND(1087.7*3.402*0.5,1)*C18","v":0},1,4152,1,1,4152,0,null,null,null,{"$f":"ROUND(1087.7*3.402*0.65,1)*M18","v":0},1,4152]
["-","ФП с.Ямск \nс 01.01.23г по 11.05.23г",1,{"$f":"4152/12*4.25","v":1470.5},0.5,1,{"$f":"ROUND(D19*E19*F19,2)*C19","v":735.25},0,null,null,null,{"$f":"ROUND(1087.7*3.402,1)*H19","v":0},0,null,null,null,{"$f":"ROUND(1087.7*3.402*0.65,1)*M19","v":0},1,735.25]
[" 1.2","филиал \"Среднеканская районная больница\" ",{"$f":"C21","v":0},null,null,null,0,1,null,null,null,1470.5,0,null,null,null,0,1,1470.5]
["-","ФАП с.Верхний Сеймчан \nс 01.01.23г по 11.05.23г",{"$nulls":4},{"$f":"ROUND(D21*E21*F21,1)*C21","v":0},1,{"$f":"4152/12*4.25","v":1470.5},1,1,{"$f":"ROUND(I21*J21*K21,2)*H21","v":1470.5},0,null,null,null,{"$f":"ROUND(1087.7*3.402*0.65,1)*M21","v":0},1,1470.5]
[" 1.3","филиал \"Северо-Эвенская районная больница\"",{"$f":"SUM(C23:C26)","v":1},null,null,null,2076,3,null,null,null,{"$f":"SUM(L23:L26)","v":9774.5},0,null,null,null,0,4,11850.5]
["-","ФАП с.Гарманда",0,null,null,null,{"$f":"ROUND(1087.7*3.402*0.5,1)*C23","v":0},1,4152,1,1,{"$f":"ROUND(I23*J23*K23,2)*H23","v":4152},0,null,null,null,{"$f":"ROUND(1087.7*3.402*0.65,1)*M23","v":0},1,4152]
["-","ФП с.Гижига \nс 01.01.23г по 11.05.23г",0,null,null,null,0,1,{"$f":"4152/12*4.25","v":1470.5},1,1,1470.5,0,null,null,null,0,1,1470.5]
["-","ФАП .Тополовка",1,4152,0.5,1,{"$f":"ROUND(D25*E25*F25,2)*C25","v":2076},0,null,null,null,{"$f":"ROUND(1087.7*3.402,1)*H25","v":0},0,null,null,null,0,1,2076]
["-","ФАП с.Верний Парень",0,null,null,null,0,1,4152,1,1,{"$f":"ROUND(I26*J26*K26,2)*H26","v":4152},0,null,null,null,0,1,4152]
[" 1.4","филиал \"Тенькинская районная больница\" ",{"$f":"SUM(C28:C29)","v":1},null,null,null,{"$f":"SUM(G28:G29)","v":2076},{"$f":"SUM(H28:H29)","v":1},null,null,null,{"$f":"SUM(L28:L29)","v":1470.5},{"$f":"SUM(M28:M29)","v":0},null,null,null,{"$f":"ROUND(957.2*3.102*0.65,1)*M27","v":0},2,3546.5]
["-","ФАП пос.Мадаун",1,4152,0.5,1,{"$f":"ROUND(D28*E28*F28,2)*C28","v":2076},0,null,null,null,0,0,null,null,null,0,1,2076]
["-","ФАП пос. Омчак \nс 01.01.23г по 11.05.23г",0,null,null,null,0,1,{"$f":"4152/12*4.25","v":1470.5},1,1,{"$f":"ROUND(I29*J29*K29,2)*H29","v":1470.5},0,null,null,null,0,1,1470.5]
[" 1.5","филиал \"Хасынская районная больница\" ",{"$f":"SUM(C31:C32)","v":0},null,null,null,0,2,null,null,null,2941,0,null,null,null,0,2,2941]
["-","ФАП пос.Хасын \nс 01.01.23г по 11.05.23г",0,null,null,null,0,1,{"$f":"4152/12*4.25","v":1470.5},1,1,{"$f":"ROUND(I31*J31*K31,2)*H31","v":1470.5},0,null,null,null,0,1,1470.5]
["-","ФАП пос.Талая \nс 01.01.23г по 11.05.23г",0,null,null,null,0,1,1470.5,1,1,1470.5,0,null,null,null,0,1,1470.5]
[" 1.6","филиал \"Ягоднинская районная больница\" ",{"$f":"SUM(C34:C35)","v":0},null,null,null,0,1,null,null,null,{"$f":"SUM(L34:L35)","v":1470.5},1,null,null,null,955.83,2,2426.33]
["-","ФАП пос.Бурхала \nс 01.01.23г по 11.05.23г",0,null,null,null,0,0,0,0,0,{"$f":"ROUND(I34*J34*K34,1)*H34","v":0},1,{"$f":"4152/12*4.25","v":1470.5},1,0.65,{"$f":"ROUND(N34*O34*P34,2)*M34","v":955.83},1,955.83]
["-","ФАП пос.Дебин \nс 01.01.23г по 11.05.23г",0,null,null,null,0,1,{"$f":"4152/12*4.25","v":1470.5},1,1,{"$f":"ROUND(I35*J35*K35,2)*H35","v":1470.5},0,null,null,null,0,1,1470.5]
[" 1.7","филиал \"Сусуманская районная больница\" ",{"$f":"SUM(C37:C38)","v":0},null,null,null,{"$f":"SUM(G37:G38)","v":0},1,null,null,null,{"$f":"SUM(L37:L38)","v":1124.5},0,null,null,null,{"$f":"SUM(Q37:Q38)","v":0},1,1124.5]
["-","ФАП пгт. Холодный \nс 01.02.23г по 11.05.23г",0,null,null,null,{"$f":"ROUND(1087.7*3.402*0.5,1)*C37","v":0},1,{"$f":"4152/12*3.25","v":1124.5},1,1,{"$f":"ROUND(I37*J37*K37,2)*H37","v":1124.5},0,null,null,null,{"$f":"ROUND(N37*O37*P37,1)*M37","v":0},1,1124.5]

{"sheet":"2. ФАП_ПН (руб.) с 01.07","index":1,"n_rows":12,"n_cols":8,"rows_kept":12,"cut":false,"hidden":false,"merged":[[8,5,9,5],[5,0,5,7],[7,7,8,7],[7,2,9,2],[6,0,6,5],[7,0,9,0],[7,1,9,1],[7,3,9,3],[7,4,7,5],[7,6,9,6],[8,4,9,4]]}
[{"$nulls":7},{"$f":"'1. ФАП (Перечень)'!S1","v":"Приложение № 3"}]
[{"$nulls":7},{"$f":"'1. ФАП (Перечень)'!S2","v":"к Дополнительному соглашению № 4"}]
[{"$nulls":7},{"$f":"'1. ФАП (Перечень)'!S3","v":" от \"19\" июля 2023 года"}]
[{"$nulls":7},{"$f":"'1. ФАП (Перечень)'!S4","v":0}]
[]
["Объем финансового обеспечения фельдшерских / фельдшерско - акушерских пунктов, оказывающих амбулаторную медицинскую помощь в рамках базовой программы ОМС  2023 года\n(вступает в действие с 01 июля 2023 года)"]
[{"$nulls":7},"Таблица 2"]
["п/п","Наименование МО","Численность , застрахованных лиц обслуживаемых ФАП/ФП на 01.07.23 (чел.)","Всего объем ФАП/ФП, оказывающих амбулаторную медицинскую помощь на год (рублей)","в том числе",null,"Фактический дифференци-рованный подушевой норматив финасирования ФП/ФАП в месяц с 01 июля 2023 года (рублей)","Объем финансового обеспечения  ФП/ФАП на месяц (рублей)"]
[{"$nulls":4},"январь-июнь 2023 года","июль-декабрь 2023 года"]
[{"$nulls":7},"на месяц"]
[1,2,3,10,null,"11","12","13"]
[1,"ГБУЗ \"Магаданская областная больница\"",1685,{"$f":"'1. ФАП (Перечень)'!S12","v":42173.08},{"$f":"4054*1307.9551*6/1000","v":31814.699852399997},{"$f":"D12-E12","v":10358.380147600004},{"$f":"F12*1000/C12/6","v":1024.5677692977254},{"$f":"ROUND(G12*C12,2)","v":1726396.69}]